{"text_format":"1","workbook":"xlsx","n_sheets":6,"sheets":["Benchsheet","Distribution","Codes","sample","result total","WORKSHEET"],"not_rendered":{"charts":0,"images":0,"macros":1,"external_links":0,"defined_names":0,"comments":0,"pivot_tables":0},"unopened":[],"bounds":{"document_bytes":16777216,"sheet_cells":100000,"rows_first":2000,"rows_last":500,"rows_between":2000,"halvings":0,"cell_chars":16384,"cell_head_chars":4096},"cells_cut":0,"cells_raw":0,"read":"whole","date_system":"1900"}

{"sheet":"Benchsheet","index":0,"n_rows":294,"n_cols":21,"rows_kept":294,"cut":false,"hidden":false,"merged":[[0,17,0,18],[1,17,1,18],[293,0,293,5],[0,0,0,2],[0,6,0,11],[1,6,1,11]]}
["Lab ID-",null,null,"00035",null,null,"Blacksburg Christiansburg VPI Water Authority",null,null,null,null,null,null,null,null,null,null,"Std Meth-",null,"9223B"]
[null,null,null,null,null,null,"Bacteriological Bench Sheet",null,null,null,null,null,null,null,null,null,null,"Method Code-",null,14]
[]
["Sample ID","Facility ID","PWSID","Sample Location","Sample Type","Collector's Name","Collection Date","Collection Time","Receive Date","Receive Time","Recipient's Name","Total","EColi","MPN","Reject","CL2","Analyst Name","Analyzed Date","Analyzed Time","Result Recorded by","State Notification Date"]
["1511P1","DS001",1121057,"Plant Tap Finish","SP","Sheila","2015-11-02",845,"2015-11-02",845,"Sheila","A","A",null,null,3.44,"Sheila","2015-11-02",847,"Sheila"]
["1511P2","DS001",1121057,"Plant Tap Finish","SP","Sheila","2015-11-03",909,"2015-11-03",909,"Sheila","A","A",null,null,3.52,"Sheila","2015-11-03",912,"Sheila"]
["1511C1","DS001",1121090,"110 Depot Street","RT","DJ","2015-11-03",817,"2015-11-03",1035,"Sheila","A","A",null,null,3.2,"Sheila","2015-11-03",1100,"Sheila"]
["1511C2","DS001",1121090,"140 Simmons Road","RT","DJ","2015-11-03",834,"2015-11-03",1035,"Sheila","A","A",null,null,3.1,"Sheila","2015-11-03",1100,"Sheila"]
["1511C3","DS001",1121090,"Simmons Rd Water Tank","RT","DJ","2015-11-03",844,"2015-11-03",1035,"Sheila","A","A",null,null,3.1,"Sheila","2015-11-03",1100,"Sheila"]
["1511C4","DS001",1121090,"155 Pine Hollow Road","RT","DJ","2015-11-03",857,"2015-11-03",1035,"Sheila","A","A",null,null,3.4,"Sheila","2015-11-03",1100,"Sheila"]
["1511C5","DS001",1121090,"200 Pelham Lane","RT","DJ","2015-11-03",931,"2015-11-03",1035,"Sheila","A","A",null,null,2.7,"Sheila","2015-11-03",1100,"Sheila"]
["1511C6","DS001",1121090,"250 Alder Lane","RT","DJ","2015-11-03",942,"2015-11-03",1035,"Sheila","A","A",null,null,3,"Sheila","2015-11-03",1100,"Sheila"]
["1511C7","DS001",1121090,"75 Red Oak Drive, Lot 1","RT","DJ","2015-11-03",1001,"2015-11-03",1035,"Sheila","A","A",null,null,3.2,"Sheila","2015-11-03",1100,"Sheila"]
["1511C8","DS001",1121090,"10 Linden Court","RT","DJ","2015-11-03",1026,"2015-11-03",1035,"Sheila","A","A",null,null,3.4,"Sheila","2015-11-03",1100,"Sheila"]
["1511C9","DS001",1121090,"1020 New Village Dr.","RT","DJ","2015-11-03",1014,"2015-11-03",1035,"Sheila","A","A",null,null,3.4,"Sheila","2015-11-03",1100,"Sheila"]
["1511P3","DS001",1121057,"Plant Tap Finish","SP","Sheila","2015-11-04",1000,"2015-11-04",1000,"Sheila","A","A",null,null,3.67,"Sheila","2015-11-04",1002,"Sheila"]
["1511P4","DS001",1121057,"C'burg Booster Station","SP","Sheila","2015-11-04",1032,"2015-11-04",1130,"Sheila","A","A",null,null,3.6,"Sheila","2015-11-04",1200,"Sheila"]
["1511P5","DS001",1121057,"B'burg Booster Station","SP","Sheila","2015-11-04",1045,"2015-11-04",1130,"Sheila","A","A",null,null,3.8,"Sheila","2015-11-04",1200,"Sheila"]
["1511B1","DS001",1121052,"Municipal Bldg.","RT","James","2015-11-04",815,"2015-11-04",1230,"Sheila","A","A",null,null,2.1800000000000002,"Sheila","2015-11-04",1300,"Sheila"]
["1511B2","DS001",1121052,"Hightop Rd. ","RT","James","2015-11-04",839,"2015-11-04",1230,"Sheila","A","A",null,null,2.78,"Sheila","2015-11-04",1300,"Sheila"]
["1511B3","DS001",1121052,"Cedar Orchard","RT","James","2015-11-04",900,"2015-11-04",1230,"Sheila","A","A",null,null,2.2799999999999998,"Sheila","2015-11-04",1300,"Sheila"]
["1511B4","DS001",1121052,"Aquatic Center","RT","James","2015-11-04",925,"2015-11-04",1230,"Sheila","A","A",null,null,2.13,"Sheila","2015-11-04",1300,"Sheila"]
["1511B5","DS001",1121052,"Wyatt Farms","RT","James","2015-11-04",955,"2015-11-04",1230,"Sheila","A","A",null,null,1.85,"Sheila","2015-11-04",1300,"Sheila"]
["1511B6","DS001",1121052,"Coal Bank Hollow","RT","James","2015-11-04",1018,"2015-11-04",1230,"Sheila","A","A",null,null,1.42,"Sheila","2015-11-04",1300,"Sheila"]
["1511B7","DS001",1121052,"Brookfield Pump Station","RT","James","2015-11-04",1039,"2015-11-04",1230,"Sheila","A","A",null,null,2.2799999999999998,"Sheila","2015-11-04",1300,"Sheila"]
["1511B8","DS001",1121052,"Toms Creek Ball Park","RT","James","2015-11-04",1051,"2015-11-04",1230,"Sheila","A","A",null,null,1.71,"Sheila","2015-11-04",1300,"Sheila"]
["1511B9","DS001",1121052,"Laurel Ridge","RT","James","2015-11-04",1104,"2015-11-04",1230,"Sheila","A","A",null,null,2.0299999999999998,"Sheila","2015-11-04",1300,"Sheila"]
["1511B10","DS001",1121052,"Gilbert Linkous School","RT","James","2015-11-04",1123,"2015-11-04",1230,"Sheila","A","A",null,null,2.37,"Sheila","2015-11-04",1300,"Sheila"]
["1511B11","DS001",1121052,"Sturbridge Pump Station","RT","James","2015-11-04",1137,"2015-11-04",1230,"Sheila","A","A",null,null,1.62,"Sheila","2015-11-04",1300,"Sheila"]
["1511B12","DS001",1121052,"Westover Hills (Lacy Ln.) ","RT","James","2015-11-04",1150,"2015-11-04",1230,"Sheila","A","A",null,null,1.85,"Sheila","2015-11-04",1300,"Sheila"]
["1511B13","DS001",1121052,"Amerisuites","RT","James","2015-11-04",1205,"2015-11-04",1230,"Sheila","A","A",null,null,2.08,"Sheila","2015-11-04",1300,"Sheila"]
["1511B14","DS001",1121052,"Stroubles Mill (Lancaster)","RT","James","2015-11-04",1220,"2015-11-04",1230,"Sheila","A","A",null,null,1.91,"Sheila","2015-11-04",1300,"Sheila"]
["1511S67","DS001",1121520,"Plum Creek Water Tank","SP","Don","2015-11-04",1100,"2015-11-04",1310,"Sheila","A","A",null,null,0.63,"Sheila","2015-11-04",1315,"Sheila"]
["1511M18","DS001",1121175,"Shawsville Middle School","RT","Farmer","2015-11-04",1315,"2015-11-04",1510,"Sheila","A","A",null,null,2.2000000000000002,"Sheila","2015-11-04",1530,"Sheila"]
["1511M19","DS001",1121175,"Brake Rd. Pump Station","RT","Farmer","2015-11-04",1300,"2015-11-04",1510,"Sheila","A","A",null,null,2,"Sheila","2015-11-04",1530,"Sheila"]
["1511M20","DS001",1121580,"2936 Walls Branch Rd.","RT","Farmer","2015-11-04",1250,"2015-11-04",1510,"Sheila","A","A",null,null,2.4,"Sheila","2015-11-04",1530,"Sheila"]
["1511M21","DS001",1121570,"Thompson Collision CTR","RT","Farmer","2015-11-04",1148,"2015-11-04",1510,"Sheila","A","A",null,null,1.6,"Sheila","2015-11-04",1530,"Sheila"]
["1511M22","DS001",1121045,"Comfort Inn","RT","Farmer","2015-11-04",1015,"2015-11-04",1510,"Sheila","A","A",null,null,1.2,"Sheila","2015-11-04",1530,"Sheila"]
["1511M23","DS001",1121655,"1891 Canter Drive","RT","Farmer","2015-11-04",918,"2015-11-04",1510,"Sheila","A","A",null,null,0.7,"Sheila","2015-11-04",1530,"Sheila"]
["1511P6","DS001",1121057,"Plant Tap Finish","SP","Sheila","2015-11-05",800,"2015-11-05",800,"Sheila","A","A",null,null,3.6,"Sheila","2015-11-05",801,"JDN"]
["1511P7","DS001",1121057,"Plant Tap Finish","SP","Sheila","2015-11-09",711,"2015-11-09",711,"Sheila","A","A",null,null,3,"Sheila","2015-11-09",712,"Sheila"]
["1511S68","DS001",1121520,"Plum Creek Water Tank","SP","Sheila","2015-11-05",1215,"2015-11-05",1250,"Sheila","A","A",null,null,1.3,"Sheila","2015-11-05",1300,"Sheila"]
["1511C10","DS001",1121090,"1180 North Franklin Street","RT","Carl","2015-11-09",813,"2015-11-09",1110,"Sheila","A","A",null,null,3.5,"Sheila","2015-11-09",1345,"Sheila"]
["1511C11","DS001",1121090,"955 Elk Drive","RT","Carl","2015-11-09",832,"2015-11-09",1110,"Sheila","A","A",null,null,3.2,"Sheila","2015-11-09",1345,"Sheila"]
["1511C12","DS001",1121090,"975 Carson Drive","RT","Carl","2015-11-09",849,"2015-11-09",1110,"Sheila","A","A",null,null,2.5,"Sheila","2015-11-09",1345,"Sheila"]
["1511C13","DS001",1121090,"Edgewood Pump Station","RT","Carl","2015-11-09",909,"2015-11-09",1110,"Sheila","A","A",null,null,3,"Sheila","2015-11-09",1345,"Sheila"]
["1511C14","DS001",1121090,"100 East Main Street","RT","Carl","2015-11-09",950,"2015-11-09",1110,"Sheila","A","A",null,null,3.2,"Sheila","2015-11-09",1345,"Sheila"]
["1511C15","DS001",1121090,"Craig Mountain Pump Station","RT","Carl","2015-11-09",1012,"2015-11-09",1110,"Sheila","A","A",null,null,3.3,"Sheila","2015-11-09",1345,"Sheila"]
["1511C16","DS001",1121090,"4120 Roanoke Street","RT","Carl","2015-11-09",1034,"2015-11-09",1110,"Sheila","A","A",null,null,3.1,"Sheila","2015-11-09",1345,"Sheila"]
["1511C17","DS001",1121090,"50 Weddle Way","RT","Carl","2015-11-09",1056,"2015-11-09",1110,"Sheila","A","A",null,null,3.1,"Sheila","2015-11-09",1345,"Sheila"]
["1511P8 ","DS001",1121057,"C'burg Booster Station","SP","Sheila","2015-11-09",1118,"2015-11-09",1205,"Sheila","A","A",null,null,3.1,"Sheila","2015-11-09",1345,"Sheila"]
["1511P9","DS001",1121057,"B'burg Booster Station","SP","Sheila","2015-11-09",1140,"2015-11-09",1205,"Sheila","A","A",null,null,3.2,"Sheila","2015-11-09",1345,"Sheila"]
["1511P10","DS001",1121057,"Plant Tap Finish","SP","Sheila","2015-11-10",843,"2015-11-10",843,"Sheila","A","A",null,null,3.6,"Sheila","2015-11-10",845,"Megan"]
["1511B15","DS001",1121052,"Margaret Beeks School","RT","James","2015-11-10",820,"2015-11-10",1200,"Sheila","A","A",null,null,2.12,"Sheila","2015-11-10",1315,"Megan"]
["1511B16","DS001",1121052,"Personnel Bldg.(Prospersity)","RT","James","2015-11-10",844,"2015-11-10",1200,"Sheila","A","A",null,null,1.78,"Sheila","2015-11-10",1315,"Megan"]
["1511B17","DS001",1121052,"Nellies Cave Park","RT","James","2015-11-10",900,"2015-11-10",1200,"Sheila","A","A",null,null,1.65,"Sheila","2015-11-10",1315,"Megan"]
["1511B18","DS001",1121052,"Highland Park (Valley View Dr.)","RT","James","2015-11-10",910,"2015-11-10",1200,"Sheila","A","A",null,null,1.91,"Sheila","2015-11-10",1315,"Megan"]
["1511B19","DS001",1121052,"Golf Course (Graves Ave.) ","RT","James","2015-11-10",925,"2015-11-10",1200,"Sheila","A","A",null,null,1.1200000000000001,"Sheila","2015-11-10",1315,"Megan"]
["1511B20","DS001",1121052,"Alleghany Pump Station","RT","James","2015-11-10",1000,"2015-11-10",1200,"Sheila","A","A",null,null,2.5,"Sheila","2015-11-10",1315,"Megan"]
["1511B21","DS001",1121052,"Cemetery Bldg.(Roanoke St.)","RT","James","2015-11-10",1012,"2015-11-10",1200,"Sheila","A","A",null,null,2.65,"Sheila","2015-11-10",1315,"Megan"]
["1511B22","DS001",1121052,"Fire Station( Progress St.)","RT","James","2015-11-10",1017,"2015-11-10",1200,"Sheila","A","A",null,null,2.7,"Sheila","2015-11-10",1315,"Megan"]
["1511B23","DS001",1121052,"Murphy Pump Station","RT","James","2015-11-10",1030,"2015-11-10",1200,"Sheila","A","A",null,null,2.23,"Sheila","2015-11-10",1315,"Megan"]
["1511B24","DS001",1121052,"N.Main Water Tank","RT","James","2015-11-10",1047,"2015-11-10",1200,"Sheila","A","A",null,null,2.04,"Sheila","2015-11-10",1315,"Megan"]
["1511B25","DS001",1121052,"Shenandoah II (Givens Ln.)","RT","James","2015-11-10",1107,"2015-11-10",1200,"Sheila","A","A",null,null,1.92,"Sheila","2015-11-10",1315,"Megan"]
["1511B26","DS001",1121052,"Prices Trailer Ct. (Meadowbrook Dr.)","RT","James","2015-11-10",1119,"2015-11-10",1200,"Sheila","A","A",null,null,1.88,"Sheila","2015-11-10",1315,"Megan"]
["1511B27","DS001",1121052,"Foxridge Apts.(Tall Oak Dr.)","RT","James","2015-11-10",1142,"2015-11-10",1200,"Sheila","A","A",null,null,2.21,"Sheila","2015-11-10",1315,"Megan"]
["1511M24","DS001",1121175,"Hale's Restaurant ","RT","Farmer","2015-11-10",1148,"2015-11-10",1511,"Sheila","A","A",null,null,2.2000000000000002,"Sheila","2015-11-10",1515,"Megan"]
["1511M25","DS001",1121580,"Merrimac P.H. Church","RT","Farmer","2015-11-10",1258,"2015-11-10",1511,"Sheila","A","A",null,null,2.6,"Sheila","2015-11-10",1515,"Megan"]
["1511M26","DS001",1121503,"2120 Knoll Crest Dr.","RT","Farmer","2015-11-10",1125,"2015-11-10",1511,"Sheila","A","A",null,null,2.1,"Sheila","2015-11-10",1515,"Megan"]
["1511M27","DS001",1121043,"Belview Elem. School","RT","Farmer","2015-11-10",1312,"2015-11-10",1511,"Sheila","A","A",null,null,2.5,"Sheila","2015-11-10",1515,"Megan"]
["1511M28","DS001",1121900,"2653 Beulah Lane","RT","Farmer","2015-11-10",1044,"2015-11-10",1511,"Sheila","A","A",null,null,0.8,"Sheila","2015-11-10",1515,"Megan"]
["1511M29","DS001",1121580,"1614 Hawthorne Ridge","RT","Farmer","2015-11-10",1450,"2015-11-10",1511,"Sheila","A","A",null,null,2.8,"Sheila","2015-11-10",1515,"Megan"]
["1511P11","DS001",1121057,"Plant Tap Finish","SP","Megan","2015-11-11",927,"2015-11-11",927,"Megan","A","A",null,null,3.7,"Megan","2015-11-11",930,"Sheila"]
["1511P12","DS001",1121057,"Plant Tap Finish","SP","Sheila","2015-11-12",1006,"2015-11-12",1006,"Sheila","A","A",null,null,3.67,"Sheila","2015-11-12",1010,"RAM"]
["1511P13","DS001",1121057,"Plant Tap Finish","SP","Sheila","2015-11-16",700,"2015-11-16",700,"Sheila","A","A",null,null,3.6,"Sheila","2015-11-16",702,"Sheila"]
["1511P14","DS001",1121057,"Plant Tap Finish","SP","Sheila","2015-11-17",723,"2015-11-17",723,"Sheila",null,null,null,null,3.6,"Sheila","2015-11-17",725]
["1511C18","DS001",1121090,"1101 Round Meadow Drive","RT",null,"2015-11-17",null,"2015-11-17",null,"Sheila",null,null,null,null,null,"Sheila","2015-11-17"]
["1511C19","DS001",1121090,"Buffalo Tank","RT",null,"2015-11-17",null,"2015-11-17",null,"Sheila",null,null,null,null,null,"Sheila","2015-11-17"]
["1511C20","DS001",1121090,"113 Lester Street","RT",null,"2015-11-17",null,"2015-11-17",null,"Sheila",null,null,null,null,null,"Sheila","2015-11-17"]
["1511C21","DS001",1121090,"535 Republic Rd.","RT",null,"2015-11-17",null,"2015-11-17",null,"Sheila",null,null,null,null,null,"Sheila","2015-11-17"]
["1511C22","DS001",1121090,"500 Industrial Drive","RT",null,"2015-11-17",null,"2015-11-17",null,"Sheila",null,null,null,null,null,"Sheila","2015-11-17"]
["1511C23","DS001",1121090,"1035 Church Street","RT",null,"2015-11-17",null,"2015-11-17",null,"Sheila",null,null,null,null,null,"Sheila","2015-11-17"]
["1511C24","DS001",1121090,"495 Church Street","RT",null,"2015-11-17",null,"2015-11-17",null,"Sheila",null,null,null,null,null,"Sheila","2015-11-17"]
["1511C25","DS001",1121090,"2000 Sunset Drive","RT",null,"2015-11-17",null,"2015-11-17",null,"Sheila",null,null,null,null,null,"Sheila","2015-11-17"]
[null,null,null,null,null,null,null,null,null,null,null,null,null,null,null,null,null," "]
[null,null,null,null,null,null,null,null,null,null,null,null,null,null,null,null,null," "]
[null,null,null,null,null,null,null,null,null,null,null,null,null,null,null,null,null," "]
[null,null,null,null,null,null,null,null,null,null,null,null,null,null,null,null,null," "]
[null,null,null,null,null,null,null,null,null,null,null,null,null,null,null,null,null," "]
[null,null,null,null,null,null,null,null,null,null,null,null,null,null,null,null,null," "]
[null,null,null,null,null,null,null,null,null,null,null,null,null,null,null,null,null," "]
[null,null,null,null,null,null,null,null,null,null,null,null,null,null,null,null,null," "]
[null,null,null,null,null,null,null,null,null,null,null,null,null,null,null,null,null," "]
[null,null,null,null,null,null,null,null,null,null,null,null,null,null,null,null,null," "]
[null,null,null,null,null,null,null,null,null,null,null,null,null,null,null,null,null," "]
[null,null,null,null,null,null,null,null,null,null,null,null,null,null,null,null,null," "]
[null,null,null,null,null,null,null,null,null,null,null,null,null,null,null,null,null," "]
[null,null,null,null,null,null,null,null,null,null,null,null,null,null,null,null,null," "]
[null,null,null,null,null,null,null,null,null,null,null,null,null,null,null,null,null," "]
[null,null,null,null,null,null,null,null,null,null,null,null,null,null,null,null,null," "]
[null,null,null,null,null,null,null,null,null,null,null,null,null,null,null,null,null," "]
[null,null,null,null,null,null,null,null,null,null,null,null,null,null,null,null,null," "]
[null,null,null,null,null,null,null,null,null,null,null,null,null,null,null,null,null," "]
[null,null,null,null,null,null,null,null,null,null,null,null,null,null,null,null,null," "]
[null,null,null,null,null,null,null,null,null,null,null,null,null,null,null,null,null," "]
[null,null,null,null,null,null,null,null,null,null,null,null,null,null,null,null,null," "]
[null,null,null,null,null,null,null,null,null,null,null,null,null,null,null,null,null," "]
[null,null,null,null,null,null,null,null,null,null,null,null,null,null,null,null,null," "]
[null,null,null,null,null,null,null,null,null,null,null,null,null,null,null,null,null," "]
[null,null,null,null,null,null,null,null,null,null,null,null,null,null,null,null,null," "]
[null,null,null,null,null,null,null,null,null,null,null,null,null,null,null,null,null," "]
[null,null,null,null,null,null,null,null,null,null,null,null,null,null,null,null,null," "]
[null,null,null,null,null,null,null,null,null,null,null,null,null,null,null,null,null," "]
[null,null,null,null,null,null,null,null,null,null,null,null,null,null,null,null,null," "]
[null,null,null,null,null,null,null,null,null,null,null,null,null,null,null,null,null," "]
[null,null,null,null,null,null,null,null,null,null,null,null,null,null,null,null,null," "]
[null,null,null,null,null,null,null,null,null,null,null,null,null,null,null,null,null," "]
[null,null,null,null,null,null,null,null,null,null,null,null,null,null,null,null,null," "]
[null,null,null,null,null,null,null,null,null,null,null,null,null,null,null,null,null," "]
[null,null,null,null,null,null,null,null,null,null,null,null,null,null,null,null,null," "]
[null,null,null,null,null,null,null,null,null,null,null,null,null,null,null,null,null," "]
[null,null,null,null,null,null,null,null,null,null,null,null,null,null,null,null,null," "]
[null,null,null,null,null,null,null,null,null,null,null,null,null,null,null,null,null," "]
[null,null,null,null,null,null,null,null,null,null,null,null,null,null,null,null,null," "]
[null,null,null,null,null,null,null,null,null,null,null,null,null,null,null,null,null," "]
[null,null,null,null,null,null,null,null,null,null,null,null,null,null,null,null,null," "]
[null,null,null,null,null,null,null,null,null,null,null,null,null,null,null,null,null," "]
[null,null,null,null,null,null,null,null,null,null,null,null,null,null,null,null,null," "]
[null,null,null,null,null,null,null,null,null,null,null,null,null,null,null,null,null," "]
[null,null,null,null,null,null,null,null,null,null,null,null,null,null,null,null,null," "]
[null,null,null,null,null,null,null,null,null,null,null,null,null,null,null,null,null," "]
[null,null,null,null,null,null,null,null,null,null,null,null,null,null,null,null,null," "]
[null,null,null,null,null,null,null,null,null,null,null,null,null,null,null,null,null," "]
[null,null,null,null,null,null,null,null,null,null,null,null,null,null,null,null,null," "]
[null,null,null,null,null,null,null,null,null,null,null,null,null,null,null,null,null," "]
[null,null,null,null,null,null,null,null,null,null,null,null,null,null,null,null,null," "]
[null,null,null,null,null,null,null,null,null,null,null,null,null,null,null,null,null," "]
[null,null,null,null,null,null,null,null,null,null,null,null,null,null,null,null,null," "]
[null,null,null,null,null,null,null,null,null,null,null,null,null,null,null,null,null," "]
[null,null,null,null,null,null,null,null,null,null,null,null,null,null,null,null,null," "]
[null,null,null,null,null,null,null,null,null,null,null,null,null,null,null,null,null," "]
[null,null,null,null,null,null,null,null,null,null,null,null,null,null,null,null,null," "]
[null,null,null,null,null,null,null,null,null,null,null,null,null,null,null,null,null," "]
[null,null,null,null,null,null,null,null,null,null,null,null,null,null,null,null,null," "]
[null,null,null,null,null,null,null,null,null,null,null,null,null,null,null,null,null," "]
[null,null,null,null,null,null,null,null,null,null,null,null,null,null,null,null,null," "]
[null,null,null,null,null,null,null,null,null,null,null,null,null,null,null,null,null," "]
[null,null,null,null,null,null,null,null,null,null,null,null,null,null,null,null,null," "]
[null,null,null,null,null,null,null,null,null,null,null,null,null,null,null,null,null," "]
[null,null,null,null,null,null,null,null,null,null,null,null,null,null,null,null,null," "]
[null,null,null,null,null,null,null,null,null,null,null,null,null,null,null,null,null," "]
[null,null,null,null,null,null,null,null,null,null,null,null,null,null,null,null,null," "]
[null,null,null,null,null,null,null,null,null,null,null,null,null,null,null,null,null," "]
[null,null,null,null,null,null,null,null,null,null,null,null,null,null,null,null,null," "]
[null,null,null,null,null,null,null,null,null,null,null,null,null,null,null,null,null," "]
[null,null,null,null,null,null,null,null,null,null,null,null,null,null,null,null,null," "]
[null,null,null,null,null,null,null,null,null,null,null,null,null,null,null,null,null," "]
[null,null,null,null,null,null,null,null,null,null,null,null,null,null,null,null,null," "]
[null,null,null,null,null,null,null,null,null,null,null,null,null,null,null,null,null," "]
[null,null,null,null,null,null,null,null,null,null,null,null,null,null,null,null,null," "]
[null,null,null,null,null,null,null,null,null,null,null,null,null,null,null,null,null," "]
[null,null,null,null,null,null,null,null,null,null,null,null,null,null,null,null,null," "]
[null,null,null,null,null,null,null,null,null,null,null,null,null,null,null,null,null," "]
[null,null,null,null,null,null,null,null,null,null,null,null,null,null,null,null,null," "]
[null,null,null,null,null,null,null,null,null,null,null,null,null,null,null,null,null," "]
[null,null,null,null,null,null,null,null,null,null,null,null,null,null,null,null,null," "]
[null,null,null,null,null,null,null,null,null,null,null,null,null,null,null,null,null," "]
[null,null,null,null,null,null,null,null,null,null,null,null,null,null,null,null,null," "]
[null,null,null,null,null,null,null,null,null,null,null,null,null,null,null,null,null," "]
[null,null,null,null,null,null,null,null,null,null,null,null,null,null,null,null,null," "]
[null,null,null,null,null,null,null,null,null,null,null,null,null,null,null,null,null," "]
[null,null,null,null,null,null,null,null,null,null,null,null,null,null,null,null,null," "]
[null,null,null,null,null,null,null,null,null,null,null,null,null,null,null,null,null," "]
[null,null,null,null,null,null,null,null,null,null,null,null,null,null,null,null,null," "]
[null,null,null,null,null,null,null,null,null,null,null,null,null,null,null,null,null," "]
[null,null,null,null,null,null,null,null,null,null,null,null,null,null,null,null,null," "]
[null,null,null,null,null,null,null,null,null,null,null,null,null,null,null,null,null," "]
[null,null,null,null,null,null,null,null,null,null,null,null,null,null,null,null,null," "]
[null,null,null,null,null,null,null,null,null,null,null,null,null,null,null,null,null," "]
[null,null,null,null,null,null,null,null,null,null,null,null,null,null,null,null,null," "]
[null,null,null,null,null,null,null,null,null,null,null,null,null,null,null,null,null," "]
[null,null,null,null,null,null,null,null,null,null,null,null,null,null,null,null,null," "]
[null,null,null,null,null,null,null,null,null,null,null,null,null,null,null,null,null," "]
[null,null,null,null,null,null,null,null,null,null,null,null,null,null,null,null,null," "]
[null,null,null,null,null,null,null,null,null,null,null,null,null,null,null,null,null," "]
[null,null,null,null,null,null,null,null,null,null,null,null,null,null,null,null,null," "]
[null,null,null,null,null,null,null,null,null,null,null,null,null,null,null,null,null," "]
[null,null,null,null,null,null,null,null,null,null,null,null,null,null,null,null,null," "]
[null,null,null,null,null,null,null,null,null,null,null,null,null,null,null,null,null," "]
[null,null,null,null,null,null,null,null,null,null,null,null,null,null,null,null,null," "]
[null,null,null,null,null,null,null,null,null,null,null,null,null,null,null,null,null," "]
[null,null,null,null,null,null,null,null,null,null,null,null,null,null,null,null,null," "]
[null,null,null,null,null,null,null,null,null,null,null,null,null,null,null,null,null," "]
[null,null,null,null,null,null,null,null,null,null,null,null,null,null,null,null,null," "]
[null,null,null,null,null,null,null,null,null,null,null,null,null,null,null,null,null," "]
[null,null,null,null,null,null,null,null,null,null,null,null,null,null,null,null,null," "]
[null,null,null,null,null,null,null,null,null,null,null,null,null,null,null,null,null," "]
[null,null,null,null,null,null,null,null,null,null,null,null,null,null,null,null,null," "]
[null,null,null,null,null,null,null,null,null,null,null,null,null,null,null,null,null," "]
[null,null,null,null,null,null,null,null,null,null,null,null,null,null,null,null,null," "]
[null,null,null,null,null,null,null,null,null,null,null,null,null,null,null,null,null," "]
[null,null,null,null,null,null,null,null,null,null,null,null,null,null,null,null,null," "]
[null,null,null,null,null,null,null,null,null,null,null,null,null,null,null,null,null," "]
[null,null,null,null,null,null,null,null,null,null,null,null,null,null,null,null,null," "]
[null,null,null,null,null,null,null,null,null,null,null,null,null,null,null,null,null," "]
[null,null,null,null,null,null,null,null,null,null,null,null,null,null,null,null,null," "]
[null,null,null,null,null,null,null,null,null,null,null,null,null,null,null,null,null," "]
[null,null,null,null,null,null,null,null,null,null,null,null,null,null,null,null,null," "]
[null,null,null,null,null,null,null,null,null,null,null,null,null,null,null,null,null," "]
[null,null,null,null,null,null,null,null,null,null,null,null,null,null,null,null,null," "]
[null,null,null,null,null,null,null,null,null,null,null,null,null,null,null,null,null," "]
[null,null,null,null,null,null,null,null,null,null,null,null,null,null,null,null,null," "]
[null,null,null,null,null,null,null,null,null,null,null,null,null,null,null,null,null," "]
[null,null,null,null,null,null,null,null,null,null,null,null,null,null,null,null,null," "]
[null,null,null,null,null,null,null,null,null,null,null,null,null,null,null,null,null," "]
[null,null,null,null,null,null,null,null,null,null,null,null,null,null,null,null,null," "]
[null,null,null,null,null,null,null,null,null,null,null,null,null,null,null,null,null," "]
[null,null,null,null,null,null,null,null,null,null,null,null,null,null,null,null,null," "]
[null,null,null,null,null,null,null,null,null,null,null,null,null,null,null,null,null," "]
[null,null,null,null,null,null,null,null,null,null,null,null,null,null,null,null,null," "]
[null,null,null,null,null,null,null,null,null,null,null,null,null,null,null,null,null," "]
[null,null,null,null,null,null,null,null,null,null,null,null,null,null,null,null,null," "]
[null,null,null,null,null,null,null,null,null,null,null,null,null,null,null,null,null," "]
[null,null,null,null,null,null,null,null,null,null,null,null,null,null,null,null,null," "]
[null,null,null,null,null,null,null,null,null,null,null,null,null,null,null,null,null," "]
[null,null,null,null,null,null,null,null,null,null,null,null,null,null,null,null,null," "]
[null,null,null,null,null,null,null,null,null,null,null,null,null,null,null,null,null," "]
[null,null,null,null,null,null,null,null,null,null,null,null,null,null,null,null,null," "]
[null,null,null,null,null,null,null,null,null,null,null,null,null,null,null,null,null," "]
[null,null,null,null,null,null,null,null,null,null,null,null,null,null,null,null,null," "]
[null,null,null,null,null,null,null,null,null,null,null,null,null,null,null,null,null," "]
[null,null,null,null,null,null,null,null,null,null,null,null,null,null,null,null,null," "]
[null,null,null,null,null,null,null,null,null,null,null,null,null,null,null,null,null," "]
[null,null,null,null,null,null,null,null,null,null,null,null,null,null,null,null,null," "]
[null,null,null,null,null,null,null,null,null,null,null,null,null,null,null,null,null," "]
[null,null,null,null,null,null,null,null,null,null,null,null,null,null,null,null,null," "]
[null,null,null,null,null,null,null,null,null,null,null,null,null,null,null,null,null," "]
[null,null,null,null,null,null,null,null,null,null,null,null,null,null,null,null,null," "]
[null,null,null,null,null,null,null,null,null,null,null,null,null,null,null,null,null," "]
[null,null,null,null,null,null,null,null,null,null,null,null,null,null,null,null,null," "]
[null,null,null,null,null,null,null,null,null,null,null,null,null,null,null,null,null," "]
[null,null,null,null,null,null,null,null,null,null,null,null,null,null,null,null,null," "]
[null,null,null,null,null,null,null,null,null,null,null,null,null,null,null,null,null," "]
[null,null,null,null,null,null,null,null,null,null,null,null,null,null,null,null,null," "]
[null,null,null,null,null,null,null,null,null,null,null,null,null,null,null,null,null," "]
[null,null,null,null,null,null,null,null,null,null,null,null,null,null,null,null,null," "]
[null,null,null,null,null,null,null,null,null,null,null,null,null,null,null,null,null," "]
[null,null,null,null,null,null,null,null,null,null,null,null,null,null,null,null,null," "]
[null,null,null,null,null,null,null,null,null,null,null,null,null,null,null,null,null," "]
[null,null,null,null,null,null,null,null,null,null,null,null,null,null,null,null,null," "]
[null,null,null,null,null,null,null,null,null,null,null,null,null,null,null,null,null," "]
[null,null,null,null,null,null,null,null,null,null,null,null,null,null,null,null,null," "]
[null,null,null,null,null,null,null,null,null,null,null,null,null,null,null,null,null," "]
[null,null,null,null,null,null,null,null,null,null,null,null,null,null,null,null,null," "]
[null,null,null,null,null,null,null,null,null,null,null,null,null,null,null,null,null," "]
[null,null,null,null,null,null,null,null,null,null,null,null,null,null,null,null,null," "]
[null,null,null,null,null,null,null,null,null,null,null,null,null,null,null,null,null," "]
[null,null,null,null,null,null,null,null,null,null,null,null,null,null,null,null,null," "]
[null,null,null,null,null,null,null,null,null,null,null,null,null,null,null,null,null," "]
[null,null,null,null,null,null,null,null,null,null,null,null,null,null,null,null,null," "]
[null,null,null,null,null,null,null,null,null,null,null,null,null,null,null,null,null," "]
[null,null,null,null,null,null,null,null,null,null,null,null,null,null,null,null,null," "]
[null,null,null,null,null,null,null,null,null,null,null,null,null,null,null,null,null," "]
[null,null,null,null,null,null,null,null,null,null,null,null,null,null,null,null,null," "]
[null,null,null,null,null,null,null,null,null,null,null,null,null,null,null,null,null," "]
[null,null,null,null,null,null,null,null,null,null,null,null,null,null,null,null,null," "]
[null,null,null,null,null,null,null,null,null,null,null,null,null,null,null,null,null," "]
[null,null,null,null,null,null,null,null,null,null,null,null,null,null,null,null,null," "]
[null,null,null,null,null,null,null,null,null,null,null,null,null,null,null,null,null," "]
[null,null,null,null,null,null,null,null,null,null,null,null,null,null,null,null,null," "]
[null,null,null,null,null,null,null,null,null,null,null,null,null,null,null,null,null," "]
[null,null,null,null,null,null,null,null,null,null,null,null,null,null,null,null,null," "]
[null,null,null,null,null,null,null,null,null,null,null,null,null,null,null,null,null," "]
[null,null,null,null,null,null,null,null,null,null,null,null,null,null,null,null,null," "]
[null,null,null,null,null,null,null,null,null,null,null,null,null,null,null,null,null," "]
[null,null,null,null,null,null,null,null,null,null,null,null,null,null,null,null,null," "]
[null,null,null,null,null,null,null,null,null,null,null,null,null,null,null,null,null," "]
[null,null,null,null,null,null,null,null,null,null,null,null,null,null,null,null,null," "]
[null,null,null,null,null,null,null,null,null,null,null,null,null,null,null,null,null," "]
[null,null,null,null,null,null,null,null,null,null,null,null,null,null,null,null,null," "]
[null,null,null,null,null,null,null,null,null,null,null,null,null,null,null,null,null," "]
[null,null,null,null,null,null,null,null,null,null,null,null,null,null,null,null,null," "]
[null,null,null,null,null,null,null,null,null,null,null,null,null,null,null,null,null," "]
[null,null,null,null,null,null,null,null,null,null,null,null,null,null,null,null,null," "]
[null,null,null,null,null,null,null,null,null,null,null,null,null,null,null,null,null," "]
[null,null,null,null,null,null,null,null,null,null,null,null,null,null,null,null,null," "]
[null,null,null,null,null,null,null,null,null,null,null,null,null,null,null,null,null," "]
[null,null,null,null,null,null,null,null,null,null,null,null,null,null,null,null,null," "]
[null,null,null,null,null,null,null,null,null,null,null,null,null,null,null,null,null," "]
[null,null,null,null,null,null,null,null,null,null,null,null,null,null,null,null,null," "]
[null,null,null,null,null,null,null,null,null,null,null,null,null,null,null,null,null," "]
[null,null,null,null,null,null,null,null,null,null,null,null,null,null,null,null,null," "]
[null,null,null,null,null,null,null,null,null,null,null,null,null,null,null,null,null," "]
["Nothing bellow this line!!! Start a new sheet."]

{"sheet":"Distribution","index":1,"n_rows":112,"n_cols":19,"rows_kept":112,"cut":false,"hidden":false,"merged":[[0,0,2,18]]}
["Distribution Sampling"]
[]
[]
["Sample ID","Sample Location","cl2","Temperature","pH","Date Analyzed","Nitrate","Nitrite","Ammonia","Mono-chloramines","R2A plate count","Repeat Date Collected","Repeat Time Collected","Repeat total Chlorine","Repeat Temperature","Repeat Date Analyzed","Repeat Time Analyzed","Repeat R2A","Alkalinity"]
["1511C1","110 Depot Street",3.2,60.8,8.6,null,null,null,null,null,0]
["1511C2","140 Simmons Road",3.1,59.6,8,null,null,null,null,null,10]
["1511C3","Simmons Rd Water Tank",3.1,57.7,7.9,null,null,null,null,null,10]
["1511C4","155 Pine Hollow Road",3.4,60.7,7.9,null,null,null,null,null,0]
["1511C5","200 Pelham Lane",2.7,61.1,7.7,null,null,null,null,null,0]
["1511C6","250 Alder Lane",3,62.8,7.7,null,null,null,null,null,20]
["1511C7","75 Red Oak Drive, Lot 1",3.2,60.2,7.8,null,null,null,null,null,10]
["1511C8","10 Linden Court",3.4,62.3,7.8,"2015-11-03",0.6,0.02,0.08,3.14,0]
["1511C9","1020 New Village Dr.",3.4,61.9,7.6,null,null,null,null,null,0]
[null,"Ellett Rd.",2.6,58.6,7.8,"2015-11-03",0.6,1.4999999999999999E-2,0.14000000000000001,2.33,700]
[]
["1511B1","Municipal Bldg.",2.1800000000000002,69.8,6.1,null,null,null,null,null,0]
["1511B2","Hightop Rd. ",2.78,60.8,5.9,null,null,null,null,null,0]
["1511B3","Cedar Orchard",2.2799999999999998,61.9,5.9,null,null,null,null,null,120]
["1511B4","Aquatic Center",2.13,63.4,6.1,null,null,null,null,null,0]
["1511B5","Wyatt Farms",1.85,61.7,6.1,null,null,null,null,null,20]
["1511B6","Coal Bank Hollow",1.42,61.2,6.4,"2015-11-04",0.5,1.2999999999999999E-2,0.24,1.98,40]
["1511B7","Brookfield Pump Station",2.2799999999999998,63.1,6.6,null,null,null,null,null,40]
["1511B8","Toms Creek Ball Park",1.71,61.7,6.8,null,null,null,null,null,10]
["1511B9","Laurel Ridge",2.0299999999999998,60.5,6.9,null,null,null,null,null,0]
["1511B10","Gilbert Linkous School",2.37,63.6,6.7,null,null,null,null,null,20]
["1511B11","Sturbridge Pump Station",1.62,64.900000000000006,7.3,null,null,null,null,null,0]
["1511B12","Westover Hills (Lacy Ln.) ",1.85,62.8,7,"2015-11-04",0.5,1.6E-2,0.2,2.2400000000000002,0]
["1511B13","Amerisuites",2.08,67.400000000000006,6.8,null,null,null,null,null,10]
["1511B14","Stroubles Mill (Lancaster)",1.91,62.5,6.9,null,null,null,null,null,10]
[]
[]
["1511M18","Shawsville Middle School",2.2000000000000002,21.8,7.3,"2015-11-04"]
["1511M19","Brake Rd. Pump Station",2,19.399999999999999,7.67]
["1511M20","2936 Walls Branch Rd.",2.4,22.2,7.43]
["1511M21","Thompson Collision CTR",1.6,21.6,7.94]
["1511M22","Comfort Inn",1.2,21.7,7.98]
["1511M23","1891 Canter Drive",0.7,21.4,7.36]
[]
["1511C10","1180 North Franklin Street",3.5,60,8.4,null,null,null,null,null,0]
["1511C11","955 Elk Drive",3.2,59.7,8.1999999999999993,null,null,null,null,null,0]
["1511C12","975 Carson Drive",2.5,54.8,7.7,null,null,null,null,null,10]
["1511C13","Edgewood Pump Station",3,59,8,null,null,null,null,null,10]
["1511C14","100 East Main Street",3.2,62.4,7.9,"2015-11-09",0.5,8.0000000000000002E-3,7.0000000000000007E-2,2.82,230]
["1511C15","Craig Mountain Pump Station",3.3,61.6,7.9,null,null,null,null,null,50]
["1511C16","4120 Roanoke Street",3.1,60.4,8,null,null,null,null,null,10]
["1511C17","50 Weddle Way",3.1,60,8.1,null,null,null,null,null,20]
[null,"Jones St",2.6,60.3,8.5,"2015-11-09",0.5,8.0000000000000002E-3,0.1,2.41,10]
[null,null,null,null,null,null,null,null,null,null,0]
["1511B15","Margaret Beeks School",2.12,67.7,6.9,null,null,null,null,null,1000]
["1511B16","Personnel Bldg.(Prospersity)",1.78,64.2,7,null,null,null,null,null,0]
["1511B17","Nellies Cave Park",1.65,60,6.4,null,null,null,null,null,120]
["1511B18","Highland Park (Valley View Dr.)",1.91,61,6.1,"2015-11-10",0.5,1.2E-2,0.14000000000000001,2.4,1280]
["1511B19","Golf Course (Graves Ave.) ",1.1200000000000001,67.7,7,null,null,null,null,null,200]
["1511B20","Alleghany Pump Station",2.5,62.1,6.8,null,null,null,null,null,150]
["1511B21","Cemetery Bldg.(Roanoke St.)",2.65,60.8,7,null,null,null,null,null,140]
["1511B22","Fire Station( Progress St.)",2.7,67.900000000000006,6.9,null,null,null,null,null,200]
["1511B23","Murphy Pump Station",2.23,63.4,6.4,null,null,null,null,null,80]
["1511B24","N.Main Water Tank",2.04,59.9,7.2,null,null,null,null,null,70]
["1511B25","Shenandoah II (Givens Ln.)",1.92,60.9,6.9,null,null,null,null,null,100]
["1511B26","Prices Trailer Ct. (Meadowbrook Dr.)",1.88,58.7,7.1,null,null,null,null,null,120]
["1511B27","Foxridge Apts.(Tall Oak Dr.)",2.21,62.2,6.9,null,null,null,null,null,40]
[]
["1511M24","Hale's Restaurant ",2.2000000000000002,19.3,7.45,"2015-11-10"]
["1511M25","Merrimac P.H. Church",2.6,18.8,7.45]
["1511M26","2120 Knoll Crest Dr.",2.1,26.4,7.32]
["1511M27","Belview Elem. School",2.5,19.600000000000001,7.42]
["1511M28","2653 Beulah Lane",0.8,21.2,6.75]
["1511M29","1614 Hawthorne Ridge",2.8,23.6,7.11]
[]
[]
["1511C18","1101 Round Meadow Drive"]
["1511C19","Buffalo Tank"]
["1511C20","113 Lester Street"]
["1511C21","535 Republic Rd."]
["1511C22","500 Industrial Drive"]
["1511C23","1035 Church Street"]
["1511C24","495 Church Street",null,null,null,"2015-11-17"]
["1511C25","2000 Sunset Drive"]
[null,"Chrisman Mill Rd."]
[]
["1511B28","CRC Pump Station"]
["1511B29","Triangle Pump Station"]
["1511B30","Cedar Run (Ellet Rd)"]
["1511B31","Highland Park (Palmer Dr.)"]
["1511B32","Golf Course Pump Station"]
["1511B33","Windsor Hills"]
["1511B34","Harding Ave. School "]
["1511B35","Neil St. Water Tank"]
["1511B36","Givens Pump Station "]
["1511B37","Shenandoah I ( Progress st.)"]
["1511B38","Shawnee II (Univ. City Blvd.)"]
["1511B39","Gladewood (Briarwood)"]
["1511B40","Prices Fork Fire Station"]
[]
["1511V1","Airport "]
["1511V2","Dairy Barn"]
["1511V3","Squires"]
["1511V4","Owens"]
["1511V5","Special Purpose"]
["1511V6","Presidents House"]
["1511V7","Aquaculture"]
["1511V8","Lee"]
["1511V9","Sheep Barn"]
["1511V10","Litton Reaves"]
[]
[]
[]
["1511M30","Eastern Mont. High"]
["1511M31","1670 Brunswick Dr."]
["1511M32","1630 Fire Tower Rd."]
["1511M33","St. Jude's Church"]
["1511M34","Subway Restaurant"]

{"sheet":"Codes","index":2,"n_rows":44,"n_cols":39,"rows_kept":44,"cut":false,"hidden":false,"merged":[[2,35,2,38],[2,30,2,33],[2,25,2,28],[0,20,1,38],[16,26,16,28],[9,26,9,28],[9,30,9,33],[16,30,16,33],[2,20,2,23],[9,20,9,23],[16,20,16,23],[22,20,22,23],[0,2,0,3],[0,5,0,8],[1,5,1,8],[16,5,16,8],[30,5,30,8],[0,15,1,18],[0,10,0,13],[1,10,1,13],[11,10,11,13],[20,10,20,13]]}
["Reject Codes","Sample Types","Facility ID",null,null,"Blacksburgs Samples",null,null,null,null,"Christiansburg Samples",null,null,null,null,"VT Samples",null,null,null,null,"Montgomery County Samples"]
["BP Invalid Sample Point","RT-(routine) collected at distribution or entry point location","VA1121057","EP001",null,"First Set (week 1)",null,null,null,null,"First Set (week 1)"]
["BR Breakage","RP-(repeat) verification sample after positive total coliform result","VA1121052","DS001",null,"DS001",1121052,"Municipal Bldg.","RT",null,"DS001",1121090,"110 Depot Street","RT",null,"DS001",1121057,"Airport ","SP",null,"First Month (week 1) Jan.Apr.July Oct",null,null,null,null,"Second Month (week 1) Feb. May Aug. Nov",null,null,null,null,"Third Month (week 1) Mar.June Sept.Dec",null,null,null,null,"Well Samples"]
["CL Chlorine Present","SP-(special) raw/untreated water or investigation sample","VA1121090","DS001",null,"DS001",1121052,"Hightop Rd. ","RT",null,"DS001",1121090,"140 Simmons Road","RT",null,"DS001",1121057,"Dairy Barn","SP",null,"DS001",1121175,"White Creek Market","RT",null,"DS001",1121175,"Shawsville Middle School","RT",null,"DS001",1121175,"Elliston Food Mart","RT",null,"WL001",1121900,"Woodview Well","GE"]
["EH Exceeded 30 Hour Holding Time","ST-(split) quality assurance sample",null,null,null,"DS001",1121052,"Cedar Orchard","RT",null,"DS001",1121090,"Simmons Rd Water Tank","RT",null,"DS001",1121057,"Squires","SP",null,"DS001",1121175,"Shawnee BP Market","RT",null,"DS001",1121175,"Brake Rd. Pump Station","RT",null,"DS001",1121175,"I-81 Ironto Rest Area","RT",null,"WL001",1121655,"Riner Well #1","GE"]
["FZ Sample Frozen",null,null,null,null,"DS001",1121052,"Aquatic Center","RT",null,"DS001",1121090,"155 Pine Hollow Road","RT",null,"DS001",1121057,"Owens","SP",null,"DS001",1121580,"Snuffy's Store","RT",null,"DS001",1121580,"2936 Walls Branch Rd.","RT",null,"DS001",1121580,"Prices Fork School","RT",null,"WL002",1121655,"Riner Well #2","GE"]
["HS Excess headspace",null,null,null,null,"DS001",1121052,"Wyatt Farms","RT",null,"DS001",1121090,"200 Pelham Lane","RT",null,"DS001",1121057,"Special Purpose","SP",null,"DS001",1121570,"Triangle Market","RT",null,"DS001",1121570,"Thompson Collision CTR","RT",null,"DS001",1121570,"Gospel Light Church","RT",null,"WL003",1121655,"Riner Well #3","GE"]
["IN Insufficient Sample Information",null,null,null,null,"DS001",1121052,"Coal Bank Hollow","RT",null,"DS001",1121090,"250 Alder Lane","RT",null,"DS001",1121057,"Presidents House","SP",null,"DS001",1121045,"Radford Auto Auction","RT",null,"DS001",1121045,"Comfort Inn","RT",null,"DS001",1121045,"I-81 Radford Rest Area","RT"]
["IP Invalid Sampling Protocol",null,null,null,null,"DS001",1121052,"Brookfield Pump Station","RT",null,"DS001",1121090,"75 Red Oak Drive, Lot 1","RT",null,"DS001",1121057,"Aquaculture","SP",null,"DS001",1121655,"Resue Squad Bldg.","RT",null,"DS001",1121655,"1891 Canter Drive","RT",null,"DS001",1121655,"4040 Salibury Lane","RT"]
["LA Lab Accident",null,null,null,null,"DS001",1121052,"Toms Creek Ball Park","RT",null,"DS001",1121090,"10 Linden Court","RT",null,"DS001",1121057,"Lee","SP",null,"First Month (week 2)",null,null,null,null,null,"Second Month (week 2)",null,null,null,"Third Month (week 2)"]
["LT Leaked in transit",null,null,null,null,"DS001",1121052,"Laurel Ridge","RT",null,"DS001",1121090,"1020 New Village Dr.","RT",null,"DS001",1121057,"Sheep Barn","SP",null,"DS001",1121175,"Meadow Brook Library","RT",null,"DS001",1121175,"Hale's Restaurant ","RT",null,"DS001",1121175,"Pro-Chem","RT"]
["VO Insufficient volume",null,null,null,null,"DS001",1121052,"Gilbert Linkous School","RT",null,"Second Set (week 2)",null,null,null,null,"DS001",1121057,"Litton Reaves","SP",null,"DS001",1121580,"1223 Merrimac Rd","RT",null,"DS001",1121580,"Merrimac P.H. Church","RT",null,"DS001",1121580,"1531 Oilwell Rd","RT"]
[null,null,null,null,null,"DS001",1121052,"Sturbridge Pump Station","RT",null,"DS001",1121090,"1180 North Franklin Street","RT",null,null,null,null,null,null,"DS001",1121503,"2090 Lake Vista Dr.","RT",null,"DS001",1121503,"2120 Knoll Crest Dr.","RT",null,"DS001",1121503,"2231 Peakland Way","RT"]
[null,null,null,null,null,"DS001",1121052,"Westover Hills (Lacy Ln.) ","RT",null,"DS001",1121090,"955 Elk Drive","RT",null,null,null,null,null,null,"DS001",1121043,"5720 Prices Fork rd. (Christy's store)","RT",null,"DS001",1121043,"Belview Elem. School","RT",null,"DS001",1121043,"2930 Peppers Ferry Rd.","RT"]
[null,null,null,null,null,"DS001",1121052,"Amerisuites","RT",null,"DS001",1121090,"975 Carson Drive","RT",null,null,null,null,null,null,"DS001",1121900,"2742 Mudpike Rd.","RT",null,"DS001",1121900,"2653 Beulah Lane","RT",null,"DS001",1121900,"Gate Road","RT"]
["TOTAL COLIFORM 3100",null,null,null,null,"DS001",1121052,"Stroubles Mill (Lancaster)","RT",null,"DS001",1121090,"Edgewood Pump Station","RT",null,null,null,null,null,null,"DS001",1121580,"Karr Activities Bldg.","RT",null,"DS001",1121580,"1614 Hawthorne Ridge","RT",null,"DS001",1121580,"2026 Nuthatch Way","RT"]
["FECAL COLIFORM 3014",null,null,null,null,"Second Set (week 2)",null,null,null,null,"DS001",1121090,"100 East Main Street","RT",null,null,null,null,null,null,"First Month (week 3)",null,null,null,null,null,"Second Month (week 3)",null,null,null,"Third Month (week 3)"]
["MPN   3000",null,null,null,null,"DS001",1121052,"Margaret Beeks School","RT",null,"DS001",1121090,"Craig Mountain Pump Station","RT",null,null,null,null,null,null,"DS001",1121175,"Alley's Store","RT",null,"DS001",1121175,"Eastern Mont. High","RT",null,"DS001",1121175,"Sunset Deli-Mart","RT"]
[null,null,null,null,null,"DS001",1121052,"Personnel Bldg.(Prospersity)","RT",null,"DS001",1121090,"4120 Roanoke Street","RT",null,null,null,null,null,null,"DS001",1121580,"1111 Huff Lane","RT",null,"DS001",1121580,"1670 Brunswick Dr.","RT",null,"DS001",1121580,"Ferguson Enterprises","RT"]
[null,null,null,null,null,"DS001",1121052,"Nellies Cave Park","RT",null,"DS001",1121090,"50 Weddle Way","RT",null,null,null,null,null,null,"DS001",1121570,"1073 Rock Rd.","RT",null,"DS001",1121570,"1630 Fire Tower Rd.","RT",null,"DS001",1121570,"Sandstone Market","RT"]
[null,null,null,null,null,"DS001",1121052,"Highland Park (Valley View Dr.)","RT",null,"Third Set (week 3)",null,null,null,null,null,null,null,null,null,"DS001",1121045,"3716 Mudpike Rd.","RT",null,"DS001",1121045,"St. Jude's Church","RT",null,"DS001",1121045,"Carilion NRV Med.Center","RT"]
[null,null,null,null,null,"DS001",1121052,"Golf Course (Graves Ave.) ","RT",null,"DS001",1121090,"1101 Round Meadow Drive","RT",null,null,null,null,null,null,"DS001",1121655,"Auburn High School","RT",null,"DS001",1121655,"Subway Restaurant","RT",null,"DS001",1121655,"Auburn Hills Club House","RT"]
[null,null,null,null,null,"DS001",1121052,"Alleghany Pump Station","RT",null,"DS001",1121090,"Buffalo Tank","RT",null,null,null,null,null,null,"First Month (week 3)"]
[null,null,null,null,null,"DS001",1121052,"Cemetery Bldg.(Roanoke St.)","RT",null,"DS001",1121090,"113 Lester Street","RT",null,null,null,null,null,null,"DS001",1121900,"Woodview Well","RT"]
[null,null,null,null,null,"DS001",1121052,"Fire Station( Progress St.)","RT",null,"DS001",1121090,"535 Republic Rd.","RT",null,null,null,null,null,null,"DS001",1121655,"Riner Well #1","RT"]
[null,null,null,null,null,"DS001",1121052,"Murphy Pump Station","RT",null,"DS001",1121090,"500 Industrial Drive","RT",null,null,null,null,null,null,"DS001",1121655,"Riner Well #2","RT"]
[null,null,null,null,null,"DS001",1121052,"N.Main Water Tank","RT",null,"DS001",1121090,"1035 Church Street","RT",null,null,null,null,null,null,"DS001",1121655,"Riner Well #3","RT"]
[null,null,null,null,null,"DS001",1121052,"Shenandoah II (Givens Ln.)","RT",null,"DS001",1121090,"495 Church Street","RT"]
[null,null,null,null,null,"DS001",1121052,"Prices Trailer Ct. (Meadowbrook Dr.)","RT",null,"DS001",1121090,"2000 Sunset Drive","RT"]
[null,null,null,null,null,"DS001",1121052,"Foxridge Apts.(Tall Oak Dr.)","RT"]
[null,null,null,null,null,"Third Set (week 3)"]
[null,null,null,null,null,"DS001",1121052,"CRC Pump Station","RT"]
[null,null,null,null,null,"DS001",1121052,"Triangle Pump Station","RT",null,null,"Week 1","Ellett Rd."]
[null,null,null,null,null,"DS001",1121052,"Cedar Run (Ellet Rd)","RT",null,null,"Week 2","Jones St."]
[null,null,null,null,null,"DS001",1121052,"Highland Park (Palmer Dr.)","RT",null,null,"Week 3","Chrisman Mill Rd."]
[null,null,null,null,null,"DS001",1121052,"Golf Course Pump Station","RT"]
[null,null,null,null,null,"DS001",1121052,"Windsor Hills","RT"]
[null,null,null,null,null,"DS001",1121052,"Harding Ave. School ","RT"]
[null,null,null,null,null,"DS001",1121052,"Neil St. Water Tank","RT"]
[null,null,null,null,null,"DS001",1121052,"Givens Pump Station ","RT"]
[null,null,null,null,null,"DS001",1121052,"Shenandoah I ( Progress st.)","RT"]
[null,null,null,null,null,"DS001",1121052,"Shawnee II (Univ. City Blvd.)","RT"]
[null,null,null,null,null,"DS001",1121052,"Gladewood (Briarwood)","RT"]
[null,null,null,null,null,"DS001",1121052,"Prices Fork Fire Station","RT"]

{"sheet":"sample","index":3,"n_rows":290,"n_cols":22,"rows_kept":290,"cut":false,"hidden":false,"merged":[]}
["Structure Set Name","Certifying Agency","Lab ID","Sample ID","PWSID","Sample Category","Classification Code","Sample Type","Compliance Indicator","Facility ID","Sampling Point","Sample Location","Collect Date","Collect Time","Receive Date","Sampler Name","CL2 Residual","Reject","PB Type Code","Original Sample: Certifying Agency (Repeat Samples ONLY)","Original Sample: Lab ID (Repeat Samples ONLY)","Original Sample: Sample ID (Repeat Samples ONLY)"]
[{"$f":"IF(Benchsheet!A5>1,\"sample\",IF(Benchsheet!A5=FALSE,\"\"))","v":"sample"},{"$f":"IF(Benchsheet!A5>1,\"STATE\",IF(Benchsheet!A5=FALSE,\"\"))","v":"STATE"},{"$f":"IF(Benchsheet!A5>1,\"00035\",IF(Benchsheet!A5=FALSE,\"\"))","v":"00035"},{"$f":"Benchsheet!A5","v":"1511P1"},{"$f":"IF(Benchsheet!C5=1121057,\"VA1121057\",IF(Benchsheet!C5=1121090,\"VA1121090\",IF(Benchsheet!C5=1121052,\"VA1121052\",IF(Benchsheet!C5=1121175,\"VA1121175\",IF(Benchsheet!C5=1121580,\"VA1121580\",IF(Benchsheet!C5=1121570,\"VA1121570\",IF(Benchsheet!C5=1121045,\"VA1121045\",IF(Benchsheet!C5=1121655,\"VA1121655\",IF(Benchsheet!C5=1121503,\"VA1121503\",IF(Benchsheet!C5=1121043,\"VA1121043\",IF(Benchsheet!C5=1121900,\"VA1121900\",IF(Benchsheet!C5=1121845,\"VA1121845\",IF(Benchsheet!C5=1121655,\"VA1121655\",IF(Benchsheet!C5=1121900,\"VA1121900\",IF(Benchsheet!C5<1,\"\")))))))))))))))","v":"VA1121057"},{"$f":"IF(Benchsheet!A5>1,\"TC\",IF(Benchsheet!A5=FALSE,\"\"))","v":"TC"},{"$f":"IF(J2=\"WL001\",\"MPN\",IF(Benchsheet!B5=FALSE,\"\",IF(J2=\"WL002\",\"MPN\",IF(J2=\"WL003\",\"MPN\",IF(J2=\"DS001\",\"TC\")))))","v":"TC"},{"$f":"Benchsheet!E5","v":"SP"},{"$f":"IF(H2=\"RT\",\"Y\",IF(H2=\"SP\",\"N\",IF(H2=\"RP\",\"Y\",IF(H2=\"GE\",\"Y\",\"\"))))","v":"N"},{"$f":"Benchsheet!B5","v":"DS001"},{"$f":"IF(J2=\"WL001\",\"RW001\",IF(Benchsheet!B5=FALSE,\"\",IF(J2=\"WL002\",\"RW002\",IF(J2=\"WL003\",\"RW003\",IF(J2=\"DS001\",\"TCR001\",IF(J2=\"DS001\",\"TCR01\"))))))","v":"TCR001"},{"$f":"Benchsheet!D5","v":"Plant Tap Finish"},{"$f":"Benchsheet!G5","v":"2015-11-02"},{"$f":"Benchsheet!H5","v":845},{"$f":"Benchsheet!I5","v":"2015-11-02"},{"$f":"Benchsheet!F5","v":"Sheila"},{"$f":"Benchsheet!P5","v":3.44},{"$f":"Benchsheet!O5","v":0}]
[{"$f":"IF(Benchsheet!A6>1,\"sample\",IF(Benchsheet!A6=FALSE,\"\"))","v":"sample"},{"$f":"IF(Benchsheet!A6>1,\"STATE\",IF(Benchsheet!A6=FALSE,\"\"))","v":"STATE"},{"$f":"IF(Benchsheet!A6>1,\"00035\",IF(Benchsheet!A6=FALSE,\"\"))","v":"00035"},{"$f":"Benchsheet!A6","v":"1511P2"},{"$f":"IF(Benchsheet!C6=1121057,\"VA1121057\",IF(Benchsheet!C6=1121090,\"VA1121090\",IF(Benchsheet!C6=1121052,\"VA1121052\",IF(Benchsheet!C6=1121175,\"VA1121175\",IF(Benchsheet!C6=1121580,\"VA1121580\",IF(Benchsheet!C6=1121570,\"VA1121570\",IF(Benchsheet!C6=1121045,\"VA1121045\",IF(Benchsheet!C6=1121655,\"VA1121655\",IF(Benchsheet!C6=1121503,\"VA1121503\",IF(Benchsheet!C6=1121043,\"VA1121043\",IF(Benchsheet!C6=1121900,\"VA1121900\",IF(Benchsheet!C6=1121845,\"VA1121845\",IF(Benchsheet!C6=1121655,\"VA1121655\",IF(Benchsheet!C6=1121900,\"VA1121900\",IF(Benchsheet!C6<1,\"\")))))))))))))))","v":"VA1121057"},{"$f":"IF(Benchsheet!A6>1,\"TC\",IF(Benchsheet!A6=FALSE,\"\"))","v":"TC"},{"$f":"IF(J3=\"WL001\",\"MPN\",IF(Benchsheet!B6=FALSE,\"\",IF(J3=\"WL002\",\"MPN\",IF(J3=\"WL003\",\"MPN\",IF(J3=\"DS001\",\"TC\")))))","v":"TC"},{"$f":"Benchsheet!E6","v":"SP"},{"$f":"IF(H3=\"RT\",\"Y\",IF(H3=\"SP\",\"N\",IF(H3=\"RP\",\"Y\",IF(H3=\"GE\",\"Y\",\"\"))))","v":"N"},{"$f":"Benchsheet!B6","v":"DS001"},{"$f":"IF(J3=\"WL001\",\"RW001\",IF(Benchsheet!B6=FALSE,\"\",IF(J3=\"WL002\",\"RW002\",IF(J3=\"WL003\",\"RW003\",IF(J3=\"DS001\",\"TCR001\",IF(J3=\"DS001\",\"TCR01\"))))))","v":"TCR001"},{"$f":"Benchsheet!D6","v":"Plant Tap Finish"},{"$f":"Benchsheet!G6","v":"2015-11-03"},{"$f":"Benchsheet!H6","v":909},{"$f":"Benchsheet!I6","v":"2015-11-03"},{"$f":"Benchsheet!F6","v":"Sheila"},{"$f":"Benchsheet!P6","v":3.52},{"$f":"Benchsheet!O6","v":0}]
[{"$f":"IF(Benchsheet!A7>1,\"sample\",IF(Benchsheet!A7=FALSE,\"\"))","v":"sample"},{"$f":"IF(Benchsheet!A7>1,\"STATE\",IF(Benchsheet!A7=FALSE,\"\"))","v":"STATE"},{"$f":"IF(Benchsheet!A7>1,\"00035\",IF(Benchsheet!A7=FALSE,\"\"))","v":"00035"},{"$f":"Benchsheet!A7","v":"1511C1"},{"$f":"IF(Benchsheet!C7=1121057,\"VA1121057\",IF(Benchsheet!C7=1121090,\"VA1121090\",IF(Benchsheet!C7=1121052,\"VA1121052\",IF(Benchsheet!C7=1121175,\"VA1121175\",IF(Benchsheet!C7=1121580,\"VA1121580\",IF(Benchsheet!C7=1121570,\"VA1121570\",IF(Benchsheet!C7=1121045,\"VA1121045\",IF(Benchsheet!C7=1121655,\"VA1121655\",IF(Benchsheet!C7=1121503,\"VA1121503\",IF(Benchsheet!C7=1121043,\"VA1121043\",IF(Benchsheet!C7=1121900,\"VA1121900\",IF(Benchsheet!C7=1121845,\"VA1121845\",IF(Benchsheet!C7=1121655,\"VA1121655\",IF(Benchsheet!C7=1121900,\"VA1121900\",IF(Benchsheet!C7<1,\"\")))))))))))))))","v":"VA1121090"},{"$f":"IF(Benchsheet!A7>1,\"TC\",IF(Benchsheet!A7=FALSE,\"\"))","v":"TC"},{"$f":"IF(J4=\"WL001\",\"MPN\",IF(Benchsheet!B7=FALSE,\"\",IF(J4=\"WL002\",\"MPN\",IF(J4=\"WL003\",\"MPN\",IF(J4=\"DS001\",\"TC\")))))","v":"TC"},{"$f":"Benchsheet!E7","v":"RT"},"Y",{"$f":"Benchsheet!B7","v":"DS001"},{"$f":"IF(J4=\"WL001\",\"RW001\",IF(Benchsheet!B7=FALSE,\"\",IF(J4=\"WL002\",\"RW002\",IF(J4=\"WL003\",\"RW003\",IF(J4=\"DS001\",\"TCR001\",IF(J4=\"DS001\",\"TCR01\"))))))","v":"TCR001"},{"$f":"Benchsheet!D7","v":"110 Depot Street"},{"$f":"Benchsheet!G7","v":"2015-11-03"},{"$f":"Benchsheet!H7","v":817},{"$f":"Benchsheet!I7","v":"2015-11-03"},{"$f":"Benchsheet!F7","v":"DJ"},{"$f":"Benchsheet!P7","v":3.2},{"$f":"Benchsheet!O7","v":0}]
[{"$f":"IF(Benchsheet!A8>1,\"sample\",IF(Benchsheet!A8=FALSE,\"\"))","v":"sample"},{"$f":"IF(Benchsheet!A8>1,\"STATE\",IF(Benchsheet!A8=FALSE,\"\"))","v":"STATE"},{"$f":"IF(Benchsheet!A8>1,\"00035\",IF(Benchsheet!A8=FALSE,\"\"))","v":"00035"},{"$f":"Benchsheet!A8","v":"1511C2"},{"$f":"IF(Benchsheet!C8=1121057,\"VA1121057\",IF(Benchsheet!C8=1121090,\"VA1121090\",IF(Benchsheet!C8=1121052,\"VA1121052\",IF(Benchsheet!C8=1121175,\"VA1121175\",IF(Benchsheet!C8=1121580,\"VA1121580\",IF(Benchsheet!C8=1121570,\"VA1121570\",IF(Benchsheet!C8=1121045,\"VA1121045\",IF(Benchsheet!C8=1121655,\"VA1121655\",IF(Benchsheet!C8=1121503,\"VA1121503\",IF(Benchsheet!C8=1121043,\"VA1121043\",IF(Benchsheet!C8=1121900,\"VA1121900\",IF(Benchsheet!C8=1121845,\"VA1121845\",IF(Benchsheet!C8=1121655,\"VA1121655\",IF(Benchsheet!C8=1121900,\"VA1121900\",IF(Benchsheet!C8<1,\"\")))))))))))))))","v":"VA1121090"},{"$f":"IF(Benchsheet!A8>1,\"TC\",IF(Benchsheet!A8=FALSE,\"\"))","v":"TC"},{"$f":"IF(J5=\"WL001\",\"MPN\",IF(Benchsheet!B8=FALSE,\"\",IF(J5=\"WL002\",\"MPN\",IF(J5=\"WL003\",\"MPN\",IF(J5=\"DS001\",\"TC\")))))","v":"TC"},{"$f":"Benchsheet!E8","v":"RT"},"Y",{"$f":"Benchsheet!B8","v":"DS001"},{"$f":"IF(J5=\"WL001\",\"RW001\",IF(Benchsheet!B8=FALSE,\"\",IF(J5=\"WL002\",\"RW002\",IF(J5=\"WL003\",\"RW003\",IF(J5=\"DS001\",\"TCR001\",IF(J5=\"DS001\",\"TCR01\"))))))","v":"TCR001"},{"$f":"Benchsheet!D8","v":"140 Simmons Road"},{"$f":"Benchsheet!G8","v":"2015-11-03"},{"$f":"Benchsheet!H8","v":834},{"$f":"Benchsheet!I8","v":"2015-11-03"},{"$f":"Benchsheet!F8","v":"DJ"},{"$f":"Benchsheet!P8","v":3.1},{"$f":"Benchsheet!O8","v":0}]
[{"$f":"IF(Benchsheet!A9>1,\"sample\",IF(Benchsheet!A9=FALSE,\"\"))","v":"sample"},{"$f":"IF(Benchsheet!A9>1,\"STATE\",IF(Benchsheet!A9=FALSE,\"\"))","v":"STATE"},{"$f":"IF(Benchsheet!A9>1,\"00035\",IF(Benchsheet!A9=FALSE,\"\"))","v":"00035"},{"$f":"Benchsheet!A9","v":"1511C3"},{"$f":"IF(Benchsheet!C9=1121057,\"VA1121057\",IF(Benchsheet!C9=1121090,\"VA1121090\",IF(Benchsheet!C9=1121052,\"VA1121052\",IF(Benchsheet!C9=1121175,\"VA1121175\",IF(Benchsheet!C9=1121580,\"VA1121580\",IF(Benchsheet!C9=1121570,\"VA1121570\",IF(Benchsheet!C9=1121045,\"VA1121045\",IF(Benchsheet!C9=1121655,\"VA1121655\",IF(Benchsheet!C9=1121503,\"VA1121503\",IF(Benchsheet!C9=1121043,\"VA1121043\",IF(Benchsheet!C9=1121900,\"VA1121900\",IF(Benchsheet!C9=1121845,\"VA1121845\",IF(Benchsheet!C9=1121655,\"VA1121655\",IF(Benchsheet!C9=1121900,\"VA1121900\",IF(Benchsheet!C9<1,\"\")))))))))))))))","v":"VA1121090"},{"$f":"IF(Benchsheet!A9>1,\"TC\",IF(Benchsheet!A9=FALSE,\"\"))","v":"TC"},{"$f":"IF(J6=\"WL001\",\"MPN\",IF(Benchsheet!B9=FALSE,\"\",IF(J6=\"WL002\",\"MPN\",IF(J6=\"WL003\",\"MPN\",IF(J6=\"DS001\",\"TC\")))))","v":"TC"},{"$f":"Benchsheet!E9","v":"RT"},"Y",{"$f":"Benchsheet!B9","v":"DS001"},{"$f":"IF(J6=\"WL001\",\"RW001\",IF(Benchsheet!B9=FALSE,\"\",IF(J6=\"WL002\",\"RW002\",IF(J6=\"WL003\",\"RW003\",IF(J6=\"DS001\",\"TCR001\",IF(J6=\"DS001\",\"TCR01\"))))))","v":"TCR001"},{"$f":"Benchsheet!D9","v":"Simmons Rd Water Tank"},{"$f":"Benchsheet!G9","v":"2015-11-03"},{"$f":"Benchsheet!H9","v":844},{"$f":"Benchsheet!I9","v":"2015-11-03"},{"$f":"Benchsheet!F9","v":"DJ"},{"$f":"Benchsheet!P9","v":3.1},{"$f":"Benchsheet!O9","v":0}]
[{"$f":"IF(Benchsheet!A10>1,\"sample\",IF(Benchsheet!A10=FALSE,\"\"))","v":"sample"},{"$f":"IF(Benchsheet!A10>1,\"STATE\",IF(Benchsheet!A10=FALSE,\"\"))","v":"STATE"},{"$f":"IF(Benchsheet!A10>1,\"00035\",IF(Benchsheet!A10=FALSE,\"\"))","v":"00035"},{"$f":"Benchsheet!A10","v":"1511C4"},{"$f":"IF(Benchsheet!C10=1121057,\"VA1121057\",IF(Benchsheet!C10=1121090,\"VA1121090\",IF(Benchsheet!C10=1121052,\"VA1121052\",IF(Benchsheet!C10=1121175,\"VA1121175\",IF(Benchsheet!C10=1121580,\"VA1121580\",IF(Benchsheet!C10=1121570,\"VA1121570\",IF(Benchsheet!C10=1121045,\"VA1121045\",IF(Benchsheet!C10=1121655,\"VA1121655\",IF(Benchsheet!C10=1121503,\"VA1121503\",IF(Benchsheet!C10=1121043,\"VA1121043\",IF(Benchsheet!C10=1121900,\"VA1121900\",IF(Benchsheet!C10=1121845,\"VA1121845\",IF(Benchsheet!C10=1121655,\"VA1121655\",IF(Benchsheet!C10=1121900,\"VA1121900\",IF(Benchsheet!C10<1,\"\")))))))))))))))","v":"VA1121090"},{"$f":"IF(Benchsheet!A10>1,\"TC\",IF(Benchsheet!A10=FALSE,\"\"))","v":"TC"},{"$f":"IF(J7=\"WL001\",\"MPN\",IF(Benchsheet!B10=FALSE,\"\",IF(J7=\"WL002\",\"MPN\",IF(J7=\"WL003\",\"MPN\",IF(J7=\"DS001\",\"TC\")))))","v":"TC"},{"$f":"Benchsheet!E10","v":"RT"},"Y",{"$f":"Benchsheet!B10","v":"DS001"},{"$f":"IF(J7=\"WL001\",\"RW001\",IF(Benchsheet!B10=FALSE,\"\",IF(J7=\"WL002\",\"RW002\",IF(J7=\"WL003\",\"RW003\",IF(J7=\"DS001\",\"TCR001\",IF(J7=\"DS001\",\"TCR01\"))))))","v":"TCR001"},{"$f":"Benchsheet!D10","v":"155 Pine Hollow Road"},{"$f":"Benchsheet!G10","v":"2015-11-03"},{"$f":"Benchsheet!H10","v":857},{"$f":"Benchsheet!I10","v":"2015-11-03"},{"$f":"Benchsheet!F10","v":"DJ"},{"$f":"Benchsheet!P10","v":3.4},{"$f":"Benchsheet!O10","v":0}]
[{"$f":"IF(Benchsheet!A11>1,\"sample\",IF(Benchsheet!A11=FALSE,\"\"))","v":"sample"},{"$f":"IF(Benchsheet!A11>1,\"STATE\",IF(Benchsheet!A11=FALSE,\"\"))","v":"STATE"},{"$f":"IF(Benchsheet!A11>1,\"00035\",IF(Benchsheet!A11=FALSE,\"\"))","v":"00035"},{"$f":"Benchsheet!A11","v":"1511C5"},{"$f":"IF(Benchsheet!C11=1121057,\"VA1121057\",IF(Benchsheet!C11=1121090,\"VA1121090\",IF(Benchsheet!C11=1121052,\"VA1121052\",IF(Benchsheet!C11=1121175,\"VA1121175\",IF(Benchsheet!C11=1121580,\"VA1121580\",IF(Benchsheet!C11=1121570,\"VA1121570\",IF(Benchsheet!C11=1121045,\"VA1121045\",IF(Benchsheet!C11=1121655,\"VA1121655\",IF(Benchsheet!C11=1121503,\"VA1121503\",IF(Benchsheet!C11=1121043,\"VA1121043\",IF(Benchsheet!C11=1121900,\"VA1121900\",IF(Benchsheet!C11=1121845,\"VA1121845\",IF(Benchsheet!C11=1121655,\"VA1121655\",IF(Benchsheet!C11=1121900,\"VA1121900\",IF(Benchsheet!C11<1,\"\")))))))))))))))","v":"VA1121090"},{"$f":"IF(Benchsheet!A11>1,\"TC\",IF(Benchsheet!A11=FALSE,\"\"))","v":"TC"},{"$f":"IF(J8=\"WL001\",\"MPN\",IF(Benchsheet!B11=FALSE,\"\",IF(J8=\"WL002\",\"MPN\",IF(J8=\"WL003\",\"MPN\",IF(J8=\"DS001\",\"TC\")))))","v":"TC"},{"$f":"Benchsheet!E11","v":"RT"},"Y",{"$f":"Benchsheet!B11","v":"DS001"},{"$f":"IF(J8=\"WL001\",\"RW001\",IF(Benchsheet!B11=FALSE,\"\",IF(J8=\"WL002\",\"RW002\",IF(J8=\"WL003\",\"RW003\",IF(J8=\"DS001\",\"TCR001\",IF(J8=\"DS001\",\"TCR01\"))))))","v":"TCR001"},{"$f":"Benchsheet!D11","v":"200 Pelham Lane"},{"$f":"Benchsheet!G11","v":"2015-11-03"},{"$f":"Benchsheet!H11","v":931},{"$f":"Benchsheet!I11","v":"2015-11-03"},{"$f":"Benchsheet!F11","v":"DJ"},{"$f":"Benchsheet!P11","v":2.7},{"$f":"Benchsheet!O11","v":0}]
[{"$f":"IF(Benchsheet!A12>1,\"sample\",IF(Benchsheet!A12=FALSE,\"\"))","v":"sample"},{"$f":"IF(Benchsheet!A12>1,\"STATE\",IF(Benchsheet!A12=FALSE,\"\"))","v":"STATE"},{"$f":"IF(Benchsheet!A12>1,\"00035\",IF(Benchsheet!A12=FALSE,\"\"))","v":"00035"},{"$f":"Benchsheet!A12","v":"1511C6"},{"$f":"IF(Benchsheet!C12=1121057,\"VA1121057\",IF(Benchsheet!C12=1121090,\"VA1121090\",IF(Benchsheet!C12=1121052,\"VA1121052\",IF(Benchsheet!C12=1121175,\"VA1121175\",IF(Benchsheet!C12=1121580,\"VA1121580\",IF(Benchsheet!C12=1121570,\"VA1121570\",IF(Benchsheet!C12=1121045,\"VA1121045\",IF(Benchsheet!C12=1121655,\"VA1121655\",IF(Benchsheet!C12=1121503,\"VA1121503\",IF(Benchsheet!C12=1121043,\"VA1121043\",IF(Benchsheet!C12=1121900,\"VA1121900\",IF(Benchsheet!C12=1121845,\"VA1121845\",IF(Benchsheet!C12=1121655,\"VA1121655\",IF(Benchsheet!C12=1121900,\"VA1121900\",IF(Benchsheet!C12<1,\"\")))))))))))))))","v":"VA1121090"},{"$f":"IF(Benchsheet!A12>1,\"TC\",IF(Benchsheet!A12=FALSE,\"\"))","v":"TC"},{"$f":"IF(J9=\"WL001\",\"MPN\",IF(Benchsheet!B12=FALSE,\"\",IF(J9=\"WL002\",\"MPN\",IF(J9=\"WL003\",\"MPN\",IF(J9=\"DS001\",\"TC\")))))","v":"TC"},{"$f":"Benchsheet!E12","v":"RT"},"Y",{"$f":"Benchsheet!B12","v":"DS001"},{"$f":"IF(J9=\"WL001\",\"RW001\",IF(Benchsheet!B12=FALSE,\"\",IF(J9=\"WL002\",\"RW002\",IF(J9=\"WL003\",\"RW003\",IF(J9=\"DS001\",\"TCR001\",IF(J9=\"DS001\",\"TCR01\"))))))","v":"TCR001"},{"$f":"Benchsheet!D12","v":"250 Alder Lane"},{"$f":"Benchsheet!G12","v":"2015-11-03"},{"$f":"Benchsheet!H12","v":942},{"$f":"Benchsheet!I12","v":"2015-11-03"},{"$f":"Benchsheet!F12","v":"DJ"},{"$f":"Benchsheet!P12","v":3},{"$f":"Benchsheet!O12","v":0}]
[{"$f":"IF(Benchsheet!A13>1,\"sample\",IF(Benchsheet!A13=FALSE,\"\"))","v":"sample"},{"$f":"IF(Benchsheet!A13>1,\"STATE\",IF(Benchsheet!A13=FALSE,\"\"))","v":"STATE"},{"$f":"IF(Benchsheet!A13>1,\"00035\",IF(Benchsheet!A13=FALSE,\"\"))","v":"00035"},{"$f":"Benchsheet!A13","v":"1511C7"},{"$f":"IF(Benchsheet!C13=1121057,\"VA1121057\",IF(Benchsheet!C13=1121090,\"VA1121090\",IF(Benchsheet!C13=1121052,\"VA1121052\",IF(Benchsheet!C13=1121175,\"VA1121175\",IF(Benchsheet!C13=1121580,\"VA1121580\",IF(Benchsheet!C13=1121570,\"VA1121570\",IF(Benchsheet!C13=1121045,\"VA1121045\",IF(Benchsheet!C13=1121655,\"VA1121655\",IF(Benchsheet!C13=1121503,\"VA1121503\",IF(Benchsheet!C13=1121043,\"VA1121043\",IF(Benchsheet!C13=1121900,\"VA1121900\",IF(Benchsheet!C13=1121845,\"VA1121845\",IF(Benchsheet!C13=1121655,\"VA1121655\",IF(Benchsheet!C13=1121900,\"VA1121900\",IF(Benchsheet!C13<1,\"\")))))))))))))))","v":"VA1121090"},{"$f":"IF(Benchsheet!A13>1,\"TC\",IF(Benchsheet!A13=FALSE,\"\"))","v":"TC"},{"$f":"IF(J10=\"WL001\",\"MPN\",IF(Benchsheet!B13=FALSE,\"\",IF(J10=\"WL002\",\"MPN\",IF(J10=\"WL003\",\"MPN\",IF(J10=\"DS001\",\"TC\")))))","v":"TC"},{"$f":"Benchsheet!E13","v":"RT"},"Y",{"$f":"Benchsheet!B13","v":"DS001"},{"$f":"IF(J10=\"WL001\",\"RW001\",IF(Benchsheet!B13=FALSE,\"\",IF(J10=\"WL002\",\"RW002\",IF(J10=\"WL003\",\"RW003\",IF(J10=\"DS001\",\"TCR001\",IF(J10=\"DS001\",\"TCR01\"))))))","v":"TCR001"},{"$f":"Benchsheet!D13","v":"75 Red Oak Drive, Lot 1"},{"$f":"Benchsheet!G13","v":"2015-11-03"},{"$f":"Benchsheet!H13","v":1001},{"$f":"Benchsheet!I13","v":"2015-11-03"},{"$f":"Benchsheet!F13","v":"DJ"},{"$f":"Benchsheet!P13","v":3.2},{"$f":"Benchsheet!O13","v":0}]
[{"$f":"IF(Benchsheet!A14>1,\"sample\",IF(Benchsheet!A14=FALSE,\"\"))","v":"sample"},{"$f":"IF(Benchsheet!A14>1,\"STATE\",IF(Benchsheet!A14=FALSE,\"\"))","v":"STATE"},{"$f":"IF(Benchsheet!A14>1,\"00035\",IF(Benchsheet!A14=FALSE,\"\"))","v":"00035"},{"$f":"Benchsheet!A14","v":"1511C8"},{"$f":"IF(Benchsheet!C14=1121057,\"VA1121057\",IF(Benchsheet!C14=1121090,\"VA1121090\",IF(Benchsheet!C14=1121052,\"VA1121052\",IF(Benchsheet!C14=1121175,\"VA1121175\",IF(Benchsheet!C14=1121580,\"VA1121580\",IF(Benchsheet!C14=1121570,\"VA1121570\",IF(Benchsheet!C14=1121045,\"VA1121045\",IF(Benchsheet!C14=1121655,\"VA1121655\",IF(Benchsheet!C14=1121503,\"VA1121503\",IF(Benchsheet!C14=1121043,\"VA1121043\",IF(Benchsheet!C14=1121900,\"VA1121900\",IF(Benchsheet!C14=1121845,\"VA1121845\",IF(Benchsheet!C14=1121655,\"VA1121655\",IF(Benchsheet!C14=1121900,\"VA1121900\",IF(Benchsheet!C14<1,\"\")))))))))))))))","v":"VA1121090"},{"$f":"IF(Benchsheet!A14>1,\"TC\",IF(Benchsheet!A14=FALSE,\"\"))","v":"TC"},{"$f":"IF(J11=\"WL001\",\"MPN\",IF(Benchsheet!B14=FALSE,\"\",IF(J11=\"WL002\",\"MPN\",IF(J11=\"WL003\",\"MPN\",IF(J11=\"DS001\",\"TC\")))))","v":"TC"},{"$f":"Benchsheet!E14","v":"RT"},"Y",{"$f":"Benchsheet!B14","v":"DS001"},{"$f":"IF(J11=\"WL001\",\"RW001\",IF(Benchsheet!B14=FALSE,\"\",IF(J11=\"WL002\",\"RW002\",IF(J11=\"WL003\",\"RW003\",IF(J11=\"DS001\",\"TCR001\",IF(J11=\"DS001\",\"TCR01\"))))))","v":"TCR001"},{"$f":"Benchsheet!D14","v":"10 Linden Court"},{"$f":"Benchsheet!G14","v":"2015-11-03"},{"$f":"Benchsheet!H14","v":1026},{"$f":"Benchsheet!I14","v":"2015-11-03"},{"$f":"Benchsheet!F14","v":"DJ"},{"$f":"Benchsheet!P14","v":3.4},{"$f":"Benchsheet!O14","v":0}]
[{"$f":"IF(Benchsheet!A15>1,\"sample\",IF(Benchsheet!A15=FALSE,\"\"))","v":"sample"},{"$f":"IF(Benchsheet!A15>1,\"STATE\",IF(Benchsheet!A15=FALSE,\"\"))","v":"STATE"},{"$f":"IF(Benchsheet!A15>1,\"00035\",IF(Benchsheet!A15=FALSE,\"\"))","v":"00035"},{"$f":"Benchsheet!A15","v":"1511C9"},{"$f":"IF(Benchsheet!C15=1121057,\"VA1121057\",IF(Benchsheet!C15=1121090,\"VA1121090\",IF(Benchsheet!C15=1121052,\"VA1121052\",IF(Benchsheet!C15=1121175,\"VA1121175\",IF(Benchsheet!C15=1121580,\"VA1121580\",IF(Benchsheet!C15=1121570,\"VA1121570\",IF(Benchsheet!C15=1121045,\"VA1121045\",IF(Benchsheet!C15=1121655,\"VA1121655\",IF(Benchsheet!C15=1121503,\"VA1121503\",IF(Benchsheet!C15=1121043,\"VA1121043\",IF(Benchsheet!C15=1121900,\"VA1121900\",IF(Benchsheet!C15=1121845,\"VA1121845\",IF(Benchsheet!C15=1121655,\"VA1121655\",IF(Benchsheet!C15=1121900,\"VA1121900\",IF(Benchsheet!C15<1,\"\")))))))))))))))","v":"VA1121090"},{"$f":"IF(Benchsheet!A15>1,\"TC\",IF(Benchsheet!A15=FALSE,\"\"))","v":"TC"},{"$f":"IF(J12=\"WL001\",\"MPN\",IF(Benchsheet!B15=FALSE,\"\",IF(J12=\"WL002\",\"MPN\",IF(J12=\"WL003\",\"MPN\",IF(J12=\"DS001\",\"TC\")))))","v":"TC"},{"$f":"Benchsheet!E15","v":"RT"},"Y",{"$f":"Benchsheet!B15","v":"DS001"},{"$f":"IF(J12=\"WL001\",\"RW001\",IF(Benchsheet!B15=FALSE,\"\",IF(J12=\"WL002\",\"RW002\",IF(J12=\"WL003\",\"RW003\",IF(J12=\"DS001\",\"TCR001\",IF(J12=\"DS001\",\"TCR01\"))))))","v":"TCR001"},{"$f":"Benchsheet!D15","v":"1020 New Village Dr."},{"$f":"Benchsheet!G15","v":"2015-11-03"},{"$f":"Benchsheet!H15","v":1014},{"$f":"Benchsheet!I15","v":"2015-11-03"},{"$f":"Benchsheet!F15","v":"DJ"},{"$f":"Benchsheet!P15","v":3.4},{"$f":"Benchsheet!O15","v":0}]
[{"$f":"IF(Benchsheet!A16>1,\"sample\",IF(Benchsheet!A16=FALSE,\"\"))","v":"sample"},{"$f":"IF(Benchsheet!A16>1,\"STATE\",IF(Benchsheet!A16=FALSE,\"\"))","v":"STATE"},{"$f":"IF(Benchsheet!A16>1,\"00035\",IF(Benchsheet!A16=FALSE,\"\"))","v":"00035"},{"$f":"Benchsheet!A16","v":"1511P3"},{"$f":"IF(Benchsheet!C16=1121057,\"VA1121057\",IF(Benchsheet!C16=1121090,\"VA1121090\",IF(Benchsheet!C16=1121052,\"VA1121052\",IF(Benchsheet!C16=1121175,\"VA1121175\",IF(Benchsheet!C16=1121580,\"VA1121580\",IF(Benchsheet!C16=1121570,\"VA1121570\",IF(Benchsheet!C16=1121045,\"VA1121045\",IF(Benchsheet!C16=1121655,\"VA1121655\",IF(Benchsheet!C16=1121503,\"VA1121503\",IF(Benchsheet!C16=1121043,\"VA1121043\",IF(Benchsheet!C16=1121900,\"VA1121900\",IF(Benchsheet!C16=1121845,\"VA1121845\",IF(Benchsheet!C16=1121655,\"VA1121655\",IF(Benchsheet!C16=1121900,\"VA1121900\",IF(Benchsheet!C16<1,\"\")))))))))))))))","v":"VA1121057"},{"$f":"IF(Benchsheet!A16>1,\"TC\",IF(Benchsheet!A16=FALSE,\"\"))","v":"TC"},{"$f":"IF(J13=\"WL001\",\"MPN\",IF(Benchsheet!B16=FALSE,\"\",IF(J13=\"WL002\",\"MPN\",IF(J13=\"WL003\",\"MPN\",IF(J13=\"DS001\",\"TC\")))))","v":"TC"},{"$f":"Benchsheet!E16","v":"SP"},"N",{"$f":"Benchsheet!B16","v":"DS001"},{"$f":"IF(J13=\"WL001\",\"RW001\",IF(Benchsheet!B16=FALSE,\"\",IF(J13=\"WL002\",\"RW002\",IF(J13=\"WL003\",\"RW003\",IF(J13=\"DS001\",\"TCR001\",IF(J13=\"DS001\",\"TCR01\"))))))","v":"TCR001"},{"$f":"Benchsheet!D16","v":"Plant Tap Finish"},{"$f":"Benchsheet!G16","v":"2015-11-04"},{"$f":"Benchsheet!H16","v":1000},{"$f":"Benchsheet!I16","v":"2015-11-04"},{"$f":"Benchsheet!F16","v":"Sheila"},{"$f":"Benchsheet!P16","v":3.67},{"$f":"Benchsheet!O16","v":0}]
[{"$f":"IF(Benchsheet!A17>1,\"sample\",IF(Benchsheet!A17=FALSE,\"\"))","v":"sample"},{"$f":"IF(Benchsheet!A17>1,\"STATE\",IF(Benchsheet!A17=FALSE,\"\"))","v":"STATE"},{"$f":"IF(Benchsheet!A17>1,\"00035\",IF(Benchsheet!A17=FALSE,\"\"))","v":"00035"},{"$f":"Benchsheet!A17","v":"1511P4"},{"$f":"IF(Benchsheet!C17=1121057,\"VA1121057\",IF(Benchsheet!C17=1121090,\"VA1121090\",IF(Benchsheet!C17=1121052,\"VA1121052\",IF(Benchsheet!C17=1121175,\"VA1121175\",IF(Benchsheet!C17=1121580,\"VA1121580\",IF(Benchsheet!C17=1121570,\"VA1121570\",IF(Benchsheet!C17=1121045,\"VA1121045\",IF(Benchsheet!C17=1121655,\"VA1121655\",IF(Benchsheet!C17=1121503,\"VA1121503\",IF(Benchsheet!C17=1121043,\"VA1121043\",IF(Benchsheet!C17=1121900,\"VA1121900\",IF(Benchsheet!C17=1121845,\"VA1121845\",IF(Benchsheet!C17=1121655,\"VA1121655\",IF(Benchsheet!C17=1121900,\"VA1121900\",IF(Benchsheet!C17<1,\"\")))))))))))))))","v":"VA1121057"},{"$f":"IF(Benchsheet!A17>1,\"TC\",IF(Benchsheet!A17=FALSE,\"\"))","v":"TC"},{"$f":"IF(J14=\"WL001\",\"MPN\",IF(Benchsheet!B17=FALSE,\"\",IF(J14=\"WL002\",\"MPN\",IF(J14=\"WL003\",\"MPN\",IF(J14=\"DS001\",\"TC\")))))","v":"TC"},{"$f":"Benchsheet!E17","v":"SP"},"N",{"$f":"Benchsheet!B17","v":"DS001"},{"$f":"IF(J14=\"WL001\",\"RW001\",IF(Benchsheet!B17=FALSE,\"\",IF(J14=\"WL002\",\"RW002\",IF(J14=\"WL003\",\"RW003\",IF(J14=\"DS001\",\"TCR001\",IF(J14=\"DS001\",\"TCR01\"))))))","v":"TCR001"},{"$f":"Benchsheet!D17","v":"C'burg Booster Station"},{"$f":"Benchsheet!G17","v":"2015-11-04"},{"$f":"Benchsheet!H17","v":1032},{"$f":"Benchsheet!I17","v":"2015-11-04"},{"$f":"Benchsheet!F17","v":"Sheila"},{"$f":"Benchsheet!P17","v":3.6},{"$f":"Benchsheet!O17","v":0}]
[{"$f":"IF(Benchsheet!A18>1,\"sample\",IF(Benchsheet!A18=FALSE,\"\"))","v":"sample"},{"$f":"IF(Benchsheet!A18>1,\"STATE\",IF(Benchsheet!A18=FALSE,\"\"))","v":"STATE"},{"$f":"IF(Benchsheet!A18>1,\"00035\",IF(Benchsheet!A18=FALSE,\"\"))","v":"00035"},{"$f":"Benchsheet!A18","v":"1511P5"},{"$f":"IF(Benchsheet!C18=1121057,\"VA1121057\",IF(Benchsheet!C18=1121090,\"VA1121090\",IF(Benchsheet!C18=1121052,\"VA1121052\",IF(Benchsheet!C18=1121175,\"VA1121175\",IF(Benchsheet!C18=1121580,\"VA1121580\",IF(Benchsheet!C18=1121570,\"VA1121570\",IF(Benchsheet!C18=1121045,\"VA1121045\",IF(Benchsheet!C18=1121655,\"VA1121655\",IF(Benchsheet!C18=1121503,\"VA1121503\",IF(Benchsheet!C18=1121043,\"VA1121043\",IF(Benchsheet!C18=1121900,\"VA1121900\",IF(Benchsheet!C18=1121845,\"VA1121845\",IF(Benchsheet!C18=1121655,\"VA1121655\",IF(Benchsheet!C18=1121900,\"VA1121900\",IF(Benchsheet!C18<1,\"\")))))))))))))))","v":"VA1121057"},{"$f":"IF(Benchsheet!A18>1,\"TC\",IF(Benchsheet!A18=FALSE,\"\"))","v":"TC"},{"$f":"IF(J15=\"WL001\",\"MPN\",IF(Benchsheet!B18=FALSE,\"\",IF(J15=\"WL002\",\"MPN\",IF(J15=\"WL003\",\"MPN\",IF(J15=\"DS001\",\"TC\")))))","v":"TC"},{"$f":"Benchsheet!E18","v":"SP"},"N",{"$f":"Benchsheet!B18","v":"DS001"},{"$f":"IF(J15=\"WL001\",\"RW001\",IF(Benchsheet!B18=FALSE,\"\",IF(J15=\"WL002\",\"RW002\",IF(J15=\"WL003\",\"RW003\",IF(J15=\"DS001\",\"TCR001\",IF(J15=\"DS001\",\"TCR01\"))))))","v":"TCR001"},{"$f":"Benchsheet!D18","v":"B'burg Booster Station"},{"$f":"Benchsheet!G18","v":"2015-11-04"},{"$f":"Benchsheet!H18","v":1045},{"$f":"Benchsheet!I18","v":"2015-11-04"},{"$f":"Benchsheet!F18","v":"Sheila"},{"$f":"Benchsheet!P18","v":3.8},{"$f":"Benchsheet!O18","v":0}]
[{"$f":"IF(Benchsheet!A19>1,\"sample\",IF(Benchsheet!A19=FALSE,\"\"))","v":"sample"},{"$f":"IF(Benchsheet!A19>1,\"STATE\",IF(Benchsheet!A19=FALSE,\"\"))","v":"STATE"},{"$f":"IF(Benchsheet!A19>1,\"00035\",IF(Benchsheet!A19=FALSE,\"\"))","v":"00035"},{"$f":"Benchsheet!A19","v":"1511B1"},{"$f":"IF(Benchsheet!C19=1121057,\"VA1121057\",IF(Benchsheet!C19=1121090,\"VA1121090\",IF(Benchsheet!C19=1121052,\"VA1121052\",IF(Benchsheet!C19=1121175,\"VA1121175\",IF(Benchsheet!C19=1121580,\"VA1121580\",IF(Benchsheet!C19=1121570,\"VA1121570\",IF(Benchsheet!C19=1121045,\"VA1121045\",IF(Benchsheet!C19=1121655,\"VA1121655\",IF(Benchsheet!C19=1121503,\"VA1121503\",IF(Benchsheet!C19=1121043,\"VA1121043\",IF(Benchsheet!C19=1121900,\"VA1121900\",IF(Benchsheet!C19=1121845,\"VA1121845\",IF(Benchsheet!C19=1121655,\"VA1121655\",IF(Benchsheet!C19=1121900,\"VA1121900\",IF(Benchsheet!C19<1,\"\")))))))))))))))","v":"VA1121052"},{"$f":"IF(Benchsheet!A19>1,\"TC\",IF(Benchsheet!A19=FALSE,\"\"))","v":"TC"},{"$f":"IF(J16=\"WL001\",\"MPN\",IF(Benchsheet!B19=FALSE,\"\",IF(J16=\"WL002\",\"MPN\",IF(J16=\"WL003\",\"MPN\",IF(J16=\"DS001\",\"TC\")))))","v":"TC"},{"$f":"Benchsheet!E19","v":"RT"},"Y",{"$f":"Benchsheet!B19","v":"DS001"},{"$f":"IF(J16=\"WL001\",\"RW001\",IF(Benchsheet!B19=FALSE,\"\",IF(J16=\"WL002\",\"RW002\",IF(J16=\"WL003\",\"RW003\",IF(J16=\"DS001\",\"TCR001\",IF(J16=\"DS001\",\"TCR01\"))))))","v":"TCR001"},{"$f":"Benchsheet!D19","v":"Municipal Bldg."},{"$f":"Benchsheet!G19","v":"2015-11-04"},{"$f":"Benchsheet!H19","v":815},{"$f":"Benchsheet!I19","v":"2015-11-04"},{"$f":"Benchsheet!F19","v":"James"},{"$f":"Benchsheet!P19","v":2.1800000000000002},{"$f":"Benchsheet!O19","v":0}]
[{"$f":"IF(Benchsheet!A20>1,\"sample\",IF(Benchsheet!A20=FALSE,\"\"))","v":"sample"},{"$f":"IF(Benchsheet!A20>1,\"STATE\",IF(Benchsheet!A20=FALSE,\"\"))","v":"STATE"},{"$f":"IF(Benchsheet!A20>1,\"00035\",IF(Benchsheet!A20=FALSE,\"\"))","v":"00035"},{"$f":"Benchsheet!A20","v":"1511B2"},{"$f":"IF(Benchsheet!C20=1121057,\"VA1121057\",IF(Benchsheet!C20=1121090,\"VA1121090\",IF(Benchsheet!C20=1121052,\"VA1121052\",IF(Benchsheet!C20=1121175,\"VA1121175\",IF(Benchsheet!C20=1121580,\"VA1121580\",IF(Benchsheet!C20=1121570,\"VA1121570\",IF(Benchsheet!C20=1121045,\"VA1121045\",IF(Benchsheet!C20=1121655,\"VA1121655\",IF(Benchsheet!C20=1121503,\"VA1121503\",IF(Benchsheet!C20=1121043,\"VA1121043\",IF(Benchsheet!C20=1121900,\"VA1121900\",IF(Benchsheet!C20=1121845,\"VA1121845\",IF(Benchsheet!C20=1121655,\"VA1121655\",IF(Benchsheet!C20=1121900,\"VA1121900\",IF(Benchsheet!C20<1,\"\")))))))))))))))","v":"VA1121052"},{"$f":"IF(Benchsheet!A20>1,\"TC\",IF(Benchsheet!A20=FALSE,\"\"))","v":"TC"},{"$f":"IF(J17=\"WL001\",\"MPN\",IF(Benchsheet!B20=FALSE,\"\",IF(J17=\"WL002\",\"MPN\",IF(J17=\"WL003\",\"MPN\",IF(J17=\"DS001\",\"TC\")))))","v":"TC"},{"$f":"Benchsheet!E20","v":"RT"},"Y",{"$f":"Benchsheet!B20","v":"DS001"},{"$f":"IF(J17=\"WL001\",\"RW001\",IF(Benchsheet!B20=FALSE,\"\",IF(J17=\"WL002\",\"RW002\",IF(J17=\"WL003\",\"RW003\",IF(J17=\"DS001\",\"TCR001\",IF(J17=\"DS001\",\"TCR01\"))))))","v":"TCR001"},{"$f":"Benchsheet!D20","v":"Hightop Rd. "},{"$f":"Benchsheet!G20","v":"2015-11-04"},{"$f":"Benchsheet!H20","v":839},{"$f":"Benchsheet!I20","v":"2015-11-04"},{"$f":"Benchsheet!F20","v":"James"},{"$f":"Benchsheet!P20","v":2.78},{"$f":"Benchsheet!O20","v":0}]
[{"$f":"IF(Benchsheet!A21>1,\"sample\",IF(Benchsheet!A21=FALSE,\"\"))","v":"sample"},{"$f":"IF(Benchsheet!A21>1,\"STATE\",IF(Benchsheet!A21=FALSE,\"\"))","v":"STATE"},{"$f":"IF(Benchsheet!A21>1,\"00035\",IF(Benchsheet!A21=FALSE,\"\"))","v":"00035"},{"$f":"Benchsheet!A21","v":"1511B3"},{"$f":"IF(Benchsheet!C21=1121057,\"VA1121057\",IF(Benchsheet!C21=1121090,\"VA1121090\",IF(Benchsheet!C21=1121052,\"VA1121052\",IF(Benchsheet!C21=1121175,\"VA1121175\",IF(Benchsheet!C21=1121580,\"VA1121580\",IF(Benchsheet!C21=1121570,\"VA1121570\",IF(Benchsheet!C21=1121045,\"VA1121045\",IF(Benchsheet!C21=1121655,\"VA1121655\",IF(Benchsheet!C21=1121503,\"VA1121503\",IF(Benchsheet!C21=1121043,\"VA1121043\",IF(Benchsheet!C21=1121900,\"VA1121900\",IF(Benchsheet!C21=1121845,\"VA1121845\",IF(Benchsheet!C21=1121655,\"VA1121655\",IF(Benchsheet!C21=1121900,\"VA1121900\",IF(Benchsheet!C21<1,\"\")))))))))))))))","v":"VA1121052"},{"$f":"IF(Benchsheet!A21>1,\"TC\",IF(Benchsheet!A21=FALSE,\"\"))","v":"TC"},{"$f":"IF(J18=\"WL001\",\"MPN\",IF(Benchsheet!B21=FALSE,\"\",IF(J18=\"WL002\",\"MPN\",IF(J18=\"WL003\",\"MPN\",IF(J18=\"DS001\",\"TC\")))))","v":"TC"},{"$f":"Benchsheet!E21","v":"RT"},"Y",{"$f":"Benchsheet!B21","v":"DS001"},{"$f":"IF(J18=\"WL001\",\"RW001\",IF(Benchsheet!B21=FALSE,\"\",IF(J18=\"WL002\",\"RW002\",IF(J18=\"WL003\",\"RW003\",IF(J18=\"DS001\",\"TCR001\",IF(J18=\"DS001\",\"TCR01\"))))))","v":"TCR001"},{"$f":"Benchsheet!D21","v":"Cedar Orchard"},{"$f":"Benchsheet!G21","v":"2015-11-04"},{"$f":"Benchsheet!H21","v":900},{"$f":"Benchsheet!I21","v":"2015-11-04"},{"$f":"Benchsheet!F21","v":"James"},{"$f":"Benchsheet!P21","v":2.2799999999999998},{"$f":"Benchsheet!O21","v":0}]
[{"$f":"IF(Benchsheet!A22>1,\"sample\",IF(Benchsheet!A22=FALSE,\"\"))","v":"sample"},{"$f":"IF(Benchsheet!A22>1,\"STATE\",IF(Benchsheet!A22=FALSE,\"\"))","v":"STATE"},{"$f":"IF(Benchsheet!A22>1,\"00035\",IF(Benchsheet!A22=FALSE,\"\"))","v":"00035"},{"$f":"Benchsheet!A22","v":"1511B4"},{"$f":"IF(Benchsheet!C22=1121057,\"VA1121057\",IF(Benchsheet!C22=1121090,\"VA1121090\",IF(Benchsheet!C22=1121052,\"VA1121052\",IF(Benchsheet!C22=1121175,\"VA1121175\",IF(Benchsheet!C22=1121580,\"VA1121580\",IF(Benchsheet!C22=1121570,\"VA1121570\",IF(Benchsheet!C22=1121045,\"VA1121045\",IF(Benchsheet!C22=1121655,\"VA1121655\",IF(Benchsheet!C22=1121503,\"VA1121503\",IF(Benchsheet!C22=1121043,\"VA1121043\",IF(Benchsheet!C22=1121900,\"VA1121900\",IF(Benchsheet!C22=1121845,\"VA1121845\",IF(Benchsheet!C22=1121655,\"VA1121655\",IF(Benchsheet!C22=1121900,\"VA1121900\",IF(Benchsheet!C22<1,\"\")))))))))))))))","v":"VA1121052"},{"$f":"IF(Benchsheet!A22>1,\"TC\",IF(Benchsheet!A22=FALSE,\"\"))","v":"TC"},{"$f":"IF(J19=\"WL001\",\"MPN\",IF(Benchsheet!B22=FALSE,\"\",IF(J19=\"WL002\",\"MPN\",IF(J19=\"WL003\",\"MPN\",IF(J19=\"DS001\",\"TC\")))))","v":"TC"},{"$f":"Benchsheet!E22","v":"RT"},"Y",{"$f":"Benchsheet!B22","v":"DS001"},{"$f":"IF(J19=\"WL001\",\"RW001\",IF(Benchsheet!B22=FALSE,\"\",IF(J19=\"WL002\",\"RW002\",IF(J19=\"WL003\",\"RW003\",IF(J19=\"DS001\",\"TCR001\",IF(J19=\"DS001\",\"TCR01\"))))))","v":"TCR001"},{"$f":"Benchsheet!D22","v":"Aquatic Center"},{"$f":"Benchsheet!G22","v":"2015-11-04"},{"$f":"Benchsheet!H22","v":925},{"$f":"Benchsheet!I22","v":"2015-11-04"},{"$f":"Benchsheet!F22","v":"James"},{"$f":"Benchsheet!P22","v":2.13},{"$f":"Benchsheet!O22","v":0}]
[{"$f":"IF(Benchsheet!A23>1,\"sample\",IF(Benchsheet!A23=FALSE,\"\"))","v":"sample"},{"$f":"IF(Benchsheet!A23>1,\"STATE\",IF(Benchsheet!A23=FALSE,\"\"))","v":"STATE"},{"$f":"IF(Benchsheet!A23>1,\"00035\",IF(Benchsheet!A23=FALSE,\"\"))","v":"00035"},{"$f":"Benchsheet!A23","v":"1511B5"},{"$f":"IF(Benchsheet!C23=1121057,\"VA1121057\",IF(Benchsheet!C23=1121090,\"VA1121090\",IF(Benchsheet!C23=1121052,\"VA1121052\",IF(Benchsheet!C23=1121175,\"VA1121175\",IF(Benchsheet!C23=1121580,\"VA1121580\",IF(Benchsheet!C23=1121570,\"VA1121570\",IF(Benchsheet!C23=1121045,\"VA1121045\",IF(Benchsheet!C23=1121655,\"VA1121655\",IF(Benchsheet!C23=1121503,\"VA1121503\",IF(Benchsheet!C23=1121043,\"VA1121043\",IF(Benchsheet!C23=1121900,\"VA1121900\",IF(Benchsheet!C23=1121845,\"VA1121845\",IF(Benchsheet!C23=1121655,\"VA1121655\",IF(Benchsheet!C23=1121900,\"VA1121900\",IF(Benchsheet!C23<1,\"\")))))))))))))))","v":"VA1121052"},{"$f":"IF(Benchsheet!A23>1,\"TC\",IF(Benchsheet!A23=FALSE,\"\"))","v":"TC"},{"$f":"IF(J20=\"WL001\",\"MPN\",IF(Benchsheet!B23=FALSE,\"\",IF(J20=\"WL002\",\"MPN\",IF(J20=\"WL003\",\"MPN\",IF(J20=\"DS001\",\"TC\")))))","v":"TC"},{"$f":"Benchsheet!E23","v":"RT"},"Y",{"$f":"Benchsheet!B23","v":"DS001"},{"$f":"IF(J20=\"WL001\",\"RW001\",IF(Benchsheet!B23=FALSE,\"\",IF(J20=\"WL002\",\"RW002\",IF(J20=\"WL003\",\"RW003\",IF(J20=\"DS001\",\"TCR001\",IF(J20=\"DS001\",\"TCR01\"))))))","v":"TCR001"},{"$f":"Benchsheet!D23","v":"Wyatt Farms"},{"$f":"Benchsheet!G23","v":"2015-11-04"},{"$f":"Benchsheet!H23","v":955},{"$f":"Benchsheet!I23","v":"2015-11-04"},{"$f":"Benchsheet!F23","v":"James"},{"$f":"Benchsheet!P23","v":1.85},{"$f":"Benchsheet!O23","v":0}]
[{"$f":"IF(Benchsheet!A24>1,\"sample\",IF(Benchsheet!A24=FALSE,\"\"))","v":"sample"},{"$f":"IF(Benchsheet!A24>1,\"STATE\",IF(Benchsheet!A24=FALSE,\"\"))","v":"STATE"},{"$f":"IF(Benchsheet!A24>1,\"00035\",IF(Benchsheet!A24=FALSE,\"\"))","v":"00035"},{"$f":"Benchsheet!A24","v":"1511B6"},{"$f":"IF(Benchsheet!C24=1121057,\"VA1121057\",IF(Benchsheet!C24=1121090,\"VA1121090\",IF(Benchsheet!C24=1121052,\"VA1121052\",IF(Benchsheet!C24=1121175,\"VA1121175\",IF(Benchsheet!C24=1121580,\"VA1121580\",IF(Benchsheet!C24=1121570,\"VA1121570\",IF(Benchsheet!C24=1121045,\"VA1121045\",IF(Benchsheet!C24=1121655,\"VA1121655\",IF(Benchsheet!C24=1121503,\"VA1121503\",IF(Benchsheet!C24=1121043,\"VA1121043\",IF(Benchsheet!C24=1121900,\"VA1121900\",IF(Benchsheet!C24=1121845,\"VA1121845\",IF(Benchsheet!C24=1121655,\"VA1121655\",IF(Benchsheet!C24=1121900,\"VA1121900\",IF(Benchsheet!C24<1,\"\")))))))))))))))","v":"VA1121052"},{"$f":"IF(Benchsheet!A24>1,\"TC\",IF(Benchsheet!A24=FALSE,\"\"))","v":"TC"},{"$f":"IF(J21=\"WL001\",\"MPN\",IF(Benchsheet!B24=FALSE,\"\",IF(J21=\"WL002\",\"MPN\",IF(J21=\"WL003\",\"MPN\",IF(J21=\"DS001\",\"TC\")))))","v":"TC"},{"$f":"Benchsheet!E24","v":"RT"},"Y",{"$f":"Benchsheet!B24","v":"DS001"},{"$f":"IF(J21=\"WL001\",\"RW001\",IF(Benchsheet!B24=FALSE,\"\",IF(J21=\"WL002\",\"RW002\",IF(J21=\"WL003\",\"RW003\",IF(J21=\"DS001\",\"TCR001\",IF(J21=\"DS001\",\"TCR01\"))))))","v":"TCR001"},{"$f":"Benchsheet!D24","v":"Coal Bank Hollow"},{"$f":"Benchsheet!G24","v":"2015-11-04"},{"$f":"Benchsheet!H24","v":1018},{"$f":"Benchsheet!I24","v":"2015-11-04"},{"$f":"Benchsheet!F24","v":"James"},{"$f":"Benchsheet!P24","v":1.42},{"$f":"Benchsheet!O24","v":0}]
[{"$f":"IF(Benchsheet!A25>1,\"sample\",IF(Benchsheet!A25=FALSE,\"\"))","v":"sample"},{"$f":"IF(Benchsheet!A25>1,\"STATE\",IF(Benchsheet!A25=FALSE,\"\"))","v":"STATE"},{"$f":"IF(Benchsheet!A25>1,\"00035\",IF(Benchsheet!A25=FALSE,\"\"))","v":"00035"},{"$f":"Benchsheet!A25","v":"1511B7"},{"$f":"IF(Benchsheet!C25=1121057,\"VA1121057\",IF(Benchsheet!C25=1121090,\"VA1121090\",IF(Benchsheet!C25=1121052,\"VA1121052\",IF(Benchsheet!C25=1121175,\"VA1121175\",IF(Benchsheet!C25=1121580,\"VA1121580\",IF(Benchsheet!C25=1121570,\"VA1121570\",IF(Benchsheet!C25=1121045,\"VA1121045\",IF(Benchsheet!C25=1121655,\"VA1121655\",IF(Benchsheet!C25=1121503,\"VA1121503\",IF(Benchsheet!C25=1121043,\"VA1121043\",IF(Benchsheet!C25=1121900,\"VA1121900\",IF(Benchsheet!C25=1121845,\"VA1121845\",IF(Benchsheet!C25=1121655,\"VA1121655\",IF(Benchsheet!C25=1121900,\"VA1121900\",IF(Benchsheet!C25<1,\"\")))))))))))))))","v":"VA1121052"},{"$f":"IF(Benchsheet!A25>1,\"TC\",IF(Benchsheet!A25=FALSE,\"\"))","v":"TC"},{"$f":"IF(J22=\"WL001\",\"MPN\",IF(Benchsheet!B25=FALSE,\"\",IF(J22=\"WL002\",\"MPN\",IF(J22=\"WL003\",\"MPN\",IF(J22=\"DS001\",\"TC\")))))","v":"TC"},{"$f":"Benchsheet!E25","v":"RT"},"Y",{"$f":"Benchsheet!B25","v":"DS001"},{"$f":"IF(J22=\"WL001\",\"RW001\",IF(Benchsheet!B25=FALSE,\"\",IF(J22=\"WL002\",\"RW002\",IF(J22=\"WL003\",\"RW003\",IF(J22=\"DS001\",\"TCR001\",IF(J22=\"DS001\",\"TCR01\"))))))","v":"TCR001"},{"$f":"Benchsheet!D25","v":"Brookfield Pump Station"},{"$f":"Benchsheet!G25","v":"2015-11-04"},{"$f":"Benchsheet!H25","v":1039},{"$f":"Benchsheet!I25","v":"2015-11-04"},{"$f":"Benchsheet!F25","v":"James"},{"$f":"Benchsheet!P25","v":2.2799999999999998},{"$f":"Benchsheet!O25","v":0}]
[{"$f":"IF(Benchsheet!A26>1,\"sample\",IF(Benchsheet!A26=FALSE,\"\"))","v":"sample"},{"$f":"IF(Benchsheet!A26>1,\"STATE\",IF(Benchsheet!A26=FALSE,\"\"))","v":"STATE"},{"$f":"IF(Benchsheet!A26>1,\"00035\",IF(Benchsheet!A26=FALSE,\"\"))","v":"00035"},{"$f":"Benchsheet!A26","v":"1511B8"},{"$f":"IF(Benchsheet!C26=1121057,\"VA1121057\",IF(Benchsheet!C26=1121090,\"VA1121090\",IF(Benchsheet!C26=1121052,\"VA1121052\",IF(Benchsheet!C26=1121175,\"VA1121175\",IF(Benchsheet!C26=1121580,\"VA1121580\",IF(Benchsheet!C26=1121570,\"VA1121570\",IF(Benchsheet!C26=1121045,\"VA1121045\",IF(Benchsheet!C26=1121655,\"VA1121655\",IF(Benchsheet!C26=1121503,\"VA1121503\",IF(Benchsheet!C26=1121043,\"VA1121043\",IF(Benchsheet!C26=1121900,\"VA1121900\",IF(Benchsheet!C26=1121845,\"VA1121845\",IF(Benchsheet!C26=1121655,\"VA1121655\",IF(Benchsheet!C26=1121900,\"VA1121900\",IF(Benchsheet!C26<1,\"\")))))))))))))))","v":"VA1121052"},{"$f":"IF(Benchsheet!A26>1,\"TC\",IF(Benchsheet!A26=FALSE,\"\"))","v":"TC"},{"$f":"IF(J23=\"WL001\",\"MPN\",IF(Benchsheet!B26=FALSE,\"\",IF(J23=\"WL002\",\"MPN\",IF(J23=\"WL003\",\"MPN\",IF(J23=\"DS001\",\"TC\")))))","v":"TC"},{"$f":"Benchsheet!E26","v":"RT"},"Y",{"$f":"Benchsheet!B26","v":"DS001"},{"$f":"IF(J23=\"WL001\",\"RW001\",IF(Benchsheet!B26=FALSE,\"\",IF(J23=\"WL002\",\"RW002\",IF(J23=\"WL003\",\"RW003\",IF(J23=\"DS001\",\"TCR001\",IF(J23=\"DS001\",\"TCR01\"))))))","v":"TCR001"},{"$f":"Benchsheet!D26","v":"Toms Creek Ball Park"},{"$f":"Benchsheet!G26","v":"2015-11-04"},{"$f":"Benchsheet!H26","v":1051},{"$f":"Benchsheet!I26","v":"2015-11-04"},{"$f":"Benchsheet!F26","v":"James"},{"$f":"Benchsheet!P26","v":1.71},{"$f":"Benchsheet!O26","v":0}]
[{"$f":"IF(Benchsheet!A27>1,\"sample\",IF(Benchsheet!A27=FALSE,\"\"))","v":"sample"},{"$f":"IF(Benchsheet!A27>1,\"STATE\",IF(Benchsheet!A27=FALSE,\"\"))","v":"STATE"},{"$f":"IF(Benchsheet!A27>1,\"00035\",IF(Benchsheet!A27=FALSE,\"\"))","v":"00035"},{"$f":"Benchsheet!A27","v":"1511B9"},{"$f":"IF(Benchsheet!C27=1121057,\"VA1121057\",IF(Benchsheet!C27=1121090,\"VA1121090\",IF(Benchsheet!C27=1121052,\"VA1121052\",IF(Benchsheet!C27=1121175,\"VA1121175\",IF(Benchsheet!C27=1121580,\"VA1121580\",IF(Benchsheet!C27=1121570,\"VA1121570\",IF(Benchsheet!C27=1121045,\"VA1121045\",IF(Benchsheet!C27=1121655,\"VA1121655\",IF(Benchsheet!C27=1121503,\"VA1121503\",IF(Benchsheet!C27=1121043,\"VA1121043\",IF(Benchsheet!C27=1121900,\"VA1121900\",IF(Benchsheet!C27=1121845,\"VA1121845\",IF(Benchsheet!C27=1121655,\"VA1121655\",IF(Benchsheet!C27=1121900,\"VA1121900\",IF(Benchsheet!C27<1,\"\")))))))))))))))","v":"VA1121052"},{"$f":"IF(Benchsheet!A27>1,\"TC\",IF(Benchsheet!A27=FALSE,\"\"))","v":"TC"},{"$f":"IF(J24=\"WL001\",\"MPN\",IF(Benchsheet!B27=FALSE,\"\",IF(J24=\"WL002\",\"MPN\",IF(J24=\"WL003\",\"MPN\",IF(J24=\"DS001\",\"TC\")))))","v":"TC"},{"$f":"Benchsheet!E27","v":"RT"},"Y",{"$f":"Benchsheet!B27","v":"DS001"},{"$f":"IF(J24=\"WL001\",\"RW001\",IF(Benchsheet!B27=FALSE,\"\",IF(J24=\"WL002\",\"RW002\",IF(J24=\"WL003\",\"RW003\",IF(J24=\"DS001\",\"TCR001\",IF(J24=\"DS001\",\"TCR01\"))))))","v":"TCR001"},{"$f":"Benchsheet!D27","v":"Laurel Ridge"},{"$f":"Benchsheet!G27","v":"2015-11-04"},{"$f":"Benchsheet!H27","v":1104},{"$f":"Benchsheet!I27","v":"2015-11-04"},{"$f":"Benchsheet!F27","v":"James"},{"$f":"Benchsheet!P27","v":2.0299999999999998},{"$f":"Benchsheet!O27","v":0}]
[{"$f":"IF(Benchsheet!A28>1,\"sample\",IF(Benchsheet!A28=FALSE,\"\"))","v":"sample"},{"$f":"IF(Benchsheet!A28>1,\"STATE\",IF(Benchsheet!A28=FALSE,\"\"))","v":"STATE"},{"$f":"IF(Benchsheet!A28>1,\"00035\",IF(Benchsheet!A28=FALSE,\"\"))","v":"00035"},{"$f":"Benchsheet!A28","v":"1511B10"},{"$f":"IF(Benchsheet!C28=1121057,\"VA1121057\",IF(Benchsheet!C28=1121090,\"VA1121090\",IF(Benchsheet!C28=1121052,\"VA1121052\",IF(Benchsheet!C28=1121175,\"VA1121175\",IF(Benchsheet!C28=1121580,\"VA1121580\",IF(Benchsheet!C28=1121570,\"VA1121570\",IF(Benchsheet!C28=1121045,\"VA1121045\",IF(Benchsheet!C28=1121655,\"VA1121655\",IF(Benchsheet!C28=1121503,\"VA1121503\",IF(Benchsheet!C28=1121043,\"VA1121043\",IF(Benchsheet!C28=1121900,\"VA1121900\",IF(Benchsheet!C28=1121845,\"VA1121845\",IF(Benchsheet!C28=1121655,\"VA1121655\",IF(Benchsheet!C28=1121900,\"VA1121900\",IF(Benchsheet!C28<1,\"\")))))))))))))))","v":"VA1121052"},{"$f":"IF(Benchsheet!A28>1,\"TC\",IF(Benchsheet!A28=FALSE,\"\"))","v":"TC"},{"$f":"IF(J25=\"WL001\",\"MPN\",IF(Benchsheet!B28=FALSE,\"\",IF(J25=\"WL002\",\"MPN\",IF(J25=\"WL003\",\"MPN\",IF(J25=\"DS001\",\"TC\")))))","v":"TC"},{"$f":"Benchsheet!E28","v":"RT"},"Y",{"$f":"Benchsheet!B28","v":"DS001"},{"$f":"IF(J25=\"WL001\",\"RW001\",IF(Benchsheet!B28=FALSE,\"\",IF(J25=\"WL002\",\"RW002\",IF(J25=\"WL003\",\"RW003\",IF(J25=\"DS001\",\"TCR001\",IF(J25=\"DS001\",\"TCR01\"))))))","v":"TCR001"},{"$f":"Benchsheet!D28","v":"Gilbert Linkous School"},{"$f":"Benchsheet!G28","v":"2015-11-04"},{"$f":"Benchsheet!H28","v":1123},{"$f":"Benchsheet!I28","v":"2015-11-04"},{"$f":"Benchsheet!F28","v":"James"},{"$f":"Benchsheet!P28","v":2.37},{"$f":"Benchsheet!O28","v":0}]
[{"$f":"IF(Benchsheet!A29>1,\"sample\",IF(Benchsheet!A29=FALSE,\"\"))","v":"sample"},{"$f":"IF(Benchsheet!A29>1,\"STATE\",IF(Benchsheet!A29=FALSE,\"\"))","v":"STATE"},{"$f":"IF(Benchsheet!A29>1,\"00035\",IF(Benchsheet!A29=FALSE,\"\"))","v":"00035"},{"$f":"Benchsheet!A29","v":"1511B11"},{"$f":"IF(Benchsheet!C29=1121057,\"VA1121057\",IF(Benchsheet!C29=1121090,\"VA1121090\",IF(Benchsheet!C29=1121052,\"VA1121052\",IF(Benchsheet!C29=1121175,\"VA1121175\",IF(Benchsheet!C29=1121580,\"VA1121580\",IF(Benchsheet!C29=1121570,\"VA1121570\",IF(Benchsheet!C29=1121045,\"VA1121045\",IF(Benchsheet!C29=1121655,\"VA1121655\",IF(Benchsheet!C29=1121503,\"VA1121503\",IF(Benchsheet!C29=1121043,\"VA1121043\",IF(Benchsheet!C29=1121900,\"VA1121900\",IF(Benchsheet!C29=1121845,\"VA1121845\",IF(Benchsheet!C29=1121655,\"VA1121655\",IF(Benchsheet!C29=1121900,\"VA1121900\",IF(Benchsheet!C29<1,\"\")))))))))))))))","v":"VA1121052"},{"$f":"IF(Benchsheet!A29>1,\"TC\",IF(Benchsheet!A29=FALSE,\"\"))","v":"TC"},{"$f":"IF(J26=\"WL001\",\"MPN\",IF(Benchsheet!B29=FALSE,\"\",IF(J26=\"WL002\",\"MPN\",IF(J26=\"WL003\",\"MPN\",IF(J26=\"DS001\",\"TC\")))))","v":"TC"},{"$f":"Benchsheet!E29","v":"RT"},"Y",{"$f":"Benchsheet!B29","v":"DS001"},{"$f":"IF(J26=\"WL001\",\"RW001\",IF(Benchsheet!B29=FALSE,\"\",IF(J26=\"WL002\",\"RW002\",IF(J26=\"WL003\",\"RW003\",IF(J26=\"DS001\",\"TCR001\",IF(J26=\"DS001\",\"TCR01\"))))))","v":"TCR001"},{"$f":"Benchsheet!D29","v":"Sturbridge Pump Station"},{"$f":"Benchsheet!G29","v":"2015-11-04"},{"$f":"Benchsheet!H29","v":1137},{"$f":"Benchsheet!I29","v":"2015-11-04"},{"$f":"Benchsheet!F29","v":"James"},{"$f":"Benchsheet!P29","v":1.62},{"$f":"Benchsheet!O29","v":0}]
[{"$f":"IF(Benchsheet!A30>1,\"sample\",IF(Benchsheet!A30=FALSE,\"\"))","v":"sample"},{"$f":"IF(Benchsheet!A30>1,\"STATE\",IF(Benchsheet!A30=FALSE,\"\"))","v":"STATE"},{"$f":"IF(Benchsheet!A30>1,\"00035\",IF(Benchsheet!A30=FALSE,\"\"))","v":"00035"},{"$f":"Benchsheet!A30","v":"1511B12"},{"$f":"IF(Benchsheet!C30=1121057,\"VA1121057\",IF(Benchsheet!C30=1121090,\"VA1121090\",IF(Benchsheet!C30=1121052,\"VA1121052\",IF(Benchsheet!C30=1121175,\"VA1121175\",IF(Benchsheet!C30=1121580,\"VA1121580\",IF(Benchsheet!C30=1121570,\"VA1121570\",IF(Benchsheet!C30=1121045,\"VA1121045\",IF(Benchsheet!C30=1121655,\"VA1121655\",IF(Benchsheet!C30=1121503,\"VA1121503\",IF(Benchsheet!C30=1121043,\"VA1121043\",IF(Benchsheet!C30=1121900,\"VA1121900\",IF(Benchsheet!C30=1121845,\"VA1121845\",IF(Benchsheet!C30=1121655,\"VA1121655\",IF(Benchsheet!C30=1121900,\"VA1121900\",IF(Benchsheet!C30<1,\"\")))))))))))))))","v":"VA1121052"},{"$f":"IF(Benchsheet!A30>1,\"TC\",IF(Benchsheet!A30=FALSE,\"\"))","v":"TC"},{"$f":"IF(J27=\"WL001\",\"MPN\",IF(Benchsheet!B30=FALSE,\"\",IF(J27=\"WL002\",\"MPN\",IF(J27=\"WL003\",\"MPN\",IF(J27=\"DS001\",\"TC\")))))","v":"TC"},{"$f":"Benchsheet!E30","v":"RT"},"Y",{"$f":"Benchsheet!B30","v":"DS001"},{"$f":"IF(J27=\"WL001\",\"RW001\",IF(Benchsheet!B30=FALSE,\"\",IF(J27=\"WL002\",\"RW002\",IF(J27=\"WL003\",\"RW003\",IF(J27=\"DS001\",\"TCR001\",IF(J27=\"DS001\",\"TCR01\"))))))","v":"TCR001"},{"$f":"Benchsheet!D30","v":"Westover Hills (Lacy Ln.) "},{"$f":"Benchsheet!G30","v":"2015-11-04"},{"$f":"Benchsheet!H30","v":1150},{"$f":"Benchsheet!I30","v":"2015-11-04"},{"$f":"Benchsheet!F30","v":"James"},{"$f":"Benchsheet!P30","v":1.85},{"$f":"Benchsheet!O30","v":0}]
[{"$f":"IF(Benchsheet!A31>1,\"sample\",IF(Benchsheet!A31=FALSE,\"\"))","v":"sample"},{"$f":"IF(Benchsheet!A31>1,\"STATE\",IF(Benchsheet!A31=FALSE,\"\"))","v":"STATE"},{"$f":"IF(Benchsheet!A31>1,\"00035\",IF(Benchsheet!A31=FALSE,\"\"))","v":"00035"},{"$f":"Benchsheet!A31","v":"1511B13"},{"$f":"IF(Benchsheet!C31=1121057,\"VA1121057\",IF(Benchsheet!C31=1121090,\"VA1121090\",IF(Benchsheet!C31=1121052,\"VA1121052\",IF(Benchsheet!C31=1121175,\"VA1121175\",IF(Benchsheet!C31=1121580,\"VA1121580\",IF(Benchsheet!C31=1121570,\"VA1121570\",IF(Benchsheet!C31=1121045,\"VA1121045\",IF(Benchsheet!C31=1121655,\"VA1121655\",IF(Benchsheet!C31=1121503,\"VA1121503\",IF(Benchsheet!C31=1121043,\"VA1121043\",IF(Benchsheet!C31=1121900,\"VA1121900\",IF(Benchsheet!C31=1121845,\"VA1121845\",IF(Benchsheet!C31=1121655,\"VA1121655\",IF(Benchsheet!C31=1121900,\"VA1121900\",IF(Benchsheet!C31<1,\"\")))))))))))))))","v":"VA1121052"},{"$f":"IF(Benchsheet!A31>1,\"TC\",IF(Benchsheet!A31=FALSE,\"\"))","v":"TC"},{"$f":"IF(J28=\"WL001\",\"MPN\",IF(Benchsheet!B31=FALSE,\"\",IF(J28=\"WL002\",\"MPN\",IF(J28=\"WL003\",\"MPN\",IF(J28=\"DS001\",\"TC\")))))","v":"TC"},{"$f":"Benchsheet!E31","v":"RT"},"Y",{"$f":"Benchsheet!B31","v":"DS001"},{"$f":"IF(J28=\"WL001\",\"RW001\",IF(Benchsheet!B31=FALSE,\"\",IF(J28=\"WL002\",\"RW002\",IF(J28=\"WL003\",\"RW003\",IF(J28=\"DS001\",\"TCR001\",IF(J28=\"DS001\",\"TCR01\"))))))","v":"TCR001"},{"$f":"Benchsheet!D31","v":"Amerisuites"},{"$f":"Benchsheet!G31","v":"2015-11-04"},{"$f":"Benchsheet!H31","v":1205},{"$f":"Benchsheet!I31","v":"2015-11-04"},{"$f":"Benchsheet!F31","v":"James"},{"$f":"Benchsheet!P31","v":2.08},{"$f":"Benchsheet!O31","v":0}]
[{"$f":"IF(Benchsheet!A32>1,\"sample\",IF(Benchsheet!A32=FALSE,\"\"))","v":"sample"},{"$f":"IF(Benchsheet!A32>1,\"STATE\",IF(Benchsheet!A32=FALSE,\"\"))","v":"STATE"},{"$f":"IF(Benchsheet!A32>1,\"00035\",IF(Benchsheet!A32=FALSE,\"\"))","v":"00035"},{"$f":"Benchsheet!A32","v":"1511B14"},{"$f":"IF(Benchsheet!C32=1121057,\"VA1121057\",IF(Benchsheet!C32=1121090,\"VA1121090\",IF(Benchsheet!C32=1121052,\"VA1121052\",IF(Benchsheet!C32=1121175,\"VA1121175\",IF(Benchsheet!C32=1121580,\"VA1121580\",IF(Benchsheet!C32=1121570,\"VA1121570\",IF(Benchsheet!C32=1121045,\"VA1121045\",IF(Benchsheet!C32=1121655,\"VA1121655\",IF(Benchsheet!C32=1121503,\"VA1121503\",IF(Benchsheet!C32=1121043,\"VA1121043\",IF(Benchsheet!C32=1121900,\"VA1121900\",IF(Benchsheet!C32=1121845,\"VA1121845\",IF(Benchsheet!C32=1121655,\"VA1121655\",IF(Benchsheet!C32=1121900,\"VA1121900\",IF(Benchsheet!C32<1,\"\")))))))))))))))","v":"VA1121052"},{"$f":"IF(Benchsheet!A32>1,\"TC\",IF(Benchsheet!A32=FALSE,\"\"))","v":"TC"},{"$f":"IF(J29=\"WL001\",\"MPN\",IF(Benchsheet!B32=FALSE,\"\",IF(J29=\"WL002\",\"MPN\",IF(J29=\"WL003\",\"MPN\",IF(J29=\"DS001\",\"TC\")))))","v":"TC"},{"$f":"Benchsheet!E32","v":"RT"},"Y",{"$f":"Benchsheet!B32","v":"DS001"},{"$f":"IF(J29=\"WL001\",\"RW001\",IF(Benchsheet!B32=FALSE,\"\",IF(J29=\"WL002\",\"RW002\",IF(J29=\"WL003\",\"RW003\",IF(J29=\"DS001\",\"TCR001\",IF(J29=\"DS001\",\"TCR01\"))))))","v":"TCR001"},{"$f":"Benchsheet!D32","v":"Stroubles Mill (Lancaster)"},{"$f":"Benchsheet!G32","v":"2015-11-04"},{"$f":"Benchsheet!H32","v":1220},{"$f":"Benchsheet!I32","v":"2015-11-04"},{"$f":"Benchsheet!F32","v":"James"},{"$f":"Benchsheet!P32","v":1.91},{"$f":"Benchsheet!O32","v":0}]
[{"$f":"IF(Benchsheet!A33>1,\"sample\",IF(Benchsheet!A33=FALSE,\"\"))","v":"sample"},{"$f":"IF(Benchsheet!A33>1,\"STATE\",IF(Benchsheet!A33=FALSE,\"\"))","v":"STATE"},{"$f":"IF(Benchsheet!A33>1,\"00035\",IF(Benchsheet!A33=FALSE,\"\"))","v":"00035"},{"$f":"Benchsheet!A33","v":"1511S67"},{"$f":"IF(Benchsheet!C33=1121057,\"VA1121057\",IF(Benchsheet!C33=1121090,\"VA1121090\",IF(Benchsheet!C33=1121052,\"VA1121052\",IF(Benchsheet!C33=1121175,\"VA1121175\",IF(Benchsheet!C33=1121580,\"VA1121580\",IF(Benchsheet!C33=1121570,\"VA1121570\",IF(Benchsheet!C33=1121045,\"VA1121045\",IF(Benchsheet!C33=1121655,\"VA1121655\",IF(Benchsheet!C33=1121503,\"VA1121503\",IF(Benchsheet!C33=1121043,\"VA1121043\",IF(Benchsheet!C33=1121900,\"VA1121900\",IF(Benchsheet!C33=1121845,\"VA1121845\",IF(Benchsheet!C33=1121655,\"VA1121655\",IF(Benchsheet!C33=1121900,\"VA1121900\",IF(Benchsheet!C33<1,\"\")))))))))))))))","v":false},{"$f":"IF(Benchsheet!A33>1,\"TC\",IF(Benchsheet!A33=FALSE,\"\"))","v":"TC"},{"$f":"IF(J30=\"WL001\",\"MPN\",IF(Benchsheet!B33=FALSE,\"\",IF(J30=\"WL002\",\"MPN\",IF(J30=\"WL003\",\"MPN\",IF(J30=\"DS001\",\"TC\")))))","v":"TC"},{"$f":"Benchsheet!E33","v":"SP"},"N",{"$f":"Benchsheet!B33","v":"DS001"},{"$f":"IF(J30=\"WL001\",\"RW001\",IF(Benchsheet!B33=FALSE,\"\",IF(J30=\"WL002\",\"RW002\",IF(J30=\"WL003\",\"RW003\",IF(J30=\"DS001\",\"TCR001\",IF(J30=\"DS001\",\"TCR01\"))))))","v":"TCR001"},{"$f":"Benchsheet!D33","v":"Plum Creek Water Tank"},{"$f":"Benchsheet!G33","v":"2015-11-04"},{"$f":"Benchsheet!H33","v":1100},{"$f":"Benchsheet!I33","v":"2015-11-04"},{"$f":"Benchsheet!F33","v":"Don"},{"$f":"Benchsheet!P33","v":0.63},{"$f":"Benchsheet!O33","v":0}]
[{"$f":"IF(Benchsheet!A34>1,\"sample\",IF(Benchsheet!A34=FALSE,\"\"))","v":"sample"},{"$f":"IF(Benchsheet!A34>1,\"STATE\",IF(Benchsheet!A34=FALSE,\"\"))","v":"STATE"},{"$f":"IF(Benchsheet!A34>1,\"00035\",IF(Benchsheet!A34=FALSE,\"\"))","v":"00035"},{"$f":"Benchsheet!A34","v":"1511M18"},{"$f":"IF(Benchsheet!C34=1121057,\"VA1121057\",IF(Benchsheet!C34=1121090,\"VA1121090\",IF(Benchsheet!C34=1121052,\"VA1121052\",IF(Benchsheet!C34=1121175,\"VA1121175\",IF(Benchsheet!C34=1121580,\"VA1121580\",IF(Benchsheet!C34=1121570,\"VA1121570\",IF(Benchsheet!C34=1121045,\"VA1121045\",IF(Benchsheet!C34=1121655,\"VA1121655\",IF(Benchsheet!C34=1121503,\"VA1121503\",IF(Benchsheet!C34=1121043,\"VA1121043\",IF(Benchsheet!C34=1121900,\"VA1121900\",IF(Benchsheet!C34=1121845,\"VA1121845\",IF(Benchsheet!C34=1121655,\"VA1121655\",IF(Benchsheet!C34=1121900,\"VA1121900\",IF(Benchsheet!C34<1,\"\")))))))))))))))","v":"VA1121175"},{"$f":"IF(Benchsheet!A34>1,\"TC\",IF(Benchsheet!A34=FALSE,\"\"))","v":"TC"},{"$f":"IF(J31=\"WL001\",\"MPN\",IF(Benchsheet!B34=FALSE,\"\",IF(J31=\"WL002\",\"MPN\",IF(J31=\"WL003\",\"MPN\",IF(J31=\"DS001\",\"TC\")))))","v":"TC"},{"$f":"Benchsheet!E34","v":"RT"},"Y",{"$f":"Benchsheet!B34","v":"DS001"},{"$f":"IF(J31=\"WL001\",\"RW001\",IF(Benchsheet!B34=FALSE,\"\",IF(J31=\"WL002\",\"RW002\",IF(J31=\"WL003\",\"RW003\",IF(J31=\"DS001\",\"TCR001\",IF(J31=\"DS001\",\"TCR01\"))))))","v":"TCR001"},{"$f":"Benchsheet!D34","v":"Shawsville Middle School"},{"$f":"Benchsheet!G34","v":"2015-11-04"},{"$f":"Benchsheet!H34","v":1315},{"$f":"Benchsheet!I34","v":"2015-11-04"},{"$f":"Benchsheet!F34","v":"Farmer"},{"$f":"Benchsheet!P34","v":2.2000000000000002},{"$f":"Benchsheet!O34","v":0}]
[{"$f":"IF(Benchsheet!A35>1,\"sample\",IF(Benchsheet!A35=FALSE,\"\"))","v":"sample"},{"$f":"IF(Benchsheet!A35>1,\"STATE\",IF(Benchsheet!A35=FALSE,\"\"))","v":"STATE"},{"$f":"IF(Benchsheet!A35>1,\"00035\",IF(Benchsheet!A35=FALSE,\"\"))","v":"00035"},{"$f":"Benchsheet!A35","v":"1511M19"},{"$f":"IF(Benchsheet!C35=1121057,\"VA1121057\",IF(Benchsheet!C35=1121090,\"VA1121090\",IF(Benchsheet!C35=1121052,\"VA1121052\",IF(Benchsheet!C35=1121175,\"VA1121175\",IF(Benchsheet!C35=1121580,\"VA1121580\",IF(Benchsheet!C35=1121570,\"VA1121570\",IF(Benchsheet!C35=1121045,\"VA1121045\",IF(Benchsheet!C35=1121655,\"VA1121655\",IF(Benchsheet!C35=1121503,\"VA1121503\",IF(Benchsheet!C35=1121043,\"VA1121043\",IF(Benchsheet!C35=1121900,\"VA1121900\",IF(Benchsheet!C35=1121845,\"VA1121845\",IF(Benchsheet!C35=1121655,\"VA1121655\",IF(Benchsheet!C35=1121900,\"VA1121900\",IF(Benchsheet!C35<1,\"\")))))))))))))))","v":"VA1121175"},{"$f":"IF(Benchsheet!A35>1,\"TC\",IF(Benchsheet!A35=FALSE,\"\"))","v":"TC"},{"$f":"IF(J32=\"WL001\",\"MPN\",IF(Benchsheet!B35=FALSE,\"\",IF(J32=\"WL002\",\"MPN\",IF(J32=\"WL003\",\"MPN\",IF(J32=\"DS001\",\"TC\")))))","v":"TC"},{"$f":"Benchsheet!E35","v":"RT"},"Y",{"$f":"Benchsheet!B35","v":"DS001"},{"$f":"IF(J32=\"WL001\",\"RW001\",IF(Benchsheet!B35=FALSE,\"\",IF(J32=\"WL002\",\"RW002\",IF(J32=\"WL003\",\"RW003\",IF(J32=\"DS001\",\"TCR001\",IF(J32=\"DS001\",\"TCR01\"))))))","v":"TCR001"},{"$f":"Benchsheet!D35","v":"Brake Rd. Pump Station"},{"$f":"Benchsheet!G35","v":"2015-11-04"},{"$f":"Benchsheet!H35","v":1300},{"$f":"Benchsheet!I35","v":"2015-11-04"},{"$f":"Benchsheet!F35","v":"Farmer"},{"$f":"Benchsheet!P35","v":2},{"$f":"Benchsheet!O35","v":0}]
[{"$f":"IF(Benchsheet!A36>1,\"sample\",IF(Benchsheet!A36=FALSE,\"\"))","v":"sample"},{"$f":"IF(Benchsheet!A36>1,\"STATE\",IF(Benchsheet!A36=FALSE,\"\"))","v":"STATE"},{"$f":"IF(Benchsheet!A36>1,\"00035\",IF(Benchsheet!A36=FALSE,\"\"))","v":"00035"},{"$f":"Benchsheet!A36","v":"1511M20"},{"$f":"IF(Benchsheet!C36=1121057,\"VA1121057\",IF(Benchsheet!C36=1121090,\"VA1121090\",IF(Benchsheet!C36=1121052,\"VA1121052\",IF(Benchsheet!C36=1121175,\"VA1121175\",IF(Benchsheet!C36=1121580,\"VA1121580\",IF(Benchsheet!C36=1121570,\"VA1121570\",IF(Benchsheet!C36=1121045,\"VA1121045\",IF(Benchsheet!C36=1121655,\"VA1121655\",IF(Benchsheet!C36=1121503,\"VA1121503\",IF(Benchsheet!C36=1121043,\"VA1121043\",IF(Benchsheet!C36=1121900,\"VA1121900\",IF(Benchsheet!C36=1121845,\"VA1121845\",IF(Benchsheet!C36=1121655,\"VA1121655\",IF(Benchsheet!C36=1121900,\"VA1121900\",IF(Benchsheet!C36<1,\"\")))))))))))))))","v":"VA1121580"},{"$f":"IF(Benchsheet!A36>1,\"TC\",IF(Benchsheet!A36=FALSE,\"\"))","v":"TC"},{"$f":"IF(J33=\"WL001\",\"MPN\",IF(Benchsheet!B36=FALSE,\"\",IF(J33=\"WL002\",\"MPN\",IF(J33=\"WL003\",\"MPN\",IF(J33=\"DS001\",\"TC\")))))","v":"TC"},{"$f":"Benchsheet!E36","v":"RT"},"Y",{"$f":"Benchsheet!B36","v":"DS001"},{"$f":"IF(J33=\"WL001\",\"RW001\",IF(Benchsheet!B36=FALSE,\"\",IF(J33=\"WL002\",\"RW002\",IF(J33=\"WL003\",\"RW003\",IF(J33=\"DS001\",\"TCR001\",IF(J33=\"DS001\",\"TCR01\"))))))","v":"TCR001"},{"$f":"Benchsheet!D36","v":"2936 Walls Branch Rd."},{"$f":"Benchsheet!G36","v":"2015-11-04"},{"$f":"Benchsheet!H36","v":1250},{"$f":"Benchsheet!I36","v":"2015-11-04"},{"$f":"Benchsheet!F36","v":"Farmer"},{"$f":"Benchsheet!P36","v":2.4},{"$f":"Benchsheet!O36","v":0}]
[{"$f":"IF(Benchsheet!A37>1,\"sample\",IF(Benchsheet!A37=FALSE,\"\"))","v":"sample"},{"$f":"IF(Benchsheet!A37>1,\"STATE\",IF(Benchsheet!A37=FALSE,\"\"))","v":"STATE"},{"$f":"IF(Benchsheet!A37>1,\"00035\",IF(Benchsheet!A37=FALSE,\"\"))","v":"00035"},{"$f":"Benchsheet!A37","v":"1511M21"},{"$f":"IF(Benchsheet!C37=1121057,\"VA1121057\",IF(Benchsheet!C37=1121090,\"VA1121090\",IF(Benchsheet!C37=1121052,\"VA1121052\",IF(Benchsheet!C37=1121175,\"VA1121175\",IF(Benchsheet!C37=1121580,\"VA1121580\",IF(Benchsheet!C37=1121570,\"VA1121570\",IF(Benchsheet!C37=1121045,\"VA1121045\",IF(Benchsheet!C37=1121655,\"VA1121655\",IF(Benchsheet!C37=1121503,\"VA1121503\",IF(Benchsheet!C37=1121043,\"VA1121043\",IF(Benchsheet!C37=1121900,\"VA1121900\",IF(Benchsheet!C37=1121845,\"VA1121845\",IF(Benchsheet!C37=1121655,\"VA1121655\",IF(Benchsheet!C37=1121900,\"VA1121900\",IF(Benchsheet!C37<1,\"\")))))))))))))))","v":"VA1121570"},{"$f":"IF(Benchsheet!A37>1,\"TC\",IF(Benchsheet!A37=FALSE,\"\"))","v":"TC"},{"$f":"IF(J34=\"WL001\",\"MPN\",IF(Benchsheet!B37=FALSE,\"\",IF(J34=\"WL002\",\"MPN\",IF(J34=\"WL003\",\"MPN\",IF(J34=\"DS001\",\"TC\")))))","v":"TC"},{"$f":"Benchsheet!E37","v":"RT"},"Y",{"$f":"Benchsheet!B37","v":"DS001"},{"$f":"IF(J34=\"WL001\",\"RW001\",IF(Benchsheet!B37=FALSE,\"\",IF(J34=\"WL002\",\"RW002\",IF(J34=\"WL003\",\"RW003\",IF(J34=\"DS001\",\"TCR001\",IF(J34=\"DS001\",\"TCR01\"))))))","v":"TCR001"},{"$f":"Benchsheet!D37","v":"Thompson Collision CTR"},{"$f":"Benchsheet!G37","v":"2015-11-04"},{"$f":"Benchsheet!H37","v":1148},{"$f":"Benchsheet!I37","v":"2015-11-04"},{"$f":"Benchsheet!F37","v":"Farmer"},{"$f":"Benchsheet!P37","v":1.6},{"$f":"Benchsheet!O37","v":0}]
[{"$f":"IF(Benchsheet!A38>1,\"sample\",IF(Benchsheet!A38=FALSE,\"\"))","v":"sample"},{"$f":"IF(Benchsheet!A38>1,\"STATE\",IF(Benchsheet!A38=FALSE,\"\"))","v":"STATE"},{"$f":"IF(Benchsheet!A38>1,\"00035\",IF(Benchsheet!A38=FALSE,\"\"))","v":"00035"},{"$f":"Benchsheet!A38","v":"1511M22"},{"$f":"IF(Benchsheet!C38=1121057,\"VA1121057\",IF(Benchsheet!C38=1121090,\"VA1121090\",IF(Benchsheet!C38=1121052,\"VA1121052\",IF(Benchsheet!C38=1121175,\"VA1121175\",IF(Benchsheet!C38=1121580,\"VA1121580\",IF(Benchsheet!C38=1121570,\"VA1121570\",IF(Benchsheet!C38=1121045,\"VA1121045\",IF(Benchsheet!C38=1121655,\"VA1121655\",IF(Benchsheet!C38=1121503,\"VA1121503\",IF(Benchsheet!C38=1121043,\"VA1121043\",IF(Benchsheet!C38=1121900,\"VA1121900\",IF(Benchsheet!C38=1121845,\"VA1121845\",IF(Benchsheet!C38=1121655,\"VA1121655\",IF(Benchsheet!C38=1121900,\"VA1121900\",IF(Benchsheet!C38<1,\"\")))))))))))))))","v":"VA1121045"},{"$f":"IF(Benchsheet!A38>1,\"TC\",IF(Benchsheet!A38=FALSE,\"\"))","v":"TC"},{"$f":"IF(J35=\"WL001\",\"MPN\",IF(Benchsheet!B38=FALSE,\"\",IF(J35=\"WL002\",\"MPN\",IF(J35=\"WL003\",\"MPN\",IF(J35=\"DS001\",\"TC\")))))","v":"TC"},{"$f":"Benchsheet!E38","v":"RT"},"Y",{"$f":"Benchsheet!B38","v":"DS001"},{"$f":"IF(J35=\"WL001\",\"RW001\",IF(Benchsheet!B38=FALSE,\"\",IF(J35=\"WL002\",\"RW002\",IF(J35=\"WL003\",\"RW003\",IF(J35=\"DS001\",\"TCR001\",IF(J35=\"DS001\",\"TCR01\"))))))","v":"TCR001"},{"$f":"Benchsheet!D38","v":"Comfort Inn"},{"$f":"Benchsheet!G38","v":"2015-11-04"},{"$f":"Benchsheet!H38","v":1015},{"$f":"Benchsheet!I38","v":"2015-11-04"},{"$f":"Benchsheet!F38","v":"Farmer"},{"$f":"Benchsheet!P38","v":1.2},{"$f":"Benchsheet!O38","v":0}]
[{"$f":"IF(Benchsheet!A39>1,\"sample\",IF(Benchsheet!A39=FALSE,\"\"))","v":"sample"},{"$f":"IF(Benchsheet!A39>1,\"STATE\",IF(Benchsheet!A39=FALSE,\"\"))","v":"STATE"},{"$f":"IF(Benchsheet!A39>1,\"00035\",IF(Benchsheet!A39=FALSE,\"\"))","v":"00035"},{"$f":"Benchsheet!A39","v":"1511M23"},{"$f":"IF(Benchsheet!C39=1121057,\"VA1121057\",IF(Benchsheet!C39=1121090,\"VA1121090\",IF(Benchsheet!C39=1121052,\"VA1121052\",IF(Benchsheet!C39=1121175,\"VA1121175\",IF(Benchsheet!C39=1121580,\"VA1121580\",IF(Benchsheet!C39=1121570,\"VA1121570\",IF(Benchsheet!C39=1121045,\"VA1121045\",IF(Benchsheet!C39=1121655,\"VA1121655\",IF(Benchsheet!C39=1121503,\"VA1121503\",IF(Benchsheet!C39=1121043,\"VA1121043\",IF(Benchsheet!C39=1121900,\"VA1121900\",IF(Benchsheet!C39=1121845,\"VA1121845\",IF(Benchsheet!C39=1121655,\"VA1121655\",IF(Benchsheet!C39=1121900,\"VA1121900\",IF(Benchsheet!C39<1,\"\")))))))))))))))","v":"VA1121655"},{"$f":"IF(Benchsheet!A39>1,\"TC\",IF(Benchsheet!A39=FALSE,\"\"))","v":"TC"},{"$f":"IF(J36=\"WL001\",\"MPN\",IF(Benchsheet!B39=FALSE,\"\",IF(J36=\"WL002\",\"MPN\",IF(J36=\"WL003\",\"MPN\",IF(J36=\"DS001\",\"TC\")))))","v":"TC"},{"$f":"Benchsheet!E39","v":"RT"},"Y",{"$f":"Benchsheet!B39","v":"DS001"},{"$f":"IF(J36=\"WL001\",\"RW001\",IF(Benchsheet!B39=FALSE,\"\",IF(J36=\"WL002\",\"RW002\",IF(J36=\"WL003\",\"RW003\",IF(J36=\"DS001\",\"TCR001\",IF(J36=\"DS001\",\"TCR01\"))))))","v":"TCR001"},{"$f":"Benchsheet!D39","v":"1891 Canter Drive"},{"$f":"Benchsheet!G39","v":"2015-11-04"},{"$f":"Benchsheet!H39","v":918},{"$f":"Benchsheet!I39","v":"2015-11-04"},{"$f":"Benchsheet!F39","v":"Farmer"},{"$f":"Benchsheet!P39","v":0.7},{"$f":"Benchsheet!O39","v":0}]
[{"$f":"IF(Benchsheet!A40>1,\"sample\",IF(Benchsheet!A40=FALSE,\"\"))","v":"sample"},{"$f":"IF(Benchsheet!A40>1,\"STATE\",IF(Benchsheet!A40=FALSE,\"\"))","v":"STATE"},{"$f":"IF(Benchsheet!A40>1,\"00035\",IF(Benchsheet!A40=FALSE,\"\"))","v":"00035"},{"$f":"Benchsheet!A40","v":"1511P6"},{"$f":"IF(Benchsheet!C40=1121057,\"VA1121057\",IF(Benchsheet!C40=1121090,\"VA1121090\",IF(Benchsheet!C40=1121052,\"VA1121052\",IF(Benchsheet!C40=1121175,\"VA1121175\",IF(Benchsheet!C40=1121580,\"VA1121580\",IF(Benchsheet!C40=1121570,\"VA1121570\",IF(Benchsheet!C40=1121045,\"VA1121045\",IF(Benchsheet!C40=1121655,\"VA1121655\",IF(Benchsheet!C40=1121503,\"VA1121503\",IF(Benchsheet!C40=1121043,\"VA1121043\",IF(Benchsheet!C40=1121900,\"VA1121900\",IF(Benchsheet!C40=1121845,\"VA1121845\",IF(Benchsheet!C40=1121655,\"VA1121655\",IF(Benchsheet!C40=1121900,\"VA1121900\",IF(Benchsheet!C40<1,\"\")))))))))))))))","v":"VA1121057"},{"$f":"IF(Benchsheet!A40>1,\"TC\",IF(Benchsheet!A40=FALSE,\"\"))","v":"TC"},{"$f":"IF(J37=\"WL001\",\"MPN\",IF(Benchsheet!B40=FALSE,\"\",IF(J37=\"WL002\",\"MPN\",IF(J37=\"WL003\",\"MPN\",IF(J37=\"DS001\",\"TC\")))))","v":"TC"},{"$f":"Benchsheet!E40","v":"SP"},"N",{"$f":"Benchsheet!B40","v":"DS001"},{"$f":"IF(J37=\"WL001\",\"RW001\",IF(Benchsheet!B40=FALSE,\"\",IF(J37=\"WL002\",\"RW002\",IF(J37=\"WL003\",\"RW003\",IF(J37=\"DS001\",\"TCR001\",IF(J37=\"DS001\",\"TCR01\"))))))","v":"TCR001"},{"$f":"Benchsheet!D40","v":"Plant Tap Finish"},{"$f":"Benchsheet!G40","v":"2015-11-05"},{"$f":"Benchsheet!H40","v":800},{"$f":"Benchsheet!I40","v":"2015-11-05"},{"$f":"Benchsheet!F40","v":"Sheila"},{"$f":"Benchsheet!P40","v":3.6},{"$f":"Benchsheet!O40","v":0}]
[{"$f":"IF(Benchsheet!A41>1,\"sample\",IF(Benchsheet!A41=FALSE,\"\"))","v":"sample"},{"$f":"IF(Benchsheet!A41>1,\"STATE\",IF(Benchsheet!A41=FALSE,\"\"))","v":"STATE"},{"$f":"IF(Benchsheet!A41>1,\"00035\",IF(Benchsheet!A41=FALSE,\"\"))","v":"00035"},{"$f":"Benchsheet!A41","v":"1511P7"},{"$f":"IF(Benchsheet!C41=1121057,\"VA1121057\",IF(Benchsheet!C41=1121090,\"VA1121090\",IF(Benchsheet!C41=1121052,\"VA1121052\",IF(Benchsheet!C41=1121175,\"VA1121175\",IF(Benchsheet!C41=1121580,\"VA1121580\",IF(Benchsheet!C41=1121570,\"VA1121570\",IF(Benchsheet!C41=1121045,\"VA1121045\",IF(Benchsheet!C41=1121655,\"VA1121655\",IF(Benchsheet!C41=1121503,\"VA1121503\",IF(Benchsheet!C41=1121043,\"VA1121043\",IF(Benchsheet!C41=1121900,\"VA1121900\",IF(Benchsheet!C41=1121845,\"VA1121845\",IF(Benchsheet!C41=1121655,\"VA1121655\",IF(Benchsheet!C41=1121900,\"VA1121900\",IF(Benchsheet!C41<1,\"\")))))))))))))))","v":"VA1121057"},{"$f":"IF(Benchsheet!A41>1,\"TC\",IF(Benchsheet!A41=FALSE,\"\"))","v":"TC"},{"$f":"IF(J38=\"WL001\",\"MPN\",IF(Benchsheet!B41=FALSE,\"\",IF(J38=\"WL002\",\"MPN\",IF(J38=\"WL003\",\"MPN\",IF(J38=\"DS001\",\"TC\")))))","v":"TC"},{"$f":"Benchsheet!E41","v":"SP"},"N",{"$f":"Benchsheet!B41","v":"DS001"},{"$f":"IF(J38=\"WL001\",\"RW001\",IF(Benchsheet!B41=FALSE,\"\",IF(J38=\"WL002\",\"RW002\",IF(J38=\"WL003\",\"RW003\",IF(J38=\"DS001\",\"TCR001\",IF(J38=\"DS001\",\"TCR01\"))))))","v":"TCR001"},{"$f":"Benchsheet!D41","v":"Plant Tap Finish"},{"$f":"Benchsheet!G41","v":"2015-11-09"},{"$f":"Benchsheet!H41","v":711},{"$f":"Benchsheet!I41","v":"2015-11-09"},{"$f":"Benchsheet!F41","v":"Sheila"},{"$f":"Benchsheet!P41","v":3},{"$f":"Benchsheet!O41","v":0}]
[{"$f":"IF(Benchsheet!A42>1,\"sample\",IF(Benchsheet!A42=FALSE,\"\"))","v":"sample"},{"$f":"IF(Benchsheet!A42>1,\"STATE\",IF(Benchsheet!A42=FALSE,\"\"))","v":"STATE"},{"$f":"IF(Benchsheet!A42>1,\"00035\",IF(Benchsheet!A42=FALSE,\"\"))","v":"00035"},{"$f":"Benchsheet!A42","v":"1511S68"},{"$f":"IF(Benchsheet!C42=1121057,\"VA1121057\",IF(Benchsheet!C42=1121090,\"VA1121090\",IF(Benchsheet!C42=1121052,\"VA1121052\",IF(Benchsheet!C42=1121175,\"VA1121175\",IF(Benchsheet!C42=1121580,\"VA1121580\",IF(Benchsheet!C42=1121570,\"VA1121570\",IF(Benchsheet!C42=1121045,\"VA1121045\",IF(Benchsheet!C42=1121655,\"VA1121655\",IF(Benchsheet!C42=1121503,\"VA1121503\",IF(Benchsheet!C42=1121043,\"VA1121043\",IF(Benchsheet!C42=1121900,\"VA1121900\",IF(Benchsheet!C42=1121845,\"VA1121845\",IF(Benchsheet!C42=1121655,\"VA1121655\",IF(Benchsheet!C42=1121900,\"VA1121900\",IF(Benchsheet!C42<1,\"\")))))))))))))))","v":false},{"$f":"IF(Benchsheet!A42>1,\"TC\",IF(Benchsheet!A42=FALSE,\"\"))","v":"TC"},{"$f":"IF(J39=\"WL001\",\"MPN\",IF(Benchsheet!B42=FALSE,\"\",IF(J39=\"WL002\",\"MPN\",IF(J39=\"WL003\",\"MPN\",IF(J39=\"DS001\",\"TC\")))))","v":"TC"},{"$f":"Benchsheet!E42","v":"SP"},"N",{"$f":"Benchsheet!B42","v":"DS001"},{"$f":"IF(J39=\"WL001\",\"RW001\",IF(Benchsheet!B42=FALSE,\"\",IF(J39=\"WL002\",\"RW002\",IF(J39=\"WL003\",\"RW003\",IF(J39=\"DS001\",\"TCR001\",IF(J39=\"DS001\",\"TCR01\"))))))","v":"TCR001"},{"$f":"Benchsheet!D42","v":"Plum Creek Water Tank"},{"$f":"Benchsheet!G42","v":"2015-11-05"},{"$f":"Benchsheet!H42","v":1215},{"$f":"Benchsheet!I42","v":"2015-11-05"},{"$f":"Benchsheet!F42","v":"Sheila"},{"$f":"Benchsheet!P42","v":1.3},{"$f":"Benchsheet!O42","v":0}]
[{"$f":"IF(Benchsheet!A43>1,\"sample\",IF(Benchsheet!A43=FALSE,\"\"))","v":"sample"},{"$f":"IF(Benchsheet!A43>1,\"STATE\",IF(Benchsheet!A43=FALSE,\"\"))","v":"STATE"},{"$f":"IF(Benchsheet!A43>1,\"00035\",IF(Benchsheet!A43=FALSE,\"\"))","v":"00035"},{"$f":"Benchsheet!A43","v":"1511C10"},{"$f":"IF(Benchsheet!C43=1121057,\"VA1121057\",IF(Benchsheet!C43=1121090,\"VA1121090\",IF(Benchsheet!C43=1121052,\"VA1121052\",IF(Benchsheet!C43=1121175,\"VA1121175\",IF(Benchsheet!C43=1121580,\"VA1121580\",IF(Benchsheet!C43=1121570,\"VA1121570\",IF(Benchsheet!C43=1121045,\"VA1121045\",IF(Benchsheet!C43=1121655,\"VA1121655\",IF(Benchsheet!C43=1121503,\"VA1121503\",IF(Benchsheet!C43=1121043,\"VA1121043\",IF(Benchsheet!C43=1121900,\"VA1121900\",IF(Benchsheet!C43=1121845,\"VA1121845\",IF(Benchsheet!C43=1121655,\"VA1121655\",IF(Benchsheet!C43=1121900,\"VA1121900\",IF(Benchsheet!C43<1,\"\")))))))))))))))","v":"VA1121090"},{"$f":"IF(Benchsheet!A43>1,\"TC\",IF(Benchsheet!A43=FALSE,\"\"))","v":"TC"},{"$f":"IF(J40=\"WL001\",\"MPN\",IF(Benchsheet!B43=FALSE,\"\",IF(J40=\"WL002\",\"MPN\",IF(J40=\"WL003\",\"MPN\",IF(J40=\"DS001\",\"TC\")))))","v":"TC"},{"$f":"Benchsheet!E43","v":"RT"},"Y",{"$f":"Benchsheet!B43","v":"DS001"},{"$f":"IF(J40=\"WL001\",\"RW001\",IF(Benchsheet!B43=FALSE,\"\",IF(J40=\"WL002\",\"RW002\",IF(J40=\"WL003\",\"RW003\",IF(J40=\"DS001\",\"TCR001\",IF(J40=\"DS001\",\"TCR01\"))))))","v":"TCR001"},{"$f":"Benchsheet!D43","v":"1180 North Franklin Street"},{"$f":"Benchsheet!G43","v":"2015-11-09"},{"$f":"Benchsheet!H43","v":813},{"$f":"Benchsheet!I43","v":"2015-11-09"},{"$f":"Benchsheet!F43","v":"Carl"},{"$f":"Benchsheet!P43","v":3.5},{"$f":"Benchsheet!O43","v":0}]
[{"$f":"IF(Benchsheet!A44>1,\"sample\",IF(Benchsheet!A44=FALSE,\"\"))","v":"sample"},{"$f":"IF(Benchsheet!A44>1,\"STATE\",IF(Benchsheet!A44=FALSE,\"\"))","v":"STATE"},{"$f":"IF(Benchsheet!A44>1,\"00035\",IF(Benchsheet!A44=FALSE,\"\"))","v":"00035"},{"$f":"Benchsheet!A44","v":"1511C11"},{"$f":"IF(Benchsheet!C44=1121057,\"VA1121057\",IF(Benchsheet!C44=1121090,\"VA1121090\",IF(Benchsheet!C44=1121052,\"VA1121052\",IF(Benchsheet!C44=1121175,\"VA1121175\",IF(Benchsheet!C44=1121580,\"VA1121580\",IF(Benchsheet!C44=1121570,\"VA1121570\",IF(Benchsheet!C44=1121045,\"VA1121045\",IF(Benchsheet!C44=1121655,\"VA1121655\",IF(Benchsheet!C44=1121503,\"VA1121503\",IF(Benchsheet!C44=1121043,\"VA1121043\",IF(Benchsheet!C44=1121900,\"VA1121900\",IF(Benchsheet!C44=1121845,\"VA1121845\",IF(Benchsheet!C44=1121655,\"VA1121655\",IF(Benchsheet!C44=1121900,\"VA1121900\",IF(Benchsheet!C44<1,\"\")))))))))))))))","v":"VA1121090"},{"$f":"IF(Benchsheet!A44>1,\"TC\",IF(Benchsheet!A44=FALSE,\"\"))","v":"TC"},{"$f":"IF(J41=\"WL001\",\"MPN\",IF(Benchsheet!B44=FALSE,\"\",IF(J41=\"WL002\",\"MPN\",IF(J41=\"WL003\",\"MPN\",IF(J41=\"DS001\",\"TC\")))))","v":"TC"},{"$f":"Benchsheet!E44","v":"RT"},"Y",{"$f":"Benchsheet!B44","v":"DS001"},{"$f":"IF(J41=\"WL001\",\"RW001\",IF(Benchsheet!B44=FALSE,\"\",IF(J41=\"WL002\",\"RW002\",IF(J41=\"WL003\",\"RW003\",IF(J41=\"DS001\",\"TCR001\",IF(J41=\"DS001\",\"TCR01\"))))))","v":"TCR001"},{"$f":"Benchsheet!D44","v":"955 Elk Drive"},{"$f":"Benchsheet!G44","v":"2015-11-09"},{"$f":"Benchsheet!H44","v":832},{"$f":"Benchsheet!I44","v":"2015-11-09"},{"$f":"Benchsheet!F44","v":"Carl"},{"$f":"Benchsheet!P44","v":3.2},{"$f":"Benchsheet!O44","v":0}]
[{"$f":"IF(Benchsheet!A45>1,\"sample\",IF(Benchsheet!A45=FALSE,\"\"))","v":"sample"},{"$f":"IF(Benchsheet!A45>1,\"STATE\",IF(Benchsheet!A45=FALSE,\"\"))","v":"STATE"},{"$f":"IF(Benchsheet!A45>1,\"00035\",IF(Benchsheet!A45=FALSE,\"\"))","v":"00035"},{"$f":"Benchsheet!A45","v":"1511C12"},{"$f":"IF(Benchsheet!C45=1121057,\"VA1121057\",IF(Benchsheet!C45=1121090,\"VA1121090\",IF(Benchsheet!C45=1121052,\"VA1121052\",IF(Benchsheet!C45=1121175,\"VA1121175\",IF(Benchsheet!C45=1121580,\"VA1121580\",IF(Benchsheet!C45=1121570,\"VA1121570\",IF(Benchsheet!C45=1121045,\"VA1121045\",IF(Benchsheet!C45=1121655,\"VA1121655\",IF(Benchsheet!C45=1121503,\"VA1121503\",IF(Benchsheet!C45=1121043,\"VA1121043\",IF(Benchsheet!C45=1121900,\"VA1121900\",IF(Benchsheet!C45=1121845,\"VA1121845\",IF(Benchsheet!C45=1121655,\"VA1121655\",IF(Benchsheet!C45=1121900,\"VA1121900\",IF(Benchsheet!C45<1,\"\")))))))))))))))","v":"VA1121090"},{"$f":"IF(Benchsheet!A45>1,\"TC\",IF(Benchsheet!A45=FALSE,\"\"))","v":"TC"},{"$f":"IF(J42=\"WL001\",\"MPN\",IF(Benchsheet!B45=FALSE,\"\",IF(J42=\"WL002\",\"MPN\",IF(J42=\"WL003\",\"MPN\",IF(J42=\"DS001\",\"TC\")))))","v":"TC"},{"$f":"Benchsheet!E45","v":"RT"},"Y",{"$f":"Benchsheet!B45","v":"DS001"},{"$f":"IF(J42=\"WL001\",\"RW001\",IF(Benchsheet!B45=FALSE,\"\",IF(J42=\"WL002\",\"RW002\",IF(J42=\"WL003\",\"RW003\",IF(J42=\"DS001\",\"TCR001\",IF(J42=\"DS001\",\"TCR01\"))))))","v":"TCR001"},{"$f":"Benchsheet!D45","v":"975 Carson Drive"},{"$f":"Benchsheet!G45","v":"2015-11-09"},{"$f":"Benchsheet!H45","v":849},{"$f":"Benchsheet!I45","v":"2015-11-09"},{"$f":"Benchsheet!F45","v":"Carl"},{"$f":"Benchsheet!P45","v":2.5},{"$f":"Benchsheet!O45","v":0}]
[{"$f":"IF(Benchsheet!A46>1,\"sample\",IF(Benchsheet!A46=FALSE,\"\"))","v":"sample"},{"$f":"IF(Benchsheet!A46>1,\"STATE\",IF(Benchsheet!A46=FALSE,\"\"))","v":"STATE"},{"$f":"IF(Benchsheet!A46>1,\"00035\",IF(Benchsheet!A46=FALSE,\"\"))","v":"00035"},{"$f":"Benchsheet!A46","v":"1511C13"},{"$f":"IF(Benchsheet!C46=1121057,\"VA1121057\",IF(Benchsheet!C46=1121090,\"VA1121090\",IF(Benchsheet!C46=1121052,\"VA1121052\",IF(Benchsheet!C46=1121175,\"VA1121175\",IF(Benchsheet!C46=1121580,\"VA1121580\",IF(Benchsheet!C46=1121570,\"VA1121570\",IF(Benchsheet!C46=1121045,\"VA1121045\",IF(Benchsheet!C46=1121655,\"VA1121655\",IF(Benchsheet!C46=1121503,\"VA1121503\",IF(Benchsheet!C46=1121043,\"VA1121043\",IF(Benchsheet!C46=1121900,\"VA1121900\",IF(Benchsheet!C46=1121845,\"VA1121845\",IF(Benchsheet!C46=1121655,\"VA1121655\",IF(Benchsheet!C46=1121900,\"VA1121900\",IF(Benchsheet!C46<1,\"\")))))))))))))))","v":"VA1121090"},{"$f":"IF(Benchsheet!A46>1,\"TC\",IF(Benchsheet!A46=FALSE,\"\"))","v":"TC"},{"$f":"IF(J43=\"WL001\",\"MPN\",IF(Benchsheet!B46=FALSE,\"\",IF(J43=\"WL002\",\"MPN\",IF(J43=\"WL003\",\"MPN\",IF(J43=\"DS001\",\"TC\")))))","v":"TC"},{"$f":"Benchsheet!E46","v":"RT"},"Y",{"$f":"Benchsheet!B46","v":"DS001"},{"$f":"IF(J43=\"WL001\",\"RW001\",IF(Benchsheet!B46=FALSE,\"\",IF(J43=\"WL002\",\"RW002\",IF(J43=\"WL003\",\"RW003\",IF(J43=\"DS001\",\"TCR001\",IF(J43=\"DS001\",\"TCR01\"))))))","v":"TCR001"},{"$f":"Benchsheet!D46","v":"Edgewood Pump Station"},{"$f":"Benchsheet!G46","v":"2015-11-09"},{"$f":"Benchsheet!H46","v":909},{"$f":"Benchsheet!I46","v":"2015-11-09"},{"$f":"Benchsheet!F46","v":"Carl"},{"$f":"Benchsheet!P46","v":3},{"$f":"Benchsheet!O46","v":0}]
[{"$f":"IF(Benchsheet!A47>1,\"sample\",IF(Benchsheet!A47=FALSE,\"\"))","v":"sample"},{"$f":"IF(Benchsheet!A47>1,\"STATE\",IF(Benchsheet!A47=FALSE,\"\"))","v":"STATE"},{"$f":"IF(Benchsheet!A47>1,\"00035\",IF(Benchsheet!A47=FALSE,\"\"))","v":"00035"},{"$f":"Benchsheet!A47","v":"1511C14"},{"$f":"IF(Benchsheet!C47=1121057,\"VA1121057\",IF(Benchsheet!C47=1121090,\"VA1121090\",IF(Benchsheet!C47=1121052,\"VA1121052\",IF(Benchsheet!C47=1121175,\"VA1121175\",IF(Benchsheet!C47=1121580,\"VA1121580\",IF(Benchsheet!C47=1121570,\"VA1121570\",IF(Benchsheet!C47=1121045,\"VA1121045\",IF(Benchsheet!C47=1121655,\"VA1121655\",IF(Benchsheet!C47=1121503,\"VA1121503\",IF(Benchsheet!C47=1121043,\"VA1121043\",IF(Benchsheet!C47=1121900,\"VA1121900\",IF(Benchsheet!C47=1121845,\"VA1121845\",IF(Benchsheet!C47=1121655,\"VA1121655\",IF(Benchsheet!C47=1121900,\"VA1121900\",IF(Benchsheet!C47<1,\"\")))))))))))))))","v":"VA1121090"},{"$f":"IF(Benchsheet!A47>1,\"TC\",IF(Benchsheet!A47=FALSE,\"\"))","v":"TC"},{"$f":"IF(J44=\"WL001\",\"MPN\",IF(Benchsheet!B47=FALSE,\"\",IF(J44=\"WL002\",\"MPN\",IF(J44=\"WL003\",\"MPN\",IF(J44=\"DS001\",\"TC\")))))","v":"TC"},{"$f":"Benchsheet!E47","v":"RT"},"Y",{"$f":"Benchsheet!B47","v":"DS001"},{"$f":"IF(J44=\"WL001\",\"RW001\",IF(Benchsheet!B47=FALSE,\"\",IF(J44=\"WL002\",\"RW002\",IF(J44=\"WL003\",\"RW003\",IF(J44=\"DS001\",\"TCR001\",IF(J44=\"DS001\",\"TCR01\"))))))","v":"TCR001"},{"$f":"Benchsheet!D47","v":"100 East Main Street"},{"$f":"Benchsheet!G47","v":"2015-11-09"},{"$f":"Benchsheet!H47","v":950},{"$f":"Benchsheet!I47","v":"2015-11-09"},{"$f":"Benchsheet!F47","v":"Carl"},{"$f":"Benchsheet!P47","v":3.2},{"$f":"Benchsheet!O47","v":0}]
[{"$f":"IF(Benchsheet!A48>1,\"sample\",IF(Benchsheet!A48=FALSE,\"\"))","v":"sample"},{"$f":"IF(Benchsheet!A48>1,\"STATE\",IF(Benchsheet!A48=FALSE,\"\"))","v":"STATE"},{"$f":"IF(Benchsheet!A48>1,\"00035\",IF(Benchsheet!A48=FALSE,\"\"))","v":"00035"},{"$f":"Benchsheet!A48","v":"1511C15"},{"$f":"IF(Benchsheet!C48=1121057,\"VA1121057\",IF(Benchsheet!C48=1121090,\"VA1121090\",IF(Benchsheet!C48=1121052,\"VA1121052\",IF(Benchsheet!C48=1121175,\"VA1121175\",IF(Benchsheet!C48=1121580,\"VA1121580\",IF(Benchsheet!C48=1121570,\"VA1121570\",IF(Benchsheet!C48=1121045,\"VA1121045\",IF(Benchsheet!C48=1121655,\"VA1121655\",IF(Benchsheet!C48=1121503,\"VA1121503\",IF(Benchsheet!C48=1121043,\"VA1121043\",IF(Benchsheet!C48=1121900,\"VA1121900\",IF(Benchsheet!C48=1121845,\"VA1121845\",IF(Benchsheet!C48=1121655,\"VA1121655\",IF(Benchsheet!C48=1121900,\"VA1121900\",IF(Benchsheet!C48<1,\"\")))))))))))))))","v":"VA1121090"},{"$f":"IF(Benchsheet!A48>1,\"TC\",IF(Benchsheet!A48=FALSE,\"\"))","v":"TC"},{"$f":"IF(J45=\"WL001\",\"MPN\",IF(Benchsheet!B48=FALSE,\"\",IF(J45=\"WL002\",\"MPN\",IF(J45=\"WL003\",\"MPN\",IF(J45=\"DS001\",\"TC\")))))","v":"TC"},{"$f":"Benchsheet!E48","v":"RT"},"Y",{"$f":"Benchsheet!B48","v":"DS001"},{"$f":"IF(J45=\"WL001\",\"RW001\",IF(Benchsheet!B48=FALSE,\"\",IF(J45=\"WL002\",\"RW002\",IF(J45=\"WL003\",\"RW003\",IF(J45=\"DS001\",\"TCR001\",IF(J45=\"DS001\",\"TCR01\"))))))","v":"TCR001"},{"$f":"Benchsheet!D48","v":"Craig Mountain Pump Station"},{"$f":"Benchsheet!G48","v":"2015-11-09"},{"$f":"Benchsheet!H48","v":1012},{"$f":"Benchsheet!I48","v":"2015-11-09"},{"$f":"Benchsheet!F48","v":"Carl"},{"$f":"Benchsheet!P48","v":3.3},{"$f":"Benchsheet!O48","v":0}]
[{"$f":"IF(Benchsheet!A49>1,\"sample\",IF(Benchsheet!A49=FALSE,\"\"))","v":"sample"},{"$f":"IF(Benchsheet!A49>1,\"STATE\",IF(Benchsheet!A49=FALSE,\"\"))","v":"STATE"},{"$f":"IF(Benchsheet!A49>1,\"00035\",IF(Benchsheet!A49=FALSE,\"\"))","v":"00035"},{"$f":"Benchsheet!A49","v":"1511C16"},{"$f":"IF(Benchsheet!C49=1121057,\"VA1121057\",IF(Benchsheet!C49=1121090,\"VA1121090\",IF(Benchsheet!C49=1121052,\"VA1121052\",IF(Benchsheet!C49=1121175,\"VA1121175\",IF(Benchsheet!C49=1121580,\"VA1121580\",IF(Benchsheet!C49=1121570,\"VA1121570\",IF(Benchsheet!C49=1121045,\"VA1121045\",IF(Benchsheet!C49=1121655,\"VA1121655\",IF(Benchsheet!C49=1121503,\"VA1121503\",IF(Benchsheet!C49=1121043,\"VA1121043\",IF(Benchsheet!C49=1121900,\"VA1121900\",IF(Benchsheet!C49=1121845,\"VA1121845\",IF(Benchsheet!C49=1121655,\"VA1121655\",IF(Benchsheet!C49=1121900,\"VA1121900\",IF(Benchsheet!C49<1,\"\")))))))))))))))","v":"VA1121090"},{"$f":"IF(Benchsheet!A49>1,\"TC\",IF(Benchsheet!A49=FALSE,\"\"))","v":"TC"},{"$f":"IF(J46=\"WL001\",\"MPN\",IF(Benchsheet!B49=FALSE,\"\",IF(J46=\"WL002\",\"MPN\",IF(J46=\"WL003\",\"MPN\",IF(J46=\"DS001\",\"TC\")))))","v":"TC"},{"$f":"Benchsheet!E49","v":"RT"},"Y",{"$f":"Benchsheet!B49","v":"DS001"},{"$f":"IF(J46=\"WL001\",\"RW001\",IF(Benchsheet!B49=FALSE,\"\",IF(J46=\"WL002\",\"RW002\",IF(J46=\"WL003\",\"RW003\",IF(J46=\"DS001\",\"TCR001\",IF(J46=\"DS001\",\"TCR01\"))))))","v":"TCR001"},{"$f":"Benchsheet!D49","v":"4120 Roanoke Street"},{"$f":"Benchsheet!G49","v":"2015-11-09"},{"$f":"Benchsheet!H49","v":1034},{"$f":"Benchsheet!I49","v":"2015-11-09"},{"$f":"Benchsheet!F49","v":"Carl"},{"$f":"Benchsheet!P49","v":3.1},{"$f":"Benchsheet!O49","v":0}]
[{"$f":"IF(Benchsheet!A50>1,\"sample\",IF(Benchsheet!A50=FALSE,\"\"))","v":"sample"},{"$f":"IF(Benchsheet!A50>1,\"STATE\",IF(Benchsheet!A50=FALSE,\"\"))","v":"STATE"},{"$f":"IF(Benchsheet!A50>1,\"00035\",IF(Benchsheet!A50=FALSE,\"\"))","v":"00035"},{"$f":"Benchsheet!A50","v":"1511C17"},{"$f":"IF(Benchsheet!C50=1121057,\"VA1121057\",IF(Benchsheet!C50=1121090,\"VA1121090\",IF(Benchsheet!C50=1121052,\"VA1121052\",IF(Benchsheet!C50=1121175,\"VA1121175\",IF(Benchsheet!C50=1121580,\"VA1121580\",IF(Benchsheet!C50=1121570,\"VA1121570\",IF(Benchsheet!C50=1121045,\"VA1121045\",IF(Benchsheet!C50=1121655,\"VA1121655\",IF(Benchsheet!C50=1121503,\"VA1121503\",IF(Benchsheet!C50=1121043,\"VA1121043\",IF(Benchsheet!C50=1121900,\"VA1121900\",IF(Benchsheet!C50=1121845,\"VA1121845\",IF(Benchsheet!C50=1121655,\"VA1121655\",IF(Benchsheet!C50=1121900,\"VA1121900\",IF(Benchsheet!C50<1,\"\")))))))))))))))","v":"VA1121090"},{"$f":"IF(Benchsheet!A50>1,\"TC\",IF(Benchsheet!A50=FALSE,\"\"))","v":"TC"},{"$f":"IF(J47=\"WL001\",\"MPN\",IF(Benchsheet!B50=FALSE,\"\",IF(J47=\"WL002\",\"MPN\",IF(J47=\"WL003\",\"MPN\",IF(J47=\"DS001\",\"TC\")))))","v":"TC"},{"$f":"Benchsheet!E50","v":"RT"},"Y",{"$f":"Benchsheet!B50","v":"DS001"},{"$f":"IF(J47=\"WL001\",\"RW001\",IF(Benchsheet!B50=FALSE,\"\",IF(J47=\"WL002\",\"RW002\",IF(J47=\"WL003\",\"RW003\",IF(J47=\"DS001\",\"TCR001\",IF(J47=\"DS001\",\"TCR01\"))))))","v":"TCR001"},{"$f":"Benchsheet!D50","v":"50 Weddle Way"},{"$f":"Benchsheet!G50","v":"2015-11-09"},{"$f":"Benchsheet!H50","v":1056},{"$f":"Benchsheet!I50","v":"2015-11-09"},{"$f":"Benchsheet!F50","v":"Carl"},{"$f":"Benchsheet!P50","v":3.1},{"$f":"Benchsheet!O50","v":0}]
[{"$f":"IF(Benchsheet!A51>1,\"sample\",IF(Benchsheet!A51=FALSE,\"\"))","v":"sample"},{"$f":"IF(Benchsheet!A51>1,\"STATE\",IF(Benchsheet!A51=FALSE,\"\"))","v":"STATE"},{"$f":"IF(Benchsheet!A51>1,\"00035\",IF(Benchsheet!A51=FALSE,\"\"))","v":"00035"},{"$f":"Benchsheet!A51","v":"1511P8 "},{"$f":"IF(Benchsheet!C51=1121057,\"VA1121057\",IF(Benchsheet!C51=1121090,\"VA1121090\",IF(Benchsheet!C51=1121052,\"VA1121052\",IF(Benchsheet!C51=1121175,\"VA1121175\",IF(Benchsheet!C51=1121580,\"VA1121580\",IF(Benchsheet!C51=1121570,\"VA1121570\",IF(Benchsheet!C51=1121045,\"VA1121045\",IF(Benchsheet!C51=1121655,\"VA1121655\",IF(Benchsheet!C51=1121503,\"VA1121503\",IF(Benchsheet!C51=1121043,\"VA1121043\",IF(Benchsheet!C51=1121900,\"VA1121900\",IF(Benchsheet!C51=1121845,\"VA1121845\",IF(Benchsheet!C51=1121655,\"VA1121655\",IF(Benchsheet!C51=1121900,\"VA1121900\",IF(Benchsheet!C51<1,\"\")))))))))))))))","v":"VA1121057"},{"$f":"IF(Benchsheet!A51>1,\"TC\",IF(Benchsheet!A51=FALSE,\"\"))","v":"TC"},{"$f":"IF(J48=\"WL001\",\"MPN\",IF(Benchsheet!B51=FALSE,\"\",IF(J48=\"WL002\",\"MPN\",IF(J48=\"WL003\",\"MPN\",IF(J48=\"DS001\",\"TC\")))))","v":"TC"},{"$f":"Benchsheet!E51","v":"SP"},"N",{"$f":"Benchsheet!B51","v":"DS001"},{"$f":"IF(J48=\"WL001\",\"RW001\",IF(Benchsheet!B51=FALSE,\"\",IF(J48=\"WL002\",\"RW002\",IF(J48=\"WL003\",\"RW003\",IF(J48=\"DS001\",\"TCR001\",IF(J48=\"DS001\",\"TCR01\"))))))","v":"TCR001"},{"$f":"Benchsheet!D51","v":"C'burg Booster Station"},{"$f":"Benchsheet!G51","v":"2015-11-09"},{"$f":"Benchsheet!H51","v":1118},{"$f":"Benchsheet!I51","v":"2015-11-09"},{"$f":"Benchsheet!F51","v":"Sheila"},{"$f":"Benchsheet!P51","v":3.1},{"$f":"Benchsheet!O51","v":0}]
[{"$f":"IF(Benchsheet!A52>1,\"sample\",IF(Benchsheet!A52=FALSE,\"\"))","v":"sample"},{"$f":"IF(Benchsheet!A52>1,\"STATE\",IF(Benchsheet!A52=FALSE,\"\"))","v":"STATE"},{"$f":"IF(Benchsheet!A52>1,\"00035\",IF(Benchsheet!A52=FALSE,\"\"))","v":"00035"},{"$f":"Benchsheet!A52","v":"1511P9"},{"$f":"IF(Benchsheet!C52=1121057,\"VA1121057\",IF(Benchsheet!C52=1121090,\"VA1121090\",IF(Benchsheet!C52=1121052,\"VA1121052\",IF(Benchsheet!C52=1121175,\"VA1121175\",IF(Benchsheet!C52=1121580,\"VA1121580\",IF(Benchsheet!C52=1121570,\"VA1121570\",IF(Benchsheet!C52=1121045,\"VA1121045\",IF(Benchsheet!C52=1121655,\"VA1121655\",IF(Benchsheet!C52=1121503,\"VA1121503\",IF(Benchsheet!C52=1121043,\"VA1121043\",IF(Benchsheet!C52=1121900,\"VA1121900\",IF(Benchsheet!C52=1121845,\"VA1121845\",IF(Benchsheet!C52=1121655,\"VA1121655\",IF(Benchsheet!C52=1121900,\"VA1121900\",IF(Benchsheet!C52<1,\"\")))))))))))))))","v":"VA1121057"},{"$f":"IF(Benchsheet!A52>1,\"TC\",IF(Benchsheet!A52=FALSE,\"\"))","v":"TC"},{"$f":"IF(J49=\"WL001\",\"MPN\",IF(Benchsheet!B52=FALSE,\"\",IF(J49=\"WL002\",\"MPN\",IF(J49=\"WL003\",\"MPN\",IF(J49=\"DS001\",\"TC\")))))","v":"TC"},{"$f":"Benchsheet!E52","v":"SP"},"N",{"$f":"Benchsheet!B52","v":"DS001"},{"$f":"IF(J49=\"WL001\",\"RW001\",IF(Benchsheet!B52=FALSE,\"\",IF(J49=\"WL002\",\"RW002\",IF(J49=\"WL003\",\"RW003\",IF(J49=\"DS001\",\"TCR001\",IF(J49=\"DS001\",\"TCR01\"))))))","v":"TCR001"},{"$f":"Benchsheet!D52","v":"B'burg Booster Station"},{"$f":"Benchsheet!G52","v":"2015-11-09"},{"$f":"Benchsheet!H52","v":1140},{"$f":"Benchsheet!I52","v":"2015-11-09"},{"$f":"Benchsheet!F52","v":"Sheila"},{"$f":"Benchsheet!P52","v":3.2},{"$f":"Benchsheet!O52","v":0}]
[{"$f":"IF(Benchsheet!A53>1,\"sample\",IF(Benchsheet!A53=FALSE,\"\"))","v":"sample"},{"$f":"IF(Benchsheet!A53>1,\"STATE\",IF(Benchsheet!A53=FALSE,\"\"))","v":"STATE"},{"$f":"IF(Benchsheet!A53>1,\"00035\",IF(Benchsheet!A53=FALSE,\"\"))","v":"00035"},{"$f":"Benchsheet!A53","v":"1511P10"},{"$f":"IF(Benchsheet!C53=1121057,\"VA1121057\",IF(Benchsheet!C53=1121090,\"VA1121090\",IF(Benchsheet!C53=1121052,\"VA1121052\",IF(Benchsheet!C53=1121175,\"VA1121175\",IF(Benchsheet!C53=1121580,\"VA1121580\",IF(Benchsheet!C53=1121570,\"VA1121570\",IF(Benchsheet!C53=1121045,\"VA1121045\",IF(Benchsheet!C53=1121655,\"VA1121655\",IF(Benchsheet!C53=1121503,\"VA1121503\",IF(Benchsheet!C53=1121043,\"VA1121043\",IF(Benchsheet!C53=1121900,\"VA1121900\",IF(Benchsheet!C53=1121845,\"VA1121845\",IF(Benchsheet!C53=1121655,\"VA1121655\",IF(Benchsheet!C53=1121900,\"VA1121900\",IF(Benchsheet!C53<1,\"\")))))))))))))))","v":"VA1121057"},{"$f":"IF(Benchsheet!A53>1,\"TC\",IF(Benchsheet!A53=FALSE,\"\"))","v":"TC"},{"$f":"IF(J50=\"WL001\",\"MPN\",IF(Benchsheet!B53=FALSE,\"\",IF(J50=\"WL002\",\"MPN\",IF(J50=\"WL003\",\"MPN\",IF(J50=\"DS001\",\"TC\")))))","v":"TC"},{"$f":"Benchsheet!E53","v":"SP"},"N",{"$f":"Benchsheet!B53","v":"DS001"},{"$f":"IF(J50=\"WL001\",\"RW001\",IF(Benchsheet!B53=FALSE,\"\",IF(J50=\"WL002\",\"RW002\",IF(J50=\"WL003\",\"RW003\",IF(J50=\"DS001\",\"TCR001\",IF(J50=\"DS001\",\"TCR01\"))))))","v":"TCR001"},{"$f":"Benchsheet!D53","v":"Plant Tap Finish"},{"$f":"Benchsheet!G53","v":"2015-11-10"},{"$f":"Benchsheet!H53","v":843},{"$f":"Benchsheet!I53","v":"2015-11-10"},{"$f":"Benchsheet!F53","v":"Sheila"},{"$f":"Benchsheet!P53","v":3.6},{"$f":"Benchsheet!O53","v":0}]
[{"$f":"IF(Benchsheet!A54>1,\"sample\",IF(Benchsheet!A54=FALSE,\"\"))","v":"sample"},{"$f":"IF(Benchsheet!A54>1,\"STATE\",IF(Benchsheet!A54=FALSE,\"\"))","v":"STATE"},{"$f":"IF(Benchsheet!A54>1,\"00035\",IF(Benchsheet!A54=FALSE,\"\"))","v":"00035"},{"$f":"Benchsheet!A54","v":"1511B15"},{"$f":"IF(Benchsheet!C54=1121057,\"VA1121057\",IF(Benchsheet!C54=1121090,\"VA1121090\",IF(Benchsheet!C54=1121052,\"VA1121052\",IF(Benchsheet!C54=1121175,\"VA1121175\",IF(Benchsheet!C54=1121580,\"VA1121580\",IF(Benchsheet!C54=1121570,\"VA1121570\",IF(Benchsheet!C54=1121045,\"VA1121045\",IF(Benchsheet!C54=1121655,\"VA1121655\",IF(Benchsheet!C54=1121503,\"VA1121503\",IF(Benchsheet!C54=1121043,\"VA1121043\",IF(Benchsheet!C54=1121900,\"VA1121900\",IF(Benchsheet!C54=1121845,\"VA1121845\",IF(Benchsheet!C54=1121655,\"VA1121655\",IF(Benchsheet!C54=1121900,\"VA1121900\",IF(Benchsheet!C54<1,\"\")))))))))))))))","v":"VA1121052"},{"$f":"IF(Benchsheet!A54>1,\"TC\",IF(Benchsheet!A54=FALSE,\"\"))","v":"TC"},{"$f":"IF(J51=\"WL001\",\"MPN\",IF(Benchsheet!B54=FALSE,\"\",IF(J51=\"WL002\",\"MPN\",IF(J51=\"WL003\",\"MPN\",IF(J51=\"DS001\",\"TC\")))))","v":"TC"},{"$f":"Benchsheet!E54","v":"RT"},"Y",{"$f":"Benchsheet!B54","v":"DS001"},{"$f":"IF(J51=\"WL001\",\"RW001\",IF(Benchsheet!B54=FALSE,\"\",IF(J51=\"WL002\",\"RW002\",IF(J51=\"WL003\",\"RW003\",IF(J51=\"DS001\",\"TCR001\",IF(J51=\"DS001\",\"TCR01\"))))))","v":"TCR001"},{"$f":"Benchsheet!D54","v":"Margaret Beeks School"},{"$f":"Benchsheet!G54","v":"2015-11-10"},{"$f":"Benchsheet!H54","v":820},{"$f":"Benchsheet!I54","v":"2015-11-10"},{"$f":"Benchsheet!F54","v":"James"},{"$f":"Benchsheet!P54","v":2.12},{"$f":"Benchsheet!O54","v":0}]
[{"$f":"IF(Benchsheet!A55>1,\"sample\",IF(Benchsheet!A55=FALSE,\"\"))","v":"sample"},{"$f":"IF(Benchsheet!A55>1,\"STATE\",IF(Benchsheet!A55=FALSE,\"\"))","v":"STATE"},{"$f":"IF(Benchsheet!A55>1,\"00035\",IF(Benchsheet!A55=FALSE,\"\"))","v":"00035"},{"$f":"Benchsheet!A55","v":"1511B16"},{"$f":"IF(Benchsheet!C55=1121057,\"VA1121057\",IF(Benchsheet!C55=1121090,\"VA1121090\",IF(Benchsheet!C55=1121052,\"VA1121052\",IF(Benchsheet!C55=1121175,\"VA1121175\",IF(Benchsheet!C55=1121580,\"VA1121580\",IF(Benchsheet!C55=1121570,\"VA1121570\",IF(Benchsheet!C55=1121045,\"VA1121045\",IF(Benchsheet!C55=1121655,\"VA1121655\",IF(Benchsheet!C55=1121503,\"VA1121503\",IF(Benchsheet!C55=1121043,\"VA1121043\",IF(Benchsheet!C55=1121900,\"VA1121900\",IF(Benchsheet!C55=1121845,\"VA1121845\",IF(Benchsheet!C55=1121655,\"VA1121655\",IF(Benchsheet!C55=1121900,\"VA1121900\",IF(Benchsheet!C55<1,\"\")))))))))))))))","v":"VA1121052"},{"$f":"IF(Benchsheet!A55>1,\"TC\",IF(Benchsheet!A55=FALSE,\"\"))","v":"TC"},{"$f":"IF(J52=\"WL001\",\"MPN\",IF(Benchsheet!B55=FALSE,\"\",IF(J52=\"WL002\",\"MPN\",IF(J52=\"WL003\",\"MPN\",IF(J52=\"DS001\",\"TC\")))))","v":"TC"},{"$f":"Benchsheet!E55","v":"RT"},"Y",{"$f":"Benchsheet!B55","v":"DS001"},{"$f":"IF(J52=\"WL001\",\"RW001\",IF(Benchsheet!B55=FALSE,\"\",IF(J52=\"WL002\",\"RW002\",IF(J52=\"WL003\",\"RW003\",IF(J52=\"DS001\",\"TCR001\",IF(J52=\"DS001\",\"TCR01\"))))))","v":"TCR001"},{"$f":"Benchsheet!D55","v":"Personnel Bldg.(Prospersity)"},{"$f":"Benchsheet!G55","v":"2015-11-10"},{"$f":"Benchsheet!H55","v":844},{"$f":"Benchsheet!I55","v":"2015-11-10"},{"$f":"Benchsheet!F55","v":"James"},{"$f":"Benchsheet!P55","v":1.78},{"$f":"Benchsheet!O55","v":0}]
[{"$f":"IF(Benchsheet!A56>1,\"sample\",IF(Benchsheet!A56=FALSE,\"\"))","v":"sample"},{"$f":"IF(Benchsheet!A56>1,\"STATE\",IF(Benchsheet!A56=FALSE,\"\"))","v":"STATE"},{"$f":"IF(Benchsheet!A56>1,\"00035\",IF(Benchsheet!A56=FALSE,\"\"))","v":"00035"},{"$f":"Benchsheet!A56","v":"1511B17"},{"$f":"IF(Benchsheet!C56=1121057,\"VA1121057\",IF(Benchsheet!C56=1121090,\"VA1121090\",IF(Benchsheet!C56=1121052,\"VA1121052\",IF(Benchsheet!C56=1121175,\"VA1121175\",IF(Benchsheet!C56=1121580,\"VA1121580\",IF(Benchsheet!C56=1121570,\"VA1121570\",IF(Benchsheet!C56=1121045,\"VA1121045\",IF(Benchsheet!C56=1121655,\"VA1121655\",IF(Benchsheet!C56=1121503,\"VA1121503\",IF(Benchsheet!C56=1121043,\"VA1121043\",IF(Benchsheet!C56=1121900,\"VA1121900\",IF(Benchsheet!C56=1121845,\"VA1121845\",IF(Benchsheet!C56=1121655,\"VA1121655\",IF(Benchsheet!C56=1121900,\"VA1121900\",IF(Benchsheet!C56<1,\"\")))))))))))))))","v":"VA1121052"},{"$f":"IF(Benchsheet!A56>1,\"TC\",IF(Benchsheet!A56=FALSE,\"\"))","v":"TC"},{"$f":"IF(J53=\"WL001\",\"MPN\",IF(Benchsheet!B56=FALSE,\"\",IF(J53=\"WL002\",\"MPN\",IF(J53=\"WL003\",\"MPN\",IF(J53=\"DS001\",\"TC\")))))","v":"TC"},{"$f":"Benchsheet!E56","v":"RT"},"Y",{"$f":"Benchsheet!B56","v":"DS001"},{"$f":"IF(J53=\"WL001\",\"RW001\",IF(Benchsheet!B56=FALSE,\"\",IF(J53=\"WL002\",\"RW002\",IF(J53=\"WL003\",\"RW003\",IF(J53=\"DS001\",\"TCR001\",IF(J53=\"DS001\",\"TCR01\"))))))","v":"TCR001"},{"$f":"Benchsheet!D56","v":"Nellies Cave Park"},{"$f":"Benchsheet!G56","v":"2015-11-10"},{"$f":"Benchsheet!H56","v":900},{"$f":"Benchsheet!I56","v":"2015-11-10"},{"$f":"Benchsheet!F56","v":"James"},{"$f":"Benchsheet!P56","v":1.65},{"$f":"Benchsheet!O56","v":0}]
[{"$f":"IF(Benchsheet!A57>1,\"sample\",IF(Benchsheet!A57=FALSE,\"\"))","v":"sample"},{"$f":"IF(Benchsheet!A57>1,\"STATE\",IF(Benchsheet!A57=FALSE,\"\"))","v":"STATE"},{"$f":"IF(Benchsheet!A57>1,\"00035\",IF(Benchsheet!A57=FALSE,\"\"))","v":"00035"},{"$f":"Benchsheet!A57","v":"1511B18"},{"$f":"IF(Benchsheet!C57=1121057,\"VA1121057\",IF(Benchsheet!C57=1121090,\"VA1121090\",IF(Benchsheet!C57=1121052,\"VA1121052\",IF(Benchsheet!C57=1121175,\"VA1121175\",IF(Benchsheet!C57=1121580,\"VA1121580\",IF(Benchsheet!C57=1121570,\"VA1121570\",IF(Benchsheet!C57=1121045,\"VA1121045\",IF(Benchsheet!C57=1121655,\"VA1121655\",IF(Benchsheet!C57=1121503,\"VA1121503\",IF(Benchsheet!C57=1121043,\"VA1121043\",IF(Benchsheet!C57=1121900,\"VA1121900\",IF(Benchsheet!C57=1121845,\"VA1121845\",IF(Benchsheet!C57=1121655,\"VA1121655\",IF(Benchsheet!C57=1121900,\"VA1121900\",IF(Benchsheet!C57<1,\"\")))))))))))))))","v":"VA1121052"},{"$f":"IF(Benchsheet!A57>1,\"TC\",IF(Benchsheet!A57=FALSE,\"\"))","v":"TC"},{"$f":"IF(J54=\"WL001\",\"MPN\",IF(Benchsheet!B57=FALSE,\"\",IF(J54=\"WL002\",\"MPN\",IF(J54=\"WL003\",\"MPN\",IF(J54=\"DS001\",\"TC\")))))","v":"TC"},{"$f":"Benchsheet!E57","v":"RT"},"Y",{"$f":"Benchsheet!B57","v":"DS001"},{"$f":"IF(J54=\"WL001\",\"RW001\",IF(Benchsheet!B57=FALSE,\"\",IF(J54=\"WL002\",\"RW002\",IF(J54=\"WL003\",\"RW003\",IF(J54=\"DS001\",\"TCR001\",IF(J54=\"DS001\",\"TCR01\"))))))","v":"TCR001"},{"$f":"Benchsheet!D57","v":"Highland Park (Valley View Dr.)"},{"$f":"Benchsheet!G57","v":"2015-11-10"},{"$f":"Benchsheet!H57","v":910},{"$f":"Benchsheet!I57","v":"2015-11-10"},{"$f":"Benchsheet!F57","v":"James"},{"$f":"Benchsheet!P57","v":1.91},{"$f":"Benchsheet!O57","v":0}]
[{"$f":"IF(Benchsheet!A58>1,\"sample\",IF(Benchsheet!A58=FALSE,\"\"))","v":"sample"},{"$f":"IF(Benchsheet!A58>1,\"STATE\",IF(Benchsheet!A58=FALSE,\"\"))","v":"STATE"},{"$f":"IF(Benchsheet!A58>1,\"00035\",IF(Benchsheet!A58=FALSE,\"\"))","v":"00035"},{"$f":"Benchsheet!A58","v":"1511B19"},{"$f":"IF(Benchsheet!C58=1121057,\"VA1121057\",IF(Benchsheet!C58=1121090,\"VA1121090\",IF(Benchsheet!C58=1121052,\"VA1121052\",IF(Benchsheet!C58=1121175,\"VA1121175\",IF(Benchsheet!C58=1121580,\"VA1121580\",IF(Benchsheet!C58=1121570,\"VA1121570\",IF(Benchsheet!C58=1121045,\"VA1121045\",IF(Benchsheet!C58=1121655,\"VA1121655\",IF(Benchsheet!C58=1121503,\"VA1121503\",IF(Benchsheet!C58=1121043,\"VA1121043\",IF(Benchsheet!C58=1121900,\"VA1121900\",IF(Benchsheet!C58=1121845,\"VA1121845\",IF(Benchsheet!C58=1121655,\"VA1121655\",IF(Benchsheet!C58=1121900,\"VA1121900\",IF(Benchsheet!C58<1,\"\")))))))))))))))","v":"VA1121052"},{"$f":"IF(Benchsheet!A58>1,\"TC\",IF(Benchsheet!A58=FALSE,\"\"))","v":"TC"},{"$f":"IF(J55=\"WL001\",\"MPN\",IF(Benchsheet!B58=FALSE,\"\",IF(J55=\"WL002\",\"MPN\",IF(J55=\"WL003\",\"MPN\",IF(J55=\"DS001\",\"TC\")))))","v":"TC"},{"$f":"Benchsheet!E58","v":"RT"},"Y",{"$f":"Benchsheet!B58","v":"DS001"},{"$f":"IF(J55=\"WL001\",\"RW001\",IF(Benchsheet!B58=FALSE,\"\",IF(J55=\"WL002\",\"RW002\",IF(J55=\"WL003\",\"RW003\",IF(J55=\"DS001\",\"TCR001\",IF(J55=\"DS001\",\"TCR01\"))))))","v":"TCR001"},{"$f":"Benchsheet!D58","v":"Golf Course (Graves Ave.) "},{"$f":"Benchsheet!G58","v":"2015-11-10"},{"$f":"Benchsheet!H58","v":925},{"$f":"Benchsheet!I58","v":"2015-11-10"},{"$f":"Benchsheet!F58","v":"James"},{"$f":"Benchsheet!P58","v":1.1200000000000001},{"$f":"Benchsheet!O58","v":0}]
[{"$f":"IF(Benchsheet!A59>1,\"sample\",IF(Benchsheet!A59=FALSE,\"\"))","v":"sample"},{"$f":"IF(Benchsheet!A59>1,\"STATE\",IF(Benchsheet!A59=FALSE,\"\"))","v":"STATE"},{"$f":"IF(Benchsheet!A59>1,\"00035\",IF(Benchsheet!A59=FALSE,\"\"))","v":"00035"},{"$f":"Benchsheet!A59","v":"1511B20"},{"$f":"IF(Benchsheet!C59=1121057,\"VA1121057\",IF(Benchsheet!C59=1121090,\"VA1121090\",IF(Benchsheet!C59=1121052,\"VA1121052\",IF(Benchsheet!C59=1121175,\"VA1121175\",IF(Benchsheet!C59=1121580,\"VA1121580\",IF(Benchsheet!C59=1121570,\"VA1121570\",IF(Benchsheet!C59=1121045,\"VA1121045\",IF(Benchsheet!C59=1121655,\"VA1121655\",IF(Benchsheet!C59=1121503,\"VA1121503\",IF(Benchsheet!C59=1121043,\"VA1121043\",IF(Benchsheet!C59=1121900,\"VA1121900\",IF(Benchsheet!C59=1121845,\"VA1121845\",IF(Benchsheet!C59=1121655,\"VA1121655\",IF(Benchsheet!C59=1121900,\"VA1121900\",IF(Benchsheet!C59<1,\"\")))))))))))))))","v":"VA1121052"},{"$f":"IF(Benchsheet!A59>1,\"TC\",IF(Benchsheet!A59=FALSE,\"\"))","v":"TC"},{"$f":"IF(J56=\"WL001\",\"MPN\",IF(Benchsheet!B59=FALSE,\"\",IF(J56=\"WL002\",\"MPN\",IF(J56=\"WL003\",\"MPN\",IF(J56=\"DS001\",\"TC\")))))","v":"TC"},{"$f":"Benchsheet!E59","v":"RT"},"Y",{"$f":"Benchsheet!B59","v":"DS001"},{"$f":"IF(J56=\"WL001\",\"RW001\",IF(Benchsheet!B59=FALSE,\"\",IF(J56=\"WL002\",\"RW002\",IF(J56=\"WL003\",\"RW003\",IF(J56=\"DS001\",\"TCR001\",IF(J56=\"DS001\",\"TCR01\"))))))","v":"TCR001"},{"$f":"Benchsheet!D59","v":"Alleghany Pump Station"},{"$f":"Benchsheet!G59","v":"2015-11-10"},{"$f":"Benchsheet!H59","v":1000},{"$f":"Benchsheet!I59","v":"2015-11-10"},{"$f":"Benchsheet!F59","v":"James"},{"$f":"Benchsheet!P59","v":2.5},{"$f":"Benchsheet!O59","v":0}]
[{"$f":"IF(Benchsheet!A60>1,\"sample\",IF(Benchsheet!A60=FALSE,\"\"))","v":"sample"},{"$f":"IF(Benchsheet!A60>1,\"STATE\",IF(Benchsheet!A60=FALSE,\"\"))","v":"STATE"},{"$f":"IF(Benchsheet!A60>1,\"00035\",IF(Benchsheet!A60=FALSE,\"\"))","v":"00035"},{"$f":"Benchsheet!A60","v":"1511B21"},{"$f":"IF(Benchsheet!C60=1121057,\"VA1121057\",IF(Benchsheet!C60=1121090,\"VA1121090\",IF(Benchsheet!C60=1121052,\"VA1121052\",IF(Benchsheet!C60=1121175,\"VA1121175\",IF(Benchsheet!C60=1121580,\"VA1121580\",IF(Benchsheet!C60=1121570,\"VA1121570\",IF(Benchsheet!C60=1121045,\"VA1121045\",IF(Benchsheet!C60=1121655,\"VA1121655\",IF(Benchsheet!C60=1121503,\"VA1121503\",IF(Benchsheet!C60=1121043,\"VA1121043\",IF(Benchsheet!C60=1121900,\"VA1121900\",IF(Benchsheet!C60=1121845,\"VA1121845\",IF(Benchsheet!C60=1121655,\"VA1121655\",IF(Benchsheet!C60=1121900,\"VA1121900\",IF(Benchsheet!C60<1,\"\")))))))))))))))","v":"VA1121052"},{"$f":"IF(Benchsheet!A60>1,\"TC\",IF(Benchsheet!A60=FALSE,\"\"))","v":"TC"},{"$f":"IF(J57=\"WL001\",\"MPN\",IF(Benchsheet!B60=FALSE,\"\",IF(J57=\"WL002\",\"MPN\",IF(J57=\"WL003\",\"MPN\",IF(J57=\"DS001\",\"TC\")))))","v":"TC"},{"$f":"Benchsheet!E60","v":"RT"},"Y",{"$f":"Benchsheet!B60","v":"DS001"},{"$f":"IF(J57=\"WL001\",\"RW001\",IF(Benchsheet!B60=FALSE,\"\",IF(J57=\"WL002\",\"RW002\",IF(J57=\"WL003\",\"RW003\",IF(J57=\"DS001\",\"TCR001\",IF(J57=\"DS001\",\"TCR01\"))))))","v":"TCR001"},{"$f":"Benchsheet!D60","v":"Cemetery Bldg.(Roanoke St.)"},{"$f":"Benchsheet!G60","v":"2015-11-10"},{"$f":"Benchsheet!H60","v":1012},{"$f":"Benchsheet!I60","v":"2015-11-10"},{"$f":"Benchsheet!F60","v":"James"},{"$f":"Benchsheet!P60","v":2.65},{"$f":"Benchsheet!O60","v":0}]
[{"$f":"IF(Benchsheet!A61>1,\"sample\",IF(Benchsheet!A61=FALSE,\"\"))","v":"sample"},{"$f":"IF(Benchsheet!A61>1,\"STATE\",IF(Benchsheet!A61=FALSE,\"\"))","v":"STATE"},{"$f":"IF(Benchsheet!A61>1,\"00035\",IF(Benchsheet!A61=FALSE,\"\"))","v":"00035"},{"$f":"Benchsheet!A61","v":"1511B22"},{"$f":"IF(Benchsheet!C61=1121057,\"VA1121057\",IF(Benchsheet!C61=1121090,\"VA1121090\",IF(Benchsheet!C61=1121052,\"VA1121052\",IF(Benchsheet!C61=1121175,\"VA1121175\",IF(Benchsheet!C61=1121580,\"VA1121580\",IF(Benchsheet!C61=1121570,\"VA1121570\",IF(Benchsheet!C61=1121045,\"VA1121045\",IF(Benchsheet!C61=1121655,\"VA1121655\",IF(Benchsheet!C61=1121503,\"VA1121503\",IF(Benchsheet!C61=1121043,\"VA1121043\",IF(Benchsheet!C61=1121900,\"VA1121900\",IF(Benchsheet!C61=1121845,\"VA1121845\",IF(Benchsheet!C61=1121655,\"VA1121655\",IF(Benchsheet!C61=1121900,\"VA1121900\",IF(Benchsheet!C61<1,\"\")))))))))))))))","v":"VA1121052"},{"$f":"IF(Benchsheet!A61>1,\"TC\",IF(Benchsheet!A61=FALSE,\"\"))","v":"TC"},{"$f":"IF(J58=\"WL001\",\"MPN\",IF(Benchsheet!B61=FALSE,\"\",IF(J58=\"WL002\",\"MPN\",IF(J58=\"WL003\",\"MPN\",IF(J58=\"DS001\",\"TC\")))))","v":"TC"},{"$f":"Benchsheet!E61","v":"RT"},"Y",{"$f":"Benchsheet!B61","v":"DS001"},{"$f":"IF(J58=\"WL001\",\"RW001\",IF(Benchsheet!B61=FALSE,\"\",IF(J58=\"WL002\",\"RW002\",IF(J58=\"WL003\",\"RW003\",IF(J58=\"DS001\",\"TCR001\",IF(J58=\"DS001\",\"TCR01\"))))))","v":"TCR001"},{"$f":"Benchsheet!D61","v":"Fire Station( Progress St.)"},{"$f":"Benchsheet!G61","v":"2015-11-10"},{"$f":"Benchsheet!H61","v":1017},{"$f":"Benchsheet!I61","v":"2015-11-10"},{"$f":"Benchsheet!F61","v":"James"},{"$f":"Benchsheet!P61","v":2.7},{"$f":"Benchsheet!O61","v":0}]
[{"$f":"IF(Benchsheet!A62>1,\"sample\",IF(Benchsheet!A62=FALSE,\"\"))","v":"sample"},{"$f":"IF(Benchsheet!A62>1,\"STATE\",IF(Benchsheet!A62=FALSE,\"\"))","v":"STATE"},{"$f":"IF(Benchsheet!A62>1,\"00035\",IF(Benchsheet!A62=FALSE,\"\"))","v":"00035"},{"$f":"Benchsheet!A62","v":"1511B23"},{"$f":"IF(Benchsheet!C62=1121057,\"VA1121057\",IF(Benchsheet!C62=1121090,\"VA1121090\",IF(Benchsheet!C62=1121052,\"VA1121052\",IF(Benchsheet!C62=1121175,\"VA1121175\",IF(Benchsheet!C62=1121580,\"VA1121580\",IF(Benchsheet!C62=1121570,\"VA1121570\",IF(Benchsheet!C62=1121045,\"VA1121045\",IF(Benchsheet!C62=1121655,\"VA1121655\",IF(Benchsheet!C62=1121503,\"VA1121503\",IF(Benchsheet!C62=1121043,\"VA1121043\",IF(Benchsheet!C62=1121900,\"VA1121900\",IF(Benchsheet!C62=1121845,\"VA1121845\",IF(Benchsheet!C62=1121655,\"VA1121655\",IF(Benchsheet!C62=1121900,\"VA1121900\",IF(Benchsheet!C62<1,\"\")))))))))))))))","v":"VA1121052"},{"$f":"IF(Benchsheet!A62>1,\"TC\",IF(Benchsheet!A62=FALSE,\"\"))","v":"TC"},{"$f":"IF(J59=\"WL001\",\"MPN\",IF(Benchsheet!B62=FALSE,\"\",IF(J59=\"WL002\",\"MPN\",IF(J59=\"WL003\",\"MPN\",IF(J59=\"DS001\",\"TC\")))))","v":"TC"},{"$f":"Benchsheet!E62","v":"RT"},"Y",{"$f":"Benchsheet!B62","v":"DS001"},{"$f":"IF(J59=\"WL001\",\"RW001\",IF(Benchsheet!B62=FALSE,\"\",IF(J59=\"WL002\",\"RW002\",IF(J59=\"WL003\",\"RW003\",IF(J59=\"DS001\",\"TCR001\",IF(J59=\"DS001\",\"TCR01\"))))))","v":"TCR001"},{"$f":"Benchsheet!D62","v":"Murphy Pump Station"},{"$f":"Benchsheet!G62","v":"2015-11-10"},{"$f":"Benchsheet!H62","v":1030},{"$f":"Benchsheet!I62","v":"2015-11-10"},{"$f":"Benchsheet!F62","v":"James"},{"$f":"Benchsheet!P62","v":2.23},{"$f":"Benchsheet!O62","v":0}]
[{"$f":"IF(Benchsheet!A63>1,\"sample\",IF(Benchsheet!A63=FALSE,\"\"))","v":"sample"},{"$f":"IF(Benchsheet!A63>1,\"STATE\",IF(Benchsheet!A63=FALSE,\"\"))","v":"STATE"},{"$f":"IF(Benchsheet!A63>1,\"00035\",IF(Benchsheet!A63=FALSE,\"\"))","v":"00035"},{"$f":"Benchsheet!A63","v":"1511B24"},{"$f":"IF(Benchsheet!C63=1121057,\"VA1121057\",IF(Benchsheet!C63=1121090,\"VA1121090\",IF(Benchsheet!C63=1121052,\"VA1121052\",IF(Benchsheet!C63=1121175,\"VA1121175\",IF(Benchsheet!C63=1121580,\"VA1121580\",IF(Benchsheet!C63=1121570,\"VA1121570\",IF(Benchsheet!C63=1121045,\"VA1121045\",IF(Benchsheet!C63=1121655,\"VA1121655\",IF(Benchsheet!C63=1121503,\"VA1121503\",IF(Benchsheet!C63=1121043,\"VA1121043\",IF(Benchsheet!C63=1121900,\"VA1121900\",IF(Benchsheet!C63=1121845,\"VA1121845\",IF(Benchsheet!C63=1121655,\"VA1121655\",IF(Benchsheet!C63=1121900,\"VA1121900\",IF(Benchsheet!C63<1,\"\")))))))))))))))","v":"VA1121052"},{"$f":"IF(Benchsheet!A63>1,\"TC\",IF(Benchsheet!A63=FALSE,\"\"))","v":"TC"},{"$f":"IF(J60=\"WL001\",\"MPN\",IF(Benchsheet!B63=FALSE,\"\",IF(J60=\"WL002\",\"MPN\",IF(J60=\"WL003\",\"MPN\",IF(J60=\"DS001\",\"TC\")))))","v":"TC"},{"$f":"Benchsheet!E63","v":"RT"},"Y",{"$f":"Benchsheet!B63","v":"DS001"},{"$f":"IF(J60=\"WL001\",\"RW001\",IF(Benchsheet!B63=FALSE,\"\",IF(J60=\"WL002\",\"RW002\",IF(J60=\"WL003\",\"RW003\",IF(J60=\"DS001\",\"TCR001\",IF(J60=\"DS001\",\"TCR01\"))))))","v":"TCR001"},{"$f":"Benchsheet!D63","v":"N.Main Water Tank"},{"$f":"Benchsheet!G63","v":"2015-11-10"},{"$f":"Benchsheet!H63","v":1047},{"$f":"Benchsheet!I63","v":"2015-11-10"},{"$f":"Benchsheet!F63","v":"James"},{"$f":"Benchsheet!P63","v":2.04},{"$f":"Benchsheet!O63","v":0}]
[{"$f":"IF(Benchsheet!A64>1,\"sample\",IF(Benchsheet!A64=FALSE,\"\"))","v":"sample"},{"$f":"IF(Benchsheet!A64>1,\"STATE\",IF(Benchsheet!A64=FALSE,\"\"))","v":"STATE"},{"$f":"IF(Benchsheet!A64>1,\"00035\",IF(Benchsheet!A64=FALSE,\"\"))","v":"00035"},{"$f":"Benchsheet!A64","v":"1511B25"},{"$f":"IF(Benchsheet!C64=1121057,\"VA1121057\",IF(Benchsheet!C64=1121090,\"VA1121090\",IF(Benchsheet!C64=1121052,\"VA1121052\",IF(Benchsheet!C64=1121175,\"VA1121175\",IF(Benchsheet!C64=1121580,\"VA1121580\",IF(Benchsheet!C64=1121570,\"VA1121570\",IF(Benchsheet!C64=1121045,\"VA1121045\",IF(Benchsheet!C64=1121655,\"VA1121655\",IF(Benchsheet!C64=1121503,\"VA1121503\",IF(Benchsheet!C64=1121043,\"VA1121043\",IF(Benchsheet!C64=1121900,\"VA1121900\",IF(Benchsheet!C64=1121845,\"VA1121845\",IF(Benchsheet!C64=1121655,\"VA1121655\",IF(Benchsheet!C64=1121900,\"VA1121900\",IF(Benchsheet!C64<1,\"\")))))))))))))))","v":"VA1121052"},{"$f":"IF(Benchsheet!A64>1,\"TC\",IF(Benchsheet!A64=FALSE,\"\"))","v":"TC"},{"$f":"IF(J61=\"WL001\",\"MPN\",IF(Benchsheet!B64=FALSE,\"\",IF(J61=\"WL002\",\"MPN\",IF(J61=\"WL003\",\"MPN\",IF(J61=\"DS001\",\"TC\")))))","v":"TC"},{"$f":"Benchsheet!E64","v":"RT"},"Y",{"$f":"Benchsheet!B64","v":"DS001"},{"$f":"IF(J61=\"WL001\",\"RW001\",IF(Benchsheet!B64=FALSE,\"\",IF(J61=\"WL002\",\"RW002\",IF(J61=\"WL003\",\"RW003\",IF(J61=\"DS001\",\"TCR001\",IF(J61=\"DS001\",\"TCR01\"))))))","v":"TCR001"},{"$f":"Benchsheet!D64","v":"Shenandoah II (Givens Ln.)"},{"$f":"Benchsheet!G64","v":"2015-11-10"},{"$f":"Benchsheet!H64","v":1107},{"$f":"Benchsheet!I64","v":"2015-11-10"},{"$f":"Benchsheet!F64","v":"James"},{"$f":"Benchsheet!P64","v":1.92},{"$f":"Benchsheet!O64","v":0}]
[{"$f":"IF(Benchsheet!A65>1,\"sample\",IF(Benchsheet!A65=FALSE,\"\"))","v":"sample"},{"$f":"IF(Benchsheet!A65>1,\"STATE\",IF(Benchsheet!A65=FALSE,\"\"))","v":"STATE"},{"$f":"IF(Benchsheet!A65>1,\"00035\",IF(Benchsheet!A65=FALSE,\"\"))","v":"00035"},{"$f":"Benchsheet!A65","v":"1511B26"},{"$f":"IF(Benchsheet!C65=1121057,\"VA1121057\",IF(Benchsheet!C65=1121090,\"VA1121090\",IF(Benchsheet!C65=1121052,\"VA1121052\",IF(Benchsheet!C65=1121175,\"VA1121175\",IF(Benchsheet!C65=1121580,\"VA1121580\",IF(Benchsheet!C65=1121570,\"VA1121570\",IF(Benchsheet!C65=1121045,\"VA1121045\",IF(Benchsheet!C65=1121655,\"VA1121655\",IF(Benchsheet!C65=1121503,\"VA1121503\",IF(Benchsheet!C65=1121043,\"VA1121043\",IF(Benchsheet!C65=1121900,\"VA1121900\",IF(Benchsheet!C65=1121845,\"VA1121845\",IF(Benchsheet!C65=1121655,\"VA1121655\",IF(Benchsheet!C65=1121900,\"VA1121900\",IF(Benchsheet!C65<1,\"\")))))))))))))))","v":"VA1121052"},{"$f":"IF(Benchsheet!A65>1,\"TC\",IF(Benchsheet!A65=FALSE,\"\"))","v":"TC"},{"$f":"IF(J62=\"WL001\",\"MPN\",IF(Benchsheet!B65=FALSE,\"\",IF(J62=\"WL002\",\"MPN\",IF(J62=\"WL003\",\"MPN\",IF(J62=\"DS001\",\"TC\")))))","v":"TC"},{"$f":"Benchsheet!E65","v":"RT"},"Y",{"$f":"Benchsheet!B65","v":"DS001"},{"$f":"IF(J62=\"WL001\",\"RW001\",IF(Benchsheet!B65=FALSE,\"\",IF(J62=\"WL002\",\"RW002\",IF(J62=\"WL003\",\"RW003\",IF(J62=\"DS001\",\"TCR001\",IF(J62=\"DS001\",\"TCR01\"))))))","v":"TCR001"},{"$f":"Benchsheet!D65","v":"Prices Trailer Ct. (Meadowbrook Dr.)"},{"$f":"Benchsheet!G65","v":"2015-11-10"},{"$f":"Benchsheet!H65","v":1119},{"$f":"Benchsheet!I65","v":"2015-11-10"},{"$f":"Benchsheet!F65","v":"James"},{"$f":"Benchsheet!P65","v":1.88},{"$f":"Benchsheet!O65","v":0}]
[{"$f":"IF(Benchsheet!A66>1,\"sample\",IF(Benchsheet!A66=FALSE,\"\"))","v":"sample"},{"$f":"IF(Benchsheet!A66>1,\"STATE\",IF(Benchsheet!A66=FALSE,\"\"))","v":"STATE"},{"$f":"IF(Benchsheet!A66>1,\"00035\",IF(Benchsheet!A66=FALSE,\"\"))","v":"00035"},{"$f":"Benchsheet!A66","v":"1511B27"},{"$f":"IF(Benchsheet!C66=1121057,\"VA1121057\",IF(Benchsheet!C66=1121090,\"VA1121090\",IF(Benchsheet!C66=1121052,\"VA1121052\",IF(Benchsheet!C66=1121175,\"VA1121175\",IF(Benchsheet!C66=1121580,\"VA1121580\",IF(Benchsheet!C66=1121570,\"VA1121570\",IF(Benchsheet!C66=1121045,\"VA1121045\",IF(Benchsheet!C66=1121655,\"VA1121655\",IF(Benchsheet!C66=1121503,\"VA1121503\",IF(Benchsheet!C66=1121043,\"VA1121043\",IF(Benchsheet!C66=1121900,\"VA1121900\",IF(Benchsheet!C66=1121845,\"VA1121845\",IF(Benchsheet!C66=1121655,\"VA1121655\",IF(Benchsheet!C66=1121900,\"VA1121900\",IF(Benchsheet!C66<1,\"\")))))))))))))))","v":"VA1121052"},{"$f":"IF(Benchsheet!A66>1,\"TC\",IF(Benchsheet!A66=FALSE,\"\"))","v":"TC"},{"$f":"IF(J63=\"WL001\",\"MPN\",IF(Benchsheet!B66=FALSE,\"\",IF(J63=\"WL002\",\"MPN\",IF(J63=\"WL003\",\"MPN\",IF(J63=\"DS001\",\"TC\")))))","v":"TC"},{"$f":"Benchsheet!E66","v":"RT"},"Y",{"$f":"Benchsheet!B66","v":"DS001"},{"$f":"IF(J63=\"WL001\",\"RW001\",IF(Benchsheet!B66=FALSE,\"\",IF(J63=\"WL002\",\"RW002\",IF(J63=\"WL003\",\"RW003\",IF(J63=\"DS001\",\"TCR001\",IF(J63=\"DS001\",\"TCR01\"))))))","v":"TCR001"},{"$f":"Benchsheet!D66","v":"Foxridge Apts.(Tall Oak Dr.)"},{"$f":"Benchsheet!G66","v":"2015-11-10"},{"$f":"Benchsheet!H66","v":1142},{"$f":"Benchsheet!I66","v":"2015-11-10"},{"$f":"Benchsheet!F66","v":"James"},{"$f":"Benchsheet!P66","v":2.21},{"$f":"Benchsheet!O66","v":0}]
[{"$f":"IF(Benchsheet!A67>1,\"sample\",IF(Benchsheet!A67=FALSE,\"\"))","v":"sample"},{"$f":"IF(Benchsheet!A67>1,\"STATE\",IF(Benchsheet!A67=FALSE,\"\"))","v":"STATE"},{"$f":"IF(Benchsheet!A67>1,\"00035\",IF(Benchsheet!A67=FALSE,\"\"))","v":"00035"},{"$f":"Benchsheet!A67","v":"1511M24"},{"$f":"IF(Benchsheet!C67=1121057,\"VA1121057\",IF(Benchsheet!C67=1121090,\"VA1121090\",IF(Benchsheet!C67=1121052,\"VA1121052\",IF(Benchsheet!C67=1121175,\"VA1121175\",IF(Benchsheet!C67=1121580,\"VA1121580\",IF(Benchsheet!C67=1121570,\"VA1121570\",IF(Benchsheet!C67=1121045,\"VA1121045\",IF(Benchsheet!C67=1121655,\"VA1121655\",IF(Benchsheet!C67=1121503,\"VA1121503\",IF(Benchsheet!C67=1121043,\"VA1121043\",IF(Benchsheet!C67=1121900,\"VA1121900\",IF(Benchsheet!C67=1121845,\"VA1121845\",IF(Benchsheet!C67=1121655,\"VA1121655\",IF(Benchsheet!C67=1121900,\"VA1121900\",IF(Benchsheet!C67<1,\"\")))))))))))))))","v":"VA1121175"},{"$f":"IF(Benchsheet!A67>1,\"TC\",IF(Benchsheet!A67=FALSE,\"\"))","v":"TC"},{"$f":"IF(J64=\"WL001\",\"MPN\",IF(Benchsheet!B67=FALSE,\"\",IF(J64=\"WL002\",\"MPN\",IF(J64=\"WL003\",\"MPN\",IF(J64=\"DS001\",\"TC\")))))","v":"TC"},{"$f":"Benchsheet!E67","v":"RT"},"Y",{"$f":"Benchsheet!B67","v":"DS001"},{"$f":"IF(J64=\"WL001\",\"RW001\",IF(Benchsheet!B67=FALSE,\"\",IF(J64=\"WL002\",\"RW002\",IF(J64=\"WL003\",\"RW003\",IF(J64=\"DS001\",\"TCR001\",IF(J64=\"DS001\",\"TCR01\"))))))","v":"TCR001"},{"$f":"Benchsheet!D67","v":"Hale's Restaurant "},{"$f":"Benchsheet!G67","v":"2015-11-10"},{"$f":"Benchsheet!H67","v":1148},{"$f":"Benchsheet!I67","v":"2015-11-10"},{"$f":"Benchsheet!F67","v":"Farmer"},{"$f":"Benchsheet!P67","v":2.2000000000000002},{"$f":"Benchsheet!O67","v":0}]
[{"$f":"IF(Benchsheet!A68>1,\"sample\",IF(Benchsheet!A68=FALSE,\"\"))","v":"sample"},{"$f":"IF(Benchsheet!A68>1,\"STATE\",IF(Benchsheet!A68=FALSE,\"\"))","v":"STATE"},{"$f":"IF(Benchsheet!A68>1,\"00035\",IF(Benchsheet!A68=FALSE,\"\"))","v":"00035"},{"$f":"Benchsheet!A68","v":"1511M25"},{"$f":"IF(Benchsheet!C68=1121057,\"VA1121057\",IF(Benchsheet!C68=1121090,\"VA1121090\",IF(Benchsheet!C68=1121052,\"VA1121052\",IF(Benchsheet!C68=1121175,\"VA1121175\",IF(Benchsheet!C68=1121580,\"VA1121580\",IF(Benchsheet!C68=1121570,\"VA1121570\",IF(Benchsheet!C68=1121045,\"VA1121045\",IF(Benchsheet!C68=1121655,\"VA1121655\",IF(Benchsheet!C68=1121503,\"VA1121503\",IF(Benchsheet!C68=1121043,\"VA1121043\",IF(Benchsheet!C68=1121900,\"VA1121900\",IF(Benchsheet!C68=1121845,\"VA1121845\",IF(Benchsheet!C68=1121655,\"VA1121655\",IF(Benchsheet!C68=1121900,\"VA1121900\",IF(Benchsheet!C68<1,\"\")))))))))))))))","v":"VA1121580"},{"$f":"IF(Benchsheet!A68>1,\"TC\",IF(Benchsheet!A68=FALSE,\"\"))","v":"TC"},{"$f":"IF(J65=\"WL001\",\"MPN\",IF(Benchsheet!B68=FALSE,\"\",IF(J65=\"WL002\",\"MPN\",IF(J65=\"WL003\",\"MPN\",IF(J65=\"DS001\",\"TC\")))))","v":"TC"},{"$f":"Benchsheet!E68","v":"RT"},"Y",{"$f":"Benchsheet!B68","v":"DS001"},{"$f":"IF(J65=\"WL001\",\"RW001\",IF(Benchsheet!B68=FALSE,\"\",IF(J65=\"WL002\",\"RW002\",IF(J65=\"WL003\",\"RW003\",IF(J65=\"DS001\",\"TCR001\",IF(J65=\"DS001\",\"TCR01\"))))))","v":"TCR001"},{"$f":"Benchsheet!D68","v":"Merrimac P.H. Church"},{"$f":"Benchsheet!G68","v":"2015-11-10"},{"$f":"Benchsheet!H68","v":1258},{"$f":"Benchsheet!I68","v":"2015-11-10"},{"$f":"Benchsheet!F68","v":"Farmer"},{"$f":"Benchsheet!P68","v":2.6},{"$f":"Benchsheet!O68","v":0}]
[{"$f":"IF(Benchsheet!A69>1,\"sample\",IF(Benchsheet!A69=FALSE,\"\"))","v":"sample"},{"$f":"IF(Benchsheet!A69>1,\"STATE\",IF(Benchsheet!A69=FALSE,\"\"))","v":"STATE"},{"$f":"IF(Benchsheet!A69>1,\"00035\",IF(Benchsheet!A69=FALSE,\"\"))","v":"00035"},{"$f":"Benchsheet!A69","v":"1511M26"},{"$f":"IF(Benchsheet!C69=1121057,\"VA1121057\",IF(Benchsheet!C69=1121090,\"VA1121090\",IF(Benchsheet!C69=1121052,\"VA1121052\",IF(Benchsheet!C69=1121175,\"VA1121175\",IF(Benchsheet!C69=1121580,\"VA1121580\",IF(Benchsheet!C69=1121570,\"VA1121570\",IF(Benchsheet!C69=1121045,\"VA1121045\",IF(Benchsheet!C69=1121655,\"VA1121655\",IF(Benchsheet!C69=1121503,\"VA1121503\",IF(Benchsheet!C69=1121043,\"VA1121043\",IF(Benchsheet!C69=1121900,\"VA1121900\",IF(Benchsheet!C69=1121845,\"VA1121845\",IF(Benchsheet!C69=1121655,\"VA1121655\",IF(Benchsheet!C69=1121900,\"VA1121900\",IF(Benchsheet!C69<1,\"\")))))))))))))))","v":"VA1121503"},{"$f":"IF(Benchsheet!A69>1,\"TC\",IF(Benchsheet!A69=FALSE,\"\"))","v":"TC"},{"$f":"IF(J66=\"WL001\",\"MPN\",IF(Benchsheet!B69=FALSE,\"\",IF(J66=\"WL002\",\"MPN\",IF(J66=\"WL003\",\"MPN\",IF(J66=\"DS001\",\"TC\")))))","v":"TC"},{"$f":"Benchsheet!E69","v":"RT"},"Y",{"$f":"Benchsheet!B69","v":"DS001"},{"$f":"IF(J66=\"WL001\",\"RW001\",IF(Benchsheet!B69=FALSE,\"\",IF(J66=\"WL002\",\"RW002\",IF(J66=\"WL003\",\"RW003\",IF(J66=\"DS001\",\"TCR001\",IF(J66=\"DS001\",\"TCR01\"))))))","v":"TCR001"},{"$f":"Benchsheet!D69","v":"2120 Knoll Crest Dr."},{"$f":"Benchsheet!G69","v":"2015-11-10"},{"$f":"Benchsheet!H69","v":1125},{"$f":"Benchsheet!I69","v":"2015-11-10"},{"$f":"Benchsheet!F69","v":"Farmer"},{"$f":"Benchsheet!P69","v":2.1},{"$f":"Benchsheet!O69","v":0}]
[{"$f":"IF(Benchsheet!A70>1,\"sample\",IF(Benchsheet!A70=FALSE,\"\"))","v":"sample"},{"$f":"IF(Benchsheet!A70>1,\"STATE\",IF(Benchsheet!A70=FALSE,\"\"))","v":"STATE"},{"$f":"IF(Benchsheet!A70>1,\"00035\",IF(Benchsheet!A70=FALSE,\"\"))","v":"00035"},{"$f":"Benchsheet!A70","v":"1511M27"},{"$f":"IF(Benchsheet!C70=1121057,\"VA1121057\",IF(Benchsheet!C70=1121090,\"VA1121090\",IF(Benchsheet!C70=1121052,\"VA1121052\",IF(Benchsheet!C70=1121175,\"VA1121175\",IF(Benchsheet!C70=1121580,\"VA1121580\",IF(Benchsheet!C70=1121570,\"VA1121570\",IF(Benchsheet!C70=1121045,\"VA1121045\",IF(Benchsheet!C70=1121655,\"VA1121655\",IF(Benchsheet!C70=1121503,\"VA1121503\",IF(Benchsheet!C70=1121043,\"VA1121043\",IF(Benchsheet!C70=1121900,\"VA1121900\",IF(Benchsheet!C70=1121845,\"VA1121845\",IF(Benchsheet!C70=1121655,\"VA1121655\",IF(Benchsheet!C70=1121900,\"VA1121900\",IF(Benchsheet!C70<1,\"\")))))))))))))))","v":"VA1121043"},{"$f":"IF(Benchsheet!A70>1,\"TC\",IF(Benchsheet!A70=FALSE,\"\"))","v":"TC"},{"$f":"IF(J67=\"WL001\",\"MPN\",IF(Benchsheet!B70=FALSE,\"\",IF(J67=\"WL002\",\"MPN\",IF(J67=\"WL003\",\"MPN\",IF(J67=\"DS001\",\"TC\")))))","v":"TC"},{"$f":"Benchsheet!E70","v":"RT"},{"$f":"IF(H67=\"RT\",\"Y\",IF(H67=\"SP\",\"N\",IF(H67=\"RP\",\"Y\",IF(H67=\"GE\",\"Y\",\"\"))))","v":"Y"},{"$f":"Benchsheet!B70","v":"DS001"},{"$f":"IF(J67=\"WL001\",\"RW001\",IF(Benchsheet!B70=FALSE,\"\",IF(J67=\"WL002\",\"RW002\",IF(J67=\"WL003\",\"RW003\",IF(J67=\"DS001\",\"TCR001\",IF(J67=\"DS001\",\"TCR01\"))))))","v":"TCR001"},{"$f":"Benchsheet!D70","v":"Belview Elem. School"},{"$f":"Benchsheet!G70","v":"2015-11-10"},{"$f":"Benchsheet!H70","v":1312},{"$f":"Benchsheet!I70","v":"2015-11-10"},{"$f":"Benchsheet!F70","v":"Farmer"},{"$f":"Benchsheet!P70","v":2.5},{"$f":"Benchsheet!O70","v":0}]
[{"$f":"IF(Benchsheet!A71>1,\"sample\",IF(Benchsheet!A71=FALSE,\"\"))","v":"sample"},{"$f":"IF(Benchsheet!A71>1,\"STATE\",IF(Benchsheet!A71=FALSE,\"\"))","v":"STATE"},{"$f":"IF(Benchsheet!A71>1,\"00035\",IF(Benchsheet!A71=FALSE,\"\"))","v":"00035"},{"$f":"Benchsheet!A71","v":"1511M28"},{"$f":"IF(Benchsheet!C71=1121057,\"VA1121057\",IF(Benchsheet!C71=1121090,\"VA1121090\",IF(Benchsheet!C71=1121052,\"VA1121052\",IF(Benchsheet!C71=1121175,\"VA1121175\",IF(Benchsheet!C71=1121580,\"VA1121580\",IF(Benchsheet!C71=1121570,\"VA1121570\",IF(Benchsheet!C71=1121045,\"VA1121045\",IF(Benchsheet!C71=1121655,\"VA1121655\",IF(Benchsheet!C71=1121503,\"VA1121503\",IF(Benchsheet!C71=1121043,\"VA1121043\",IF(Benchsheet!C71=1121900,\"VA1121900\",IF(Benchsheet!C71=1121845,\"VA1121845\",IF(Benchsheet!C71=1121655,\"VA1121655\",IF(Benchsheet!C71=1121900,\"VA1121900\",IF(Benchsheet!C71<1,\"\")))))))))))))))","v":"VA1121900"},{"$f":"IF(Benchsheet!A71>1,\"TC\",IF(Benchsheet!A71=FALSE,\"\"))","v":"TC"},{"$f":"IF(J68=\"WL001\",\"MPN\",IF(Benchsheet!B71=FALSE,\"\",IF(J68=\"WL002\",\"MPN\",IF(J68=\"WL003\",\"MPN\",IF(J68=\"DS001\",\"TC\")))))","v":"TC"},{"$f":"Benchsheet!E71","v":"RT"},"Y",{"$f":"Benchsheet!B71","v":"DS001"},{"$f":"IF(J68=\"WL001\",\"RW001\",IF(Benchsheet!B71=FALSE,\"\",IF(J68=\"WL002\",\"RW002\",IF(J68=\"WL003\",\"RW003\",IF(J68=\"DS001\",\"TCR001\",IF(J68=\"DS001\",\"TCR01\"))))))","v":"TCR001"},{"$f":"Benchsheet!D71","v":"2653 Beulah Lane"},{"$f":"Benchsheet!G71","v":"2015-11-10"},{"$f":"Benchsheet!H71","v":1044},{"$f":"Benchsheet!I71","v":"2015-11-10"},{"$f":"Benchsheet!F71","v":"Farmer"},{"$f":"Benchsheet!P71","v":0.8},{"$f":"Benchsheet!O71","v":0}]
[{"$f":"IF(Benchsheet!A72>1,\"sample\",IF(Benchsheet!A72=FALSE,\"\"))","v":"sample"},{"$f":"IF(Benchsheet!A72>1,\"STATE\",IF(Benchsheet!A72=FALSE,\"\"))","v":"STATE"},{"$f":"IF(Benchsheet!A72>1,\"00035\",IF(Benchsheet!A72=FALSE,\"\"))","v":"00035"},{"$f":"Benchsheet!A72","v":"1511M29"},{"$f":"IF(Benchsheet!C72=1121057,\"VA1121057\",IF(Benchsheet!C72=1121090,\"VA1121090\",IF(Benchsheet!C72=1121052,\"VA1121052\",IF(Benchsheet!C72=1121175,\"VA1121175\",IF(Benchsheet!C72=1121580,\"VA1121580\",IF(Benchsheet!C72=1121570,\"VA1121570\",IF(Benchsheet!C72=1121045,\"VA1121045\",IF(Benchsheet!C72=1121655,\"VA1121655\",IF(Benchsheet!C72=1121503,\"VA1121503\",IF(Benchsheet!C72=1121043,\"VA1121043\",IF(Benchsheet!C72=1121900,\"VA1121900\",IF(Benchsheet!C72=1121845,\"VA1121845\",IF(Benchsheet!C72=1121655,\"VA1121655\",IF(Benchsheet!C72=1121900,\"VA1121900\",IF(Benchsheet!C72<1,\"\")))))))))))))))","v":"VA1121580"},{"$f":"IF(Benchsheet!A72>1,\"TC\",IF(Benchsheet!A72=FALSE,\"\"))","v":"TC"},{"$f":"IF(J69=\"WL001\",\"MPN\",IF(Benchsheet!B72=FALSE,\"\",IF(J69=\"WL002\",\"MPN\",IF(J69=\"WL003\",\"MPN\",IF(J69=\"DS001\",\"TC\")))))","v":"TC"},{"$f":"Benchsheet!E72","v":"RT"},"Y",{"$f":"Benchsheet!B72","v":"DS001"},{"$f":"IF(J69=\"WL001\",\"RW001\",IF(Benchsheet!B72=FALSE,\"\",IF(J69=\"WL002\",\"RW002\",IF(J69=\"WL003\",\"RW003\",IF(J69=\"DS001\",\"TCR001\",IF(J69=\"DS001\",\"TCR01\"))))))","v":"TCR001"},{"$f":"Benchsheet!D72","v":"1614 Hawthorne Ridge"},{"$f":"Benchsheet!G72","v":"2015-11-10"},{"$f":"Benchsheet!H72","v":1450},{"$f":"Benchsheet!I72","v":"2015-11-10"},{"$f":"Benchsheet!F72","v":"Farmer"},{"$f":"Benchsheet!P72","v":2.8},{"$f":"Benchsheet!O72","v":0}]
[{"$f":"IF(Benchsheet!A73>1,\"sample\",IF(Benchsheet!A73=FALSE,\"\"))","v":"sample"},{"$f":"IF(Benchsheet!A73>1,\"STATE\",IF(Benchsheet!A73=FALSE,\"\"))","v":"STATE"},{"$f":"IF(Benchsheet!A73>1,\"00035\",IF(Benchsheet!A73=FALSE,\"\"))","v":"00035"},{"$f":"Benchsheet!A73","v":"1511P11"},{"$f":"IF(Benchsheet!C73=1121057,\"VA1121057\",IF(Benchsheet!C73=1121090,\"VA1121090\",IF(Benchsheet!C73=1121052,\"VA1121052\",IF(Benchsheet!C73=1121175,\"VA1121175\",IF(Benchsheet!C73=1121580,\"VA1121580\",IF(Benchsheet!C73=1121570,\"VA1121570\",IF(Benchsheet!C73=1121045,\"VA1121045\",IF(Benchsheet!C73=1121655,\"VA1121655\",IF(Benchsheet!C73=1121503,\"VA1121503\",IF(Benchsheet!C73=1121043,\"VA1121043\",IF(Benchsheet!C73=1121900,\"VA1121900\",IF(Benchsheet!C73=1121845,\"VA1121845\",IF(Benchsheet!C73=1121655,\"VA1121655\",IF(Benchsheet!C73=1121900,\"VA1121900\",IF(Benchsheet!C73<1,\"\")))))))))))))))","v":"VA1121057"},{"$f":"IF(Benchsheet!A73>1,\"TC\",IF(Benchsheet!A73=FALSE,\"\"))","v":"TC"},{"$f":"IF(J70=\"WL001\",\"MPN\",IF(Benchsheet!B73=FALSE,\"\",IF(J70=\"WL002\",\"MPN\",IF(J70=\"WL003\",\"MPN\",IF(J70=\"DS001\",\"TC\")))))","v":"TC"},{"$f":"Benchsheet!E73","v":"SP"},"N",{"$f":"Benchsheet!B73","v":"DS001"},{"$f":"IF(J70=\"WL001\",\"RW001\",IF(Benchsheet!B73=FALSE,\"\",IF(J70=\"WL002\",\"RW002\",IF(J70=\"WL003\",\"RW003\",IF(J70=\"DS001\",\"TCR001\",IF(J70=\"DS001\",\"TCR01\"))))))","v":"TCR001"},{"$f":"Benchsheet!D73","v":"Plant Tap Finish"},{"$f":"Benchsheet!G73","v":"2015-11-11"},{"$f":"Benchsheet!H73","v":927},{"$f":"Benchsheet!I73","v":"2015-11-11"},{"$f":"Benchsheet!F73","v":"Megan"},{"$f":"Benchsheet!P73","v":3.7},{"$f":"Benchsheet!O73","v":0}]
[{"$f":"IF(Benchsheet!A74>1,\"sample\",IF(Benchsheet!A74=FALSE,\"\"))","v":"sample"},{"$f":"IF(Benchsheet!A74>1,\"STATE\",IF(Benchsheet!A74=FALSE,\"\"))","v":"STATE"},{"$f":"IF(Benchsheet!A74>1,\"00035\",IF(Benchsheet!A74=FALSE,\"\"))","v":"00035"},{"$f":"Benchsheet!A74","v":"1511P12"},{"$f":"IF(Benchsheet!C74=1121057,\"VA1121057\",IF(Benchsheet!C74=1121090,\"VA1121090\",IF(Benchsheet!C74=1121052,\"VA1121052\",IF(Benchsheet!C74=1121175,\"VA1121175\",IF(Benchsheet!C74=1121580,\"VA1121580\",IF(Benchsheet!C74=1121570,\"VA1121570\",IF(Benchsheet!C74=1121045,\"VA1121045\",IF(Benchsheet!C74=1121655,\"VA1121655\",IF(Benchsheet!C74=1121503,\"VA1121503\",IF(Benchsheet!C74=1121043,\"VA1121043\",IF(Benchsheet!C74=1121900,\"VA1121900\",IF(Benchsheet!C74=1121845,\"VA1121845\",IF(Benchsheet!C74=1121655,\"VA1121655\",IF(Benchsheet!C74=1121900,\"VA1121900\",IF(Benchsheet!C74<1,\"\")))))))))))))))","v":"VA1121057"},{"$f":"IF(Benchsheet!A74>1,\"TC\",IF(Benchsheet!A74=FALSE,\"\"))","v":"TC"},{"$f":"IF(J71=\"WL001\",\"MPN\",IF(Benchsheet!B74=FALSE,\"\",IF(J71=\"WL002\",\"MPN\",IF(J71=\"WL003\",\"MPN\",IF(J71=\"DS001\",\"TC\")))))","v":"TC"},{"$f":"Benchsheet!E74","v":"SP"},"N",{"$f":"Benchsheet!B74","v":"DS001"},{"$f":"IF(J71=\"WL001\",\"RW001\",IF(Benchsheet!B74=FALSE,\"\",IF(J71=\"WL002\",\"RW002\",IF(J71=\"WL003\",\"RW003\",IF(J71=\"DS001\",\"TCR001\",IF(J71=\"DS001\",\"TCR01\"))))))","v":"TCR001"},{"$f":"Benchsheet!D74","v":"Plant Tap Finish"},{"$f":"Benchsheet!G74","v":"2015-11-12"},{"$f":"Benchsheet!H74","v":1006},{"$f":"Benchsheet!I74","v":"2015-11-12"},{"$f":"Benchsheet!F74","v":"Sheila"},{"$f":"Benchsheet!P74","v":3.67},{"$f":"Benchsheet!O74","v":0}]
[{"$f":"IF(Benchsheet!A75>1,\"sample\",IF(Benchsheet!A75=FALSE,\"\"))","v":"sample"},{"$f":"IF(Benchsheet!A75>1,\"STATE\",IF(Benchsheet!A75=FALSE,\"\"))","v":"STATE"},{"$f":"IF(Benchsheet!A75>1,\"00035\",IF(Benchsheet!A75=FALSE,\"\"))","v":"00035"},{"$f":"Benchsheet!A75","v":"1511P13"},{"$f":"IF(Benchsheet!C75=1121057,\"VA1121057\",IF(Benchsheet!C75=1121090,\"VA1121090\",IF(Benchsheet!C75=1121052,\"VA1121052\",IF(Benchsheet!C75=1121175,\"VA1121175\",IF(Benchsheet!C75=1121580,\"VA1121580\",IF(Benchsheet!C75=1121570,\"VA1121570\",IF(Benchsheet!C75=1121045,\"VA1121045\",IF(Benchsheet!C75=1121655,\"VA1121655\",IF(Benchsheet!C75=1121503,\"VA1121503\",IF(Benchsheet!C75=1121043,\"VA1121043\",IF(Benchsheet!C75=1121900,\"VA1121900\",IF(Benchsheet!C75=1121845,\"VA1121845\",IF(Benchsheet!C75=1121655,\"VA1121655\",IF(Benchsheet!C75=1121900,\"VA1121900\",IF(Benchsheet!C75<1,\"\")))))))))))))))","v":"VA1121057"},{"$f":"IF(Benchsheet!A75>1,\"TC\",IF(Benchsheet!A75=FALSE,\"\"))","v":"TC"},{"$f":"IF(J72=\"WL001\",\"MPN\",IF(Benchsheet!B75=FALSE,\"\",IF(J72=\"WL002\",\"MPN\",IF(J72=\"WL003\",\"MPN\",IF(J72=\"DS001\",\"TC\")))))","v":"TC"},{"$f":"Benchsheet!E75","v":"SP"},"N",{"$f":"Benchsheet!B75","v":"DS001"},{"$f":"IF(J72=\"WL001\",\"RW001\",IF(Benchsheet!B75=FALSE,\"\",IF(J72=\"WL002\",\"RW002\",IF(J72=\"WL003\",\"RW003\",IF(J72=\"DS001\",\"TCR001\",IF(J72=\"DS001\",\"TCR01\"))))))","v":"TCR001"},{"$f":"Benchsheet!D75","v":"Plant Tap Finish"},{"$f":"Benchsheet!G75","v":"2015-11-16"},{"$f":"Benchsheet!H75","v":700},{"$f":"Benchsheet!I75","v":"2015-11-16"},{"$f":"Benchsheet!F75","v":"Sheila"},{"$f":"Benchsheet!P75","v":3.6},{"$f":"Benchsheet!O75","v":0}]
[{"$f":"IF(Benchsheet!A76>1,\"sample\",IF(Benchsheet!A76=FALSE,\"\"))","v":"sample"},{"$f":"IF(Benchsheet!A76>1,\"STATE\",IF(Benchsheet!A76=FALSE,\"\"))","v":"STATE"},{"$f":"IF(Benchsheet!A76>1,\"00035\",IF(Benchsheet!A76=FALSE,\"\"))","v":"00035"},{"$f":"Benchsheet!A76","v":"1511P14"},{"$f":"IF(Benchsheet!C76=1121057,\"VA1121057\",IF(Benchsheet!C76=1121090,\"VA1121090\",IF(Benchsheet!C76=1121052,\"VA1121052\",IF(Benchsheet!C76=1121175,\"VA1121175\",IF(Benchsheet!C76=1121580,\"VA1121580\",IF(Benchsheet!C76=1121570,\"VA1121570\",IF(Benchsheet!C76=1121045,\"VA1121045\",IF(Benchsheet!C76=1121655,\"VA1121655\",IF(Benchsheet!C76=1121503,\"VA1121503\",IF(Benchsheet!C76=1121043,\"VA1121043\",IF(Benchsheet!C76=1121900,\"VA1121900\",IF(Benchsheet!C76=1121845,\"VA1121845\",IF(Benchsheet!C76=1121655,\"VA1121655\",IF(Benchsheet!C76=1121900,\"VA1121900\",IF(Benchsheet!C76<1,\"\")))))))))))))))","v":"VA1121057"},{"$f":"IF(Benchsheet!A76>1,\"TC\",IF(Benchsheet!A76=FALSE,\"\"))","v":"TC"},{"$f":"IF(J73=\"WL001\",\"MPN\",IF(Benchsheet!B76=FALSE,\"\",IF(J73=\"WL002\",\"MPN\",IF(J73=\"WL003\",\"MPN\",IF(J73=\"DS001\",\"TC\")))))","v":"TC"},{"$f":"Benchsheet!E76","v":"SP"},"N",{"$f":"Benchsheet!B76","v":"DS001"},{"$f":"IF(J73=\"WL001\",\"RW001\",IF(Benchsheet!B76=FALSE,\"\",IF(J73=\"WL002\",\"RW002\",IF(J73=\"WL003\",\"RW003\",IF(J73=\"DS001\",\"TCR001\",IF(J73=\"DS001\",\"TCR01\"))))))","v":"TCR001"},{"$f":"Benchsheet!D76","v":"Plant Tap Finish"},{"$f":"Benchsheet!G76","v":"2015-11-17"},{"$f":"Benchsheet!H76","v":723},{"$f":"Benchsheet!I76","v":"2015-11-17"},{"$f":"Benchsheet!F76","v":"Sheila"},{"$f":"Benchsheet!P76","v":3.6},{"$f":"Benchsheet!O76","v":0}]
[{"$f":"IF(Benchsheet!A77>1,\"sample\",IF(Benchsheet!A77=FALSE,\"\"))","v":"sample"},{"$f":"IF(Benchsheet!A77>1,\"STATE\",IF(Benchsheet!A77=FALSE,\"\"))","v":"STATE"},{"$f":"IF(Benchsheet!A77>1,\"00035\",IF(Benchsheet!A77=FALSE,\"\"))","v":"00035"},{"$f":"Benchsheet!A77","v":"1511C18"},{"$f":"IF(Benchsheet!C77=1121057,\"VA1121057\",IF(Benchsheet!C77=1121090,\"VA1121090\",IF(Benchsheet!C77=1121052,\"VA1121052\",IF(Benchsheet!C77=1121175,\"VA1121175\",IF(Benchsheet!C77=1121580,\"VA1121580\",IF(Benchsheet!C77=1121570,\"VA1121570\",IF(Benchsheet!C77=1121045,\"VA1121045\",IF(Benchsheet!C77=1121655,\"VA1121655\",IF(Benchsheet!C77=1121503,\"VA1121503\",IF(Benchsheet!C77=1121043,\"VA1121043\",IF(Benchsheet!C77=1121900,\"VA1121900\",IF(Benchsheet!C77=1121845,\"VA1121845\",IF(Benchsheet!C77=1121655,\"VA1121655\",IF(Benchsheet!C77=1121900,\"VA1121900\",IF(Benchsheet!C77<1,\"\")))))))))))))))","v":"VA1121090"},{"$f":"IF(Benchsheet!A77>1,\"TC\",IF(Benchsheet!A77=FALSE,\"\"))","v":"TC"},{"$f":"IF(J74=\"WL001\",\"MPN\",IF(Benchsheet!B77=FALSE,\"\",IF(J74=\"WL002\",\"MPN\",IF(J74=\"WL003\",\"MPN\",IF(J74=\"DS001\",\"TC\")))))","v":"TC"},{"$f":"Benchsheet!E77","v":"RT"},"Y",{"$f":"Benchsheet!B77","v":"DS001"},{"$f":"IF(J74=\"WL001\",\"RW001\",IF(Benchsheet!B77=FALSE,\"\",IF(J74=\"WL002\",\"RW002\",IF(J74=\"WL003\",\"RW003\",IF(J74=\"DS001\",\"TCR001\",IF(J74=\"DS001\",\"TCR01\"))))))","v":"TCR001"},{"$f":"Benchsheet!D77","v":"1101 Round Meadow Drive"},{"$f":"Benchsheet!G77","v":"2015-11-17"},{"$f":"Benchsheet!H77","v":0},{"$f":"Benchsheet!I77","v":"2015-11-17"},{"$f":"Benchsheet!F77","v":0},{"$f":"Benchsheet!P77","v":0},{"$f":"Benchsheet!O77","v":0}]
[{"$f":"IF(Benchsheet!A78>1,\"sample\",IF(Benchsheet!A78=FALSE,\"\"))","v":"sample"},{"$f":"IF(Benchsheet!A78>1,\"STATE\",IF(Benchsheet!A78=FALSE,\"\"))","v":"STATE"},{"$f":"IF(Benchsheet!A78>1,\"00035\",IF(Benchsheet!A78=FALSE,\"\"))","v":"00035"},{"$f":"Benchsheet!A78","v":"1511C19"},{"$f":"IF(Benchsheet!C78=1121057,\"VA1121057\",IF(Benchsheet!C78=1121090,\"VA1121090\",IF(Benchsheet!C78=1121052,\"VA1121052\",IF(Benchsheet!C78=1121175,\"VA1121175\",IF(Benchsheet!C78=1121580,\"VA1121580\",IF(Benchsheet!C78=1121570,\"VA1121570\",IF(Benchsheet!C78=1121045,\"VA1121045\",IF(Benchsheet!C78=1121655,\"VA1121655\",IF(Benchsheet!C78=1121503,\"VA1121503\",IF(Benchsheet!C78=1121043,\"VA1121043\",IF(Benchsheet!C78=1121900,\"VA1121900\",IF(Benchsheet!C78=1121845,\"VA1121845\",IF(Benchsheet!C78=1121655,\"VA1121655\",IF(Benchsheet!C78=1121900,\"VA1121900\",IF(Benchsheet!C78<1,\"\")))))))))))))))","v":"VA1121090"},{"$f":"IF(Benchsheet!A78>1,\"TC\",IF(Benchsheet!A78=FALSE,\"\"))","v":"TC"},{"$f":"IF(J75=\"WL001\",\"MPN\",IF(Benchsheet!B78=FALSE,\"\",IF(J75=\"WL002\",\"MPN\",IF(J75=\"WL003\",\"MPN\",IF(J75=\"DS001\",\"TC\")))))","v":"TC"},{"$f":"Benchsheet!E78","v":"RT"},"Y",{"$f":"Benchsheet!B78","v":"DS001"},{"$f":"IF(J75=\"WL001\",\"RW001\",IF(Benchsheet!B78=FALSE,\"\",IF(J75=\"WL002\",\"RW002\",IF(J75=\"WL003\",\"RW003\",IF(J75=\"DS001\",\"TCR001\",IF(J75=\"DS001\",\"TCR01\"))))))","v":"TCR001"},{"$f":"Benchsheet!D78","v":"Buffalo Tank"},{"$f":"Benchsheet!G78","v":"2015-11-17"},{"$f":"Benchsheet!H78","v":0},{"$f":"Benchsheet!I78","v":"2015-11-17"},{"$f":"Benchsheet!F78","v":0},{"$f":"Benchsheet!P78","v":0},{"$f":"Benchsheet!O78","v":0}]
[{"$f":"IF(Benchsheet!A79>1,\"sample\",IF(Benchsheet!A79=FALSE,\"\"))","v":"sample"},{"$f":"IF(Benchsheet!A79>1,\"STATE\",IF(Benchsheet!A79=FALSE,\"\"))","v":"STATE"},{"$f":"IF(Benchsheet!A79>1,\"00035\",IF(Benchsheet!A79=FALSE,\"\"))","v":"00035"},{"$f":"Benchsheet!A79","v":"1511C20"},{"$f":"IF(Benchsheet!C79=1121057,\"VA1121057\",IF(Benchsheet!C79=1121090,\"VA1121090\",IF(Benchsheet!C79=1121052,\"VA1121052\",IF(Benchsheet!C79=1121175,\"VA1121175\",IF(Benchsheet!C79=1121580,\"VA1121580\",IF(Benchsheet!C79=1121570,\"VA1121570\",IF(Benchsheet!C79=1121045,\"VA1121045\",IF(Benchsheet!C79=1121655,\"VA1121655\",IF(Benchsheet!C79=1121503,\"VA1121503\",IF(Benchsheet!C79=1121043,\"VA1121043\",IF(Benchsheet!C79=1121900,\"VA1121900\",IF(Benchsheet!C79=1121845,\"VA1121845\",IF(Benchsheet!C79=1121655,\"VA1121655\",IF(Benchsheet!C79=1121900,\"VA1121900\",IF(Benchsheet!C79<1,\"\")))))))))))))))","v":"VA1121090"},{"$f":"IF(Benchsheet!A79>1,\"TC\",IF(Benchsheet!A79=FALSE,\"\"))","v":"TC"},{"$f":"IF(J76=\"WL001\",\"MPN\",IF(Benchsheet!B79=FALSE,\"\",IF(J76=\"WL002\",\"MPN\",IF(J76=\"WL003\",\"MPN\",IF(J76=\"DS001\",\"TC\")))))","v":"TC"},{"$f":"Benchsheet!E79","v":"RT"},"Y",{"$f":"Benchsheet!B79","v":"DS001"},{"$f":"IF(J76=\"WL001\",\"RW001\",IF(Benchsheet!B79=FALSE,\"\",IF(J76=\"WL002\",\"RW002\",IF(J76=\"WL003\",\"RW003\",IF(J76=\"DS001\",\"TCR001\",IF(J76=\"DS001\",\"TCR01\"))))))","v":"TCR001"},{"$f":"Benchsheet!D79","v":"113 Lester Street"},{"$f":"Benchsheet!G79","v":"2015-11-17"},{"$f":"Benchsheet!H79","v":0},{"$f":"Benchsheet!I79","v":"2015-11-17"},{"$f":"Benchsheet!F79","v":0},{"$f":"Benchsheet!P79","v":0},{"$f":"Benchsheet!O79","v":0}]
[{"$f":"IF(Benchsheet!A80>1,\"sample\",IF(Benchsheet!A80=FALSE,\"\"))","v":"sample"},{"$f":"IF(Benchsheet!A80>1,\"STATE\",IF(Benchsheet!A80=FALSE,\"\"))","v":"STATE"},{"$f":"IF(Benchsheet!A80>1,\"00035\",IF(Benchsheet!A80=FALSE,\"\"))","v":"00035"},{"$f":"Benchsheet!A80","v":"1511C21"},{"$f":"IF(Benchsheet!C80=1121057,\"VA1121057\",IF(Benchsheet!C80=1121090,\"VA1121090\",IF(Benchsheet!C80=1121052,\"VA1121052\",IF(Benchsheet!C80=1121175,\"VA1121175\",IF(Benchsheet!C80=1121580,\"VA1121580\",IF(Benchsheet!C80=1121570,\"VA1121570\",IF(Benchsheet!C80=1121045,\"VA1121045\",IF(Benchsheet!C80=1121655,\"VA1121655\",IF(Benchsheet!C80=1121503,\"VA1121503\",IF(Benchsheet!C80=1121043,\"VA1121043\",IF(Benchsheet!C80=1121900,\"VA1121900\",IF(Benchsheet!C80=1121845,\"VA1121845\",IF(Benchsheet!C80=1121655,\"VA1121655\",IF(Benchsheet!C80=1121900,\"VA1121900\",IF(Benchsheet!C80<1,\"\")))))))))))))))","v":"VA1121090"},{"$f":"IF(Benchsheet!A80>1,\"TC\",IF(Benchsheet!A80=FALSE,\"\"))","v":"TC"},{"$f":"IF(J77=\"WL001\",\"MPN\",IF(Benchsheet!B80=FALSE,\"\",IF(J77=\"WL002\",\"MPN\",IF(J77=\"WL003\",\"MPN\",IF(J77=\"DS001\",\"TC\")))))","v":"TC"},{"$f":"Benchsheet!E80","v":"RT"},"Y",{"$f":"Benchsheet!B80","v":"DS001"},{"$f":"IF(J77=\"WL001\",\"RW001\",IF(Benchsheet!B80=FALSE,\"\",IF(J77=\"WL002\",\"RW002\",IF(J77=\"WL003\",\"RW003\",IF(J77=\"DS001\",\"TCR001\",IF(J77=\"DS001\",\"TCR01\"))))))","v":"TCR001"},{"$f":"Benchsheet!D80","v":"535 Republic Rd."},{"$f":"Benchsheet!G80","v":"2015-11-17"},{"$f":"Benchsheet!H80","v":0},{"$f":"Benchsheet!I80","v":"2015-11-17"},{"$f":"Benchsheet!F80","v":0},{"$f":"Benchsheet!P80","v":0},{"$f":"Benchsheet!O80","v":0}]
[{"$f":"IF(Benchsheet!A81>1,\"sample\",IF(Benchsheet!A81=FALSE,\"\"))","v":"sample"},{"$f":"IF(Benchsheet!A81>1,\"STATE\",IF(Benchsheet!A81=FALSE,\"\"))","v":"STATE"},{"$f":"IF(Benchsheet!A81>1,\"00035\",IF(Benchsheet!A81=FALSE,\"\"))","v":"00035"},{"$f":"Benchsheet!A81","v":"1511C22"},{"$f":"IF(Benchsheet!C81=1121057,\"VA1121057\",IF(Benchsheet!C81=1121090,\"VA1121090\",IF(Benchsheet!C81=1121052,\"VA1121052\",IF(Benchsheet!C81=1121175,\"VA1121175\",IF(Benchsheet!C81=1121580,\"VA1121580\",IF(Benchsheet!C81=1121570,\"VA1121570\",IF(Benchsheet!C81=1121045,\"VA1121045\",IF(Benchsheet!C81=1121655,\"VA1121655\",IF(Benchsheet!C81=1121503,\"VA1121503\",IF(Benchsheet!C81=1121043,\"VA1121043\",IF(Benchsheet!C81=1121900,\"VA1121900\",IF(Benchsheet!C81=1121845,\"VA1121845\",IF(Benchsheet!C81=1121655,\"VA1121655\",IF(Benchsheet!C81=1121900,\"VA1121900\",IF(Benchsheet!C81<1,\"\")))))))))))))))","v":"VA1121090"},{"$f":"IF(Benchsheet!A81>1,\"TC\",IF(Benchsheet!A81=FALSE,\"\"))","v":"TC"},{"$f":"IF(J78=\"WL001\",\"MPN\",IF(Benchsheet!B81=FALSE,\"\",IF(J78=\"WL002\",\"MPN\",IF(J78=\"WL003\",\"MPN\",IF(J78=\"DS001\",\"TC\")))))","v":"TC"},{"$f":"Benchsheet!E81","v":"RT"},"Y",{"$f":"Benchsheet!B81","v":"DS001"},{"$f":"IF(J78=\"WL001\",\"RW001\",IF(Benchsheet!B81=FALSE,\"\",IF(J78=\"WL002\",\"RW002\",IF(J78=\"WL003\",\"RW003\",IF(J78=\"DS001\",\"TCR001\",IF(J78=\"DS001\",\"TCR01\"))))))","v":"TCR001"},{"$f":"Benchsheet!D81","v":"500 Industrial Drive"},{"$f":"Benchsheet!G81","v":"2015-11-17"},{"$f":"Benchsheet!H81","v":0},{"$f":"Benchsheet!I81","v":"2015-11-17"},{"$f":"Benchsheet!F81","v":0},{"$f":"Benchsheet!P81","v":0},{"$f":"Benchsheet!O81","v":0}]
[{"$f":"IF(Benchsheet!A82>1,\"sample\",IF(Benchsheet!A82=FALSE,\"\"))","v":"sample"},{"$f":"IF(Benchsheet!A82>1,\"STATE\",IF(Benchsheet!A82=FALSE,\"\"))","v":"STATE"},{"$f":"IF(Benchsheet!A82>1,\"00035\",IF(Benchsheet!A82=FALSE,\"\"))","v":"00035"},{"$f":"Benchsheet!A82","v":"1511C23"},{"$f":"IF(Benchsheet!C82=1121057,\"VA1121057\",IF(Benchsheet!C82=1121090,\"VA1121090\",IF(Benchsheet!C82=1121052,\"VA1121052\",IF(Benchsheet!C82=1121175,\"VA1121175\",IF(Benchsheet!C82=1121580,\"VA1121580\",IF(Benchsheet!C82=1121570,\"VA1121570\",IF(Benchsheet!C82=1121045,\"VA1121045\",IF(Benchsheet!C82=1121655,\"VA1121655\",IF(Benchsheet!C82=1121503,\"VA1121503\",IF(Benchsheet!C82=1121043,\"VA1121043\",IF(Benchsheet!C82=1121900,\"VA1121900\",IF(Benchsheet!C82=1121845,\"VA1121845\",IF(Benchsheet!C82=1121655,\"VA1121655\",IF(Benchsheet!C82=1121900,\"VA1121900\",IF(Benchsheet!C82<1,\"\")))))))))))))))","v":"VA1121090"},{"$f":"IF(Benchsheet!A82>1,\"TC\",IF(Benchsheet!A82=FALSE,\"\"))","v":"TC"},{"$f":"IF(J79=\"WL001\",\"MPN\",IF(Benchsheet!B82=FALSE,\"\",IF(J79=\"WL002\",\"MPN\",IF(J79=\"WL003\",\"MPN\",IF(J79=\"DS001\",\"TC\")))))","v":"TC"},{"$f":"Benchsheet!E82","v":"RT"},"Y",{"$f":"Benchsheet!B82","v":"DS001"},{"$f":"IF(J79=\"WL001\",\"RW001\",IF(Benchsheet!B82=FALSE,\"\",IF(J79=\"WL002\",\"RW002\",IF(J79=\"WL003\",\"RW003\",IF(J79=\"DS001\",\"TCR001\",IF(J79=\"DS001\",\"TCR01\"))))))","v":"TCR001"},{"$f":"Benchsheet!D82","v":"1035 Church Street"},{"$f":"Benchsheet!G82","v":"2015-11-17"},{"$f":"Benchsheet!H82","v":0},{"$f":"Benchsheet!I82","v":"2015-11-17"},{"$f":"Benchsheet!F82","v":0},{"$f":"Benchsheet!P82","v":0},{"$f":"Benchsheet!O82","v":0}]
[{"$f":"IF(Benchsheet!A83>1,\"sample\",IF(Benchsheet!A83=FALSE,\"\"))","v":"sample"},{"$f":"IF(Benchsheet!A83>1,\"STATE\",IF(Benchsheet!A83=FALSE,\"\"))","v":"STATE"},{"$f":"IF(Benchsheet!A83>1,\"00035\",IF(Benchsheet!A83=FALSE,\"\"))","v":"00035"},{"$f":"Benchsheet!A83","v":"1511C24"},{"$f":"IF(Benchsheet!C83=1121057,\"VA1121057\",IF(Benchsheet!C83=1121090,\"VA1121090\",IF(Benchsheet!C83=1121052,\"VA1121052\",IF(Benchsheet!C83=1121175,\"VA1121175\",IF(Benchsheet!C83=1121580,\"VA1121580\",IF(Benchsheet!C83=1121570,\"VA1121570\",IF(Benchsheet!C83=1121045,\"VA1121045\",IF(Benchsheet!C83=1121655,\"VA1121655\",IF(Benchsheet!C83=1121503,\"VA1121503\",IF(Benchsheet!C83=1121043,\"VA1121043\",IF(Benchsheet!C83=1121900,\"VA1121900\",IF(Benchsheet!C83=1121845,\"VA1121845\",IF(Benchsheet!C83=1121655,\"VA1121655\",IF(Benchsheet!C83=1121900,\"VA1121900\",IF(Benchsheet!C83<1,\"\")))))))))))))))","v":"VA1121090"},{"$f":"IF(Benchsheet!A83>1,\"TC\",IF(Benchsheet!A83=FALSE,\"\"))","v":"TC"},{"$f":"IF(J80=\"WL001\",\"MPN\",IF(Benchsheet!B83=FALSE,\"\",IF(J80=\"WL002\",\"MPN\",IF(J80=\"WL003\",\"MPN\",IF(J80=\"DS001\",\"TC\")))))","v":"TC"},{"$f":"Benchsheet!E83","v":"RT"},"Y",{"$f":"Benchsheet!B83","v":"DS001"},{"$f":"IF(J80=\"WL001\",\"RW001\",IF(Benchsheet!B83=FALSE,\"\",IF(J80=\"WL002\",\"RW002\",IF(J80=\"WL003\",\"RW003\",IF(J80=\"DS001\",\"TCR001\",IF(J80=\"DS001\",\"TCR01\"))))))","v":"TCR001"},{"$f":"Benchsheet!D83","v":"495 Church Street"},{"$f":"Benchsheet!G83","v":"2015-11-17"},{"$f":"Benchsheet!H83","v":0},{"$f":"Benchsheet!I83","v":"2015-11-17"},{"$f":"Benchsheet!F83","v":0},{"$f":"Benchsheet!P83","v":0},{"$f":"Benchsheet!O83","v":0}]
[{"$f":"IF(Benchsheet!A84>1,\"sample\",IF(Benchsheet!A84=FALSE,\"\"))","v":"sample"},{"$f":"IF(Benchsheet!A84>1,\"STATE\",IF(Benchsheet!A84=FALSE,\"\"))","v":"STATE"},{"$f":"IF(Benchsheet!A84>1,\"00035\",IF(Benchsheet!A84=FALSE,\"\"))","v":"00035"},{"$f":"Benchsheet!A84","v":"1511C25"},{"$f":"IF(Benchsheet!C84=1121057,\"VA1121057\",IF(Benchsheet!C84=1121090,\"VA1121090\",IF(Benchsheet!C84=1121052,\"VA1121052\",IF(Benchsheet!C84=1121175,\"VA1121175\",IF(Benchsheet!C84=1121580,\"VA1121580\",IF(Benchsheet!C84=1121570,\"VA1121570\",IF(Benchsheet!C84=1121045,\"VA1121045\",IF(Benchsheet!C84=1121655,\"VA1121655\",IF(Benchsheet!C84=1121503,\"VA1121503\",IF(Benchsheet!C84=1121043,\"VA1121043\",IF(Benchsheet!C84=1121900,\"VA1121900\",IF(Benchsheet!C84=1121845,\"VA1121845\",IF(Benchsheet!C84=1121655,\"VA1121655\",IF(Benchsheet!C84=1121900,\"VA1121900\",IF(Benchsheet!C84<1,\"\")))))))))))))))","v":"VA1121090"},{"$f":"IF(Benchsheet!A84>1,\"TC\",IF(Benchsheet!A84=FALSE,\"\"))","v":"TC"},{"$f":"IF(J81=\"WL001\",\"MPN\",IF(Benchsheet!B84=FALSE,\"\",IF(J81=\"WL002\",\"MPN\",IF(J81=\"WL003\",\"MPN\",IF(J81=\"DS001\",\"TC\")))))","v":"TC"},{"$f":"Benchsheet!E84","v":"RT"},"Y",{"$f":"Benchsheet!B84","v":"DS001"},{"$f":"IF(J81=\"WL001\",\"RW001\",IF(Benchsheet!B84=FALSE,\"\",IF(J81=\"WL002\",\"RW002\",IF(J81=\"WL003\",\"RW003\",IF(J81=\"DS001\",\"TCR001\",IF(J81=\"DS001\",\"TCR01\"))))))","v":"TCR001"},{"$f":"Benchsheet!D84","v":"2000 Sunset Drive"},{"$f":"Benchsheet!G84","v":"2015-11-17"},{"$f":"Benchsheet!H84","v":0},{"$f":"Benchsheet!I84","v":"2015-11-17"},{"$f":"Benchsheet!F84","v":0},{"$f":"Benchsheet!P84","v":0},{"$f":"Benchsheet!O84","v":0}]
[{"$f":"IF(Benchsheet!A85>1,\"sample\",IF(Benchsheet!A85=FALSE,\"\"))","v":""},{"$f":"IF(Benchsheet!A85>1,\"STATE\",IF(Benchsheet!A85=FALSE,\"\"))","v":""},{"$f":"IF(Benchsheet!A85>1,\"00035\",IF(Benchsheet!A85=FALSE,\"\"))","v":""},{"$f":"Benchsheet!A85","v":0},{"$f":"IF(Benchsheet!C85=1121057,\"VA1121057\",IF(Benchsheet!C85=1121090,\"VA1121090\",IF(Benchsheet!C85=1121052,\"VA1121052\",IF(Benchsheet!C85=1121175,\"VA1121175\",IF(Benchsheet!C85=1121580,\"VA1121580\",IF(Benchsheet!C85=1121570,\"VA1121570\",IF(Benchsheet!C85=1121045,\"VA1121045\",IF(Benchsheet!C85=1121655,\"VA1121655\",IF(Benchsheet!C85=1121503,\"VA1121503\",IF(Benchsheet!C85=1121043,\"VA1121043\",IF(Benchsheet!C85=1121900,\"VA1121900\",IF(Benchsheet!C85=1121845,\"VA1121845\",IF(Benchsheet!C85=1121655,\"VA1121655\",IF(Benchsheet!C85=1121900,\"VA1121900\",IF(Benchsheet!C85<1,\"\")))))))))))))))","v":""},{"$f":"IF(Benchsheet!A85>1,\"TC\",IF(Benchsheet!A85=FALSE,\"\"))","v":""},{"$f":"IF(J82=\"WL001\",\"MPN\",IF(Benchsheet!B85=FALSE,\"\",IF(J82=\"WL002\",\"MPN\",IF(J82=\"WL003\",\"MPN\",IF(J82=\"DS001\",\"TC\")))))","v":""},{"$f":"Benchsheet!E85","v":0},"",{"$f":"Benchsheet!B85","v":0},{"$f":"IF(J82=\"WL001\",\"RW001\",IF(Benchsheet!B85=FALSE,\"\",IF(J82=\"WL002\",\"RW002\",IF(J82=\"WL003\",\"RW003\",IF(J82=\"DS001\",\"TCR001\",IF(J82=\"DS001\",\"TCR01\"))))))","v":""},{"$f":"Benchsheet!D85","v":0},{"$f":"Benchsheet!G85","v":"00:00:00"},{"$f":"Benchsheet!H85","v":0},{"$f":"Benchsheet!I85","v":"00:00:00"},{"$f":"Benchsheet!F85","v":0},{"$f":"Benchsheet!P85","v":0},{"$f":"Benchsheet!O85","v":0}]
[{"$f":"IF(Benchsheet!A86>1,\"sample\",IF(Benchsheet!A86=FALSE,\"\"))","v":""},{"$f":"IF(Benchsheet!A86>1,\"STATE\",IF(Benchsheet!A86=FALSE,\"\"))","v":""},{"$f":"IF(Benchsheet!A86>1,\"00035\",IF(Benchsheet!A86=FALSE,\"\"))","v":""},{"$f":"Benchsheet!A86","v":0},{"$f":"IF(Benchsheet!C86=1121057,\"VA1121057\",IF(Benchsheet!C86=1121090,\"VA1121090\",IF(Benchsheet!C86=1121052,\"VA1121052\",IF(Benchsheet!C86=1121175,\"VA1121175\",IF(Benchsheet!C86=1121580,\"VA1121580\",IF(Benchsheet!C86=1121570,\"VA1121570\",IF(Benchsheet!C86=1121045,\"VA1121045\",IF(Benchsheet!C86=1121655,\"VA1121655\",IF(Benchsheet!C86=1121503,\"VA1121503\",IF(Benchsheet!C86=1121043,\"VA1121043\",IF(Benchsheet!C86=1121900,\"VA1121900\",IF(Benchsheet!C86=1121845,\"VA1121845\",IF(Benchsheet!C86=1121655,\"VA1121655\",IF(Benchsheet!C86=1121900,\"VA1121900\",IF(Benchsheet!C86<1,\"\")))))))))))))))","v":""},{"$f":"IF(Benchsheet!A86>1,\"TC\",IF(Benchsheet!A86=FALSE,\"\"))","v":""},{"$f":"IF(J83=\"WL001\",\"MPN\",IF(Benchsheet!B86=FALSE,\"\",IF(J83=\"WL002\",\"MPN\",IF(J83=\"WL003\",\"MPN\",IF(J83=\"DS001\",\"TC\")))))","v":""},{"$f":"Benchsheet!E86","v":0},"",{"$f":"Benchsheet!B86","v":0},{"$f":"IF(J83=\"WL001\",\"RW001\",IF(Benchsheet!B86=FALSE,\"\",IF(J83=\"WL002\",\"RW002\",IF(J83=\"WL003\",\"RW003\",IF(J83=\"DS001\",\"TCR001\",IF(J83=\"DS001\",\"TCR01\"))))))","v":""},{"$f":"Benchsheet!D86","v":0},{"$f":"Benchsheet!G86","v":"00:00:00"},{"$f":"Benchsheet!H86","v":0},{"$f":"Benchsheet!I86","v":"00:00:00"},{"$f":"Benchsheet!F86","v":0},{"$f":"Benchsheet!P86","v":0},{"$f":"Benchsheet!O86","v":0}]
[{"$f":"IF(Benchsheet!A87>1,\"sample\",IF(Benchsheet!A87=FALSE,\"\"))","v":""},{"$f":"IF(Benchsheet!A87>1,\"STATE\",IF(Benchsheet!A87=FALSE,\"\"))","v":""},{"$f":"IF(Benchsheet!A87>1,\"00035\",IF(Benchsheet!A87=FALSE,\"\"))","v":""},{"$f":"Benchsheet!A87","v":0},{"$f":"IF(Benchsheet!C87=1121057,\"VA1121057\",IF(Benchsheet!C87=1121090,\"VA1121090\",IF(Benchsheet!C87=1121052,\"VA1121052\",IF(Benchsheet!C87=1121175,\"VA1121175\",IF(Benchsheet!C87=1121580,\"VA1121580\",IF(Benchsheet!C87=1121570,\"VA1121570\",IF(Benchsheet!C87=1121045,\"VA1121045\",IF(Benchsheet!C87=1121655,\"VA1121655\",IF(Benchsheet!C87=1121503,\"VA1121503\",IF(Benchsheet!C87=1121043,\"VA1121043\",IF(Benchsheet!C87=1121900,\"VA1121900\",IF(Benchsheet!C87=1121845,\"VA1121845\",IF(Benchsheet!C87=1121655,\"VA1121655\",IF(Benchsheet!C87=1121900,\"VA1121900\",IF(Benchsheet!C87<1,\"\")))))))))))))))","v":""},{"$f":"IF(Benchsheet!A87>1,\"TC\",IF(Benchsheet!A87=FALSE,\"\"))","v":""},{"$f":"IF(J84=\"WL001\",\"MPN\",IF(Benchsheet!B87=FALSE,\"\",IF(J84=\"WL002\",\"MPN\",IF(J84=\"WL003\",\"MPN\",IF(J84=\"DS001\",\"TC\")))))","v":""},{"$f":"Benchsheet!E87","v":0},"",{"$f":"Benchsheet!B87","v":0},{"$f":"IF(J84=\"WL001\",\"RW001\",IF(Benchsheet!B87=FALSE,\"\",IF(J84=\"WL002\",\"RW002\",IF(J84=\"WL003\",\"RW003\",IF(J84=\"DS001\",\"TCR001\",IF(J84=\"DS001\",\"TCR01\"))))))","v":""},{"$f":"Benchsheet!D87","v":0},{"$f":"Benchsheet!G87","v":"00:00:00"},{"$f":"Benchsheet!H87","v":0},{"$f":"Benchsheet!I87","v":"00:00:00"},{"$f":"Benchsheet!F87","v":0},{"$f":"Benchsheet!P87","v":0},{"$f":"Benchsheet!O87","v":0}]
[{"$f":"IF(Benchsheet!A88>1,\"sample\",IF(Benchsheet!A88=FALSE,\"\"))","v":""},{"$f":"IF(Benchsheet!A88>1,\"STATE\",IF(Benchsheet!A88=FALSE,\"\"))","v":""},{"$f":"IF(Benchsheet!A88>1,\"00035\",IF(Benchsheet!A88=FALSE,\"\"))","v":""},{"$f":"Benchsheet!A88","v":0},{"$f":"IF(Benchsheet!C88=1121057,\"VA1121057\",IF(Benchsheet!C88=1121090,\"VA1121090\",IF(Benchsheet!C88=1121052,\"VA1121052\",IF(Benchsheet!C88=1121175,\"VA1121175\",IF(Benchsheet!C88=1121580,\"VA1121580\",IF(Benchsheet!C88=1121570,\"VA1121570\",IF(Benchsheet!C88=1121045,\"VA1121045\",IF(Benchsheet!C88=1121655,\"VA1121655\",IF(Benchsheet!C88=1121503,\"VA1121503\",IF(Benchsheet!C88=1121043,\"VA1121043\",IF(Benchsheet!C88=1121900,\"VA1121900\",IF(Benchsheet!C88=1121845,\"VA1121845\",IF(Benchsheet!C88=1121655,\"VA1121655\",IF(Benchsheet!C88=1121900,\"VA1121900\",IF(Benchsheet!C88<1,\"\")))))))))))))))","v":""},{"$f":"IF(Benchsheet!A88>1,\"TC\",IF(Benchsheet!A88=FALSE,\"\"))","v":""},{"$f":"IF(J85=\"WL001\",\"MPN\",IF(Benchsheet!B88=FALSE,\"\",IF(J85=\"WL002\",\"MPN\",IF(J85=\"WL003\",\"MPN\",IF(J85=\"DS001\",\"TC\")))))","v":""},{"$f":"Benchsheet!E88","v":0},"",{"$f":"Benchsheet!B88","v":0},{"$f":"IF(J85=\"WL001\",\"RW001\",IF(Benchsheet!B88=FALSE,\"\",IF(J85=\"WL002\",\"RW002\",IF(J85=\"WL003\",\"RW003\",IF(J85=\"DS001\",\"TCR001\",IF(J85=\"DS001\",\"TCR01\"))))))","v":""},{"$f":"Benchsheet!D88","v":0},{"$f":"Benchsheet!G88","v":"00:00:00"},{"$f":"Benchsheet!H88","v":0},{"$f":"Benchsheet!I88","v":"00:00:00"},{"$f":"Benchsheet!F88","v":0},{"$f":"Benchsheet!P88","v":0},{"$f":"Benchsheet!O88","v":0}]
[{"$f":"IF(Benchsheet!A89>1,\"sample\",IF(Benchsheet!A89=FALSE,\"\"))","v":""},{"$f":"IF(Benchsheet!A89>1,\"STATE\",IF(Benchsheet!A89=FALSE,\"\"))","v":""},{"$f":"IF(Benchsheet!A89>1,\"00035\",IF(Benchsheet!A89=FALSE,\"\"))","v":""},{"$f":"Benchsheet!A89","v":0},{"$f":"IF(Benchsheet!C89=1121057,\"VA1121057\",IF(Benchsheet!C89=1121090,\"VA1121090\",IF(Benchsheet!C89=1121052,\"VA1121052\",IF(Benchsheet!C89=1121175,\"VA1121175\",IF(Benchsheet!C89=1121580,\"VA1121580\",IF(Benchsheet!C89=1121570,\"VA1121570\",IF(Benchsheet!C89=1121045,\"VA1121045\",IF(Benchsheet!C89=1121655,\"VA1121655\",IF(Benchsheet!C89=1121503,\"VA1121503\",IF(Benchsheet!C89=1121043,\"VA1121043\",IF(Benchsheet!C89=1121900,\"VA1121900\",IF(Benchsheet!C89=1121845,\"VA1121845\",IF(Benchsheet!C89=1121655,\"VA1121655\",IF(Benchsheet!C89=1121900,\"VA1121900\",IF(Benchsheet!C89<1,\"\")))))))))))))))","v":""},{"$f":"IF(Benchsheet!A89>1,\"TC\",IF(Benchsheet!A89=FALSE,\"\"))","v":""},{"$f":"IF(J86=\"WL001\",\"MPN\",IF(Benchsheet!B89=FALSE,\"\",IF(J86=\"WL002\",\"MPN\",IF(J86=\"WL003\",\"MPN\",IF(J86=\"DS001\",\"TC\")))))","v":""},{"$f":"Benchsheet!E89","v":0},"",{"$f":"Benchsheet!B89","v":0},{"$f":"IF(J86=\"WL001\",\"RW001\",IF(Benchsheet!B89=FALSE,\"\",IF(J86=\"WL002\",\"RW002\",IF(J86=\"WL003\",\"RW003\",IF(J86=\"DS001\",\"TCR001\",IF(J86=\"DS001\",\"TCR01\"))))))","v":""},{"$f":"Benchsheet!D89","v":0},{"$f":"Benchsheet!G89","v":"00:00:00"},{"$f":"Benchsheet!H89","v":0},{"$f":"Benchsheet!I89","v":"00:00:00"},{"$f":"Benchsheet!F89","v":0},{"$f":"Benchsheet!P89","v":0},{"$f":"Benchsheet!O89","v":0}]
[{"$f":"IF(Benchsheet!A90>1,\"sample\",IF(Benchsheet!A90=FALSE,\"\"))","v":""},{"$f":"IF(Benchsheet!A90>1,\"STATE\",IF(Benchsheet!A90=FALSE,\"\"))","v":""},{"$f":"IF(Benchsheet!A90>1,\"00035\",IF(Benchsheet!A90=FALSE,\"\"))","v":""},{"$f":"Benchsheet!A90","v":0},{"$f":"IF(Benchsheet!C90=1121057,\"VA1121057\",IF(Benchsheet!C90=1121090,\"VA1121090\",IF(Benchsheet!C90=1121052,\"VA1121052\",IF(Benchsheet!C90=1121175,\"VA1121175\",IF(Benchsheet!C90=1121580,\"VA1121580\",IF(Benchsheet!C90=1121570,\"VA1121570\",IF(Benchsheet!C90=1121045,\"VA1121045\",IF(Benchsheet!C90=1121655,\"VA1121655\",IF(Benchsheet!C90=1121503,\"VA1121503\",IF(Benchsheet!C90=1121043,\"VA1121043\",IF(Benchsheet!C90=1121900,\"VA1121900\",IF(Benchsheet!C90=1121845,\"VA1121845\",IF(Benchsheet!C90=1121655,\"VA1121655\",IF(Benchsheet!C90=1121900,\"VA1121900\",IF(Benchsheet!C90<1,\"\")))))))))))))))","v":""},{"$f":"IF(Benchsheet!A90>1,\"TC\",IF(Benchsheet!A90=FALSE,\"\"))","v":""},{"$f":"IF(J87=\"WL001\",\"MPN\",IF(Benchsheet!B90=FALSE,\"\",IF(J87=\"WL002\",\"MPN\",IF(J87=\"WL003\",\"MPN\",IF(J87=\"DS001\",\"TC\")))))","v":""},{"$f":"Benchsheet!E90","v":0},"",{"$f":"Benchsheet!B90","v":0},{"$f":"IF(J87=\"WL001\",\"RW001\",IF(Benchsheet!B90=FALSE,\"\",IF(J87=\"WL002\",\"RW002\",IF(J87=\"WL003\",\"RW003\",IF(J87=\"DS001\",\"TCR001\",IF(J87=\"DS001\",\"TCR01\"))))))","v":""},{"$f":"Benchsheet!D90","v":0},{"$f":"Benchsheet!G90","v":"00:00:00"},{"$f":"Benchsheet!H90","v":0},{"$f":"Benchsheet!I90","v":"00:00:00"},{"$f":"Benchsheet!F90","v":0},{"$f":"Benchsheet!P90","v":0},{"$f":"Benchsheet!O90","v":0}]
[{"$f":"IF(Benchsheet!A91>1,\"sample\",IF(Benchsheet!A91=FALSE,\"\"))","v":""},{"$f":"IF(Benchsheet!A91>1,\"STATE\",IF(Benchsheet!A91=FALSE,\"\"))","v":""},{"$f":"IF(Benchsheet!A91>1,\"00035\",IF(Benchsheet!A91=FALSE,\"\"))","v":""},{"$f":"Benchsheet!A91","v":0},{"$f":"IF(Benchsheet!C91=1121057,\"VA1121057\",IF(Benchsheet!C91=1121090,\"VA1121090\",IF(Benchsheet!C91=1121052,\"VA1121052\",IF(Benchsheet!C91=1121175,\"VA1121175\",IF(Benchsheet!C91=1121580,\"VA1121580\",IF(Benchsheet!C91=1121570,\"VA1121570\",IF(Benchsheet!C91=1121045,\"VA1121045\",IF(Benchsheet!C91=1121655,\"VA1121655\",IF(Benchsheet!C91=1121503,\"VA1121503\",IF(Benchsheet!C91=1121043,\"VA1121043\",IF(Benchsheet!C91=1121900,\"VA1121900\",IF(Benchsheet!C91=1121845,\"VA1121845\",IF(Benchsheet!C91=1121655,\"VA1121655\",IF(Benchsheet!C91=1121900,\"VA1121900\",IF(Benchsheet!C91<1,\"\")))))))))))))))","v":""},{"$f":"IF(Benchsheet!A91>1,\"TC\",IF(Benchsheet!A91=FALSE,\"\"))","v":""},{"$f":"IF(J88=\"WL001\",\"MPN\",IF(Benchsheet!B91=FALSE,\"\",IF(J88=\"WL002\",\"MPN\",IF(J88=\"WL003\",\"MPN\",IF(J88=\"DS001\",\"TC\")))))","v":""},{"$f":"Benchsheet!E91","v":0},"",{"$f":"Benchsheet!B91","v":0},{"$f":"IF(J88=\"WL001\",\"RW001\",IF(Benchsheet!B91=FALSE,\"\",IF(J88=\"WL002\",\"RW002\",IF(J88=\"WL003\",\"RW003\",IF(J88=\"DS001\",\"TCR001\",IF(J88=\"DS001\",\"TCR01\"))))))","v":""},{"$f":"Benchsheet!D91","v":0},{"$f":"Benchsheet!G91","v":"00:00:00"},{"$f":"Benchsheet!H91","v":0},{"$f":"Benchsheet!I91","v":"00:00:00"},{"$f":"Benchsheet!F91","v":0},{"$f":"Benchsheet!P91","v":0},{"$f":"Benchsheet!O91","v":0}]
[{"$f":"IF(Benchsheet!A92>1,\"sample\",IF(Benchsheet!A92=FALSE,\"\"))","v":""},{"$f":"IF(Benchsheet!A92>1,\"STATE\",IF(Benchsheet!A92=FALSE,\"\"))","v":""},{"$f":"IF(Benchsheet!A92>1,\"00035\",IF(Benchsheet!A92=FALSE,\"\"))","v":""},{"$f":"Benchsheet!A92","v":0},{"$f":"IF(Benchsheet!C92=1121057,\"VA1121057\",IF(Benchsheet!C92=1121090,\"VA1121090\",IF(Benchsheet!C92=1121052,\"VA1121052\",IF(Benchsheet!C92=1121175,\"VA1121175\",IF(Benchsheet!C92=1121580,\"VA1121580\",IF(Benchsheet!C92=1121570,\"VA1121570\",IF(Benchsheet!C92=1121045,\"VA1121045\",IF(Benchsheet!C92=1121655,\"VA1121655\",IF(Benchsheet!C92=1121503,\"VA1121503\",IF(Benchsheet!C92=1121043,\"VA1121043\",IF(Benchsheet!C92=1121900,\"VA1121900\",IF(Benchsheet!C92=1121845,\"VA1121845\",IF(Benchsheet!C92=1121655,\"VA1121655\",IF(Benchsheet!C92=1121900,\"VA1121900\",IF(Benchsheet!C92<1,\"\")))))))))))))))","v":""},{"$f":"IF(Benchsheet!A92>1,\"TC\",IF(Benchsheet!A92=FALSE,\"\"))","v":""},{"$f":"IF(J89=\"WL001\",\"MPN\",IF(Benchsheet!B92=FALSE,\"\",IF(J89=\"WL002\",\"MPN\",IF(J89=\"WL003\",\"MPN\",IF(J89=\"DS001\",\"TC\")))))","v":""},{"$f":"Benchsheet!E92","v":0},"",{"$f":"Benchsheet!B92","v":0},{"$f":"IF(J89=\"WL001\",\"RW001\",IF(Benchsheet!B92=FALSE,\"\",IF(J89=\"WL002\",\"RW002\",IF(J89=\"WL003\",\"RW003\",IF(J89=\"DS001\",\"TCR001\",IF(J89=\"DS001\",\"TCR01\"))))))","v":""},{"$f":"Benchsheet!D92","v":0},{"$f":"Benchsheet!G92","v":"00:00:00"},{"$f":"Benchsheet!H92","v":0},{"$f":"Benchsheet!I92","v":"00:00:00"},{"$f":"Benchsheet!F92","v":0},{"$f":"Benchsheet!P92","v":0},{"$f":"Benchsheet!O92","v":0}]
[{"$f":"IF(Benchsheet!A93>1,\"sample\",IF(Benchsheet!A93=FALSE,\"\"))","v":""},{"$f":"IF(Benchsheet!A93>1,\"STATE\",IF(Benchsheet!A93=FALSE,\"\"))","v":""},{"$f":"IF(Benchsheet!A93>1,\"00035\",IF(Benchsheet!A93=FALSE,\"\"))","v":""},{"$f":"Benchsheet!A93","v":0},{"$f":"IF(Benchsheet!C93=1121057,\"VA1121057\",IF(Benchsheet!C93=1121090,\"VA1121090\",IF(Benchsheet!C93=1121052,\"VA1121052\",IF(Benchsheet!C93=1121175,\"VA1121175\",IF(Benchsheet!C93=1121580,\"VA1121580\",IF(Benchsheet!C93=1121570,\"VA1121570\",IF(Benchsheet!C93=1121045,\"VA1121045\",IF(Benchsheet!C93=1121655,\"VA1121655\",IF(Benchsheet!C93=1121503,\"VA1121503\",IF(Benchsheet!C93=1121043,\"VA1121043\",IF(Benchsheet!C93=1121900,\"VA1121900\",IF(Benchsheet!C93=1121845,\"VA1121845\",IF(Benchsheet!C93=1121655,\"VA1121655\",IF(Benchsheet!C93=1121900,\"VA1121900\",IF(Benchsheet!C93<1,\"\")))))))))))))))","v":""},{"$f":"IF(Benchsheet!A93>1,\"TC\",IF(Benchsheet!A93=FALSE,\"\"))","v":""},{"$f":"IF(J90=\"WL001\",\"MPN\",IF(Benchsheet!B93=FALSE,\"\",IF(J90=\"WL002\",\"MPN\",IF(J90=\"WL003\",\"MPN\",IF(J90=\"DS001\",\"TC\")))))","v":""},{"$f":"Benchsheet!E93","v":0},"",{"$f":"Benchsheet!B93","v":0},{"$f":"IF(J90=\"WL001\",\"RW001\",IF(Benchsheet!B93=FALSE,\"\",IF(J90=\"WL002\",\"RW002\",IF(J90=\"WL003\",\"RW003\",IF(J90=\"DS001\",\"TCR001\",IF(J90=\"DS001\",\"TCR01\"))))))","v":""},{"$f":"Benchsheet!D93","v":0},{"$f":"Benchsheet!G93","v":"00:00:00"},{"$f":"Benchsheet!H93","v":0},{"$f":"Benchsheet!I93","v":"00:00:00"},{"$f":"Benchsheet!F93","v":0},{"$f":"Benchsheet!P93","v":0},{"$f":"Benchsheet!O93","v":0}]
[{"$f":"IF(Benchsheet!A94>1,\"sample\",IF(Benchsheet!A94=FALSE,\"\"))","v":""},{"$f":"IF(Benchsheet!A94>1,\"STATE\",IF(Benchsheet!A94=FALSE,\"\"))","v":""},{"$f":"IF(Benchsheet!A94>1,\"00035\",IF(Benchsheet!A94=FALSE,\"\"))","v":""},{"$f":"Benchsheet!A94","v":0},{"$f":"IF(Benchsheet!C94=1121057,\"VA1121057\",IF(Benchsheet!C94=1121090,\"VA1121090\",IF(Benchsheet!C94=1121052,\"VA1121052\",IF(Benchsheet!C94=1121175,\"VA1121175\",IF(Benchsheet!C94=1121580,\"VA1121580\",IF(Benchsheet!C94=1121570,\"VA1121570\",IF(Benchsheet!C94=1121045,\"VA1121045\",IF(Benchsheet!C94=1121655,\"VA1121655\",IF(Benchsheet!C94=1121503,\"VA1121503\",IF(Benchsheet!C94=1121043,\"VA1121043\",IF(Benchsheet!C94=1121900,\"VA1121900\",IF(Benchsheet!C94=1121845,\"VA1121845\",IF(Benchsheet!C94=1121655,\"VA1121655\",IF(Benchsheet!C94=1121900,\"VA1121900\",IF(Benchsheet!C94<1,\"\")))))))))))))))","v":""},{"$f":"IF(Benchsheet!A94>1,\"TC\",IF(Benchsheet!A94=FALSE,\"\"))","v":""},{"$f":"IF(J91=\"WL001\",\"MPN\",IF(Benchsheet!B94=FALSE,\"\",IF(J91=\"WL002\",\"MPN\",IF(J91=\"WL003\",\"MPN\",IF(J91=\"DS001\",\"TC\")))))","v":""},{"$f":"Benchsheet!E94","v":0},"",{"$f":"Benchsheet!B94","v":0},{"$f":"IF(J91=\"WL001\",\"RW001\",IF(Benchsheet!B94=FALSE,\"\",IF(J91=\"WL002\",\"RW002\",IF(J91=\"WL003\",\"RW003\",IF(J91=\"DS001\",\"TCR001\",IF(J91=\"DS001\",\"TCR01\"))))))","v":""},{"$f":"Benchsheet!D94","v":0},{"$f":"Benchsheet!G94","v":"00:00:00"},{"$f":"Benchsheet!H94","v":0},{"$f":"Benchsheet!I94","v":"00:00:00"},{"$f":"Benchsheet!F94","v":0},{"$f":"Benchsheet!P94","v":0},{"$f":"Benchsheet!O94","v":0}]
[{"$f":"IF(Benchsheet!A95>1,\"sample\",IF(Benchsheet!A95=FALSE,\"\"))","v":""},{"$f":"IF(Benchsheet!A95>1,\"STATE\",IF(Benchsheet!A95=FALSE,\"\"))","v":""},{"$f":"IF(Benchsheet!A95>1,\"00035\",IF(Benchsheet!A95=FALSE,\"\"))","v":""},{"$f":"Benchsheet!A95","v":0},{"$f":"IF(Benchsheet!C95=1121057,\"VA1121057\",IF(Benchsheet!C95=1121090,\"VA1121090\",IF(Benchsheet!C95=1121052,\"VA1121052\",IF(Benchsheet!C95=1121175,\"VA1121175\",IF(Benchsheet!C95=1121580,\"VA1121580\",IF(Benchsheet!C95=1121570,\"VA1121570\",IF(Benchsheet!C95=1121045,\"VA1121045\",IF(Benchsheet!C95=1121655,\"VA1121655\",IF(Benchsheet!C95=1121503,\"VA1121503\",IF(Benchsheet!C95=1121043,\"VA1121043\",IF(Benchsheet!C95=1121900,\"VA1121900\",IF(Benchsheet!C95=1121845,\"VA1121845\",IF(Benchsheet!C95=1121655,\"VA1121655\",IF(Benchsheet!C95=1121900,\"VA1121900\",IF(Benchsheet!C95<1,\"\")))))))))))))))","v":""},{"$f":"IF(Benchsheet!A95>1,\"TC\",IF(Benchsheet!A95=FALSE,\"\"))","v":""},{"$f":"IF(J92=\"WL001\",\"MPN\",IF(Benchsheet!B95=FALSE,\"\",IF(J92=\"WL002\",\"MPN\",IF(J92=\"WL003\",\"MPN\",IF(J92=\"DS001\",\"TC\")))))","v":""},{"$f":"Benchsheet!E95","v":0},"",{"$f":"Benchsheet!B95","v":0},{"$f":"IF(J92=\"WL001\",\"RW001\",IF(Benchsheet!B95=FALSE,\"\",IF(J92=\"WL002\",\"RW002\",IF(J92=\"WL003\",\"RW003\",IF(J92=\"DS001\",\"TCR001\",IF(J92=\"DS001\",\"TCR01\"))))))","v":""},{"$f":"Benchsheet!D95","v":0},{"$f":"Benchsheet!G95","v":"00:00:00"},{"$f":"Benchsheet!H95","v":0},{"$f":"Benchsheet!I95","v":"00:00:00"},{"$f":"Benchsheet!F95","v":0},{"$f":"Benchsheet!P95","v":0},{"$f":"Benchsheet!O95","v":0}]
[{"$f":"IF(Benchsheet!A96>1,\"sample\",IF(Benchsheet!A96=FALSE,\"\"))","v":""},{"$f":"IF(Benchsheet!A96>1,\"STATE\",IF(Benchsheet!A96=FALSE,\"\"))","v":""},{"$f":"IF(Benchsheet!A96>1,\"00035\",IF(Benchsheet!A96=FALSE,\"\"))","v":""},{"$f":"Benchsheet!A96","v":0},{"$f":"IF(Benchsheet!C96=1121057,\"VA1121057\",IF(Benchsheet!C96=1121090,\"VA1121090\",IF(Benchsheet!C96=1121052,\"VA1121052\",IF(Benchsheet!C96=1121175,\"VA1121175\",IF(Benchsheet!C96=1121580,\"VA1121580\",IF(Benchsheet!C96=1121570,\"VA1121570\",IF(Benchsheet!C96=1121045,\"VA1121045\",IF(Benchsheet!C96=1121655,\"VA1121655\",IF(Benchsheet!C96=1121503,\"VA1121503\",IF(Benchsheet!C96=1121043,\"VA1121043\",IF(Benchsheet!C96=1121900,\"VA1121900\",IF(Benchsheet!C96=1121845,\"VA1121845\",IF(Benchsheet!C96=1121655,\"VA1121655\",IF(Benchsheet!C96=1121900,\"VA1121900\",IF(Benchsheet!C96<1,\"\")))))))))))))))","v":""},{"$f":"IF(Benchsheet!A96>1,\"TC\",IF(Benchsheet!A96=FALSE,\"\"))","v":""},{"$f":"IF(J93=\"WL001\",\"MPN\",IF(Benchsheet!B96=FALSE,\"\",IF(J93=\"WL002\",\"MPN\",IF(J93=\"WL003\",\"MPN\",IF(J93=\"DS001\",\"TC\")))))","v":""},{"$f":"Benchsheet!E96","v":0},"",{"$f":"Benchsheet!B96","v":0},{"$f":"IF(J93=\"WL001\",\"RW001\",IF(Benchsheet!B96=FALSE,\"\",IF(J93=\"WL002\",\"RW002\",IF(J93=\"WL003\",\"RW003\",IF(J93=\"DS001\",\"TCR001\",IF(J93=\"DS001\",\"TCR01\"))))))","v":""},{"$f":"Benchsheet!D96","v":0},{"$f":"Benchsheet!G96","v":"00:00:00"},{"$f":"Benchsheet!H96","v":0},{"$f":"Benchsheet!I96","v":"00:00:00"},{"$f":"Benchsheet!F96","v":0},{"$f":"Benchsheet!P96","v":0},{"$f":"Benchsheet!O96","v":0}]
[{"$f":"IF(Benchsheet!A97>1,\"sample\",IF(Benchsheet!A97=FALSE,\"\"))","v":""},{"$f":"IF(Benchsheet!A97>1,\"STATE\",IF(Benchsheet!A97=FALSE,\"\"))","v":""},{"$f":"IF(Benchsheet!A97>1,\"00035\",IF(Benchsheet!A97=FALSE,\"\"))","v":""},{"$f":"Benchsheet!A97","v":0},{"$f":"IF(Benchsheet!C97=1121057,\"VA1121057\",IF(Benchsheet!C97=1121090,\"VA1121090\",IF(Benchsheet!C97=1121052,\"VA1121052\",IF(Benchsheet!C97=1121175,\"VA1121175\",IF(Benchsheet!C97=1121580,\"VA1121580\",IF(Benchsheet!C97=1121570,\"VA1121570\",IF(Benchsheet!C97=1121045,\"VA1121045\",IF(Benchsheet!C97=1121655,\"VA1121655\",IF(Benchsheet!C97=1121503,\"VA1121503\",IF(Benchsheet!C97=1121043,\"VA1121043\",IF(Benchsheet!C97=1121900,\"VA1121900\",IF(Benchsheet!C97=1121845,\"VA1121845\",IF(Benchsheet!C97=1121655,\"VA1121655\",IF(Benchsheet!C97=1121900,\"VA1121900\",IF(Benchsheet!C97<1,\"\")))))))))))))))","v":""},{"$f":"IF(Benchsheet!A97>1,\"TC\",IF(Benchsheet!A97=FALSE,\"\"))","v":""},{"$f":"IF(J94=\"WL001\",\"MPN\",IF(Benchsheet!B97=FALSE,\"\",IF(J94=\"WL002\",\"MPN\",IF(J94=\"WL003\",\"MPN\",IF(J94=\"DS001\",\"TC\")))))","v":""},{"$f":"Benchsheet!E97","v":0},"",{"$f":"Benchsheet!B97","v":0},{"$f":"IF(J94=\"WL001\",\"RW001\",IF(Benchsheet!B97=FALSE,\"\",IF(J94=\"WL002\",\"RW002\",IF(J94=\"WL003\",\"RW003\",IF(J94=\"DS001\",\"TCR001\",IF(J94=\"DS001\",\"TCR01\"))))))","v":""},{"$f":"Benchsheet!D97","v":0},{"$f":"Benchsheet!G97","v":"00:00:00"},{"$f":"Benchsheet!H97","v":0},{"$f":"Benchsheet!I97","v":"00:00:00"},{"$f":"Benchsheet!F97","v":0},{"$f":"Benchsheet!P97","v":0},{"$f":"Benchsheet!O97","v":0}]
[{"$f":"IF(Benchsheet!A98>1,\"sample\",IF(Benchsheet!A98=FALSE,\"\"))","v":""},{"$f":"IF(Benchsheet!A98>1,\"STATE\",IF(Benchsheet!A98=FALSE,\"\"))","v":""},{"$f":"IF(Benchsheet!A98>1,\"00035\",IF(Benchsheet!A98=FALSE,\"\"))","v":""},{"$f":"Benchsheet!A98","v":0},{"$f":"IF(Benchsheet!C98=1121057,\"VA1121057\",IF(Benchsheet!C98=1121090,\"VA1121090\",IF(Benchsheet!C98=1121052,\"VA1121052\",IF(Benchsheet!C98=1121175,\"VA1121175\",IF(Benchsheet!C98=1121580,\"VA1121580\",IF(Benchsheet!C98=1121570,\"VA1121570\",IF(Benchsheet!C98=1121045,\"VA1121045\",IF(Benchsheet!C98=1121655,\"VA1121655\",IF(Benchsheet!C98=1121503,\"VA1121503\",IF(Benchsheet!C98=1121043,\"VA1121043\",IF(Benchsheet!C98=1121900,\"VA1121900\",IF(Benchsheet!C98=1121845,\"VA1121845\",IF(Benchsheet!C98=1121655,\"VA1121655\",IF(Benchsheet!C98=1121900,\"VA1121900\",IF(Benchsheet!C98<1,\"\")))))))))))))))","v":""},{"$f":"IF(Benchsheet!A98>1,\"TC\",IF(Benchsheet!A98=FALSE,\"\"))","v":""},{"$f":"IF(J95=\"WL001\",\"MPN\",IF(Benchsheet!B98=FALSE,\"\",IF(J95=\"WL002\",\"MPN\",IF(J95=\"WL003\",\"MPN\",IF(J95=\"DS001\",\"TC\")))))","v":""},{"$f":"Benchsheet!E98","v":0},"",{"$f":"Benchsheet!B98","v":0},{"$f":"IF(J95=\"WL001\",\"RW001\",IF(Benchsheet!B98=FALSE,\"\",IF(J95=\"WL002\",\"RW002\",IF(J95=\"WL003\",\"RW003\",IF(J95=\"DS001\",\"TCR001\",IF(J95=\"DS001\",\"TCR01\"))))))","v":""},{"$f":"Benchsheet!D98","v":0},{"$f":"Benchsheet!G98","v":"00:00:00"},{"$f":"Benchsheet!H98","v":0},{"$f":"Benchsheet!I98","v":"00:00:00"},{"$f":"Benchsheet!F98","v":0},{"$f":"Benchsheet!P98","v":0},{"$f":"Benchsheet!O98","v":0}]
[{"$f":"IF(Benchsheet!A99>1,\"sample\",IF(Benchsheet!A99=FALSE,\"\"))","v":""},{"$f":"IF(Benchsheet!A99>1,\"STATE\",IF(Benchsheet!A99=FALSE,\"\"))","v":""},{"$f":"IF(Benchsheet!A99>1,\"00035\",IF(Benchsheet!A99=FALSE,\"\"))","v":""},{"$f":"Benchsheet!A99","v":0},{"$f":"IF(Benchsheet!C99=1121057,\"VA1121057\",IF(Benchsheet!C99=1121090,\"VA1121090\",IF(Benchsheet!C99=1121052,\"VA1121052\",IF(Benchsheet!C99=1121175,\"VA1121175\",IF(Benchsheet!C99=1121580,\"VA1121580\",IF(Benchsheet!C99=1121570,\"VA1121570\",IF(Benchsheet!C99=1121045,\"VA1121045\",IF(Benchsheet!C99=1121655,\"VA1121655\",IF(Benchsheet!C99=1121503,\"VA1121503\",IF(Benchsheet!C99=1121043,\"VA1121043\",IF(Benchsheet!C99=1121900,\"VA1121900\",IF(Benchsheet!C99=1121845,\"VA1121845\",IF(Benchsheet!C99=1121655,\"VA1121655\",IF(Benchsheet!C99=1121900,\"VA1121900\",IF(Benchsheet!C99<1,\"\")))))))))))))))","v":""},{"$f":"IF(Benchsheet!A99>1,\"TC\",IF(Benchsheet!A99=FALSE,\"\"))","v":""},{"$f":"IF(J96=\"WL001\",\"MPN\",IF(Benchsheet!B99=FALSE,\"\",IF(J96=\"WL002\",\"MPN\",IF(J96=\"WL003\",\"MPN\",IF(J96=\"DS001\",\"TC\")))))","v":""},{"$f":"Benchsheet!E99","v":0},"",{"$f":"Benchsheet!B99","v":0},{"$f":"IF(J96=\"WL001\",\"RW001\",IF(Benchsheet!B99=FALSE,\"\",IF(J96=\"WL002\",\"RW002\",IF(J96=\"WL003\",\"RW003\",IF(J96=\"DS001\",\"TCR001\",IF(J96=\"DS001\",\"TCR01\"))))))","v":""},{"$f":"Benchsheet!D99","v":0},{"$f":"Benchsheet!G99","v":"00:00:00"},{"$f":"Benchsheet!H99","v":0},{"$f":"Benchsheet!I99","v":"00:00:00"},{"$f":"Benchsheet!F99","v":0},{"$f":"Benchsheet!P99","v":0},{"$f":"Benchsheet!O99","v":0}]
[{"$f":"IF(Benchsheet!A100>1,\"sample\",IF(Benchsheet!A100=FALSE,\"\"))","v":""},{"$f":"IF(Benchsheet!A100>1,\"STATE\",IF(Benchsheet!A100=FALSE,\"\"))","v":""},{"$f":"IF(Benchsheet!A100>1,\"00035\",IF(Benchsheet!A100=FALSE,\"\"))","v":""},{"$f":"Benchsheet!A100","v":0},{"$f":"IF(Benchsheet!C100=1121057,\"VA1121057\",IF(Benchsheet!C100=1121090,\"VA1121090\",IF(Benchsheet!C100=1121052,\"VA1121052\",IF(Benchsheet!C100=1121175,\"VA1121175\",IF(Benchsheet!C100=1121580,\"VA1121580\",IF(Benchsheet!C100=1121570,\"VA1121570\",IF(Benchsheet!C100=1121045,\"VA1121045\",IF(Benchsheet!C100=1121655,\"VA1121655\",IF(Benchsheet!C100=1121503,\"VA1121503\",IF(Benchsheet!C100=1121043,\"VA1121043\",IF(Benchsheet!C100=1121900,\"VA1121900\",IF(Benchsheet!C100=1121845,\"VA1121845\",IF(Benchsheet!C100=1121655,\"VA1121655\",IF(Benchsheet!C100=1121900,\"VA1121900\",IF(Benchsheet!C100<1,\"\")))))))))))))))","v":""},{"$f":"IF(Benchsheet!A100>1,\"TC\",IF(Benchsheet!A100=FALSE,\"\"))","v":""},{"$f":"IF(J97=\"WL001\",\"MPN\",IF(Benchsheet!B100=FALSE,\"\",IF(J97=\"WL002\",\"MPN\",IF(J97=\"WL003\",\"MPN\",IF(J97=\"DS001\",\"TC\")))))","v":""},{"$f":"Benchsheet!E100","v":0},"",{"$f":"Benchsheet!B100","v":0},{"$f":"IF(J97=\"WL001\",\"RW001\",IF(Benchsheet!B100=FALSE,\"\",IF(J97=\"WL002\",\"RW002\",IF(J97=\"WL003\",\"RW003\",IF(J97=\"DS001\",\"TCR001\",IF(J97=\"DS001\",\"TCR01\"))))))","v":""},{"$f":"Benchsheet!D100","v":0},{"$f":"Benchsheet!G100","v":"00:00:00"},{"$f":"Benchsheet!H100","v":0},{"$f":"Benchsheet!I100","v":"00:00:00"},{"$f":"Benchsheet!F100","v":0},{"$f":"Benchsheet!P100","v":0},{"$f":"Benchsheet!O100","v":0}]
[{"$f":"IF(Benchsheet!A101>1,\"sample\",IF(Benchsheet!A101=FALSE,\"\"))","v":""},{"$f":"IF(Benchsheet!A101>1,\"STATE\",IF(Benchsheet!A101=FALSE,\"\"))","v":""},{"$f":"IF(Benchsheet!A101>1,\"00035\",IF(Benchsheet!A101=FALSE,\"\"))","v":""},{"$f":"Benchsheet!A101","v":0},{"$f":"IF(Benchsheet!C101=1121057,\"VA1121057\",IF(Benchsheet!C101=1121090,\"VA1121090\",IF(Benchsheet!C101=1121052,\"VA1121052\",IF(Benchsheet!C101=1121175,\"VA1121175\",IF(Benchsheet!C101=1121580,\"VA1121580\",IF(Benchsheet!C101=1121570,\"VA1121570\",IF(Benchsheet!C101=1121045,\"VA1121045\",IF(Benchsheet!C101=1121655,\"VA1121655\",IF(Benchsheet!C101=1121503,\"VA1121503\",IF(Benchsheet!C101=1121043,\"VA1121043\",IF(Benchsheet!C101=1121900,\"VA1121900\",IF(Benchsheet!C101=1121845,\"VA1121845\",IF(Benchsheet!C101=1121655,\"VA1121655\",IF(Benchsheet!C101=1121900,\"VA1121900\",IF(Benchsheet!C101<1,\"\")))))))))))))))","v":""},{"$f":"IF(Benchsheet!A101>1,\"TC\",IF(Benchsheet!A101=FALSE,\"\"))","v":""},{"$f":"IF(J98=\"WL001\",\"MPN\",IF(Benchsheet!B101=FALSE,\"\",IF(J98=\"WL002\",\"MPN\",IF(J98=\"WL003\",\"MPN\",IF(J98=\"DS001\",\"TC\")))))","v":""},{"$f":"Benchsheet!E101","v":0},"",{"$f":"Benchsheet!B101","v":0},{"$f":"IF(J98=\"WL001\",\"RW001\",IF(Benchsheet!B101=FALSE,\"\",IF(J98=\"WL002\",\"RW002\",IF(J98=\"WL003\",\"RW003\",IF(J98=\"DS001\",\"TCR001\",IF(J98=\"DS001\",\"TCR01\"))))))","v":""},{"$f":"Benchsheet!D101","v":0},{"$f":"Benchsheet!G101","v":"00:00:00"},{"$f":"Benchsheet!H101","v":0},{"$f":"Benchsheet!I101","v":"00:00:00"},{"$f":"Benchsheet!F101","v":0},{"$f":"Benchsheet!P101","v":0},{"$f":"Benchsheet!O101","v":0}]
[{"$f":"IF(Benchsheet!A102>1,\"sample\",IF(Benchsheet!A102=FALSE,\"\"))","v":""},{"$f":"IF(Benchsheet!A102>1,\"STATE\",IF(Benchsheet!A102=FALSE,\"\"))","v":""},{"$f":"IF(Benchsheet!A102>1,\"00035\",IF(Benchsheet!A102=FALSE,\"\"))","v":""},{"$f":"Benchsheet!A102","v":0},{"$f":"IF(Benchsheet!C102=1121057,\"VA1121057\",IF(Benchsheet!C102=1121090,\"VA1121090\",IF(Benchsheet!C102=1121052,\"VA1121052\",IF(Benchsheet!C102=1121175,\"VA1121175\",IF(Benchsheet!C102=1121580,\"VA1121580\",IF(Benchsheet!C102=1121570,\"VA1121570\",IF(Benchsheet!C102=1121045,\"VA1121045\",IF(Benchsheet!C102=1121655,\"VA1121655\",IF(Benchsheet!C102=1121503,\"VA1121503\",IF(Benchsheet!C102=1121043,\"VA1121043\",IF(Benchsheet!C102=1121900,\"VA1121900\",IF(Benchsheet!C102=1121845,\"VA1121845\",IF(Benchsheet!C102=1121655,\"VA1121655\",IF(Benchsheet!C102=1121900,\"VA1121900\",IF(Benchsheet!C102<1,\"\")))))))))))))))","v":""},{"$f":"IF(Benchsheet!A102>1,\"TC\",IF(Benchsheet!A102=FALSE,\"\"))","v":""},{"$f":"IF(J99=\"WL001\",\"MPN\",IF(Benchsheet!B102=FALSE,\"\",IF(J99=\"WL002\",\"MPN\",IF(J99=\"WL003\",\"MPN\",IF(J99=\"DS001\",\"TC\")))))","v":""},{"$f":"Benchsheet!E102","v":0},"",{"$f":"Benchsheet!B102","v":0},{"$f":"IF(J99=\"WL001\",\"RW001\",IF(Benchsheet!B102=FALSE,\"\",IF(J99=\"WL002\",\"RW002\",IF(J99=\"WL003\",\"RW003\",IF(J99=\"DS001\",\"TCR001\",IF(J99=\"DS001\",\"TCR01\"))))))","v":""},{"$f":"Benchsheet!D102","v":0},{"$f":"Benchsheet!G102","v":"00:00:00"},{"$f":"Benchsheet!H102","v":0},{"$f":"Benchsheet!I102","v":"00:00:00"},{"$f":"Benchsheet!F102","v":0},{"$f":"Benchsheet!P102","v":0},{"$f":"Benchsheet!O102","v":0}]
[{"$f":"IF(Benchsheet!A103>1,\"sample\",IF(Benchsheet!A103=FALSE,\"\"))","v":""},{"$f":"IF(Benchsheet!A103>1,\"STATE\",IF(Benchsheet!A103=FALSE,\"\"))","v":""},{"$f":"IF(Benchsheet!A103>1,\"00035\",IF(Benchsheet!A103=FALSE,\"\"))","v":""},{"$f":"Benchsheet!A103","v":0},{"$f":"IF(Benchsheet!C103=1121057,\"VA1121057\",IF(Benchsheet!C103=1121090,\"VA1121090\",IF(Benchsheet!C103=1121052,\"VA1121052\",IF(Benchsheet!C103=1121175,\"VA1121175\",IF(Benchsheet!C103=1121580,\"VA1121580\",IF(Benchsheet!C103=1121570,\"VA1121570\",IF(Benchsheet!C103=1121045,\"VA1121045\",IF(Benchsheet!C103=1121655,\"VA1121655\",IF(Benchsheet!C103=1121503,\"VA1121503\",IF(Benchsheet!C103=1121043,\"VA1121043\",IF(Benchsheet!C103=1121900,\"VA1121900\",IF(Benchsheet!C103=1121845,\"VA1121845\",IF(Benchsheet!C103=1121655,\"VA1121655\",IF(Benchsheet!C103=1121900,\"VA1121900\",IF(Benchsheet!C103<1,\"\")))))))))))))))","v":""},{"$f":"IF(Benchsheet!A103>1,\"TC\",IF(Benchsheet!A103=FALSE,\"\"))","v":""},{"$f":"IF(J100=\"WL001\",\"MPN\",IF(Benchsheet!B103=FALSE,\"\",IF(J100=\"WL002\",\"MPN\",IF(J100=\"WL003\",\"MPN\",IF(J100=\"DS001\",\"TC\")))))","v":""},{"$f":"Benchsheet!E103","v":0},"",{"$f":"Benchsheet!B103","v":0},{"$f":"IF(J100=\"WL001\",\"RW001\",IF(Benchsheet!B103=FALSE,\"\",IF(J100=\"WL002\",\"RW002\",IF(J100=\"WL003\",\"RW003\",IF(J100=\"DS001\",\"TCR001\",IF(J100=\"DS001\",\"TCR01\"))))))","v":""},{"$f":"Benchsheet!D103","v":0},{"$f":"Benchsheet!G103","v":"00:00:00"},{"$f":"Benchsheet!H103","v":0},{"$f":"Benchsheet!I103","v":"00:00:00"},{"$f":"Benchsheet!F103","v":0},{"$f":"Benchsheet!P103","v":0},{"$f":"Benchsheet!O103","v":0}]
[{"$f":"IF(Benchsheet!A104>1,\"sample\",IF(Benchsheet!A104=FALSE,\"\"))","v":""},{"$f":"IF(Benchsheet!A104>1,\"STATE\",IF(Benchsheet!A104=FALSE,\"\"))","v":""},{"$f":"IF(Benchsheet!A104>1,\"00035\",IF(Benchsheet!A104=FALSE,\"\"))","v":""},{"$f":"Benchsheet!A104","v":0},{"$f":"IF(Benchsheet!C104=1121057,\"VA1121057\",IF(Benchsheet!C104=1121090,\"VA1121090\",IF(Benchsheet!C104=1121052,\"VA1121052\",IF(Benchsheet!C104=1121175,\"VA1121175\",IF(Benchsheet!C104=1121580,\"VA1121580\",IF(Benchsheet!C104=1121570,\"VA1121570\",IF(Benchsheet!C104=1121045,\"VA1121045\",IF(Benchsheet!C104=1121655,\"VA1121655\",IF(Benchsheet!C104=1121503,\"VA1121503\",IF(Benchsheet!C104=1121043,\"VA1121043\",IF(Benchsheet!C104=1121900,\"VA1121900\",IF(Benchsheet!C104=1121845,\"VA1121845\",IF(Benchsheet!C104=1121655,\"VA1121655\",IF(Benchsheet!C104=1121900,\"VA1121900\",IF(Benchsheet!C104<1,\"\")))))))))))))))","v":""},{"$f":"IF(Benchsheet!A104>1,\"TC\",IF(Benchsheet!A104=FALSE,\"\"))","v":""},{"$f":"IF(J101=\"WL001\",\"MPN\",IF(Benchsheet!B104=FALSE,\"\",IF(J101=\"WL002\",\"MPN\",IF(J101=\"WL003\",\"MPN\",IF(J101=\"DS001\",\"TC\")))))","v":""},{"$f":"Benchsheet!E104","v":0},"",{"$f":"Benchsheet!B104","v":0},{"$f":"IF(J101=\"WL001\",\"RW001\",IF(Benchsheet!B104=FALSE,\"\",IF(J101=\"WL002\",\"RW002\",IF(J101=\"WL003\",\"RW003\",IF(J101=\"DS001\",\"TCR001\",IF(J101=\"DS001\",\"TCR01\"))))))","v":""},{"$f":"Benchsheet!D104","v":0},{"$f":"Benchsheet!G104","v":"00:00:00"},{"$f":"Benchsheet!H104","v":0},{"$f":"Benchsheet!I104","v":"00:00:00"},{"$f":"Benchsheet!F104","v":0},{"$f":"Benchsheet!P104","v":0},{"$f":"Benchsheet!O104","v":0}]
[{"$f":"IF(Benchsheet!A105>1,\"sample\",IF(Benchsheet!A105=FALSE,\"\"))","v":""},{"$f":"IF(Benchsheet!A105>1,\"STATE\",IF(Benchsheet!A105=FALSE,\"\"))","v":""},{"$f":"IF(Benchsheet!A105>1,\"00035\",IF(Benchsheet!A105=FALSE,\"\"))","v":""},{"$f":"Benchsheet!A105","v":0},{"$f":"IF(Benchsheet!C105=1121057,\"VA1121057\",IF(Benchsheet!C105=1121090,\"VA1121090\",IF(Benchsheet!C105=1121052,\"VA1121052\",IF(Benchsheet!C105=1121175,\"VA1121175\",IF(Benchsheet!C105=1121580,\"VA1121580\",IF(Benchsheet!C105=1121570,\"VA1121570\",IF(Benchsheet!C105=1121045,\"VA1121045\",IF(Benchsheet!C105=1121655,\"VA1121655\",IF(Benchsheet!C105=1121503,\"VA1121503\",IF(Benchsheet!C105=1121043,\"VA1121043\",IF(Benchsheet!C105=1121900,\"VA1121900\",IF(Benchsheet!C105=1121845,\"VA1121845\",IF(Benchsheet!C105=1121655,\"VA1121655\",IF(Benchsheet!C105=1121900,\"VA1121900\",IF(Benchsheet!C105<1,\"\")))))))))))))))","v":""},{"$f":"IF(Benchsheet!A105>1,\"TC\",IF(Benchsheet!A105=FALSE,\"\"))","v":""},{"$f":"IF(J102=\"WL001\",\"MPN\",IF(Benchsheet!B105=FALSE,\"\",IF(J102=\"WL002\",\"MPN\",IF(J102=\"WL003\",\"MPN\",IF(J102=\"DS001\",\"TC\")))))","v":""},{"$f":"Benchsheet!E105","v":0},"",{"$f":"Benchsheet!B105","v":0},{"$f":"IF(J102=\"WL001\",\"RW001\",IF(Benchsheet!B105=FALSE,\"\",IF(J102=\"WL002\",\"RW002\",IF(J102=\"WL003\",\"RW003\",IF(J102=\"DS001\",\"TCR001\",IF(J102=\"DS001\",\"TCR01\"))))))","v":""},{"$f":"Benchsheet!D105","v":0},{"$f":"Benchsheet!G105","v":"00:00:00"},{"$f":"Benchsheet!H105","v":0},{"$f":"Benchsheet!I105","v":"00:00:00"},{"$f":"Benchsheet!F105","v":0},{"$f":"Benchsheet!P105","v":0},{"$f":"Benchsheet!O105","v":0}]
[{"$f":"IF(Benchsheet!A106>1,\"sample\",IF(Benchsheet!A106=FALSE,\"\"))","v":""},{"$f":"IF(Benchsheet!A106>1,\"STATE\",IF(Benchsheet!A106=FALSE,\"\"))","v":""},{"$f":"IF(Benchsheet!A106>1,\"00035\",IF(Benchsheet!A106=FALSE,\"\"))","v":""},{"$f":"Benchsheet!A106","v":0},{"$f":"IF(Benchsheet!C106=1121057,\"VA1121057\",IF(Benchsheet!C106=1121090,\"VA1121090\",IF(Benchsheet!C106=1121052,\"VA1121052\",IF(Benchsheet!C106=1121175,\"VA1121175\",IF(Benchsheet!C106=1121580,\"VA1121580\",IF(Benchsheet!C106=1121570,\"VA1121570\",IF(Benchsheet!C106=1121045,\"VA1121045\",IF(Benchsheet!C106=1121655,\"VA1121655\",IF(Benchsheet!C106=1121503,\"VA1121503\",IF(Benchsheet!C106=1121043,\"VA1121043\",IF(Benchsheet!C106=1121900,\"VA1121900\",IF(Benchsheet!C106=1121845,\"VA1121845\",IF(Benchsheet!C106=1121655,\"VA1121655\",IF(Benchsheet!C106=1121900,\"VA1121900\",IF(Benchsheet!C106<1,\"\")))))))))))))))","v":""},{"$f":"IF(Benchsheet!A106>1,\"TC\",IF(Benchsheet!A106=FALSE,\"\"))","v":""},{"$f":"IF(J103=\"WL001\",\"MPN\",IF(Benchsheet!B106=FALSE,\"\",IF(J103=\"WL002\",\"MPN\",IF(J103=\"WL003\",\"MPN\",IF(J103=\"DS001\",\"TC\")))))","v":""},{"$f":"Benchsheet!E106","v":0},"",{"$f":"Benchsheet!B106","v":0},{"$f":"IF(J103=\"WL001\",\"RW001\",IF(Benchsheet!B106=FALSE,\"\",IF(J103=\"WL002\",\"RW002\",IF(J103=\"WL003\",\"RW003\",IF(J103=\"DS001\",\"TCR001\",IF(J103=\"DS001\",\"TCR01\"))))))","v":""},{"$f":"Benchsheet!D106","v":0},{"$f":"Benchsheet!G106","v":"00:00:00"},{"$f":"Benchsheet!H106","v":0},{"$f":"Benchsheet!I106","v":"00:00:00"},{"$f":"Benchsheet!F106","v":0},{"$f":"Benchsheet!P106","v":0},{"$f":"Benchsheet!O106","v":0}]
[{"$f":"IF(Benchsheet!A107>1,\"sample\",IF(Benchsheet!A107=FALSE,\"\"))","v":""},{"$f":"IF(Benchsheet!A107>1,\"STATE\",IF(Benchsheet!A107=FALSE,\"\"))","v":""},{"$f":"IF(Benchsheet!A107>1,\"00035\",IF(Benchsheet!A107=FALSE,\"\"))","v":""},{"$f":"Benchsheet!A107","v":0},{"$f":"IF(Benchsheet!C107=1121057,\"VA1121057\",IF(Benchsheet!C107=1121090,\"VA1121090\",IF(Benchsheet!C107=1121052,\"VA1121052\",IF(Benchsheet!C107=1121175,\"VA1121175\",IF(Benchsheet!C107=1121580,\"VA1121580\",IF(Benchsheet!C107=1121570,\"VA1121570\",IF(Benchsheet!C107=1121045,\"VA1121045\",IF(Benchsheet!C107=1121655,\"VA1121655\",IF(Benchsheet!C107=1121503,\"VA1121503\",IF(Benchsheet!C107=1121043,\"VA1121043\",IF(Benchsheet!C107=1121900,\"VA1121900\",IF(Benchsheet!C107=1121845,\"VA1121845\",IF(Benchsheet!C107=1121655,\"VA1121655\",IF(Benchsheet!C107=1121900,\"VA1121900\",IF(Benchsheet!C107<1,\"\")))))))))))))))","v":""},{"$f":"IF(Benchsheet!A107>1,\"TC\",IF(Benchsheet!A107=FALSE,\"\"))","v":""},{"$f":"IF(J104=\"WL001\",\"MPN\",IF(Benchsheet!B107=FALSE,\"\",IF(J104=\"WL002\",\"MPN\",IF(J104=\"WL003\",\"MPN\",IF(J104=\"DS001\",\"TC\")))))","v":""},{"$f":"Benchsheet!E107","v":0},"",{"$f":"Benchsheet!B107","v":0},{"$f":"IF(J104=\"WL001\",\"RW001\",IF(Benchsheet!B107=FALSE,\"\",IF(J104=\"WL002\",\"RW002\",IF(J104=\"WL003\",\"RW003\",IF(J104=\"DS001\",\"TCR001\",IF(J104=\"DS001\",\"TCR01\"))))))","v":""},{"$f":"Benchsheet!D107","v":0},{"$f":"Benchsheet!G107","v":"00:00:00"},{"$f":"Benchsheet!H107","v":0},{"$f":"Benchsheet!I107","v":"00:00:00"},{"$f":"Benchsheet!F107","v":0},{"$f":"Benchsheet!P107","v":0},{"$f":"Benchsheet!O107","v":0}]
[{"$f":"IF(Benchsheet!A108>1,\"sample\",IF(Benchsheet!A108=FALSE,\"\"))","v":""},{"$f":"IF(Benchsheet!A108>1,\"STATE\",IF(Benchsheet!A108=FALSE,\"\"))","v":""},{"$f":"IF(Benchsheet!A108>1,\"00035\",IF(Benchsheet!A108=FALSE,\"\"))","v":""},{"$f":"Benchsheet!A108","v":0},{"$f":"IF(Benchsheet!C108=1121057,\"VA1121057\",IF(Benchsheet!C108=1121090,\"VA1121090\",IF(Benchsheet!C108=1121052,\"VA1121052\",IF(Benchsheet!C108=1121175,\"VA1121175\",IF(Benchsheet!C108=1121580,\"VA1121580\",IF(Benchsheet!C108=1121570,\"VA1121570\",IF(Benchsheet!C108=1121045,\"VA1121045\",IF(Benchsheet!C108=1121655,\"VA1121655\",IF(Benchsheet!C108=1121503,\"VA1121503\",IF(Benchsheet!C108=1121043,\"VA1121043\",IF(Benchsheet!C108=1121900,\"VA1121900\",IF(Benchsheet!C108=1121845,\"VA1121845\",IF(Benchsheet!C108=1121655,\"VA1121655\",IF(Benchsheet!C108=1121900,\"VA1121900\",IF(Benchsheet!C108<1,\"\")))))))))))))))","v":""},{"$f":"IF(Benchsheet!A108>1,\"TC\",IF(Benchsheet!A108=FALSE,\"\"))","v":""},{"$f":"IF(J105=\"WL001\",\"MPN\",IF(Benchsheet!B108=FALSE,\"\",IF(J105=\"WL002\",\"MPN\",IF(J105=\"WL003\",\"MPN\",IF(J105=\"DS001\",\"TC\")))))","v":""},{"$f":"Benchsheet!E108","v":0},"",{"$f":"Benchsheet!B108","v":0},{"$f":"IF(J105=\"WL001\",\"RW001\",IF(Benchsheet!B108=FALSE,\"\",IF(J105=\"WL002\",\"RW002\",IF(J105=\"WL003\",\"RW003\",IF(J105=\"DS001\",\"TCR001\",IF(J105=\"DS001\",\"TCR01\"))))))","v":""},{"$f":"Benchsheet!D108","v":0},{"$f":"Benchsheet!G108","v":"00:00:00"},{"$f":"Benchsheet!H108","v":0},{"$f":"Benchsheet!I108","v":"00:00:00"},{"$f":"Benchsheet!F108","v":0},{"$f":"Benchsheet!P108","v":0},{"$f":"Benchsheet!O108","v":0}]
[{"$f":"IF(Benchsheet!A109>1,\"sample\",IF(Benchsheet!A109=FALSE,\"\"))","v":""},{"$f":"IF(Benchsheet!A109>1,\"STATE\",IF(Benchsheet!A109=FALSE,\"\"))","v":""},{"$f":"IF(Benchsheet!A109>1,\"00035\",IF(Benchsheet!A109=FALSE,\"\"))","v":""},{"$f":"Benchsheet!A109","v":0},{"$f":"IF(Benchsheet!C109=1121057,\"VA1121057\",IF(Benchsheet!C109=1121090,\"VA1121090\",IF(Benchsheet!C109=1121052,\"VA1121052\",IF(Benchsheet!C109=1121175,\"VA1121175\",IF(Benchsheet!C109=1121580,\"VA1121580\",IF(Benchsheet!C109=1121570,\"VA1121570\",IF(Benchsheet!C109=1121045,\"VA1121045\",IF(Benchsheet!C109=1121655,\"VA1121655\",IF(Benchsheet!C109=1121503,\"VA1121503\",IF(Benchsheet!C109=1121043,\"VA1121043\",IF(Benchsheet!C109=1121900,\"VA1121900\",IF(Benchsheet!C109=1121845,\"VA1121845\",IF(Benchsheet!C109=1121655,\"VA1121655\",IF(Benchsheet!C109=1121900,\"VA1121900\",IF(Benchsheet!C109<1,\"\")))))))))))))))","v":""},{"$f":"IF(Benchsheet!A109>1,\"TC\",IF(Benchsheet!A109=FALSE,\"\"))","v":""},{"$f":"IF(J106=\"WL001\",\"MPN\",IF(Benchsheet!B109=FALSE,\"\",IF(J106=\"WL002\",\"MPN\",IF(J106=\"WL003\",\"MPN\",IF(J106=\"DS001\",\"TC\")))))","v":""},{"$f":"Benchsheet!E109","v":0},"",{"$f":"Benchsheet!B109","v":0},{"$f":"IF(J106=\"WL001\",\"RW001\",IF(Benchsheet!B109=FALSE,\"\",IF(J106=\"WL002\",\"RW002\",IF(J106=\"WL003\",\"RW003\",IF(J106=\"DS001\",\"TCR001\",IF(J106=\"DS001\",\"TCR01\"))))))","v":""},{"$f":"Benchsheet!D109","v":0},{"$f":"Benchsheet!G109","v":"00:00:00"},{"$f":"Benchsheet!H109","v":0},{"$f":"Benchsheet!I109","v":"00:00:00"},{"$f":"Benchsheet!F109","v":0},{"$f":"Benchsheet!P109","v":0},{"$f":"Benchsheet!O109","v":0}]
[{"$f":"IF(Benchsheet!A110>1,\"sample\",IF(Benchsheet!A110=FALSE,\"\"))","v":""},{"$f":"IF(Benchsheet!A110>1,\"STATE\",IF(Benchsheet!A110=FALSE,\"\"))","v":""},{"$f":"IF(Benchsheet!A110>1,\"00035\",IF(Benchsheet!A110=FALSE,\"\"))","v":""},{"$f":"Benchsheet!A110","v":0},{"$f":"IF(Benchsheet!C110=1121057,\"VA1121057\",IF(Benchsheet!C110=1121090,\"VA1121090\",IF(Benchsheet!C110=1121052,\"VA1121052\",IF(Benchsheet!C110=1121175,\"VA1121175\",IF(Benchsheet!C110=1121580,\"VA1121580\",IF(Benchsheet!C110=1121570,\"VA1121570\",IF(Benchsheet!C110=1121045,\"VA1121045\",IF(Benchsheet!C110=1121655,\"VA1121655\",IF(Benchsheet!C110=1121503,\"VA1121503\",IF(Benchsheet!C110=1121043,\"VA1121043\",IF(Benchsheet!C110=1121900,\"VA1121900\",IF(Benchsheet!C110=1121845,\"VA1121845\",IF(Benchsheet!C110=1121655,\"VA1121655\",IF(Benchsheet!C110=1121900,\"VA1121900\",IF(Benchsheet!C110<1,\"\")))))))))))))))","v":""},{"$f":"IF(Benchsheet!A110>1,\"TC\",IF(Benchsheet!A110=FALSE,\"\"))","v":""},{"$f":"IF(J107=\"WL001\",\"MPN\",IF(Benchsheet!B110=FALSE,\"\",IF(J107=\"WL002\",\"MPN\",IF(J107=\"WL003\",\"MPN\",IF(J107=\"DS001\",\"TC\")))))","v":""},{"$f":"Benchsheet!E110","v":0},"",{"$f":"Benchsheet!B110","v":0},{"$f":"IF(J107=\"WL001\",\"RW001\",IF(Benchsheet!B110=FALSE,\"\",IF(J107=\"WL002\",\"RW002\",IF(J107=\"WL003\",\"RW003\",IF(J107=\"DS001\",\"TCR001\",IF(J107=\"DS001\",\"TCR01\"))))))","v":""},{"$f":"Benchsheet!D110","v":0},{"$f":"Benchsheet!G110","v":"00:00:00"},{"$f":"Benchsheet!H110","v":0},{"$f":"Benchsheet!I110","v":"00:00:00"},{"$f":"Benchsheet!F110","v":0},{"$f":"Benchsheet!P110","v":0},{"$f":"Benchsheet!O110","v":0}]
[{"$f":"IF(Benchsheet!A111>1,\"sample\",IF(Benchsheet!A111=FALSE,\"\"))","v":""},{"$f":"IF(Benchsheet!A111>1,\"STATE\",IF(Benchsheet!A111=FALSE,\"\"))","v":""},{"$f":"IF(Benchsheet!A111>1,\"00035\",IF(Benchsheet!A111=FALSE,\"\"))","v":""},{"$f":"Benchsheet!A111","v":0},{"$f":"IF(Benchsheet!C111=1121057,\"VA1121057\",IF(Benchsheet!C111=1121090,\"VA1121090\",IF(Benchsheet!C111=1121052,\"VA1121052\",IF(Benchsheet!C111=1121175,\"VA1121175\",IF(Benchsheet!C111=1121580,\"VA1121580\",IF(Benchsheet!C111=1121570,\"VA1121570\",IF(Benchsheet!C111=1121045,\"VA1121045\",IF(Benchsheet!C111=1121655,\"VA1121655\",IF(Benchsheet!C111=1121503,\"VA1121503\",IF(Benchsheet!C111=1121043,\"VA1121043\",IF(Benchsheet!C111=1121900,\"VA1121900\",IF(Benchsheet!C111=1121845,\"VA1121845\",IF(Benchsheet!C111=1121655,\"VA1121655\",IF(Benchsheet!C111=1121900,\"VA1121900\",IF(Benchsheet!C111<1,\"\")))))))))))))))","v":""},{"$f":"IF(Benchsheet!A111>1,\"TC\",IF(Benchsheet!A111=FALSE,\"\"))","v":""},{"$f":"IF(J108=\"WL001\",\"MPN\",IF(Benchsheet!B111=FALSE,\"\",IF(J108=\"WL002\",\"MPN\",IF(J108=\"WL003\",\"MPN\",IF(J108=\"DS001\",\"TC\")))))","v":""},{"$f":"Benchsheet!E111","v":0},"",{"$f":"Benchsheet!B111","v":0},{"$f":"IF(J108=\"WL001\",\"RW001\",IF(Benchsheet!B111=FALSE,\"\",IF(J108=\"WL002\",\"RW002\",IF(J108=\"WL003\",\"RW003\",IF(J108=\"DS001\",\"TCR001\",IF(J108=\"DS001\",\"TCR01\"))))))","v":""},{"$f":"Benchsheet!D111","v":0},{"$f":"Benchsheet!G111","v":"00:00:00"},{"$f":"Benchsheet!H111","v":0},{"$f":"Benchsheet!I111","v":"00:00:00"},{"$f":"Benchsheet!F111","v":0},{"$f":"Benchsheet!P111","v":0},{"$f":"Benchsheet!O111","v":0}]
[{"$f":"IF(Benchsheet!A112>1,\"sample\",IF(Benchsheet!A112=FALSE,\"\"))","v":""},{"$f":"IF(Benchsheet!A112>1,\"STATE\",IF(Benchsheet!A112=FALSE,\"\"))","v":""},{"$f":"IF(Benchsheet!A112>1,\"00035\",IF(Benchsheet!A112=FALSE,\"\"))","v":""},{"$f":"Benchsheet!A112","v":0},{"$f":"IF(Benchsheet!C112=1121057,\"VA1121057\",IF(Benchsheet!C112=1121090,\"VA1121090\",IF(Benchsheet!C112=1121052,\"VA1121052\",IF(Benchsheet!C112=1121175,\"VA1121175\",IF(Benchsheet!C112=1121580,\"VA1121580\",IF(Benchsheet!C112=1121570,\"VA1121570\",IF(Benchsheet!C112=1121045,\"VA1121045\",IF(Benchsheet!C112=1121655,\"VA1121655\",IF(Benchsheet!C112=1121503,\"VA1121503\",IF(Benchsheet!C112=1121043,\"VA1121043\",IF(Benchsheet!C112=1121900,\"VA1121900\",IF(Benchsheet!C112=1121845,\"VA1121845\",IF(Benchsheet!C112=1121655,\"VA1121655\",IF(Benchsheet!C112=1121900,\"VA1121900\",IF(Benchsheet!C112<1,\"\")))))))))))))))","v":""},{"$f":"IF(Benchsheet!A112>1,\"TC\",IF(Benchsheet!A112=FALSE,\"\"))","v":""},{"$f":"IF(J109=\"WL001\",\"MPN\",IF(Benchsheet!B112=FALSE,\"\",IF(J109=\"WL002\",\"MPN\",IF(J109=\"WL003\",\"MPN\",IF(J109=\"DS001\",\"TC\")))))","v":""},{"$f":"Benchsheet!E112","v":0},"",{"$f":"Benchsheet!B112","v":0},{"$f":"IF(J109=\"WL001\",\"RW001\",IF(Benchsheet!B112=FALSE,\"\",IF(J109=\"WL002\",\"RW002\",IF(J109=\"WL003\",\"RW003\",IF(J109=\"DS001\",\"TCR001\",IF(J109=\"DS001\",\"TCR01\"))))))","v":""},{"$f":"Benchsheet!D112","v":0},{"$f":"Benchsheet!G112","v":"00:00:00"},{"$f":"Benchsheet!H112","v":0},{"$f":"Benchsheet!I112","v":"00:00:00"},{"$f":"Benchsheet!F112","v":0},{"$f":"Benchsheet!P112","v":0},{"$f":"Benchsheet!O112","v":0}]
[{"$f":"IF(Benchsheet!A113>1,\"sample\",IF(Benchsheet!A113=FALSE,\"\"))","v":""},{"$f":"IF(Benchsheet!A113>1,\"STATE\",IF(Benchsheet!A113=FALSE,\"\"))","v":""},{"$f":"IF(Benchsheet!A113>1,\"00035\",IF(Benchsheet!A113=FALSE,\"\"))","v":""},{"$f":"Benchsheet!A113","v":0},{"$f":"IF(Benchsheet!C113=1121057,\"VA1121057\",IF(Benchsheet!C113=1121090,\"VA1121090\",IF(Benchsheet!C113=1121052,\"VA1121052\",IF(Benchsheet!C113=1121175,\"VA1121175\",IF(Benchsheet!C113=1121580,\"VA1121580\",IF(Benchsheet!C113=1121570,\"VA1121570\",IF(Benchsheet!C113=1121045,\"VA1121045\",IF(Benchsheet!C113=1121655,\"VA1121655\",IF(Benchsheet!C113=1121503,\"VA1121503\",IF(Benchsheet!C113=1121043,\"VA1121043\",IF(Benchsheet!C113=1121900,\"VA1121900\",IF(Benchsheet!C113=1121845,\"VA1121845\",IF(Benchsheet!C113=1121655,\"VA1121655\",IF(Benchsheet!C113=1121900,\"VA1121900\",IF(Benchsheet!C113<1,\"\")))))))))))))))","v":""},{"$f":"IF(Benchsheet!A113>1,\"TC\",IF(Benchsheet!A113=FALSE,\"\"))","v":""},{"$f":"IF(J110=\"WL001\",\"MPN\",IF(Benchsheet!B113=FALSE,\"\",IF(J110=\"WL002\",\"MPN\",IF(J110=\"WL003\",\"MPN\",IF(J110=\"DS001\",\"TC\")))))","v":""},{"$f":"Benchsheet!E113","v":0},"",{"$f":"Benchsheet!B113","v":0},{"$f":"IF(J110=\"WL001\",\"RW001\",IF(Benchsheet!B113=FALSE,\"\",IF(J110=\"WL002\",\"RW002\",IF(J110=\"WL003\",\"RW003\",IF(J110=\"DS001\",\"TCR001\",IF(J110=\"DS001\",\"TCR01\"))))))","v":""},{"$f":"Benchsheet!D113","v":0},{"$f":"Benchsheet!G113","v":"00:00:00"},{"$f":"Benchsheet!H113","v":0},{"$f":"Benchsheet!I113","v":"00:00:00"},{"$f":"Benchsheet!F113","v":0},{"$f":"Benchsheet!P113","v":0},{"$f":"Benchsheet!O113","v":0}]
[{"$f":"IF(Benchsheet!A114>1,\"sample\",IF(Benchsheet!A114=FALSE,\"\"))","v":""},{"$f":"IF(Benchsheet!A114>1,\"STATE\",IF(Benchsheet!A114=FALSE,\"\"))","v":""},{"$f":"IF(Benchsheet!A114>1,\"00035\",IF(Benchsheet!A114=FALSE,\"\"))","v":""},{"$f":"Benchsheet!A114","v":0},{"$f":"IF(Benchsheet!C114=1121057,\"VA1121057\",IF(Benchsheet!C114=1121090,\"VA1121090\",IF(Benchsheet!C114=1121052,\"VA1121052\",IF(Benchsheet!C114=1121175,\"VA1121175\",IF(Benchsheet!C114=1121580,\"VA1121580\",IF(Benchsheet!C114=1121570,\"VA1121570\",IF(Benchsheet!C114=1121045,\"VA1121045\",IF(Benchsheet!C114=1121655,\"VA1121655\",IF(Benchsheet!C114=1121503,\"VA1121503\",IF(Benchsheet!C114=1121043,\"VA1121043\",IF(Benchsheet!C114=1121900,\"VA1121900\",IF(Benchsheet!C114=1121845,\"VA1121845\",IF(Benchsheet!C114=1121655,\"VA1121655\",IF(Benchsheet!C114=1121900,\"VA1121900\",IF(Benchsheet!C114<1,\"\")))))))))))))))","v":""},{"$f":"IF(Benchsheet!A114>1,\"TC\",IF(Benchsheet!A114=FALSE,\"\"))","v":""},{"$f":"IF(J111=\"WL001\",\"MPN\",IF(Benchsheet!B114=FALSE,\"\",IF(J111=\"WL002\",\"MPN\",IF(J111=\"WL003\",\"MPN\",IF(J111=\"DS001\",\"TC\")))))","v":""},{"$f":"Benchsheet!E114","v":0},"",{"$f":"Benchsheet!B114","v":0},{"$f":"IF(J111=\"WL001\",\"RW001\",IF(Benchsheet!B114=FALSE,\"\",IF(J111=\"WL002\",\"RW002\",IF(J111=\"WL003\",\"RW003\",IF(J111=\"DS001\",\"TCR001\",IF(J111=\"DS001\",\"TCR01\"))))))","v":""},{"$f":"Benchsheet!D114","v":0},{"$f":"Benchsheet!G114","v":"00:00:00"},{"$f":"Benchsheet!H114","v":0},{"$f":"Benchsheet!I114","v":"00:00:00"},{"$f":"Benchsheet!F114","v":0},{"$f":"Benchsheet!P114","v":0},{"$f":"Benchsheet!O114","v":0}]
[{"$f":"IF(Benchsheet!A115>1,\"sample\",IF(Benchsheet!A115=FALSE,\"\"))","v":""},{"$f":"IF(Benchsheet!A115>1,\"STATE\",IF(Benchsheet!A115=FALSE,\"\"))","v":""},{"$f":"IF(Benchsheet!A115>1,\"00035\",IF(Benchsheet!A115=FALSE,\"\"))","v":""},{"$f":"Benchsheet!A115","v":0},{"$f":"IF(Benchsheet!C115=1121057,\"VA1121057\",IF(Benchsheet!C115=1121090,\"VA1121090\",IF(Benchsheet!C115=1121052,\"VA1121052\",IF(Benchsheet!C115=1121175,\"VA1121175\",IF(Benchsheet!C115=1121580,\"VA1121580\",IF(Benchsheet!C115=1121570,\"VA1121570\",IF(Benchsheet!C115=1121045,\"VA1121045\",IF(Benchsheet!C115=1121655,\"VA1121655\",IF(Benchsheet!C115=1121503,\"VA1121503\",IF(Benchsheet!C115=1121043,\"VA1121043\",IF(Benchsheet!C115=1121900,\"VA1121900\",IF(Benchsheet!C115=1121845,\"VA1121845\",IF(Benchsheet!C115=1121655,\"VA1121655\",IF(Benchsheet!C115=1121900,\"VA1121900\",IF(Benchsheet!C115<1,\"\")))))))))))))))","v":""},{"$f":"IF(Benchsheet!A115>1,\"TC\",IF(Benchsheet!A115=FALSE,\"\"))","v":""},{"$f":"IF(J112=\"WL001\",\"MPN\",IF(Benchsheet!B115=FALSE,\"\",IF(J112=\"WL002\",\"MPN\",IF(J112=\"WL003\",\"MPN\",IF(J112=\"DS001\",\"TC\")))))","v":""},{"$f":"Benchsheet!E115","v":0},"",{"$f":"Benchsheet!B115","v":0},{"$f":"IF(J112=\"WL001\",\"RW001\",IF(Benchsheet!B115=FALSE,\"\",IF(J112=\"WL002\",\"RW002\",IF(J112=\"WL003\",\"RW003\",IF(J112=\"DS001\",\"TCR001\",IF(J112=\"DS001\",\"TCR01\"))))))","v":""},{"$f":"Benchsheet!D115","v":0},{"$f":"Benchsheet!G115","v":"00:00:00"},{"$f":"Benchsheet!H115","v":0},{"$f":"Benchsheet!I115","v":"00:00:00"},{"$f":"Benchsheet!F115","v":0},{"$f":"Benchsheet!P115","v":0},{"$f":"Benchsheet!O115","v":0}]
[{"$f":"IF(Benchsheet!A116>1,\"sample\",IF(Benchsheet!A116=FALSE,\"\"))","v":""},{"$f":"IF(Benchsheet!A116>1,\"STATE\",IF(Benchsheet!A116=FALSE,\"\"))","v":""},{"$f":"IF(Benchsheet!A116>1,\"00035\",IF(Benchsheet!A116=FALSE,\"\"))","v":""},{"$f":"Benchsheet!A116","v":0},{"$f":"IF(Benchsheet!C116=1121057,\"VA1121057\",IF(Benchsheet!C116=1121090,\"VA1121090\",IF(Benchsheet!C116=1121052,\"VA1121052\",IF(Benchsheet!C116=1121175,\"VA1121175\",IF(Benchsheet!C116=1121580,\"VA1121580\",IF(Benchsheet!C116=1121570,\"VA1121570\",IF(Benchsheet!C116=1121045,\"VA1121045\",IF(Benchsheet!C116=1121655,\"VA1121655\",IF(Benchsheet!C116=1121503,\"VA1121503\",IF(Benchsheet!C116=1121043,\"VA1121043\",IF(Benchsheet!C116=1121900,\"VA1121900\",IF(Benchsheet!C116=1121845,\"VA1121845\",IF(Benchsheet!C116=1121655,\"VA1121655\",IF(Benchsheet!C116=1121900,\"VA1121900\",IF(Benchsheet!C116<1,\"\")))))))))))))))","v":""},{"$f":"IF(Benchsheet!A116>1,\"TC\",IF(Benchsheet!A116=FALSE,\"\"))","v":""},{"$f":"IF(J113=\"WL001\",\"MPN\",IF(Benchsheet!B116=FALSE,\"\",IF(J113=\"WL002\",\"MPN\",IF(J113=\"WL003\",\"MPN\",IF(J113=\"DS001\",\"TC\")))))","v":""},{"$f":"Benchsheet!E116","v":0},"",{"$f":"Benchsheet!B116","v":0},{"$f":"IF(J113=\"WL001\",\"RW001\",IF(Benchsheet!B116=FALSE,\"\",IF(J113=\"WL002\",\"RW002\",IF(J113=\"WL003\",\"RW003\",IF(J113=\"DS001\",\"TCR001\",IF(J113=\"DS001\",\"TCR01\"))))))","v":""},{"$f":"Benchsheet!D116","v":0},{"$f":"Benchsheet!G116","v":"00:00:00"},{"$f":"Benchsheet!H116","v":0},{"$f":"Benchsheet!I116","v":"00:00:00"},{"$f":"Benchsheet!F116","v":0},{"$f":"Benchsheet!P116","v":0},{"$f":"Benchsheet!O116","v":0}]
[{"$f":"IF(Benchsheet!A117>1,\"sample\",IF(Benchsheet!A117=FALSE,\"\"))","v":""},{"$f":"IF(Benchsheet!A117>1,\"STATE\",IF(Benchsheet!A117=FALSE,\"\"))","v":""},{"$f":"IF(Benchsheet!A117>1,\"00035\",IF(Benchsheet!A117=FALSE,\"\"))","v":""},{"$f":"Benchsheet!A117","v":0},{"$f":"IF(Benchsheet!C117=1121057,\"VA1121057\",IF(Benchsheet!C117=1121090,\"VA1121090\",IF(Benchsheet!C117=1121052,\"VA1121052\",IF(Benchsheet!C117=1121175,\"VA1121175\",IF(Benchsheet!C117=1121580,\"VA1121580\",IF(Benchsheet!C117=1121570,\"VA1121570\",IF(Benchsheet!C117=1121045,\"VA1121045\",IF(Benchsheet!C117=1121655,\"VA1121655\",IF(Benchsheet!C117=1121503,\"VA1121503\",IF(Benchsheet!C117=1121043,\"VA1121043\",IF(Benchsheet!C117=1121900,\"VA1121900\",IF(Benchsheet!C117=1121845,\"VA1121845\",IF(Benchsheet!C117=1121655,\"VA1121655\",IF(Benchsheet!C117=1121900,\"VA1121900\",IF(Benchsheet!C117<1,\"\")))))))))))))))","v":""},{"$f":"IF(Benchsheet!A117>1,\"TC\",IF(Benchsheet!A117=FALSE,\"\"))","v":""},{"$f":"IF(J114=\"WL001\",\"MPN\",IF(Benchsheet!B117=FALSE,\"\",IF(J114=\"WL002\",\"MPN\",IF(J114=\"WL003\",\"MPN\",IF(J114=\"DS001\",\"TC\")))))","v":""},{"$f":"Benchsheet!E117","v":0},"",{"$f":"Benchsheet!B117","v":0},{"$f":"IF(J114=\"WL001\",\"RW001\",IF(Benchsheet!B117=FALSE,\"\",IF(J114=\"WL002\",\"RW002\",IF(J114=\"WL003\",\"RW003\",IF(J114=\"DS001\",\"TCR001\",IF(J114=\"DS001\",\"TCR01\"))))))","v":""},{"$f":"Benchsheet!D117","v":0},{"$f":"Benchsheet!G117","v":"00:00:00"},{"$f":"Benchsheet!H117","v":0},{"$f":"Benchsheet!I117","v":"00:00:00"},{"$f":"Benchsheet!F117","v":0},{"$f":"Benchsheet!P117","v":0},{"$f":"Benchsheet!O117","v":0}]
[{"$f":"IF(Benchsheet!A118>1,\"sample\",IF(Benchsheet!A118=FALSE,\"\"))","v":""},{"$f":"IF(Benchsheet!A118>1,\"STATE\",IF(Benchsheet!A118=FALSE,\"\"))","v":""},{"$f":"IF(Benchsheet!A118>1,\"00035\",IF(Benchsheet!A118=FALSE,\"\"))","v":""},{"$f":"Benchsheet!A118","v":0},{"$f":"IF(Benchsheet!C118=1121057,\"VA1121057\",IF(Benchsheet!C118=1121090,\"VA1121090\",IF(Benchsheet!C118=1121052,\"VA1121052\",IF(Benchsheet!C118=1121175,\"VA1121175\",IF(Benchsheet!C118=1121580,\"VA1121580\",IF(Benchsheet!C118=1121570,\"VA1121570\",IF(Benchsheet!C118=1121045,\"VA1121045\",IF(Benchsheet!C118=1121655,\"VA1121655\",IF(Benchsheet!C118=1121503,\"VA1121503\",IF(Benchsheet!C118=1121043,\"VA1121043\",IF(Benchsheet!C118=1121900,\"VA1121900\",IF(Benchsheet!C118=1121845,\"VA1121845\",IF(Benchsheet!C118=1121655,\"VA1121655\",IF(Benchsheet!C118=1121900,\"VA1121900\",IF(Benchsheet!C118<1,\"\")))))))))))))))","v":""},{"$f":"IF(Benchsheet!A118>1,\"TC\",IF(Benchsheet!A118=FALSE,\"\"))","v":""},{"$f":"IF(J115=\"WL001\",\"MPN\",IF(Benchsheet!B118=FALSE,\"\",IF(J115=\"WL002\",\"MPN\",IF(J115=\"WL003\",\"MPN\",IF(J115=\"DS001\",\"TC\")))))","v":""},{"$f":"Benchsheet!E118","v":0},"",{"$f":"Benchsheet!B118","v":0},{"$f":"IF(J115=\"WL001\",\"RW001\",IF(Benchsheet!B118=FALSE,\"\",IF(J115=\"WL002\",\"RW002\",IF(J115=\"WL003\",\"RW003\",IF(J115=\"DS001\",\"TCR001\",IF(J115=\"DS001\",\"TCR01\"))))))","v":""},{"$f":"Benchsheet!D118","v":0},{"$f":"Benchsheet!G118","v":"00:00:00"},{"$f":"Benchsheet!H118","v":0},{"$f":"Benchsheet!I118","v":"00:00:00"},{"$f":"Benchsheet!F118","v":0},{"$f":"Benchsheet!P118","v":0},{"$f":"Benchsheet!O118","v":0}]
[{"$f":"IF(Benchsheet!A119>1,\"sample\",IF(Benchsheet!A119=FALSE,\"\"))","v":""},{"$f":"IF(Benchsheet!A119>1,\"STATE\",IF(Benchsheet!A119=FALSE,\"\"))","v":""},{"$f":"IF(Benchsheet!A119>1,\"00035\",IF(Benchsheet!A119=FALSE,\"\"))","v":""},{"$f":"Benchsheet!A119","v":0},{"$f":"IF(Benchsheet!C119=1121057,\"VA1121057\",IF(Benchsheet!C119=1121090,\"VA1121090\",IF(Benchsheet!C119=1121052,\"VA1121052\",IF(Benchsheet!C119=1121175,\"VA1121175\",IF(Benchsheet!C119=1121580,\"VA1121580\",IF(Benchsheet!C119=1121570,\"VA1121570\",IF(Benchsheet!C119=1121045,\"VA1121045\",IF(Benchsheet!C119=1121655,\"VA1121655\",IF(Benchsheet!C119=1121503,\"VA1121503\",IF(Benchsheet!C119=1121043,\"VA1121043\",IF(Benchsheet!C119=1121900,\"VA1121900\",IF(Benchsheet!C119=1121845,\"VA1121845\",IF(Benchsheet!C119=1121655,\"VA1121655\",IF(Benchsheet!C119=1121900,\"VA1121900\",IF(Benchsheet!C119<1,\"\")))))))))))))))","v":""},{"$f":"IF(Benchsheet!A119>1,\"TC\",IF(Benchsheet!A119=FALSE,\"\"))","v":""},{"$f":"IF(J116=\"WL001\",\"MPN\",IF(Benchsheet!B119=FALSE,\"\",IF(J116=\"WL002\",\"MPN\",IF(J116=\"WL003\",\"MPN\",IF(J116=\"DS001\",\"TC\")))))","v":""},{"$f":"Benchsheet!E119","v":0},"",{"$f":"Benchsheet!B119","v":0},{"$f":"IF(J116=\"WL001\",\"RW001\",IF(Benchsheet!B119=FALSE,\"\",IF(J116=\"WL002\",\"RW002\",IF(J116=\"WL003\",\"RW003\",IF(J116=\"DS001\",\"TCR001\",IF(J116=\"DS001\",\"TCR01\"))))))","v":""},{"$f":"Benchsheet!D119","v":0},{"$f":"Benchsheet!G119","v":"00:00:00"},{"$f":"Benchsheet!H119","v":0},{"$f":"Benchsheet!I119","v":"00:00:00"},{"$f":"Benchsheet!F119","v":0},{"$f":"Benchsheet!P119","v":0},{"$f":"Benchsheet!O119","v":0}]
[{"$f":"IF(Benchsheet!A120>1,\"sample\",IF(Benchsheet!A120=FALSE,\"\"))","v":""},{"$f":"IF(Benchsheet!A120>1,\"STATE\",IF(Benchsheet!A120=FALSE,\"\"))","v":""},{"$f":"IF(Benchsheet!A120>1,\"00035\",IF(Benchsheet!A120=FALSE,\"\"))","v":""},{"$f":"Benchsheet!A120","v":0},{"$f":"IF(Benchsheet!C120=1121057,\"VA1121057\",IF(Benchsheet!C120=1121090,\"VA1121090\",IF(Benchsheet!C120=1121052,\"VA1121052\",IF(Benchsheet!C120=1121175,\"VA1121175\",IF(Benchsheet!C120=1121580,\"VA1121580\",IF(Benchsheet!C120=1121570,\"VA1121570\",IF(Benchsheet!C120=1121045,\"VA1121045\",IF(Benchsheet!C120=1121655,\"VA1121655\",IF(Benchsheet!C120=1121503,\"VA1121503\",IF(Benchsheet!C120=1121043,\"VA1121043\",IF(Benchsheet!C120=1121900,\"VA1121900\",IF(Benchsheet!C120=1121845,\"VA1121845\",IF(Benchsheet!C120=1121655,\"VA1121655\",IF(Benchsheet!C120=1121900,\"VA1121900\",IF(Benchsheet!C120<1,\"\")))))))))))))))","v":""},{"$f":"IF(Benchsheet!A120>1,\"TC\",IF(Benchsheet!A120=FALSE,\"\"))","v":""},{"$f":"IF(J117=\"WL001\",\"MPN\",IF(Benchsheet!B120=FALSE,\"\",IF(J117=\"WL002\",\"MPN\",IF(J117=\"WL003\",\"MPN\",IF(J117=\"DS001\",\"TC\")))))","v":""},{"$f":"Benchsheet!E120","v":0},"",{"$f":"Benchsheet!B120","v":0},{"$f":"IF(J117=\"WL001\",\"RW001\",IF(Benchsheet!B120=FALSE,\"\",IF(J117=\"WL002\",\"RW002\",IF(J117=\"WL003\",\"RW003\",IF(J117=\"DS001\",\"TCR001\",IF(J117=\"DS001\",\"TCR01\"))))))","v":""},{"$f":"Benchsheet!D120","v":0},{"$f":"Benchsheet!G120","v":"00:00:00"},{"$f":"Benchsheet!H120","v":0},{"$f":"Benchsheet!I120","v":"00:00:00"},{"$f":"Benchsheet!F120","v":0},{"$f":"Benchsheet!P120","v":0},{"$f":"Benchsheet!O120","v":0}]
[{"$f":"IF(Benchsheet!A121>1,\"sample\",IF(Benchsheet!A121=FALSE,\"\"))","v":""},{"$f":"IF(Benchsheet!A121>1,\"STATE\",IF(Benchsheet!A121=FALSE,\"\"))","v":""},{"$f":"IF(Benchsheet!A121>1,\"00035\",IF(Benchsheet!A121=FALSE,\"\"))","v":""},{"$f":"Benchsheet!A121","v":0},{"$f":"IF(Benchsheet!C121=1121057,\"VA1121057\",IF(Benchsheet!C121=1121090,\"VA1121090\",IF(Benchsheet!C121=1121052,\"VA1121052\",IF(Benchsheet!C121=1121175,\"VA1121175\",IF(Benchsheet!C121=1121580,\"VA1121580\",IF(Benchsheet!C121=1121570,\"VA1121570\",IF(Benchsheet!C121=1121045,\"VA1121045\",IF(Benchsheet!C121=1121655,\"VA1121655\",IF(Benchsheet!C121=1121503,\"VA1121503\",IF(Benchsheet!C121=1121043,\"VA1121043\",IF(Benchsheet!C121=1121900,\"VA1121900\",IF(Benchsheet!C121=1121845,\"VA1121845\",IF(Benchsheet!C121=1121655,\"VA1121655\",IF(Benchsheet!C121=1121900,\"VA1121900\",IF(Benchsheet!C121<1,\"\")))))))))))))))","v":""},{"$f":"IF(Benchsheet!A121>1,\"TC\",IF(Benchsheet!A121=FALSE,\"\"))","v":""},{"$f":"IF(J118=\"WL001\",\"MPN\",IF(Benchsheet!B121=FALSE,\"\",IF(J118=\"WL002\",\"MPN\",IF(J118=\"WL003\",\"MPN\",IF(J118=\"DS001\",\"TC\")))))","v":""},{"$f":"Benchsheet!E121","v":0},"",{"$f":"Benchsheet!B121","v":0},{"$f":"IF(J118=\"WL001\",\"RW001\",IF(Benchsheet!B121=FALSE,\"\",IF(J118=\"WL002\",\"RW002\",IF(J118=\"WL003\",\"RW003\",IF(J118=\"DS001\",\"TCR001\",IF(J118=\"DS001\",\"TCR01\"))))))","v":""},{"$f":"Benchsheet!D121","v":0},{"$f":"Benchsheet!G121","v":"00:00:00"},{"$f":"Benchsheet!H121","v":0},{"$f":"Benchsheet!I121","v":"00:00:00"},{"$f":"Benchsheet!F121","v":0},{"$f":"Benchsheet!P121","v":0},{"$f":"Benchsheet!O121","v":0}]
[{"$f":"IF(Benchsheet!A122>1,\"sample\",IF(Benchsheet!A122=FALSE,\"\"))","v":""},{"$f":"IF(Benchsheet!A122>1,\"STATE\",IF(Benchsheet!A122=FALSE,\"\"))","v":""},{"$f":"IF(Benchsheet!A122>1,\"00035\",IF(Benchsheet!A122=FALSE,\"\"))","v":""},{"$f":"Benchsheet!A122","v":0},{"$f":"IF(Benchsheet!C122=1121057,\"VA1121057\",IF(Benchsheet!C122=1121090,\"VA1121090\",IF(Benchsheet!C122=1121052,\"VA1121052\",IF(Benchsheet!C122=1121175,\"VA1121175\",IF(Benchsheet!C122=1121580,\"VA1121580\",IF(Benchsheet!C122=1121570,\"VA1121570\",IF(Benchsheet!C122=1121045,\"VA1121045\",IF(Benchsheet!C122=1121655,\"VA1121655\",IF(Benchsheet!C122=1121503,\"VA1121503\",IF(Benchsheet!C122=1121043,\"VA1121043\",IF(Benchsheet!C122=1121900,\"VA1121900\",IF(Benchsheet!C122=1121845,\"VA1121845\",IF(Benchsheet!C122=1121655,\"VA1121655\",IF(Benchsheet!C122=1121900,\"VA1121900\",IF(Benchsheet!C122<1,\"\")))))))))))))))","v":""},{"$f":"IF(Benchsheet!A122>1,\"TC\",IF(Benchsheet!A122=FALSE,\"\"))","v":""},{"$f":"IF(J119=\"WL001\",\"MPN\",IF(Benchsheet!B122=FALSE,\"\",IF(J119=\"WL002\",\"MPN\",IF(J119=\"WL003\",\"MPN\",IF(J119=\"DS001\",\"TC\")))))","v":""},{"$f":"Benchsheet!E122","v":0},"",{"$f":"Benchsheet!B122","v":0},{"$f":"IF(J119=\"WL001\",\"RW001\",IF(Benchsheet!B122=FALSE,\"\",IF(J119=\"WL002\",\"RW002\",IF(J119=\"WL003\",\"RW003\",IF(J119=\"DS001\",\"TCR001\",IF(J119=\"DS001\",\"TCR01\"))))))","v":""},{"$f":"Benchsheet!D122","v":0},{"$f":"Benchsheet!G122","v":"00:00:00"},{"$f":"Benchsheet!H122","v":0},{"$f":"Benchsheet!I122","v":"00:00:00"},{"$f":"Benchsheet!F122","v":0},{"$f":"Benchsheet!P122","v":0},{"$f":"Benchsheet!O122","v":0}]
[{"$f":"IF(Benchsheet!A123>1,\"sample\",IF(Benchsheet!A123=FALSE,\"\"))","v":""},{"$f":"IF(Benchsheet!A123>1,\"STATE\",IF(Benchsheet!A123=FALSE,\"\"))","v":""},{"$f":"IF(Benchsheet!A123>1,\"00035\",IF(Benchsheet!A123=FALSE,\"\"))","v":""},{"$f":"Benchsheet!A123","v":0},{"$f":"IF(Benchsheet!C123=1121057,\"VA1121057\",IF(Benchsheet!C123=1121090,\"VA1121090\",IF(Benchsheet!C123=1121052,\"VA1121052\",IF(Benchsheet!C123=1121175,\"VA1121175\",IF(Benchsheet!C123=1121580,\"VA1121580\",IF(Benchsheet!C123=1121570,\"VA1121570\",IF(Benchsheet!C123=1121045,\"VA1121045\",IF(Benchsheet!C123=1121655,\"VA1121655\",IF(Benchsheet!C123=1121503,\"VA1121503\",IF(Benchsheet!C123=1121043,\"VA1121043\",IF(Benchsheet!C123=1121900,\"VA1121900\",IF(Benchsheet!C123=1121845,\"VA1121845\",IF(Benchsheet!C123=1121655,\"VA1121655\",IF(Benchsheet!C123=1121900,\"VA1121900\",IF(Benchsheet!C123<1,\"\")))))))))))))))","v":""},{"$f":"IF(Benchsheet!A123>1,\"TC\",IF(Benchsheet!A123=FALSE,\"\"))","v":""},{"$f":"IF(J120=\"WL001\",\"MPN\",IF(Benchsheet!B123=FALSE,\"\",IF(J120=\"WL002\",\"MPN\",IF(J120=\"WL003\",\"MPN\",IF(J120=\"DS001\",\"TC\")))))","v":""},{"$f":"Benchsheet!E123","v":0},"",{"$f":"Benchsheet!B123","v":0},{"$f":"IF(J120=\"WL001\",\"RW001\",IF(Benchsheet!B123=FALSE,\"\",IF(J120=\"WL002\",\"RW002\",IF(J120=\"WL003\",\"RW003\",IF(J120=\"DS001\",\"TCR001\",IF(J120=\"DS001\",\"TCR01\"))))))","v":""},{"$f":"Benchsheet!D123","v":0},{"$f":"Benchsheet!G123","v":"00:00:00"},{"$f":"Benchsheet!H123","v":0},{"$f":"Benchsheet!I123","v":"00:00:00"},{"$f":"Benchsheet!F123","v":0},{"$f":"Benchsheet!P123","v":0},{"$f":"Benchsheet!O123","v":0}]
[{"$f":"IF(Benchsheet!A124>1,\"sample\",IF(Benchsheet!A124=FALSE,\"\"))","v":""},{"$f":"IF(Benchsheet!A124>1,\"STATE\",IF(Benchsheet!A124=FALSE,\"\"))","v":""},{"$f":"IF(Benchsheet!A124>1,\"00035\",IF(Benchsheet!A124=FALSE,\"\"))","v":""},{"$f":"Benchsheet!A124","v":0},{"$f":"IF(Benchsheet!C124=1121057,\"VA1121057\",IF(Benchsheet!C124=1121090,\"VA1121090\",IF(Benchsheet!C124=1121052,\"VA1121052\",IF(Benchsheet!C124=1121175,\"VA1121175\",IF(Benchsheet!C124=1121580,\"VA1121580\",IF(Benchsheet!C124=1121570,\"VA1121570\",IF(Benchsheet!C124=1121045,\"VA1121045\",IF(Benchsheet!C124=1121655,\"VA1121655\",IF(Benchsheet!C124=1121503,\"VA1121503\",IF(Benchsheet!C124=1121043,\"VA1121043\",IF(Benchsheet!C124=1121900,\"VA1121900\",IF(Benchsheet!C124=1121845,\"VA1121845\",IF(Benchsheet!C124=1121655,\"VA1121655\",IF(Benchsheet!C124=1121900,\"VA1121900\",IF(Benchsheet!C124<1,\"\")))))))))))))))","v":""},{"$f":"IF(Benchsheet!A124>1,\"TC\",IF(Benchsheet!A124=FALSE,\"\"))","v":""},{"$f":"IF(J121=\"WL001\",\"MPN\",IF(Benchsheet!B124=FALSE,\"\",IF(J121=\"WL002\",\"MPN\",IF(J121=\"WL003\",\"MPN\",IF(J121=\"DS001\",\"TC\")))))","v":""},{"$f":"Benchsheet!E124","v":0},"",{"$f":"Benchsheet!B124","v":0},{"$f":"IF(J121=\"WL001\",\"RW001\",IF(Benchsheet!B124=FALSE,\"\",IF(J121=\"WL002\",\"RW002\",IF(J121=\"WL003\",\"RW003\",IF(J121=\"DS001\",\"TCR001\",IF(J121=\"DS001\",\"TCR01\"))))))","v":""},{"$f":"Benchsheet!D124","v":0},{"$f":"Benchsheet!G124","v":"00:00:00"},{"$f":"Benchsheet!H124","v":0},{"$f":"Benchsheet!I124","v":"00:00:00"},{"$f":"Benchsheet!F124","v":0},{"$f":"Benchsheet!P124","v":0},{"$f":"Benchsheet!O124","v":0}]
[{"$f":"IF(Benchsheet!A125>1,\"sample\",IF(Benchsheet!A125=FALSE,\"\"))","v":""},{"$f":"IF(Benchsheet!A125>1,\"STATE\",IF(Benchsheet!A125=FALSE,\"\"))","v":""},{"$f":"IF(Benchsheet!A125>1,\"00035\",IF(Benchsheet!A125=FALSE,\"\"))","v":""},{"$f":"Benchsheet!A125","v":0},{"$f":"IF(Benchsheet!C125=1121057,\"VA1121057\",IF(Benchsheet!C125=1121090,\"VA1121090\",IF(Benchsheet!C125=1121052,\"VA1121052\",IF(Benchsheet!C125=1121175,\"VA1121175\",IF(Benchsheet!C125=1121580,\"VA1121580\",IF(Benchsheet!C125=1121570,\"VA1121570\",IF(Benchsheet!C125=1121045,\"VA1121045\",IF(Benchsheet!C125=1121655,\"VA1121655\",IF(Benchsheet!C125=1121503,\"VA1121503\",IF(Benchsheet!C125=1121043,\"VA1121043\",IF(Benchsheet!C125=1121900,\"VA1121900\",IF(Benchsheet!C125=1121845,\"VA1121845\",IF(Benchsheet!C125=1121655,\"VA1121655\",IF(Benchsheet!C125=1121900,\"VA1121900\",IF(Benchsheet!C125<1,\"\")))))))))))))))","v":""},{"$f":"IF(Benchsheet!A125>1,\"TC\",IF(Benchsheet!A125=FALSE,\"\"))","v":""},{"$f":"IF(J122=\"WL001\",\"MPN\",IF(Benchsheet!B125=FALSE,\"\",IF(J122=\"WL002\",\"MPN\",IF(J122=\"WL003\",\"MPN\",IF(J122=\"DS001\",\"TC\")))))","v":""},{"$f":"Benchsheet!E125","v":0},"",{"$f":"Benchsheet!B125","v":0},{"$f":"IF(J122=\"WL001\",\"RW001\",IF(Benchsheet!B125=FALSE,\"\",IF(J122=\"WL002\",\"RW002\",IF(J122=\"WL003\",\"RW003\",IF(J122=\"DS001\",\"TCR001\",IF(J122=\"DS001\",\"TCR01\"))))))","v":""},{"$f":"Benchsheet!D125","v":0},{"$f":"Benchsheet!G125","v":"00:00:00"},{"$f":"Benchsheet!H125","v":0},{"$f":"Benchsheet!I125","v":"00:00:00"},{"$f":"Benchsheet!F125","v":0},{"$f":"Benchsheet!P125","v":0},{"$f":"Benchsheet!O125","v":0}]
[{"$f":"IF(Benchsheet!A126>1,\"sample\",IF(Benchsheet!A126=FALSE,\"\"))","v":""},{"$f":"IF(Benchsheet!A126>1,\"STATE\",IF(Benchsheet!A126=FALSE,\"\"))","v":""},{"$f":"IF(Benchsheet!A126>1,\"00035\",IF(Benchsheet!A126=FALSE,\"\"))","v":""},{"$f":"Benchsheet!A126","v":0},{"$f":"IF(Benchsheet!C126=1121057,\"VA1121057\",IF(Benchsheet!C126=1121090,\"VA1121090\",IF(Benchsheet!C126=1121052,\"VA1121052\",IF(Benchsheet!C126=1121175,\"VA1121175\",IF(Benchsheet!C126=1121580,\"VA1121580\",IF(Benchsheet!C126=1121570,\"VA1121570\",IF(Benchsheet!C126=1121045,\"VA1121045\",IF(Benchsheet!C126=1121655,\"VA1121655\",IF(Benchsheet!C126=1121503,\"VA1121503\",IF(Benchsheet!C126=1121043,\"VA1121043\",IF(Benchsheet!C126=1121900,\"VA1121900\",IF(Benchsheet!C126=1121845,\"VA1121845\",IF(Benchsheet!C126=1121655,\"VA1121655\",IF(Benchsheet!C126=1121900,\"VA1121900\",IF(Benchsheet!C126<1,\"\")))))))))))))))","v":""},{"$f":"IF(Benchsheet!A126>1,\"TC\",IF(Benchsheet!A126=FALSE,\"\"))","v":""},{"$f":"IF(J123=\"WL001\",\"MPN\",IF(Benchsheet!B126=FALSE,\"\",IF(J123=\"WL002\",\"MPN\",IF(J123=\"WL003\",\"MPN\",IF(J123=\"DS001\",\"TC\")))))","v":""},{"$f":"Benchsheet!E126","v":0},"",{"$f":"Benchsheet!B126","v":0},{"$f":"IF(J123=\"WL001\",\"RW001\",IF(Benchsheet!B126=FALSE,\"\",IF(J123=\"WL002\",\"RW002\",IF(J123=\"WL003\",\"RW003\",IF(J123=\"DS001\",\"TCR001\",IF(J123=\"DS001\",\"TCR01\"))))))","v":""},{"$f":"Benchsheet!D126","v":0},{"$f":"Benchsheet!G126","v":"00:00:00"},{"$f":"Benchsheet!H126","v":0},{"$f":"Benchsheet!I126","v":"00:00:00"},{"$f":"Benchsheet!F126","v":0},{"$f":"Benchsheet!P126","v":0},{"$f":"Benchsheet!O126","v":0}]
[{"$f":"IF(Benchsheet!A127>1,\"sample\",IF(Benchsheet!A127=FALSE,\"\"))","v":""},{"$f":"IF(Benchsheet!A127>1,\"STATE\",IF(Benchsheet!A127=FALSE,\"\"))","v":""},{"$f":"IF(Benchsheet!A127>1,\"00035\",IF(Benchsheet!A127=FALSE,\"\"))","v":""},{"$f":"Benchsheet!A127","v":0},{"$f":"IF(Benchsheet!C127=1121057,\"VA1121057\",IF(Benchsheet!C127=1121090,\"VA1121090\",IF(Benchsheet!C127=1121052,\"VA1121052\",IF(Benchsheet!C127=1121175,\"VA1121175\",IF(Benchsheet!C127=1121580,\"VA1121580\",IF(Benchsheet!C127=1121570,\"VA1121570\",IF(Benchsheet!C127=1121045,\"VA1121045\",IF(Benchsheet!C127=1121655,\"VA1121655\",IF(Benchsheet!C127=1121503,\"VA1121503\",IF(Benchsheet!C127=1121043,\"VA1121043\",IF(Benchsheet!C127=1121900,\"VA1121900\",IF(Benchsheet!C127=1121845,\"VA1121845\",IF(Benchsheet!C127=1121655,\"VA1121655\",IF(Benchsheet!C127=1121900,\"VA1121900\",IF(Benchsheet!C127<1,\"\")))))))))))))))","v":""},{"$f":"IF(Benchsheet!A127>1,\"TC\",IF(Benchsheet!A127=FALSE,\"\"))","v":""},{"$f":"IF(J124=\"WL001\",\"MPN\",IF(Benchsheet!B127=FALSE,\"\",IF(J124=\"WL002\",\"MPN\",IF(J124=\"WL003\",\"MPN\",IF(J124=\"DS001\",\"TC\")))))","v":""},{"$f":"Benchsheet!E127","v":0},"",{"$f":"Benchsheet!B127","v":0},{"$f":"IF(J124=\"WL001\",\"RW001\",IF(Benchsheet!B127=FALSE,\"\",IF(J124=\"WL002\",\"RW002\",IF(J124=\"WL003\",\"RW003\",IF(J124=\"DS001\",\"TCR001\",IF(J124=\"DS001\",\"TCR01\"))))))","v":""},{"$f":"Benchsheet!D127","v":0},{"$f":"Benchsheet!G127","v":"00:00:00"},{"$f":"Benchsheet!H127","v":0},{"$f":"Benchsheet!I127","v":"00:00:00"},{"$f":"Benchsheet!F127","v":0},{"$f":"Benchsheet!P127","v":0},{"$f":"Benchsheet!O127","v":0}]
[{"$f":"IF(Benchsheet!A128>1,\"sample\",IF(Benchsheet!A128=FALSE,\"\"))","v":""},{"$f":"IF(Benchsheet!A128>1,\"STATE\",IF(Benchsheet!A128=FALSE,\"\"))","v":""},{"$f":"IF(Benchsheet!A128>1,\"00035\",IF(Benchsheet!A128=FALSE,\"\"))","v":""},{"$f":"Benchsheet!A128","v":0},{"$f":"IF(Benchsheet!C128=1121057,\"VA1121057\",IF(Benchsheet!C128=1121090,\"VA1121090\",IF(Benchsheet!C128=1121052,\"VA1121052\",IF(Benchsheet!C128=1121175,\"VA1121175\",IF(Benchsheet!C128=1121580,\"VA1121580\",IF(Benchsheet!C128=1121570,\"VA1121570\",IF(Benchsheet!C128=1121045,\"VA1121045\",IF(Benchsheet!C128=1121655,\"VA1121655\",IF(Benchsheet!C128=1121503,\"VA1121503\",IF(Benchsheet!C128=1121043,\"VA1121043\",IF(Benchsheet!C128=1121900,\"VA1121900\",IF(Benchsheet!C128=1121845,\"VA1121845\",IF(Benchsheet!C128=1121655,\"VA1121655\",IF(Benchsheet!C128=1121900,\"VA1121900\",IF(Benchsheet!C128<1,\"\")))))))))))))))","v":""},{"$f":"IF(Benchsheet!A128>1,\"TC\",IF(Benchsheet!A128=FALSE,\"\"))","v":""},{"$f":"IF(J125=\"WL001\",\"MPN\",IF(Benchsheet!B128=FALSE,\"\",IF(J125=\"WL002\",\"MPN\",IF(J125=\"WL003\",\"MPN\",IF(J125=\"DS001\",\"TC\")))))","v":""},{"$f":"Benchsheet!E128","v":0},"",{"$f":"Benchsheet!B128","v":0},{"$f":"IF(J125=\"WL001\",\"RW001\",IF(Benchsheet!B128=FALSE,\"\",IF(J125=\"WL002\",\"RW002\",IF(J125=\"WL003\",\"RW003\",IF(J125=\"DS001\",\"TCR001\",IF(J125=\"DS001\",\"TCR01\"))))))","v":""},{"$f":"Benchsheet!D128","v":0},{"$f":"Benchsheet!G128","v":"00:00:00"},{"$f":"Benchsheet!H128","v":0},{"$f":"Benchsheet!I128","v":"00:00:00"},{"$f":"Benchsheet!F128","v":0},{"$f":"Benchsheet!P128","v":0},{"$f":"Benchsheet!O128","v":0}]
[{"$f":"IF(Benchsheet!A129>1,\"sample\",IF(Benchsheet!A129=FALSE,\"\"))","v":""},{"$f":"IF(Benchsheet!A129>1,\"STATE\",IF(Benchsheet!A129=FALSE,\"\"))","v":""},{"$f":"IF(Benchsheet!A129>1,\"00035\",IF(Benchsheet!A129=FALSE,\"\"))","v":""},{"$f":"Benchsheet!A129","v":0},{"$f":"IF(Benchsheet!C129=1121057,\"VA1121057\",IF(Benchsheet!C129=1121090,\"VA1121090\",IF(Benchsheet!C129=1121052,\"VA1121052\",IF(Benchsheet!C129=1121175,\"VA1121175\",IF(Benchsheet!C129=1121580,\"VA1121580\",IF(Benchsheet!C129=1121570,\"VA1121570\",IF(Benchsheet!C129=1121045,\"VA1121045\",IF(Benchsheet!C129=1121655,\"VA1121655\",IF(Benchsheet!C129=1121503,\"VA1121503\",IF(Benchsheet!C129=1121043,\"VA1121043\",IF(Benchsheet!C129=1121900,\"VA1121900\",IF(Benchsheet!C129=1121845,\"VA1121845\",IF(Benchsheet!C129=1121655,\"VA1121655\",IF(Benchsheet!C129=1121900,\"VA1121900\",IF(Benchsheet!C129<1,\"\")))))))))))))))","v":""},{"$f":"IF(Benchsheet!A129>1,\"TC\",IF(Benchsheet!A129=FALSE,\"\"))","v":""},{"$f":"IF(J126=\"WL001\",\"MPN\",IF(Benchsheet!B129=FALSE,\"\",IF(J126=\"WL002\",\"MPN\",IF(J126=\"WL003\",\"MPN\",IF(J126=\"DS001\",\"TC\")))))","v":""},{"$f":"Benchsheet!E129","v":0},"",{"$f":"Benchsheet!B129","v":0},{"$f":"IF(J126=\"WL001\",\"RW001\",IF(Benchsheet!B129=FALSE,\"\",IF(J126=\"WL002\",\"RW002\",IF(J126=\"WL003\",\"RW003\",IF(J126=\"DS001\",\"TCR001\",IF(J126=\"DS001\",\"TCR01\"))))))","v":""},{"$f":"Benchsheet!D129","v":0},{"$f":"Benchsheet!G129","v":"00:00:00"},{"$f":"Benchsheet!H129","v":0},{"$f":"Benchsheet!I129","v":"00:00:00"},{"$f":"Benchsheet!F129","v":0},{"$f":"Benchsheet!P129","v":0},{"$f":"Benchsheet!O129","v":0}]
[{"$f":"IF(Benchsheet!A130>1,\"sample\",IF(Benchsheet!A130=FALSE,\"\"))","v":""},{"$f":"IF(Benchsheet!A130>1,\"STATE\",IF(Benchsheet!A130=FALSE,\"\"))","v":""},{"$f":"IF(Benchsheet!A130>1,\"00035\",IF(Benchsheet!A130=FALSE,\"\"))","v":""},{"$f":"Benchsheet!A130","v":0},{"$f":"IF(Benchsheet!C130=1121057,\"VA1121057\",IF(Benchsheet!C130=1121090,\"VA1121090\",IF(Benchsheet!C130=1121052,\"VA1121052\",IF(Benchsheet!C130=1121175,\"VA1121175\",IF(Benchsheet!C130=1121580,\"VA1121580\",IF(Benchsheet!C130=1121570,\"VA1121570\",IF(Benchsheet!C130=1121045,\"VA1121045\",IF(Benchsheet!C130=1121655,\"VA1121655\",IF(Benchsheet!C130=1121503,\"VA1121503\",IF(Benchsheet!C130=1121043,\"VA1121043\",IF(Benchsheet!C130=1121900,\"VA1121900\",IF(Benchsheet!C130=1121845,\"VA1121845\",IF(Benchsheet!C130=1121655,\"VA1121655\",IF(Benchsheet!C130=1121900,\"VA1121900\",IF(Benchsheet!C130<1,\"\")))))))))))))))","v":""},{"$f":"IF(Benchsheet!A130>1,\"TC\",IF(Benchsheet!A130=FALSE,\"\"))","v":""},{"$f":"IF(J127=\"WL001\",\"MPN\",IF(Benchsheet!B130=FALSE,\"\",IF(J127=\"WL002\",\"MPN\",IF(J127=\"WL003\",\"MPN\",IF(J127=\"DS001\",\"TC\")))))","v":""},{"$f":"Benchsheet!E130","v":0},"",{"$f":"Benchsheet!B130","v":0},{"$f":"IF(J127=\"WL001\",\"RW001\",IF(Benchsheet!B130=FALSE,\"\",IF(J127=\"WL002\",\"RW002\",IF(J127=\"WL003\",\"RW003\",IF(J127=\"DS001\",\"TCR001\",IF(J127=\"DS001\",\"TCR01\"))))))","v":""},{"$f":"Benchsheet!D130","v":0},{"$f":"Benchsheet!G130","v":"00:00:00"},{"$f":"Benchsheet!H130","v":0},{"$f":"Benchsheet!I130","v":"00:00:00"},{"$f":"Benchsheet!F130","v":0},{"$f":"Benchsheet!P130","v":0},{"$f":"Benchsheet!O130","v":0}]
[{"$f":"IF(Benchsheet!A131>1,\"sample\",IF(Benchsheet!A131=FALSE,\"\"))","v":""},{"$f":"IF(Benchsheet!A131>1,\"STATE\",IF(Benchsheet!A131=FALSE,\"\"))","v":""},{"$f":"IF(Benchsheet!A131>1,\"00035\",IF(Benchsheet!A131=FALSE,\"\"))","v":""},{"$f":"Benchsheet!A131","v":0},{"$f":"IF(Benchsheet!C131=1121057,\"VA1121057\",IF(Benchsheet!C131=1121090,\"VA1121090\",IF(Benchsheet!C131=1121052,\"VA1121052\",IF(Benchsheet!C131=1121175,\"VA1121175\",IF(Benchsheet!C131=1121580,\"VA1121580\",IF(Benchsheet!C131=1121570,\"VA1121570\",IF(Benchsheet!C131=1121045,\"VA1121045\",IF(Benchsheet!C131=1121655,\"VA1121655\",IF(Benchsheet!C131=1121503,\"VA1121503\",IF(Benchsheet!C131=1121043,\"VA1121043\",IF(Benchsheet!C131=1121900,\"VA1121900\",IF(Benchsheet!C131=1121845,\"VA1121845\",IF(Benchsheet!C131=1121655,\"VA1121655\",IF(Benchsheet!C131=1121900,\"VA1121900\",IF(Benchsheet!C131<1,\"\")))))))))))))))","v":""},{"$f":"IF(Benchsheet!A131>1,\"TC\",IF(Benchsheet!A131=FALSE,\"\"))","v":""},{"$f":"IF(J128=\"WL001\",\"MPN\",IF(Benchsheet!B131=FALSE,\"\",IF(J128=\"WL002\",\"MPN\",IF(J128=\"WL003\",\"MPN\",IF(J128=\"DS001\",\"TC\")))))","v":""},{"$f":"Benchsheet!E131","v":0},"",{"$f":"Benchsheet!B131","v":0},{"$f":"IF(J128=\"WL001\",\"RW001\",IF(Benchsheet!B131=FALSE,\"\",IF(J128=\"WL002\",\"RW002\",IF(J128=\"WL003\",\"RW003\",IF(J128=\"DS001\",\"TCR001\",IF(J128=\"DS001\",\"TCR01\"))))))","v":""},{"$f":"Benchsheet!D131","v":0},{"$f":"Benchsheet!G131","v":"00:00:00"},{"$f":"Benchsheet!H131","v":0},{"$f":"Benchsheet!I131","v":"00:00:00"},{"$f":"Benchsheet!F131","v":0},{"$f":"Benchsheet!P131","v":0},{"$f":"Benchsheet!O131","v":0}]
[{"$f":"IF(Benchsheet!A132>1,\"sample\",IF(Benchsheet!A132=FALSE,\"\"))","v":""},{"$f":"IF(Benchsheet!A132>1,\"STATE\",IF(Benchsheet!A132=FALSE,\"\"))","v":""},{"$f":"IF(Benchsheet!A132>1,\"00035\",IF(Benchsheet!A132=FALSE,\"\"))","v":""},{"$f":"Benchsheet!A132","v":0},{"$f":"IF(Benchsheet!C132=1121057,\"VA1121057\",IF(Benchsheet!C132=1121090,\"VA1121090\",IF(Benchsheet!C132=1121052,\"VA1121052\",IF(Benchsheet!C132=1121175,\"VA1121175\",IF(Benchsheet!C132=1121580,\"VA1121580\",IF(Benchsheet!C132=1121570,\"VA1121570\",IF(Benchsheet!C132=1121045,\"VA1121045\",IF(Benchsheet!C132=1121655,\"VA1121655\",IF(Benchsheet!C132=1121503,\"VA1121503\",IF(Benchsheet!C132=1121043,\"VA1121043\",IF(Benchsheet!C132=1121900,\"VA1121900\",IF(Benchsheet!C132=1121845,\"VA1121845\",IF(Benchsheet!C132=1121655,\"VA1121655\",IF(Benchsheet!C132=1121900,\"VA1121900\",IF(Benchsheet!C132<1,\"\")))))))))))))))","v":""},{"$f":"IF(Benchsheet!A132>1,\"TC\",IF(Benchsheet!A132=FALSE,\"\"))","v":""},{"$f":"IF(J129=\"WL001\",\"MPN\",IF(Benchsheet!B132=FALSE,\"\",IF(J129=\"WL002\",\"MPN\",IF(J129=\"WL003\",\"MPN\",IF(J129=\"DS001\",\"TC\")))))","v":""},{"$f":"Benchsheet!E132","v":0},"",{"$f":"Benchsheet!B132","v":0},{"$f":"IF(J129=\"WL001\",\"RW001\",IF(Benchsheet!B132=FALSE,\"\",IF(J129=\"WL002\",\"RW002\",IF(J129=\"WL003\",\"RW003\",IF(J129=\"DS001\",\"TCR001\",IF(J129=\"DS001\",\"TCR01\"))))))","v":""},{"$f":"Benchsheet!D132","v":0},{"$f":"Benchsheet!G132","v":"00:00:00"},{"$f":"Benchsheet!H132","v":0},{"$f":"Benchsheet!I132","v":"00:00:00"},{"$f":"Benchsheet!F132","v":0},{"$f":"Benchsheet!P132","v":0},{"$f":"Benchsheet!O132","v":0}]
[{"$f":"IF(Benchsheet!A133>1,\"sample\",IF(Benchsheet!A133=FALSE,\"\"))","v":""},{"$f":"IF(Benchsheet!A133>1,\"STATE\",IF(Benchsheet!A133=FALSE,\"\"))","v":""},{"$f":"IF(Benchsheet!A133>1,\"00035\",IF(Benchsheet!A133=FALSE,\"\"))","v":""},{"$f":"Benchsheet!A133","v":0},{"$f":"IF(Benchsheet!C133=1121057,\"VA1121057\",IF(Benchsheet!C133=1121090,\"VA1121090\",IF(Benchsheet!C133=1121052,\"VA1121052\",IF(Benchsheet!C133=1121175,\"VA1121175\",IF(Benchsheet!C133=1121580,\"VA1121580\",IF(Benchsheet!C133=1121570,\"VA1121570\",IF(Benchsheet!C133=1121045,\"VA1121045\",IF(Benchsheet!C133=1121655,\"VA1121655\",IF(Benchsheet!C133=1121503,\"VA1121503\",IF(Benchsheet!C133=1121043,\"VA1121043\",IF(Benchsheet!C133=1121900,\"VA1121900\",IF(Benchsheet!C133=1121845,\"VA1121845\",IF(Benchsheet!C133=1121655,\"VA1121655\",IF(Benchsheet!C133=1121900,\"VA1121900\",IF(Benchsheet!C133<1,\"\")))))))))))))))","v":""},{"$f":"IF(Benchsheet!A133>1,\"TC\",IF(Benchsheet!A133=FALSE,\"\"))","v":""},{"$f":"IF(J130=\"WL001\",\"MPN\",IF(Benchsheet!B133=FALSE,\"\",IF(J130=\"WL002\",\"MPN\",IF(J130=\"WL003\",\"MPN\",IF(J130=\"DS001\",\"TC\")))))","v":""},{"$f":"Benchsheet!E133","v":0},"",{"$f":"Benchsheet!B133","v":0},{"$f":"IF(J130=\"WL001\",\"RW001\",IF(Benchsheet!B133=FALSE,\"\",IF(J130=\"WL002\",\"RW002\",IF(J130=\"WL003\",\"RW003\",IF(J130=\"DS001\",\"TCR001\",IF(J130=\"DS001\",\"TCR01\"))))))","v":""},{"$f":"Benchsheet!D133","v":0},{"$f":"Benchsheet!G133","v":"00:00:00"},{"$f":"Benchsheet!H133","v":0},{"$f":"Benchsheet!I133","v":"00:00:00"},{"$f":"Benchsheet!F133","v":0},{"$f":"Benchsheet!P133","v":0},{"$f":"Benchsheet!O133","v":0}]
[{"$f":"IF(Benchsheet!A134>1,\"sample\",IF(Benchsheet!A134=FALSE,\"\"))","v":""},{"$f":"IF(Benchsheet!A134>1,\"STATE\",IF(Benchsheet!A134=FALSE,\"\"))","v":""},{"$f":"IF(Benchsheet!A134>1,\"00035\",IF(Benchsheet!A134=FALSE,\"\"))","v":""},{"$f":"Benchsheet!A134","v":0},{"$f":"IF(Benchsheet!C134=1121057,\"VA1121057\",IF(Benchsheet!C134=1121090,\"VA1121090\",IF(Benchsheet!C134=1121052,\"VA1121052\",IF(Benchsheet!C134=1121175,\"VA1121175\",IF(Benchsheet!C134=1121580,\"VA1121580\",IF(Benchsheet!C134=1121570,\"VA1121570\",IF(Benchsheet!C134=1121045,\"VA1121045\",IF(Benchsheet!C134=1121655,\"VA1121655\",IF(Benchsheet!C134=1121503,\"VA1121503\",IF(Benchsheet!C134=1121043,\"VA1121043\",IF(Benchsheet!C134=1121900,\"VA1121900\",IF(Benchsheet!C134=1121845,\"VA1121845\",IF(Benchsheet!C134=1121655,\"VA1121655\",IF(Benchsheet!C134=1121900,\"VA1121900\",IF(Benchsheet!C134<1,\"\")))))))))))))))","v":""},{"$f":"IF(Benchsheet!A134>1,\"TC\",IF(Benchsheet!A134=FALSE,\"\"))","v":""},{"$f":"IF(J131=\"WL001\",\"MPN\",IF(Benchsheet!B134=FALSE,\"\",IF(J131=\"WL002\",\"MPN\",IF(J131=\"WL003\",\"MPN\",IF(J131=\"DS001\",\"TC\")))))","v":""},{"$f":"Benchsheet!E134","v":0},{"$f":"IF(H131=\"RT\",\"Y\",IF(H131=\"SP\",\"N\",IF(H131=\"RP\",\"Y\",IF(H131=\"GE\",\"Y\",\"\"))))","v":""},{"$f":"Benchsheet!B134","v":0},{"$f":"IF(J131=\"WL001\",\"RW001\",IF(Benchsheet!B134=FALSE,\"\",IF(J131=\"WL002\",\"RW002\",IF(J131=\"WL003\",\"RW003\",IF(J131=\"DS001\",\"TCR001\",IF(J131=\"DS001\",\"TCR01\"))))))","v":""},{"$f":"Benchsheet!D134","v":0},{"$f":"Benchsheet!G134","v":"00:00:00"},{"$f":"Benchsheet!H134","v":0},{"$f":"Benchsheet!I134","v":"00:00:00"},{"$f":"Benchsheet!F134","v":0},{"$f":"Benchsheet!P134","v":0},{"$f":"Benchsheet!O134","v":0}]
[{"$f":"IF(Benchsheet!A135>1,\"sample\",IF(Benchsheet!A135=FALSE,\"\"))","v":""},{"$f":"IF(Benchsheet!A135>1,\"STATE\",IF(Benchsheet!A135=FALSE,\"\"))","v":""},{"$f":"IF(Benchsheet!A135>1,\"00035\",IF(Benchsheet!A135=FALSE,\"\"))","v":""},{"$f":"Benchsheet!A135","v":0},{"$f":"IF(Benchsheet!C135=1121057,\"VA1121057\",IF(Benchsheet!C135=1121090,\"VA1121090\",IF(Benchsheet!C135=1121052,\"VA1121052\",IF(Benchsheet!C135=1121175,\"VA1121175\",IF(Benchsheet!C135=1121580,\"VA1121580\",IF(Benchsheet!C135=1121570,\"VA1121570\",IF(Benchsheet!C135=1121045,\"VA1121045\",IF(Benchsheet!C135=1121655,\"VA1121655\",IF(Benchsheet!C135=1121503,\"VA1121503\",IF(Benchsheet!C135=1121043,\"VA1121043\",IF(Benchsheet!C135=1121900,\"VA1121900\",IF(Benchsheet!C135=1121845,\"VA1121845\",IF(Benchsheet!C135=1121655,\"VA1121655\",IF(Benchsheet!C135=1121900,\"VA1121900\",IF(Benchsheet!C135<1,\"\")))))))))))))))","v":""},{"$f":"IF(Benchsheet!A135>1,\"TC\",IF(Benchsheet!A135=FALSE,\"\"))","v":""},{"$f":"IF(J132=\"WL001\",\"MPN\",IF(Benchsheet!B135=FALSE,\"\",IF(J132=\"WL002\",\"MPN\",IF(J132=\"WL003\",\"MPN\",IF(J132=\"DS001\",\"TC\")))))","v":""},{"$f":"Benchsheet!E135","v":0},"",{"$f":"Benchsheet!B135","v":0},{"$f":"IF(J132=\"WL001\",\"RW001\",IF(Benchsheet!B135=FALSE,\"\",IF(J132=\"WL002\",\"RW002\",IF(J132=\"WL003\",\"RW003\",IF(J132=\"DS001\",\"TCR001\",IF(J132=\"DS001\",\"TCR01\"))))))","v":""},{"$f":"Benchsheet!D135","v":0},{"$f":"Benchsheet!G135","v":"00:00:00"},{"$f":"Benchsheet!H135","v":0},{"$f":"Benchsheet!I135","v":"00:00:00"},{"$f":"Benchsheet!F135","v":0},{"$f":"Benchsheet!P135","v":0},{"$f":"Benchsheet!O135","v":0}]
[{"$f":"IF(Benchsheet!A136>1,\"sample\",IF(Benchsheet!A136=FALSE,\"\"))","v":""},{"$f":"IF(Benchsheet!A136>1,\"STATE\",IF(Benchsheet!A136=FALSE,\"\"))","v":""},{"$f":"IF(Benchsheet!A136>1,\"00035\",IF(Benchsheet!A136=FALSE,\"\"))","v":""},{"$f":"Benchsheet!A136","v":0},{"$f":"IF(Benchsheet!C136=1121057,\"VA1121057\",IF(Benchsheet!C136=1121090,\"VA1121090\",IF(Benchsheet!C136=1121052,\"VA1121052\",IF(Benchsheet!C136=1121175,\"VA1121175\",IF(Benchsheet!C136=1121580,\"VA1121580\",IF(Benchsheet!C136=1121570,\"VA1121570\",IF(Benchsheet!C136=1121045,\"VA1121045\",IF(Benchsheet!C136=1121655,\"VA1121655\",IF(Benchsheet!C136=1121503,\"VA1121503\",IF(Benchsheet!C136=1121043,\"VA1121043\",IF(Benchsheet!C136=1121900,\"VA1121900\",IF(Benchsheet!C136=1121845,\"VA1121845\",IF(Benchsheet!C136=1121655,\"VA1121655\",IF(Benchsheet!C136=1121900,\"VA1121900\",IF(Benchsheet!C136<1,\"\")))))))))))))))","v":""},{"$f":"IF(Benchsheet!A136>1,\"TC\",IF(Benchsheet!A136=FALSE,\"\"))","v":""},{"$f":"IF(J133=\"WL001\",\"MPN\",IF(Benchsheet!B136=FALSE,\"\",IF(J133=\"WL002\",\"MPN\",IF(J133=\"WL003\",\"MPN\",IF(J133=\"DS001\",\"TC\")))))","v":""},{"$f":"Benchsheet!E136","v":0},"",{"$f":"Benchsheet!B136","v":0},{"$f":"IF(J133=\"WL001\",\"RW001\",IF(Benchsheet!B136=FALSE,\"\",IF(J133=\"WL002\",\"RW002\",IF(J133=\"WL003\",\"RW003\",IF(J133=\"DS001\",\"TCR001\",IF(J133=\"DS001\",\"TCR01\"))))))","v":""},{"$f":"Benchsheet!D136","v":0},{"$f":"Benchsheet!G136","v":"00:00:00"},{"$f":"Benchsheet!H136","v":0},{"$f":"Benchsheet!I136","v":"00:00:00"},{"$f":"Benchsheet!F136","v":0},{"$f":"Benchsheet!P136","v":0},{"$f":"Benchsheet!O136","v":0}]
[{"$f":"IF(Benchsheet!A137>1,\"sample\",IF(Benchsheet!A137=FALSE,\"\"))","v":""},{"$f":"IF(Benchsheet!A137>1,\"STATE\",IF(Benchsheet!A137=FALSE,\"\"))","v":""},{"$f":"IF(Benchsheet!A137>1,\"00035\",IF(Benchsheet!A137=FALSE,\"\"))","v":""},{"$f":"Benchsheet!A137","v":0},{"$f":"IF(Benchsheet!C137=1121057,\"VA1121057\",IF(Benchsheet!C137=1121090,\"VA1121090\",IF(Benchsheet!C137=1121052,\"VA1121052\",IF(Benchsheet!C137=1121175,\"VA1121175\",IF(Benchsheet!C137=1121580,\"VA1121580\",IF(Benchsheet!C137=1121570,\"VA1121570\",IF(Benchsheet!C137=1121045,\"VA1121045\",IF(Benchsheet!C137=1121655,\"VA1121655\",IF(Benchsheet!C137=1121503,\"VA1121503\",IF(Benchsheet!C137=1121043,\"VA1121043\",IF(Benchsheet!C137=1121900,\"VA1121900\",IF(Benchsheet!C137=1121845,\"VA1121845\",IF(Benchsheet!C137=1121655,\"VA1121655\",IF(Benchsheet!C137=1121900,\"VA1121900\",IF(Benchsheet!C137<1,\"\")))))))))))))))","v":""},{"$f":"IF(Benchsheet!A137>1,\"TC\",IF(Benchsheet!A137=FALSE,\"\"))","v":""},{"$f":"IF(J134=\"WL001\",\"MPN\",IF(Benchsheet!B137=FALSE,\"\",IF(J134=\"WL002\",\"MPN\",IF(J134=\"WL003\",\"MPN\",IF(J134=\"DS001\",\"TC\")))))","v":""},{"$f":"Benchsheet!E137","v":0},"",{"$f":"Benchsheet!B137","v":0},{"$f":"IF(J134=\"WL001\",\"RW001\",IF(Benchsheet!B137=FALSE,\"\",IF(J134=\"WL002\",\"RW002\",IF(J134=\"WL003\",\"RW003\",IF(J134=\"DS001\",\"TCR001\",IF(J134=\"DS001\",\"TCR01\"))))))","v":""},{"$f":"Benchsheet!D137","v":0},{"$f":"Benchsheet!G137","v":"00:00:00"},{"$f":"Benchsheet!H137","v":0},{"$f":"Benchsheet!I137","v":"00:00:00"},{"$f":"Benchsheet!F137","v":0},{"$f":"Benchsheet!P137","v":0},{"$f":"Benchsheet!O137","v":0}]
[{"$f":"IF(Benchsheet!A138>1,\"sample\",IF(Benchsheet!A138=FALSE,\"\"))","v":""},{"$f":"IF(Benchsheet!A138>1,\"STATE\",IF(Benchsheet!A138=FALSE,\"\"))","v":""},{"$f":"IF(Benchsheet!A138>1,\"00035\",IF(Benchsheet!A138=FALSE,\"\"))","v":""},{"$f":"Benchsheet!A138","v":0},{"$f":"IF(Benchsheet!C138=1121057,\"VA1121057\",IF(Benchsheet!C138=1121090,\"VA1121090\",IF(Benchsheet!C138=1121052,\"VA1121052\",IF(Benchsheet!C138=1121175,\"VA1121175\",IF(Benchsheet!C138=1121580,\"VA1121580\",IF(Benchsheet!C138=1121570,\"VA1121570\",IF(Benchsheet!C138=1121045,\"VA1121045\",IF(Benchsheet!C138=1121655,\"VA1121655\",IF(Benchsheet!C138=1121503,\"VA1121503\",IF(Benchsheet!C138=1121043,\"VA1121043\",IF(Benchsheet!C138=1121900,\"VA1121900\",IF(Benchsheet!C138=1121845,\"VA1121845\",IF(Benchsheet!C138=1121655,\"VA1121655\",IF(Benchsheet!C138=1121900,\"VA1121900\",IF(Benchsheet!C138<1,\"\")))))))))))))))","v":""},{"$f":"IF(Benchsheet!A138>1,\"TC\",IF(Benchsheet!A138=FALSE,\"\"))","v":""},{"$f":"IF(J135=\"WL001\",\"MPN\",IF(Benchsheet!B138=FALSE,\"\",IF(J135=\"WL002\",\"MPN\",IF(J135=\"WL003\",\"MPN\",IF(J135=\"DS001\",\"TC\")))))","v":""},{"$f":"Benchsheet!E138","v":0},"",{"$f":"Benchsheet!B138","v":0},{"$f":"IF(J135=\"WL001\",\"RW001\",IF(Benchsheet!B138=FALSE,\"\",IF(J135=\"WL002\",\"RW002\",IF(J135=\"WL003\",\"RW003\",IF(J135=\"DS001\",\"TCR001\",IF(J135=\"DS001\",\"TCR01\"))))))","v":""},{"$f":"Benchsheet!D138","v":0},{"$f":"Benchsheet!G138","v":"00:00:00"},{"$f":"Benchsheet!H138","v":0},{"$f":"Benchsheet!I138","v":"00:00:00"},{"$f":"Benchsheet!F138","v":0},{"$f":"Benchsheet!P138","v":0},{"$f":"Benchsheet!O138","v":0}]
[{"$f":"IF(Benchsheet!A139>1,\"sample\",IF(Benchsheet!A139=FALSE,\"\"))","v":""},{"$f":"IF(Benchsheet!A139>1,\"STATE\",IF(Benchsheet!A139=FALSE,\"\"))","v":""},{"$f":"IF(Benchsheet!A139>1,\"00035\",IF(Benchsheet!A139=FALSE,\"\"))","v":""},{"$f":"Benchsheet!A139","v":0},{"$f":"IF(Benchsheet!C139=1121057,\"VA1121057\",IF(Benchsheet!C139=1121090,\"VA1121090\",IF(Benchsheet!C139=1121052,\"VA1121052\",IF(Benchsheet!C139=1121175,\"VA1121175\",IF(Benchsheet!C139=1121580,\"VA1121580\",IF(Benchsheet!C139=1121570,\"VA1121570\",IF(Benchsheet!C139=1121045,\"VA1121045\",IF(Benchsheet!C139=1121655,\"VA1121655\",IF(Benchsheet!C139=1121503,\"VA1121503\",IF(Benchsheet!C139=1121043,\"VA1121043\",IF(Benchsheet!C139=1121900,\"VA1121900\",IF(Benchsheet!C139=1121845,\"VA1121845\",IF(Benchsheet!C139=1121655,\"VA1121655\",IF(Benchsheet!C139=1121900,\"VA1121900\",IF(Benchsheet!C139<1,\"\")))))))))))))))","v":""},{"$f":"IF(Benchsheet!A139>1,\"TC\",IF(Benchsheet!A139=FALSE,\"\"))","v":""},{"$f":"IF(J136=\"WL001\",\"MPN\",IF(Benchsheet!B139=FALSE,\"\",IF(J136=\"WL002\",\"MPN\",IF(J136=\"WL003\",\"MPN\",IF(J136=\"DS001\",\"TC\")))))","v":""},{"$f":"Benchsheet!E139","v":0},"",{"$f":"Benchsheet!B139","v":0},{"$f":"IF(J136=\"WL001\",\"RW001\",IF(Benchsheet!B139=FALSE,\"\",IF(J136=\"WL002\",\"RW002\",IF(J136=\"WL003\",\"RW003\",IF(J136=\"DS001\",\"TCR001\",IF(J136=\"DS001\",\"TCR01\"))))))","v":""},{"$f":"Benchsheet!D139","v":0},{"$f":"Benchsheet!G139","v":"00:00:00"},{"$f":"Benchsheet!H139","v":0},{"$f":"Benchsheet!I139","v":"00:00:00"},{"$f":"Benchsheet!F139","v":0},{"$f":"Benchsheet!P139","v":0},{"$f":"Benchsheet!O139","v":0}]
[{"$f":"IF(Benchsheet!A140>1,\"sample\",IF(Benchsheet!A140=FALSE,\"\"))","v":""},{"$f":"IF(Benchsheet!A140>1,\"STATE\",IF(Benchsheet!A140=FALSE,\"\"))","v":""},{"$f":"IF(Benchsheet!A140>1,\"00035\",IF(Benchsheet!A140=FALSE,\"\"))","v":""},{"$f":"Benchsheet!A140","v":0},{"$f":"IF(Benchsheet!C140=1121057,\"VA1121057\",IF(Benchsheet!C140=1121090,\"VA1121090\",IF(Benchsheet!C140=1121052,\"VA1121052\",IF(Benchsheet!C140=1121175,\"VA1121175\",IF(Benchsheet!C140=1121580,\"VA1121580\",IF(Benchsheet!C140=1121570,\"VA1121570\",IF(Benchsheet!C140=1121045,\"VA1121045\",IF(Benchsheet!C140=1121655,\"VA1121655\",IF(Benchsheet!C140=1121503,\"VA1121503\",IF(Benchsheet!C140=1121043,\"VA1121043\",IF(Benchsheet!C140=1121900,\"VA1121900\",IF(Benchsheet!C140=1121845,\"VA1121845\",IF(Benchsheet!C140=1121655,\"VA1121655\",IF(Benchsheet!C140=1121900,\"VA1121900\",IF(Benchsheet!C140<1,\"\")))))))))))))))","v":""},{"$f":"IF(Benchsheet!A140>1,\"TC\",IF(Benchsheet!A140=FALSE,\"\"))","v":""},{"$f":"IF(J137=\"WL001\",\"MPN\",IF(Benchsheet!B140=FALSE,\"\",IF(J137=\"WL002\",\"MPN\",IF(J137=\"WL003\",\"MPN\",IF(J137=\"DS001\",\"TC\")))))","v":""},{"$f":"Benchsheet!E140","v":0},"",{"$f":"Benchsheet!B140","v":0},{"$f":"IF(J137=\"WL001\",\"RW001\",IF(Benchsheet!B140=FALSE,\"\",IF(J137=\"WL002\",\"RW002\",IF(J137=\"WL003\",\"RW003\",IF(J137=\"DS001\",\"TCR001\",IF(J137=\"DS001\",\"TCR01\"))))))","v":""},{"$f":"Benchsheet!D140","v":0},{"$f":"Benchsheet!G140","v":"00:00:00"},{"$f":"Benchsheet!H140","v":0},{"$f":"Benchsheet!I140","v":"00:00:00"},{"$f":"Benchsheet!F140","v":0},{"$f":"Benchsheet!P140","v":0},{"$f":"Benchsheet!O140","v":0}]
[{"$f":"IF(Benchsheet!A141>1,\"sample\",IF(Benchsheet!A141=FALSE,\"\"))","v":""},{"$f":"IF(Benchsheet!A141>1,\"STATE\",IF(Benchsheet!A141=FALSE,\"\"))","v":""},{"$f":"IF(Benchsheet!A141>1,\"00035\",IF(Benchsheet!A141=FALSE,\"\"))","v":""},{"$f":"Benchsheet!A141","v":0},{"$f":"IF(Benchsheet!C141=1121057,\"VA1121057\",IF(Benchsheet!C141=1121090,\"VA1121090\",IF(Benchsheet!C141=1121052,\"VA1121052\",IF(Benchsheet!C141=1121175,\"VA1121175\",IF(Benchsheet!C141=1121580,\"VA1121580\",IF(Benchsheet!C141=1121570,\"VA1121570\",IF(Benchsheet!C141=1121045,\"VA1121045\",IF(Benchsheet!C141=1121655,\"VA1121655\",IF(Benchsheet!C141=1121503,\"VA1121503\",IF(Benchsheet!C141=1121043,\"VA1121043\",IF(Benchsheet!C141=1121900,\"VA1121900\",IF(Benchsheet!C141=1121845,\"VA1121845\",IF(Benchsheet!C141=1121655,\"VA1121655\",IF(Benchsheet!C141=1121900,\"VA1121900\",IF(Benchsheet!C141<1,\"\")))))))))))))))","v":""},{"$f":"IF(Benchsheet!A141>1,\"TC\",IF(Benchsheet!A141=FALSE,\"\"))","v":""},{"$f":"IF(J138=\"WL001\",\"MPN\",IF(Benchsheet!B141=FALSE,\"\",IF(J138=\"WL002\",\"MPN\",IF(J138=\"WL003\",\"MPN\",IF(J138=\"DS001\",\"TC\")))))","v":""},{"$f":"Benchsheet!E141","v":0},"",{"$f":"Benchsheet!B141","v":0},{"$f":"IF(J138=\"WL001\",\"RW001\",IF(Benchsheet!B141=FALSE,\"\",IF(J138=\"WL002\",\"RW002\",IF(J138=\"WL003\",\"RW003\",IF(J138=\"DS001\",\"TCR001\",IF(J138=\"DS001\",\"TCR01\"))))))","v":""},{"$f":"Benchsheet!D141","v":0},{"$f":"Benchsheet!G141","v":"00:00:00"},{"$f":"Benchsheet!H141","v":0},{"$f":"Benchsheet!I141","v":"00:00:00"},{"$f":"Benchsheet!F141","v":0},{"$f":"Benchsheet!P141","v":0},{"$f":"Benchsheet!O141","v":0}]
[{"$f":"IF(Benchsheet!A142>1,\"sample\",IF(Benchsheet!A142=FALSE,\"\"))","v":""},{"$f":"IF(Benchsheet!A142>1,\"STATE\",IF(Benchsheet!A142=FALSE,\"\"))","v":""},{"$f":"IF(Benchsheet!A142>1,\"00035\",IF(Benchsheet!A142=FALSE,\"\"))","v":""},{"$f":"Benchsheet!A142","v":0},{"$f":"IF(Benchsheet!C142=1121057,\"VA1121057\",IF(Benchsheet!C142=1121090,\"VA1121090\",IF(Benchsheet!C142=1121052,\"VA1121052\",IF(Benchsheet!C142=1121175,\"VA1121175\",IF(Benchsheet!C142=1121580,\"VA1121580\",IF(Benchsheet!C142=1121570,\"VA1121570\",IF(Benchsheet!C142=1121045,\"VA1121045\",IF(Benchsheet!C142=1121655,\"VA1121655\",IF(Benchsheet!C142=1121503,\"VA1121503\",IF(Benchsheet!C142=1121043,\"VA1121043\",IF(Benchsheet!C142=1121900,\"VA1121900\",IF(Benchsheet!C142=1121845,\"VA1121845\",IF(Benchsheet!C142=1121655,\"VA1121655\",IF(Benchsheet!C142=1121900,\"VA1121900\",IF(Benchsheet!C142<1,\"\")))))))))))))))","v":""},{"$f":"IF(Benchsheet!A142>1,\"TC\",IF(Benchsheet!A142=FALSE,\"\"))","v":""},{"$f":"IF(J139=\"WL001\",\"MPN\",IF(Benchsheet!B142=FALSE,\"\",IF(J139=\"WL002\",\"MPN\",IF(J139=\"WL003\",\"MPN\",IF(J139=\"DS001\",\"TC\")))))","v":""},{"$f":"Benchsheet!E142","v":0},"",{"$f":"Benchsheet!B142","v":0},{"$f":"IF(J139=\"WL001\",\"RW001\",IF(Benchsheet!B142=FALSE,\"\",IF(J139=\"WL002\",\"RW002\",IF(J139=\"WL003\",\"RW003\",IF(J139=\"DS001\",\"TCR001\",IF(J139=\"DS001\",\"TCR01\"))))))","v":""},{"$f":"Benchsheet!D142","v":0},{"$f":"Benchsheet!G142","v":"00:00:00"},{"$f":"Benchsheet!H142","v":0},{"$f":"Benchsheet!I142","v":"00:00:00"},{"$f":"Benchsheet!F142","v":0},{"$f":"Benchsheet!P142","v":0},{"$f":"Benchsheet!O142","v":0}]
[{"$f":"IF(Benchsheet!A143>1,\"sample\",IF(Benchsheet!A143=FALSE,\"\"))","v":""},{"$f":"IF(Benchsheet!A143>1,\"STATE\",IF(Benchsheet!A143=FALSE,\"\"))","v":""},{"$f":"IF(Benchsheet!A143>1,\"00035\",IF(Benchsheet!A143=FALSE,\"\"))","v":""},{"$f":"Benchsheet!A143","v":0},{"$f":"IF(Benchsheet!C143=1121057,\"VA1121057\",IF(Benchsheet!C143=1121090,\"VA1121090\",IF(Benchsheet!C143=1121052,\"VA1121052\",IF(Benchsheet!C143=1121175,\"VA1121175\",IF(Benchsheet!C143=1121580,\"VA1121580\",IF(Benchsheet!C143=1121570,\"VA1121570\",IF(Benchsheet!C143=1121045,\"VA1121045\",IF(Benchsheet!C143=1121655,\"VA1121655\",IF(Benchsheet!C143=1121503,\"VA1121503\",IF(Benchsheet!C143=1121043,\"VA1121043\",IF(Benchsheet!C143=1121900,\"VA1121900\",IF(Benchsheet!C143=1121845,\"VA1121845\",IF(Benchsheet!C143=1121655,\"VA1121655\",IF(Benchsheet!C143=1121900,\"VA1121900\",IF(Benchsheet!C143<1,\"\")))))))))))))))","v":""},{"$f":"IF(Benchsheet!A143>1,\"TC\",IF(Benchsheet!A143=FALSE,\"\"))","v":""},{"$f":"IF(J140=\"WL001\",\"MPN\",IF(Benchsheet!B143=FALSE,\"\",IF(J140=\"WL002\",\"MPN\",IF(J140=\"WL003\",\"MPN\",IF(J140=\"DS001\",\"TC\")))))","v":""},{"$f":"Benchsheet!E143","v":0},"",{"$f":"Benchsheet!B143","v":0},{"$f":"IF(J140=\"WL001\",\"RW001\",IF(Benchsheet!B143=FALSE,\"\",IF(J140=\"WL002\",\"RW002\",IF(J140=\"WL003\",\"RW003\",IF(J140=\"DS001\",\"TCR001\",IF(J140=\"DS001\",\"TCR01\"))))))","v":""},{"$f":"Benchsheet!D143","v":0},{"$f":"Benchsheet!G143","v":"00:00:00"},{"$f":"Benchsheet!H143","v":0},{"$f":"Benchsheet!I143","v":"00:00:00"},{"$f":"Benchsheet!F143","v":0},{"$f":"Benchsheet!P143","v":0},{"$f":"Benchsheet!O143","v":0}]
[{"$f":"IF(Benchsheet!A144>1,\"sample\",IF(Benchsheet!A144=FALSE,\"\"))","v":""},{"$f":"IF(Benchsheet!A144>1,\"STATE\",IF(Benchsheet!A144=FALSE,\"\"))","v":""},{"$f":"IF(Benchsheet!A144>1,\"00035\",IF(Benchsheet!A144=FALSE,\"\"))","v":""},{"$f":"Benchsheet!A144","v":0},{"$f":"IF(Benchsheet!C144=1121057,\"VA1121057\",IF(Benchsheet!C144=1121090,\"VA1121090\",IF(Benchsheet!C144=1121052,\"VA1121052\",IF(Benchsheet!C144=1121175,\"VA1121175\",IF(Benchsheet!C144=1121580,\"VA1121580\",IF(Benchsheet!C144=1121570,\"VA1121570\",IF(Benchsheet!C144=1121045,\"VA1121045\",IF(Benchsheet!C144=1121655,\"VA1121655\",IF(Benchsheet!C144=1121503,\"VA1121503\",IF(Benchsheet!C144=1121043,\"VA1121043\",IF(Benchsheet!C144=1121900,\"VA1121900\",IF(Benchsheet!C144=1121845,\"VA1121845\",IF(Benchsheet!C144=1121655,\"VA1121655\",IF(Benchsheet!C144=1121900,\"VA1121900\",IF(Benchsheet!C144<1,\"\")))))))))))))))","v":""},{"$f":"IF(Benchsheet!A144>1,\"TC\",IF(Benchsheet!A144=FALSE,\"\"))","v":""},{"$f":"IF(J141=\"WL001\",\"MPN\",IF(Benchsheet!B144=FALSE,\"\",IF(J141=\"WL002\",\"MPN\",IF(J141=\"WL003\",\"MPN\",IF(J141=\"DS001\",\"TC\")))))","v":""},{"$f":"Benchsheet!E144","v":0},"",{"$f":"Benchsheet!B144","v":0},{"$f":"IF(J141=\"WL001\",\"RW001\",IF(Benchsheet!B144=FALSE,\"\",IF(J141=\"WL002\",\"RW002\",IF(J141=\"WL003\",\"RW003\",IF(J141=\"DS001\",\"TCR001\",IF(J141=\"DS001\",\"TCR01\"))))))","v":""},{"$f":"Benchsheet!D144","v":0},{"$f":"Benchsheet!G144","v":"00:00:00"},{"$f":"Benchsheet!H144","v":0},{"$f":"Benchsheet!I144","v":"00:00:00"},{"$f":"Benchsheet!F144","v":0},{"$f":"Benchsheet!P144","v":0},{"$f":"Benchsheet!O144","v":0}]
[{"$f":"IF(Benchsheet!A145>1,\"sample\",IF(Benchsheet!A145=FALSE,\"\"))","v":""},{"$f":"IF(Benchsheet!A145>1,\"STATE\",IF(Benchsheet!A145=FALSE,\"\"))","v":""},{"$f":"IF(Benchsheet!A145>1,\"00035\",IF(Benchsheet!A145=FALSE,\"\"))","v":""},{"$f":"Benchsheet!A145","v":0},{"$f":"IF(Benchsheet!C145=1121057,\"VA1121057\",IF(Benchsheet!C145=1121090,\"VA1121090\",IF(Benchsheet!C145=1121052,\"VA1121052\",IF(Benchsheet!C145=1121175,\"VA1121175\",IF(Benchsheet!C145=1121580,\"VA1121580\",IF(Benchsheet!C145=1121570,\"VA1121570\",IF(Benchsheet!C145=1121045,\"VA1121045\",IF(Benchsheet!C145=1121655,\"VA1121655\",IF(Benchsheet!C145=1121503,\"VA1121503\",IF(Benchsheet!C145=1121043,\"VA1121043\",IF(Benchsheet!C145=1121900,\"VA1121900\",IF(Benchsheet!C145=1121845,\"VA1121845\",IF(Benchsheet!C145=1121655,\"VA1121655\",IF(Benchsheet!C145=1121900,\"VA1121900\",IF(Benchsheet!C145<1,\"\")))))))))))))))","v":""},{"$f":"IF(Benchsheet!A145>1,\"TC\",IF(Benchsheet!A145=FALSE,\"\"))","v":""},{"$f":"IF(J142=\"WL001\",\"MPN\",IF(Benchsheet!B145=FALSE,\"\",IF(J142=\"WL002\",\"MPN\",IF(J142=\"WL003\",\"MPN\",IF(J142=\"DS001\",\"TC\")))))","v":""},{"$f":"Benchsheet!E145","v":0},"",{"$f":"Benchsheet!B145","v":0},{"$f":"IF(J142=\"WL001\",\"RW001\",IF(Benchsheet!B145=FALSE,\"\",IF(J142=\"WL002\",\"RW002\",IF(J142=\"WL003\",\"RW003\",IF(J142=\"DS001\",\"TCR001\",IF(J142=\"DS001\",\"TCR01\"))))))","v":""},{"$f":"Benchsheet!D145","v":0},{"$f":"Benchsheet!G145","v":"00:00:00"},{"$f":"Benchsheet!H145","v":0},{"$f":"Benchsheet!I145","v":"00:00:00"},{"$f":"Benchsheet!F145","v":0},{"$f":"Benchsheet!P145","v":0},{"$f":"Benchsheet!O145","v":0}]
[{"$f":"IF(Benchsheet!A146>1,\"sample\",IF(Benchsheet!A146=FALSE,\"\"))","v":""},{"$f":"IF(Benchsheet!A146>1,\"STATE\",IF(Benchsheet!A146=FALSE,\"\"))","v":""},{"$f":"IF(Benchsheet!A146>1,\"00035\",IF(Benchsheet!A146=FALSE,\"\"))","v":""},{"$f":"Benchsheet!A146","v":0},{"$f":"IF(Benchsheet!C146=1121057,\"VA1121057\",IF(Benchsheet!C146=1121090,\"VA1121090\",IF(Benchsheet!C146=1121052,\"VA1121052\",IF(Benchsheet!C146=1121175,\"VA1121175\",IF(Benchsheet!C146=1121580,\"VA1121580\",IF(Benchsheet!C146=1121570,\"VA1121570\",IF(Benchsheet!C146=1121045,\"VA1121045\",IF(Benchsheet!C146=1121655,\"VA1121655\",IF(Benchsheet!C146=1121503,\"VA1121503\",IF(Benchsheet!C146=1121043,\"VA1121043\",IF(Benchsheet!C146=1121900,\"VA1121900\",IF(Benchsheet!C146=1121845,\"VA1121845\",IF(Benchsheet!C146=1121655,\"VA1121655\",IF(Benchsheet!C146=1121900,\"VA1121900\",IF(Benchsheet!C146<1,\"\")))))))))))))))","v":""},{"$f":"IF(Benchsheet!A146>1,\"TC\",IF(Benchsheet!A146=FALSE,\"\"))","v":""},{"$f":"IF(J143=\"WL001\",\"MPN\",IF(Benchsheet!B146=FALSE,\"\",IF(J143=\"WL002\",\"MPN\",IF(J143=\"WL003\",\"MPN\",IF(J143=\"DS001\",\"TC\")))))","v":""},{"$f":"Benchsheet!E146","v":0},"",{"$f":"Benchsheet!B146","v":0},{"$f":"IF(J143=\"WL001\",\"RW001\",IF(Benchsheet!B146=FALSE,\"\",IF(J143=\"WL002\",\"RW002\",IF(J143=\"WL003\",\"RW003\",IF(J143=\"DS001\",\"TCR001\",IF(J143=\"DS001\",\"TCR01\"))))))","v":""},{"$f":"Benchsheet!D146","v":0},{"$f":"Benchsheet!G146","v":"00:00:00"},{"$f":"Benchsheet!H146","v":0},{"$f":"Benchsheet!I146","v":"00:00:00"},{"$f":"Benchsheet!F146","v":0},{"$f":"Benchsheet!P146","v":0},{"$f":"Benchsheet!O146","v":0}]
[{"$f":"IF(Benchsheet!A147>1,\"sample\",IF(Benchsheet!A147=FALSE,\"\"))","v":""},{"$f":"IF(Benchsheet!A147>1,\"STATE\",IF(Benchsheet!A147=FALSE,\"\"))","v":""},{"$f":"IF(Benchsheet!A147>1,\"00035\",IF(Benchsheet!A147=FALSE,\"\"))","v":""},{"$f":"Benchsheet!A147","v":0},{"$f":"IF(Benchsheet!C147=1121057,\"VA1121057\",IF(Benchsheet!C147=1121090,\"VA1121090\",IF(Benchsheet!C147=1121052,\"VA1121052\",IF(Benchsheet!C147=1121175,\"VA1121175\",IF(Benchsheet!C147=1121580,\"VA1121580\",IF(Benchsheet!C147=1121570,\"VA1121570\",IF(Benchsheet!C147=1121045,\"VA1121045\",IF(Benchsheet!C147=1121655,\"VA1121655\",IF(Benchsheet!C147=1121503,\"VA1121503\",IF(Benchsheet!C147=1121043,\"VA1121043\",IF(Benchsheet!C147=1121900,\"VA1121900\",IF(Benchsheet!C147=1121845,\"VA1121845\",IF(Benchsheet!C147=1121655,\"VA1121655\",IF(Benchsheet!C147=1121900,\"VA1121900\",IF(Benchsheet!C147<1,\"\")))))))))))))))","v":""},{"$f":"IF(Benchsheet!A147>1,\"TC\",IF(Benchsheet!A147=FALSE,\"\"))","v":""},{"$f":"IF(J144=\"WL001\",\"MPN\",IF(Benchsheet!B147=FALSE,\"\",IF(J144=\"WL002\",\"MPN\",IF(J144=\"WL003\",\"MPN\",IF(J144=\"DS001\",\"TC\")))))","v":""},{"$f":"Benchsheet!E147","v":0},"",{"$f":"Benchsheet!B147","v":0},{"$f":"IF(J144=\"WL001\",\"RW001\",IF(Benchsheet!B147=FALSE,\"\",IF(J144=\"WL002\",\"RW002\",IF(J144=\"WL003\",\"RW003\",IF(J144=\"DS001\",\"TCR001\",IF(J144=\"DS001\",\"TCR01\"))))))","v":""},{"$f":"Benchsheet!D147","v":0},{"$f":"Benchsheet!G147","v":"00:00:00"},{"$f":"Benchsheet!H147","v":0},{"$f":"Benchsheet!I147","v":"00:00:00"},{"$f":"Benchsheet!F147","v":0},{"$f":"Benchsheet!P147","v":0},{"$f":"Benchsheet!O147","v":0}]
[{"$f":"IF(Benchsheet!A148>1,\"sample\",IF(Benchsheet!A148=FALSE,\"\"))","v":""},{"$f":"IF(Benchsheet!A148>1,\"STATE\",IF(Benchsheet!A148=FALSE,\"\"))","v":""},{"$f":"IF(Benchsheet!A148>1,\"00035\",IF(Benchsheet!A148=FALSE,\"\"))","v":""},{"$f":"Benchsheet!A148","v":0},{"$f":"IF(Benchsheet!C148=1121057,\"VA1121057\",IF(Benchsheet!C148=1121090,\"VA1121090\",IF(Benchsheet!C148=1121052,\"VA1121052\",IF(Benchsheet!C148=1121175,\"VA1121175\",IF(Benchsheet!C148=1121580,\"VA1121580\",IF(Benchsheet!C148=1121570,\"VA1121570\",IF(Benchsheet!C148=1121045,\"VA1121045\",IF(Benchsheet!C148=1121655,\"VA1121655\",IF(Benchsheet!C148=1121503,\"VA1121503\",IF(Benchsheet!C148=1121043,\"VA1121043\",IF(Benchsheet!C148=1121900,\"VA1121900\",IF(Benchsheet!C148=1121845,\"VA1121845\",IF(Benchsheet!C148=1121655,\"VA1121655\",IF(Benchsheet!C148=1121900,\"VA1121900\",IF(Benchsheet!C148<1,\"\")))))))))))))))","v":""},{"$f":"IF(Benchsheet!A148>1,\"TC\",IF(Benchsheet!A148=FALSE,\"\"))","v":""},{"$f":"IF(J145=\"WL001\",\"MPN\",IF(Benchsheet!B148=FALSE,\"\",IF(J145=\"WL002\",\"MPN\",IF(J145=\"WL003\",\"MPN\",IF(J145=\"DS001\",\"TC\")))))","v":""},{"$f":"Benchsheet!E148","v":0},"",{"$f":"Benchsheet!B148","v":0},{"$f":"IF(J145=\"WL001\",\"RW001\",IF(Benchsheet!B148=FALSE,\"\",IF(J145=\"WL002\",\"RW002\",IF(J145=\"WL003\",\"RW003\",IF(J145=\"DS001\",\"TCR001\",IF(J145=\"DS001\",\"TCR01\"))))))","v":""},{"$f":"Benchsheet!D148","v":0},{"$f":"Benchsheet!G148","v":"00:00:00"},{"$f":"Benchsheet!H148","v":0},{"$f":"Benchsheet!I148","v":"00:00:00"},{"$f":"Benchsheet!F148","v":0},{"$f":"Benchsheet!P148","v":0},{"$f":"Benchsheet!O148","v":0}]
[{"$f":"IF(Benchsheet!A149>1,\"sample\",IF(Benchsheet!A149=FALSE,\"\"))","v":""},{"$f":"IF(Benchsheet!A149>1,\"STATE\",IF(Benchsheet!A149=FALSE,\"\"))","v":""},{"$f":"IF(Benchsheet!A149>1,\"00035\",IF(Benchsheet!A149=FALSE,\"\"))","v":""},{"$f":"Benchsheet!A149","v":0},{"$f":"IF(Benchsheet!C149=1121057,\"VA1121057\",IF(Benchsheet!C149=1121090,\"VA1121090\",IF(Benchsheet!C149=1121052,\"VA1121052\",IF(Benchsheet!C149=1121175,\"VA1121175\",IF(Benchsheet!C149=1121580,\"VA1121580\",IF(Benchsheet!C149=1121570,\"VA1121570\",IF(Benchsheet!C149=1121045,\"VA1121045\",IF(Benchsheet!C149=1121655,\"VA1121655\",IF(Benchsheet!C149=1121503,\"VA1121503\",IF(Benchsheet!C149=1121043,\"VA1121043\",IF(Benchsheet!C149=1121900,\"VA1121900\",IF(Benchsheet!C149=1121845,\"VA1121845\",IF(Benchsheet!C149=1121655,\"VA1121655\",IF(Benchsheet!C149=1121900,\"VA1121900\",IF(Benchsheet!C149<1,\"\")))))))))))))))","v":""},{"$f":"IF(Benchsheet!A149>1,\"TC\",IF(Benchsheet!A149=FALSE,\"\"))","v":""},{"$f":"IF(J146=\"WL001\",\"MPN\",IF(Benchsheet!B149=FALSE,\"\",IF(J146=\"WL002\",\"MPN\",IF(J146=\"WL003\",\"MPN\",IF(J146=\"DS001\",\"TC\")))))","v":""},{"$f":"Benchsheet!E149","v":0},"",{"$f":"Benchsheet!B149","v":0},{"$f":"IF(J146=\"WL001\",\"RW001\",IF(Benchsheet!B149=FALSE,\"\",IF(J146=\"WL002\",\"RW002\",IF(J146=\"WL003\",\"RW003\",IF(J146=\"DS001\",\"TCR001\",IF(J146=\"DS001\",\"TCR01\"))))))","v":""},{"$f":"Benchsheet!D149","v":0},{"$f":"Benchsheet!G149","v":"00:00:00"},{"$f":"Benchsheet!H149","v":0},{"$f":"Benchsheet!I149","v":"00:00:00"},{"$f":"Benchsheet!F149","v":0},{"$f":"Benchsheet!P149","v":0},{"$f":"Benchsheet!O149","v":0}]
[{"$f":"IF(Benchsheet!A150>1,\"sample\",IF(Benchsheet!A150=FALSE,\"\"))","v":""},{"$f":"IF(Benchsheet!A150>1,\"STATE\",IF(Benchsheet!A150=FALSE,\"\"))","v":""},{"$f":"IF(Benchsheet!A150>1,\"00035\",IF(Benchsheet!A150=FALSE,\"\"))","v":""},{"$f":"Benchsheet!A150","v":0},{"$f":"IF(Benchsheet!C150=1121057,\"VA1121057\",IF(Benchsheet!C150=1121090,\"VA1121090\",IF(Benchsheet!C150=1121052,\"VA1121052\",IF(Benchsheet!C150=1121175,\"VA1121175\",IF(Benchsheet!C150=1121580,\"VA1121580\",IF(Benchsheet!C150=1121570,\"VA1121570\",IF(Benchsheet!C150=1121045,\"VA1121045\",IF(Benchsheet!C150=1121655,\"VA1121655\",IF(Benchsheet!C150=1121503,\"VA1121503\",IF(Benchsheet!C150=1121043,\"VA1121043\",IF(Benchsheet!C150=1121900,\"VA1121900\",IF(Benchsheet!C150=1121845,\"VA1121845\",IF(Benchsheet!C150=1121655,\"VA1121655\",IF(Benchsheet!C150=1121900,\"VA1121900\",IF(Benchsheet!C150<1,\"\")))))))))))))))","v":""},{"$f":"IF(Benchsheet!A150>1,\"TC\",IF(Benchsheet!A150=FALSE,\"\"))","v":""},{"$f":"IF(J147=\"WL001\",\"MPN\",IF(Benchsheet!B150=FALSE,\"\",IF(J147=\"WL002\",\"MPN\",IF(J147=\"WL003\",\"MPN\",IF(J147=\"DS001\",\"TC\")))))","v":""},{"$f":"Benchsheet!E150","v":0},"",{"$f":"Benchsheet!B150","v":0},{"$f":"IF(J147=\"WL001\",\"RW001\",IF(Benchsheet!B150=FALSE,\"\",IF(J147=\"WL002\",\"RW002\",IF(J147=\"WL003\",\"RW003\",IF(J147=\"DS001\",\"TCR001\",IF(J147=\"DS001\",\"TCR01\"))))))","v":""},{"$f":"Benchsheet!D150","v":0},{"$f":"Benchsheet!G150","v":"00:00:00"},{"$f":"Benchsheet!H150","v":0},{"$f":"Benchsheet!I150","v":"00:00:00"},{"$f":"Benchsheet!F150","v":0},{"$f":"Benchsheet!P150","v":0},{"$f":"Benchsheet!O150","v":0}]
[{"$f":"IF(Benchsheet!A151>1,\"sample\",IF(Benchsheet!A151=FALSE,\"\"))","v":""},{"$f":"IF(Benchsheet!A151>1,\"STATE\",IF(Benchsheet!A151=FALSE,\"\"))","v":""},{"$f":"IF(Benchsheet!A151>1,\"00035\",IF(Benchsheet!A151=FALSE,\"\"))","v":""},{"$f":"Benchsheet!A151","v":0},{"$f":"IF(Benchsheet!C151=1121057,\"VA1121057\",IF(Benchsheet!C151=1121090,\"VA1121090\",IF(Benchsheet!C151=1121052,\"VA1121052\",IF(Benchsheet!C151=1121175,\"VA1121175\",IF(Benchsheet!C151=1121580,\"VA1121580\",IF(Benchsheet!C151=1121570,\"VA1121570\",IF(Benchsheet!C151=1121045,\"VA1121045\",IF(Benchsheet!C151=1121655,\"VA1121655\",IF(Benchsheet!C151=1121503,\"VA1121503\",IF(Benchsheet!C151=1121043,\"VA1121043\",IF(Benchsheet!C151=1121900,\"VA1121900\",IF(Benchsheet!C151=1121845,\"VA1121845\",IF(Benchsheet!C151=1121655,\"VA1121655\",IF(Benchsheet!C151=1121900,\"VA1121900\",IF(Benchsheet!C151<1,\"\")))))))))))))))","v":""},{"$f":"IF(Benchsheet!A151>1,\"TC\",IF(Benchsheet!A151=FALSE,\"\"))","v":""},{"$f":"IF(J148=\"WL001\",\"MPN\",IF(Benchsheet!B151=FALSE,\"\",IF(J148=\"WL002\",\"MPN\",IF(J148=\"WL003\",\"MPN\",IF(J148=\"DS001\",\"TC\")))))","v":""},{"$f":"Benchsheet!E151","v":0},"",{"$f":"Benchsheet!B151","v":0},{"$f":"IF(J148=\"WL001\",\"RW001\",IF(Benchsheet!B151=FALSE,\"\",IF(J148=\"WL002\",\"RW002\",IF(J148=\"WL003\",\"RW003\",IF(J148=\"DS001\",\"TCR001\",IF(J148=\"DS001\",\"TCR01\"))))))","v":""},{"$f":"Benchsheet!D151","v":0},{"$f":"Benchsheet!G151","v":"00:00:00"},{"$f":"Benchsheet!H151","v":0},{"$f":"Benchsheet!I151","v":"00:00:00"},{"$f":"Benchsheet!F151","v":0},{"$f":"Benchsheet!P151","v":0},{"$f":"Benchsheet!O151","v":0}]
[{"$f":"IF(Benchsheet!A152>1,\"sample\",IF(Benchsheet!A152=FALSE,\"\"))","v":""},{"$f":"IF(Benchsheet!A152>1,\"STATE\",IF(Benchsheet!A152=FALSE,\"\"))","v":""},{"$f":"IF(Benchsheet!A152>1,\"00035\",IF(Benchsheet!A152=FALSE,\"\"))","v":""},{"$f":"Benchsheet!A152","v":0},{"$f":"IF(Benchsheet!C152=1121057,\"VA1121057\",IF(Benchsheet!C152=1121090,\"VA1121090\",IF(Benchsheet!C152=1121052,\"VA1121052\",IF(Benchsheet!C152=1121175,\"VA1121175\",IF(Benchsheet!C152=1121580,\"VA1121580\",IF(Benchsheet!C152=1121570,\"VA1121570\",IF(Benchsheet!C152=1121045,\"VA1121045\",IF(Benchsheet!C152=1121655,\"VA1121655\",IF(Benchsheet!C152=1121503,\"VA1121503\",IF(Benchsheet!C152=1121043,\"VA1121043\",IF(Benchsheet!C152=1121900,\"VA1121900\",IF(Benchsheet!C152=1121845,\"VA1121845\",IF(Benchsheet!C152=1121655,\"VA1121655\",IF(Benchsheet!C152=1121900,\"VA1121900\",IF(Benchsheet!C152<1,\"\")))))))))))))))","v":""},{"$f":"IF(Benchsheet!A152>1,\"TC\",IF(Benchsheet!A152=FALSE,\"\"))","v":""},{"$f":"IF(J149=\"WL001\",\"MPN\",IF(Benchsheet!B152=FALSE,\"\",IF(J149=\"WL002\",\"MPN\",IF(J149=\"WL003\",\"MPN\",IF(J149=\"DS001\",\"TC\")))))","v":""},{"$f":"Benchsheet!E152","v":0},"",{"$f":"Benchsheet!B152","v":0},{"$f":"IF(J149=\"WL001\",\"RW001\",IF(Benchsheet!B152=FALSE,\"\",IF(J149=\"WL002\",\"RW002\",IF(J149=\"WL003\",\"RW003\",IF(J149=\"DS001\",\"TCR001\",IF(J149=\"DS001\",\"TCR01\"))))))","v":""},{"$f":"Benchsheet!D152","v":0},{"$f":"Benchsheet!G152","v":"00:00:00"},{"$f":"Benchsheet!H152","v":0},{"$f":"Benchsheet!I152","v":"00:00:00"},{"$f":"Benchsheet!F152","v":0},{"$f":"Benchsheet!P152","v":0},{"$f":"Benchsheet!O152","v":0}]
[{"$f":"IF(Benchsheet!A153>1,\"sample\",IF(Benchsheet!A153=FALSE,\"\"))","v":""},{"$f":"IF(Benchsheet!A153>1,\"STATE\",IF(Benchsheet!A153=FALSE,\"\"))","v":""},{"$f":"IF(Benchsheet!A153>1,\"00035\",IF(Benchsheet!A153=FALSE,\"\"))","v":""},{"$f":"Benchsheet!A153","v":0},{"$f":"IF(Benchsheet!C153=1121057,\"VA1121057\",IF(Benchsheet!C153=1121090,\"VA1121090\",IF(Benchsheet!C153=1121052,\"VA1121052\",IF(Benchsheet!C153=1121175,\"VA1121175\",IF(Benchsheet!C153=1121580,\"VA1121580\",IF(Benchsheet!C153=1121570,\"VA1121570\",IF(Benchsheet!C153=1121045,\"VA1121045\",IF(Benchsheet!C153=1121655,\"VA1121655\",IF(Benchsheet!C153=1121503,\"VA1121503\",IF(Benchsheet!C153=1121043,\"VA1121043\",IF(Benchsheet!C153=1121900,\"VA1121900\",IF(Benchsheet!C153=1121845,\"VA1121845\",IF(Benchsheet!C153=1121655,\"VA1121655\",IF(Benchsheet!C153=1121900,\"VA1121900\",IF(Benchsheet!C153<1,\"\")))))))))))))))","v":""},{"$f":"IF(Benchsheet!A153>1,\"TC\",IF(Benchsheet!A153=FALSE,\"\"))","v":""},{"$f":"IF(J150=\"WL001\",\"MPN\",IF(Benchsheet!B153=FALSE,\"\",IF(J150=\"WL002\",\"MPN\",IF(J150=\"WL003\",\"MPN\",IF(J150=\"DS001\",\"TC\")))))","v":""},{"$f":"Benchsheet!E153","v":0},"",{"$f":"Benchsheet!B153","v":0},{"$f":"IF(J150=\"WL001\",\"RW001\",IF(Benchsheet!B153=FALSE,\"\",IF(J150=\"WL002\",\"RW002\",IF(J150=\"WL003\",\"RW003\",IF(J150=\"DS001\",\"TCR001\",IF(J150=\"DS001\",\"TCR01\"))))))","v":""},{"$f":"Benchsheet!D153","v":0},{"$f":"Benchsheet!G153","v":"00:00:00"},{"$f":"Benchsheet!H153","v":0},{"$f":"Benchsheet!I153","v":"00:00:00"},{"$f":"Benchsheet!F153","v":0},{"$f":"Benchsheet!P153","v":0},{"$f":"Benchsheet!O153","v":0}]
[{"$f":"IF(Benchsheet!A154>1,\"sample\",IF(Benchsheet!A154=FALSE,\"\"))","v":""},{"$f":"IF(Benchsheet!A154>1,\"STATE\",IF(Benchsheet!A154=FALSE,\"\"))","v":""},{"$f":"IF(Benchsheet!A154>1,\"00035\",IF(Benchsheet!A154=FALSE,\"\"))","v":""},{"$f":"Benchsheet!A154","v":0},{"$f":"IF(Benchsheet!C154=1121057,\"VA1121057\",IF(Benchsheet!C154=1121090,\"VA1121090\",IF(Benchsheet!C154=1121052,\"VA1121052\",IF(Benchsheet!C154=1121175,\"VA1121175\",IF(Benchsheet!C154=1121580,\"VA1121580\",IF(Benchsheet!C154=1121570,\"VA1121570\",IF(Benchsheet!C154=1121045,\"VA1121045\",IF(Benchsheet!C154=1121655,\"VA1121655\",IF(Benchsheet!C154=1121503,\"VA1121503\",IF(Benchsheet!C154=1121043,\"VA1121043\",IF(Benchsheet!C154=1121900,\"VA1121900\",IF(Benchsheet!C154=1121845,\"VA1121845\",IF(Benchsheet!C154=1121655,\"VA1121655\",IF(Benchsheet!C154=1121900,\"VA1121900\",IF(Benchsheet!C154<1,\"\")))))))))))))))","v":""},{"$f":"IF(Benchsheet!A154>1,\"TC\",IF(Benchsheet!A154=FALSE,\"\"))","v":""},{"$f":"IF(J151=\"WL001\",\"MPN\",IF(Benchsheet!B154=FALSE,\"\",IF(J151=\"WL002\",\"MPN\",IF(J151=\"WL003\",\"MPN\",IF(J151=\"DS001\",\"TC\")))))","v":""},{"$f":"Benchsheet!E154","v":0},"",{"$f":"Benchsheet!B154","v":0},{"$f":"IF(J151=\"WL001\",\"RW001\",IF(Benchsheet!B154=FALSE,\"\",IF(J151=\"WL002\",\"RW002\",IF(J151=\"WL003\",\"RW003\",IF(J151=\"DS001\",\"TCR001\",IF(J151=\"DS001\",\"TCR01\"))))))","v":""},{"$f":"Benchsheet!D154","v":0},{"$f":"Benchsheet!G154","v":"00:00:00"},{"$f":"Benchsheet!H154","v":0},{"$f":"Benchsheet!I154","v":"00:00:00"},{"$f":"Benchsheet!F154","v":0},{"$f":"Benchsheet!P154","v":0},{"$f":"Benchsheet!O154","v":0}]
[{"$f":"IF(Benchsheet!A155>1,\"sample\",IF(Benchsheet!A155=FALSE,\"\"))","v":""},{"$f":"IF(Benchsheet!A155>1,\"STATE\",IF(Benchsheet!A155=FALSE,\"\"))","v":""},{"$f":"IF(Benchsheet!A155>1,\"00035\",IF(Benchsheet!A155=FALSE,\"\"))","v":""},{"$f":"Benchsheet!A155","v":0},{"$f":"IF(Benchsheet!C155=1121057,\"VA1121057\",IF(Benchsheet!C155=1121090,\"VA1121090\",IF(Benchsheet!C155=1121052,\"VA1121052\",IF(Benchsheet!C155=1121175,\"VA1121175\",IF(Benchsheet!C155=1121580,\"VA1121580\",IF(Benchsheet!C155=1121570,\"VA1121570\",IF(Benchsheet!C155=1121045,\"VA1121045\",IF(Benchsheet!C155=1121655,\"VA1121655\",IF(Benchsheet!C155=1121503,\"VA1121503\",IF(Benchsheet!C155=1121043,\"VA1121043\",IF(Benchsheet!C155=1121900,\"VA1121900\",IF(Benchsheet!C155=1121845,\"VA1121845\",IF(Benchsheet!C155=1121655,\"VA1121655\",IF(Benchsheet!C155=1121900,\"VA1121900\",IF(Benchsheet!C155<1,\"\")))))))))))))))","v":""},{"$f":"IF(Benchsheet!A155>1,\"TC\",IF(Benchsheet!A155=FALSE,\"\"))","v":""},{"$f":"IF(J152=\"WL001\",\"MPN\",IF(Benchsheet!B155=FALSE,\"\",IF(J152=\"WL002\",\"MPN\",IF(J152=\"WL003\",\"MPN\",IF(J152=\"DS001\",\"TC\")))))","v":""},{"$f":"Benchsheet!E155","v":0},"",{"$f":"Benchsheet!B155","v":0},{"$f":"IF(J152=\"WL001\",\"RW001\",IF(Benchsheet!B155=FALSE,\"\",IF(J152=\"WL002\",\"RW002\",IF(J152=\"WL003\",\"RW003\",IF(J152=\"DS001\",\"TCR001\",IF(J152=\"DS001\",\"TCR01\"))))))","v":""},{"$f":"Benchsheet!D155","v":0},{"$f":"Benchsheet!G155","v":"00:00:00"},{"$f":"Benchsheet!H155","v":0},{"$f":"Benchsheet!I155","v":"00:00:00"},{"$f":"Benchsheet!F155","v":0},{"$f":"Benchsheet!P155","v":0},{"$f":"Benchsheet!O155","v":0}]
[{"$f":"IF(Benchsheet!A156>1,\"sample\",IF(Benchsheet!A156=FALSE,\"\"))","v":""},{"$f":"IF(Benchsheet!A156>1,\"STATE\",IF(Benchsheet!A156=FALSE,\"\"))","v":""},{"$f":"IF(Benchsheet!A156>1,\"00035\",IF(Benchsheet!A156=FALSE,\"\"))","v":""},{"$f":"Benchsheet!A156","v":0},{"$f":"IF(Benchsheet!C156=1121057,\"VA1121057\",IF(Benchsheet!C156=1121090,\"VA1121090\",IF(Benchsheet!C156=1121052,\"VA1121052\",IF(Benchsheet!C156=1121175,\"VA1121175\",IF(Benchsheet!C156=1121580,\"VA1121580\",IF(Benchsheet!C156=1121570,\"VA1121570\",IF(Benchsheet!C156=1121045,\"VA1121045\",IF(Benchsheet!C156=1121655,\"VA1121655\",IF(Benchsheet!C156=1121503,\"VA1121503\",IF(Benchsheet!C156=1121043,\"VA1121043\",IF(Benchsheet!C156=1121900,\"VA1121900\",IF(Benchsheet!C156=1121845,\"VA1121845\",IF(Benchsheet!C156=1121655,\"VA1121655\",IF(Benchsheet!C156=1121900,\"VA1121900\",IF(Benchsheet!C156<1,\"\")))))))))))))))","v":""},{"$f":"IF(Benchsheet!A156>1,\"TC\",IF(Benchsheet!A156=FALSE,\"\"))","v":""},{"$f":"IF(J153=\"WL001\",\"MPN\",IF(Benchsheet!B156=FALSE,\"\",IF(J153=\"WL002\",\"MPN\",IF(J153=\"WL003\",\"MPN\",IF(J153=\"DS001\",\"TC\")))))","v":""},{"$f":"Benchsheet!E156","v":0},"",{"$f":"Benchsheet!B156","v":0},{"$f":"IF(J153=\"WL001\",\"RW001\",IF(Benchsheet!B156=FALSE,\"\",IF(J153=\"WL002\",\"RW002\",IF(J153=\"WL003\",\"RW003\",IF(J153=\"DS001\",\"TCR001\",IF(J153=\"DS001\",\"TCR01\"))))))","v":""},{"$f":"Benchsheet!D156","v":0},{"$f":"Benchsheet!G156","v":"00:00:00"},{"$f":"Benchsheet!H156","v":0},{"$f":"Benchsheet!I156","v":"00:00:00"},{"$f":"Benchsheet!F156","v":0},{"$f":"Benchsheet!P156","v":0},{"$f":"Benchsheet!O156","v":0}]
[{"$f":"IF(Benchsheet!A157>1,\"sample\",IF(Benchsheet!A157=FALSE,\"\"))","v":""},{"$f":"IF(Benchsheet!A157>1,\"STATE\",IF(Benchsheet!A157=FALSE,\"\"))","v":""},{"$f":"IF(Benchsheet!A157>1,\"00035\",IF(Benchsheet!A157=FALSE,\"\"))","v":""},{"$f":"Benchsheet!A157","v":0},{"$f":"IF(Benchsheet!C157=1121057,\"VA1121057\",IF(Benchsheet!C157=1121090,\"VA1121090\",IF(Benchsheet!C157=1121052,\"VA1121052\",IF(Benchsheet!C157=1121175,\"VA1121175\",IF(Benchsheet!C157=1121580,\"VA1121580\",IF(Benchsheet!C157=1121570,\"VA1121570\",IF(Benchsheet!C157=1121045,\"VA1121045\",IF(Benchsheet!C157=1121655,\"VA1121655\",IF(Benchsheet!C157=1121503,\"VA1121503\",IF(Benchsheet!C157=1121043,\"VA1121043\",IF(Benchsheet!C157=1121900,\"VA1121900\",IF(Benchsheet!C157=1121845,\"VA1121845\",IF(Benchsheet!C157=1121655,\"VA1121655\",IF(Benchsheet!C157=1121900,\"VA1121900\",IF(Benchsheet!C157<1,\"\")))))))))))))))","v":""},{"$f":"IF(Benchsheet!A157>1,\"TC\",IF(Benchsheet!A157=FALSE,\"\"))","v":""},{"$f":"IF(J154=\"WL001\",\"MPN\",IF(Benchsheet!B157=FALSE,\"\",IF(J154=\"WL002\",\"MPN\",IF(J154=\"WL003\",\"MPN\",IF(J154=\"DS001\",\"TC\")))))","v":""},{"$f":"Benchsheet!E157","v":0},"",{"$f":"Benchsheet!B157","v":0},{"$f":"IF(J154=\"WL001\",\"RW001\",IF(Benchsheet!B157=FALSE,\"\",IF(J154=\"WL002\",\"RW002\",IF(J154=\"WL003\",\"RW003\",IF(J154=\"DS001\",\"TCR001\",IF(J154=\"DS001\",\"TCR01\"))))))","v":""},{"$f":"Benchsheet!D157","v":0},{"$f":"Benchsheet!G157","v":"00:00:00"},{"$f":"Benchsheet!H157","v":0},{"$f":"Benchsheet!I157","v":"00:00:00"},{"$f":"Benchsheet!F157","v":0},{"$f":"Benchsheet!P157","v":0},{"$f":"Benchsheet!O157","v":0}]
[{"$f":"IF(Benchsheet!A158>1,\"sample\",IF(Benchsheet!A158=FALSE,\"\"))","v":""},{"$f":"IF(Benchsheet!A158>1,\"STATE\",IF(Benchsheet!A158=FALSE,\"\"))","v":""},{"$f":"IF(Benchsheet!A158>1,\"00035\",IF(Benchsheet!A158=FALSE,\"\"))","v":""},{"$f":"Benchsheet!A158","v":0},{"$f":"IF(Benchsheet!C158=1121057,\"VA1121057\",IF(Benchsheet!C158=1121090,\"VA1121090\",IF(Benchsheet!C158=1121052,\"VA1121052\",IF(Benchsheet!C158=1121175,\"VA1121175\",IF(Benchsheet!C158=1121580,\"VA1121580\",IF(Benchsheet!C158=1121570,\"VA1121570\",IF(Benchsheet!C158=1121045,\"VA1121045\",IF(Benchsheet!C158=1121655,\"VA1121655\",IF(Benchsheet!C158=1121503,\"VA1121503\",IF(Benchsheet!C158=1121043,\"VA1121043\",IF(Benchsheet!C158=1121900,\"VA1121900\",IF(Benchsheet!C158=1121845,\"VA1121845\",IF(Benchsheet!C158=1121655,\"VA1121655\",IF(Benchsheet!C158=1121900,\"VA1121900\",IF(Benchsheet!C158<1,\"\")))))))))))))))","v":""},{"$f":"IF(Benchsheet!A158>1,\"TC\",IF(Benchsheet!A158=FALSE,\"\"))","v":""},{"$f":"IF(J155=\"WL001\",\"MPN\",IF(Benchsheet!B158=FALSE,\"\",IF(J155=\"WL002\",\"MPN\",IF(J155=\"WL003\",\"MPN\",IF(J155=\"DS001\",\"TC\")))))","v":""},{"$f":"Benchsheet!E158","v":0},"",{"$f":"Benchsheet!B158","v":0},{"$f":"IF(J155=\"WL001\",\"RW001\",IF(Benchsheet!B158=FALSE,\"\",IF(J155=\"WL002\",\"RW002\",IF(J155=\"WL003\",\"RW003\",IF(J155=\"DS001\",\"TCR001\",IF(J155=\"DS001\",\"TCR01\"))))))","v":""},{"$f":"Benchsheet!D158","v":0},{"$f":"Benchsheet!G158","v":"00:00:00"},{"$f":"Benchsheet!H158","v":0},{"$f":"Benchsheet!I158","v":"00:00:00"},{"$f":"Benchsheet!F158","v":0},{"$f":"Benchsheet!P158","v":0},{"$f":"Benchsheet!O158","v":0}]
[{"$f":"IF(Benchsheet!A159>1,\"sample\",IF(Benchsheet!A159=FALSE,\"\"))","v":""},{"$f":"IF(Benchsheet!A159>1,\"STATE\",IF(Benchsheet!A159=FALSE,\"\"))","v":""},{"$f":"IF(Benchsheet!A159>1,\"00035\",IF(Benchsheet!A159=FALSE,\"\"))","v":""},{"$f":"Benchsheet!A159","v":0},{"$f":"IF(Benchsheet!C159=1121057,\"VA1121057\",IF(Benchsheet!C159=1121090,\"VA1121090\",IF(Benchsheet!C159=1121052,\"VA1121052\",IF(Benchsheet!C159=1121175,\"VA1121175\",IF(Benchsheet!C159=1121580,\"VA1121580\",IF(Benchsheet!C159=1121570,\"VA1121570\",IF(Benchsheet!C159=1121045,\"VA1121045\",IF(Benchsheet!C159=1121655,\"VA1121655\",IF(Benchsheet!C159=1121503,\"VA1121503\",IF(Benchsheet!C159=1121043,\"VA1121043\",IF(Benchsheet!C159=1121900,\"VA1121900\",IF(Benchsheet!C159=1121845,\"VA1121845\",IF(Benchsheet!C159=1121655,\"VA1121655\",IF(Benchsheet!C159=1121900,\"VA1121900\",IF(Benchsheet!C159<1,\"\")))))))))))))))","v":""},{"$f":"IF(Benchsheet!A159>1,\"TC\",IF(Benchsheet!A159=FALSE,\"\"))","v":""},{"$f":"IF(J156=\"WL001\",\"MPN\",IF(Benchsheet!B159=FALSE,\"\",IF(J156=\"WL002\",\"MPN\",IF(J156=\"WL003\",\"MPN\",IF(J156=\"DS001\",\"TC\")))))","v":""},{"$f":"Benchsheet!E159","v":0},"",{"$f":"Benchsheet!B159","v":0},{"$f":"IF(J156=\"WL001\",\"RW001\",IF(Benchsheet!B159=FALSE,\"\",IF(J156=\"WL002\",\"RW002\",IF(J156=\"WL003\",\"RW003\",IF(J156=\"DS001\",\"TCR001\",IF(J156=\"DS001\",\"TCR01\"))))))","v":""},{"$f":"Benchsheet!D159","v":0},{"$f":"Benchsheet!G159","v":"00:00:00"},{"$f":"Benchsheet!H159","v":0},{"$f":"Benchsheet!I159","v":"00:00:00"},{"$f":"Benchsheet!F159","v":0},{"$f":"Benchsheet!P159","v":0},{"$f":"Benchsheet!O159","v":0}]
[{"$f":"IF(Benchsheet!A160>1,\"sample\",IF(Benchsheet!A160=FALSE,\"\"))","v":""},{"$f":"IF(Benchsheet!A160>1,\"STATE\",IF(Benchsheet!A160=FALSE,\"\"))","v":""},{"$f":"IF(Benchsheet!A160>1,\"00035\",IF(Benchsheet!A160=FALSE,\"\"))","v":""},{"$f":"Benchsheet!A160","v":0},{"$f":"IF(Benchsheet!C160=1121057,\"VA1121057\",IF(Benchsheet!C160=1121090,\"VA1121090\",IF(Benchsheet!C160=1121052,\"VA1121052\",IF(Benchsheet!C160=1121175,\"VA1121175\",IF(Benchsheet!C160=1121580,\"VA1121580\",IF(Benchsheet!C160=1121570,\"VA1121570\",IF(Benchsheet!C160=1121045,\"VA1121045\",IF(Benchsheet!C160=1121655,\"VA1121655\",IF(Benchsheet!C160=1121503,\"VA1121503\",IF(Benchsheet!C160=1121043,\"VA1121043\",IF(Benchsheet!C160=1121900,\"VA1121900\",IF(Benchsheet!C160=1121845,\"VA1121845\",IF(Benchsheet!C160=1121655,\"VA1121655\",IF(Benchsheet!C160=1121900,\"VA1121900\",IF(Benchsheet!C160<1,\"\")))))))))))))))","v":""},{"$f":"IF(Benchsheet!A160>1,\"TC\",IF(Benchsheet!A160=FALSE,\"\"))","v":""},{"$f":"IF(J157=\"WL001\",\"MPN\",IF(Benchsheet!B160=FALSE,\"\",IF(J157=\"WL002\",\"MPN\",IF(J157=\"WL003\",\"MPN\",IF(J157=\"DS001\",\"TC\")))))","v":""},{"$f":"Benchsheet!E160","v":0},"",{"$f":"Benchsheet!B160","v":0},{"$f":"IF(J157=\"WL001\",\"RW001\",IF(Benchsheet!B160=FALSE,\"\",IF(J157=\"WL002\",\"RW002\",IF(J157=\"WL003\",\"RW003\",IF(J157=\"DS001\",\"TCR001\",IF(J157=\"DS001\",\"TCR01\"))))))","v":""},{"$f":"Benchsheet!D160","v":0},{"$f":"Benchsheet!G160","v":"00:00:00"},{"$f":"Benchsheet!H160","v":0},{"$f":"Benchsheet!I160","v":"00:00:00"},{"$f":"Benchsheet!F160","v":0},{"$f":"Benchsheet!P160","v":0},{"$f":"Benchsheet!O160","v":0}]
[{"$f":"IF(Benchsheet!A161>1,\"sample\",IF(Benchsheet!A161=FALSE,\"\"))","v":""},{"$f":"IF(Benchsheet!A161>1,\"STATE\",IF(Benchsheet!A161=FALSE,\"\"))","v":""},{"$f":"IF(Benchsheet!A161>1,\"00035\",IF(Benchsheet!A161=FALSE,\"\"))","v":""},{"$f":"Benchsheet!A161","v":0},{"$f":"IF(Benchsheet!C161=1121057,\"VA1121057\",IF(Benchsheet!C161=1121090,\"VA1121090\",IF(Benchsheet!C161=1121052,\"VA1121052\",IF(Benchsheet!C161=1121175,\"VA1121175\",IF(Benchsheet!C161=1121580,\"VA1121580\",IF(Benchsheet!C161=1121570,\"VA1121570\",IF(Benchsheet!C161=1121045,\"VA1121045\",IF(Benchsheet!C161=1121655,\"VA1121655\",IF(Benchsheet!C161=1121503,\"VA1121503\",IF(Benchsheet!C161=1121043,\"VA1121043\",IF(Benchsheet!C161=1121900,\"VA1121900\",IF(Benchsheet!C161=1121845,\"VA1121845\",IF(Benchsheet!C161=1121655,\"VA1121655\",IF(Benchsheet!C161=1121900,\"VA1121900\",IF(Benchsheet!C161<1,\"\")))))))))))))))","v":""},{"$f":"IF(Benchsheet!A161>1,\"TC\",IF(Benchsheet!A161=FALSE,\"\"))","v":""},{"$f":"IF(J158=\"WL001\",\"MPN\",IF(Benchsheet!B161=FALSE,\"\",IF(J158=\"WL002\",\"MPN\",IF(J158=\"WL003\",\"MPN\",IF(J158=\"DS001\",\"TC\")))))","v":""},{"$f":"Benchsheet!E161","v":0},"",{"$f":"Benchsheet!B161","v":0},{"$f":"IF(J158=\"WL001\",\"RW001\",IF(Benchsheet!B161=FALSE,\"\",IF(J158=\"WL002\",\"RW002\",IF(J158=\"WL003\",\"RW003\",IF(J158=\"DS001\",\"TCR001\",IF(J158=\"DS001\",\"TCR01\"))))))","v":""},{"$f":"Benchsheet!D161","v":0},{"$f":"Benchsheet!G161","v":"00:00:00"},{"$f":"Benchsheet!H161","v":0},{"$f":"Benchsheet!I161","v":"00:00:00"},{"$f":"Benchsheet!F161","v":0},{"$f":"Benchsheet!P161","v":0},{"$f":"Benchsheet!O161","v":0}]
[{"$f":"IF(Benchsheet!A162>1,\"sample\",IF(Benchsheet!A162=FALSE,\"\"))","v":""},{"$f":"IF(Benchsheet!A162>1,\"STATE\",IF(Benchsheet!A162=FALSE,\"\"))","v":""},{"$f":"IF(Benchsheet!A162>1,\"00035\",IF(Benchsheet!A162=FALSE,\"\"))","v":""},{"$f":"Benchsheet!A162","v":0},{"$f":"IF(Benchsheet!C162=1121057,\"VA1121057\",IF(Benchsheet!C162=1121090,\"VA1121090\",IF(Benchsheet!C162=1121052,\"VA1121052\",IF(Benchsheet!C162=1121175,\"VA1121175\",IF(Benchsheet!C162=1121580,\"VA1121580\",IF(Benchsheet!C162=1121570,\"VA1121570\",IF(Benchsheet!C162=1121045,\"VA1121045\",IF(Benchsheet!C162=1121655,\"VA1121655\",IF(Benchsheet!C162=1121503,\"VA1121503\",IF(Benchsheet!C162=1121043,\"VA1121043\",IF(Benchsheet!C162=1121900,\"VA1121900\",IF(Benchsheet!C162=1121845,\"VA1121845\",IF(Benchsheet!C162=1121655,\"VA1121655\",IF(Benchsheet!C162=1121900,\"VA1121900\",IF(Benchsheet!C162<1,\"\")))))))))))))))","v":""},{"$f":"IF(Benchsheet!A162>1,\"TC\",IF(Benchsheet!A162=FALSE,\"\"))","v":""},{"$f":"IF(J159=\"WL001\",\"MPN\",IF(Benchsheet!B162=FALSE,\"\",IF(J159=\"WL002\",\"MPN\",IF(J159=\"WL003\",\"MPN\",IF(J159=\"DS001\",\"TC\")))))","v":""},{"$f":"Benchsheet!E162","v":0},"",{"$f":"Benchsheet!B162","v":0},{"$f":"IF(J159=\"WL001\",\"RW001\",IF(Benchsheet!B162=FALSE,\"\",IF(J159=\"WL002\",\"RW002\",IF(J159=\"WL003\",\"RW003\",IF(J159=\"DS001\",\"TCR001\",IF(J159=\"DS001\",\"TCR01\"))))))","v":""},{"$f":"Benchsheet!D162","v":0},{"$f":"Benchsheet!G162","v":"00:00:00"},{"$f":"Benchsheet!H162","v":0},{"$f":"Benchsheet!I162","v":"00:00:00"},{"$f":"Benchsheet!F162","v":0},{"$f":"Benchsheet!P162","v":0},{"$f":"Benchsheet!O162","v":0}]
[{"$f":"IF(Benchsheet!A163>1,\"sample\",IF(Benchsheet!A163=FALSE,\"\"))","v":""},{"$f":"IF(Benchsheet!A163>1,\"STATE\",IF(Benchsheet!A163=FALSE,\"\"))","v":""},{"$f":"IF(Benchsheet!A163>1,\"00035\",IF(Benchsheet!A163=FALSE,\"\"))","v":""},{"$f":"Benchsheet!A163","v":0},{"$f":"IF(Benchsheet!C163=1121057,\"VA1121057\",IF(Benchsheet!C163=1121090,\"VA1121090\",IF(Benchsheet!C163=1121052,\"VA1121052\",IF(Benchsheet!C163=1121175,\"VA1121175\",IF(Benchsheet!C163=1121580,\"VA1121580\",IF(Benchsheet!C163=1121570,\"VA1121570\",IF(Benchsheet!C163=1121045,\"VA1121045\",IF(Benchsheet!C163=1121655,\"VA1121655\",IF(Benchsheet!C163=1121503,\"VA1121503\",IF(Benchsheet!C163=1121043,\"VA1121043\",IF(Benchsheet!C163=1121900,\"VA1121900\",IF(Benchsheet!C163=1121845,\"VA1121845\",IF(Benchsheet!C163=1121655,\"VA1121655\",IF(Benchsheet!C163=1121900,\"VA1121900\",IF(Benchsheet!C163<1,\"\")))))))))))))))","v":""},{"$f":"IF(Benchsheet!A163>1,\"TC\",IF(Benchsheet!A163=FALSE,\"\"))","v":""},{"$f":"IF(J160=\"WL001\",\"MPN\",IF(Benchsheet!B163=FALSE,\"\",IF(J160=\"WL002\",\"MPN\",IF(J160=\"WL003\",\"MPN\",IF(J160=\"DS001\",\"TC\")))))","v":""},{"$f":"Benchsheet!E163","v":0},"",{"$f":"Benchsheet!B163","v":0},{"$f":"IF(J160=\"WL001\",\"RW001\",IF(Benchsheet!B163=FALSE,\"\",IF(J160=\"WL002\",\"RW002\",IF(J160=\"WL003\",\"RW003\",IF(J160=\"DS001\",\"TCR001\",IF(J160=\"DS001\",\"TCR01\"))))))","v":""},{"$f":"Benchsheet!D163","v":0},{"$f":"Benchsheet!G163","v":"00:00:00"},{"$f":"Benchsheet!H163","v":0},{"$f":"Benchsheet!I163","v":"00:00:00"},{"$f":"Benchsheet!F163","v":0},{"$f":"Benchsheet!P163","v":0},{"$f":"Benchsheet!O163","v":0}]
[{"$f":"IF(Benchsheet!A164>1,\"sample\",IF(Benchsheet!A164=FALSE,\"\"))","v":""},{"$f":"IF(Benchsheet!A164>1,\"STATE\",IF(Benchsheet!A164=FALSE,\"\"))","v":""},{"$f":"IF(Benchsheet!A164>1,\"00035\",IF(Benchsheet!A164=FALSE,\"\"))","v":""},{"$f":"Benchsheet!A164","v":0},{"$f":"IF(Benchsheet!C164=1121057,\"VA1121057\",IF(Benchsheet!C164=1121090,\"VA1121090\",IF(Benchsheet!C164=1121052,\"VA1121052\",IF(Benchsheet!C164=1121175,\"VA1121175\",IF(Benchsheet!C164=1121580,\"VA1121580\",IF(Benchsheet!C164=1121570,\"VA1121570\",IF(Benchsheet!C164=1121045,\"VA1121045\",IF(Benchsheet!C164=1121655,\"VA1121655\",IF(Benchsheet!C164=1121503,\"VA1121503\",IF(Benchsheet!C164=1121043,\"VA1121043\",IF(Benchsheet!C164=1121900,\"VA1121900\",IF(Benchsheet!C164=1121845,\"VA1121845\",IF(Benchsheet!C164=1121655,\"VA1121655\",IF(Benchsheet!C164=1121900,\"VA1121900\",IF(Benchsheet!C164<1,\"\")))))))))))))))","v":""},{"$f":"IF(Benchsheet!A164>1,\"TC\",IF(Benchsheet!A164=FALSE,\"\"))","v":""},{"$f":"IF(J161=\"WL001\",\"MPN\",IF(Benchsheet!B164=FALSE,\"\",IF(J161=\"WL002\",\"MPN\",IF(J161=\"WL003\",\"MPN\",IF(J161=\"DS001\",\"TC\")))))","v":""},{"$f":"Benchsheet!E164","v":0},"",{"$f":"Benchsheet!B164","v":0},{"$f":"IF(J161=\"WL001\",\"RW001\",IF(Benchsheet!B164=FALSE,\"\",IF(J161=\"WL002\",\"RW002\",IF(J161=\"WL003\",\"RW003\",IF(J161=\"DS001\",\"TCR001\",IF(J161=\"DS001\",\"TCR01\"))))))","v":""},{"$f":"Benchsheet!D164","v":0},{"$f":"Benchsheet!G164","v":"00:00:00"},{"$f":"Benchsheet!H164","v":0},{"$f":"Benchsheet!I164","v":"00:00:00"},{"$f":"Benchsheet!F164","v":0},{"$f":"Benchsheet!P164","v":0},{"$f":"Benchsheet!O164","v":0}]
[{"$f":"IF(Benchsheet!A165>1,\"sample\",IF(Benchsheet!A165=FALSE,\"\"))","v":""},{"$f":"IF(Benchsheet!A165>1,\"STATE\",IF(Benchsheet!A165=FALSE,\"\"))","v":""},{"$f":"IF(Benchsheet!A165>1,\"00035\",IF(Benchsheet!A165=FALSE,\"\"))","v":""},{"$f":"Benchsheet!A165","v":0},{"$f":"IF(Benchsheet!C165=1121057,\"VA1121057\",IF(Benchsheet!C165=1121090,\"VA1121090\",IF(Benchsheet!C165=1121052,\"VA1121052\",IF(Benchsheet!C165=1121175,\"VA1121175\",IF(Benchsheet!C165=1121580,\"VA1121580\",IF(Benchsheet!C165=1121570,\"VA1121570\",IF(Benchsheet!C165=1121045,\"VA1121045\",IF(Benchsheet!C165=1121655,\"VA1121655\",IF(Benchsheet!C165=1121503,\"VA1121503\",IF(Benchsheet!C165=1121043,\"VA1121043\",IF(Benchsheet!C165=1121900,\"VA1121900\",IF(Benchsheet!C165=1121845,\"VA1121845\",IF(Benchsheet!C165=1121655,\"VA1121655\",IF(Benchsheet!C165=1121900,\"VA1121900\",IF(Benchsheet!C165<1,\"\")))))))))))))))","v":""},{"$f":"IF(Benchsheet!A165>1,\"TC\",IF(Benchsheet!A165=FALSE,\"\"))","v":""},{"$f":"IF(J162=\"WL001\",\"MPN\",IF(Benchsheet!B165=FALSE,\"\",IF(J162=\"WL002\",\"MPN\",IF(J162=\"WL003\",\"MPN\",IF(J162=\"DS001\",\"TC\")))))","v":""},{"$f":"Benchsheet!E165","v":0},"",{"$f":"Benchsheet!B165","v":0},{"$f":"IF(J162=\"WL001\",\"RW001\",IF(Benchsheet!B165=FALSE,\"\",IF(J162=\"WL002\",\"RW002\",IF(J162=\"WL003\",\"RW003\",IF(J162=\"DS001\",\"TCR001\",IF(J162=\"DS001\",\"TCR01\"))))))","v":""},{"$f":"Benchsheet!D165","v":0},{"$f":"Benchsheet!G165","v":"00:00:00"},{"$f":"Benchsheet!H165","v":0},{"$f":"Benchsheet!I165","v":"00:00:00"},{"$f":"Benchsheet!F165","v":0},{"$f":"Benchsheet!P165","v":0},{"$f":"Benchsheet!O165","v":0}]
[{"$f":"IF(Benchsheet!A166>1,\"sample\",IF(Benchsheet!A166=FALSE,\"\"))","v":""},{"$f":"IF(Benchsheet!A166>1,\"STATE\",IF(Benchsheet!A166=FALSE,\"\"))","v":""},{"$f":"IF(Benchsheet!A166>1,\"00035\",IF(Benchsheet!A166=FALSE,\"\"))","v":""},{"$f":"Benchsheet!A166","v":0},{"$f":"IF(Benchsheet!C166=1121057,\"VA1121057\",IF(Benchsheet!C166=1121090,\"VA1121090\",IF(Benchsheet!C166=1121052,\"VA1121052\",IF(Benchsheet!C166=1121175,\"VA1121175\",IF(Benchsheet!C166=1121580,\"VA1121580\",IF(Benchsheet!C166=1121570,\"VA1121570\",IF(Benchsheet!C166=1121045,\"VA1121045\",IF(Benchsheet!C166=1121655,\"VA1121655\",IF(Benchsheet!C166=1121503,\"VA1121503\",IF(Benchsheet!C166=1121043,\"VA1121043\",IF(Benchsheet!C166=1121900,\"VA1121900\",IF(Benchsheet!C166=1121845,\"VA1121845\",IF(Benchsheet!C166=1121655,\"VA1121655\",IF(Benchsheet!C166=1121900,\"VA1121900\",IF(Benchsheet!C166<1,\"\")))))))))))))))","v":""},{"$f":"IF(Benchsheet!A166>1,\"TC\",IF(Benchsheet!A166=FALSE,\"\"))","v":""},{"$f":"IF(J163=\"WL001\",\"MPN\",IF(Benchsheet!B166=FALSE,\"\",IF(J163=\"WL002\",\"MPN\",IF(J163=\"WL003\",\"MPN\",IF(J163=\"DS001\",\"TC\")))))","v":""},{"$f":"Benchsheet!E166","v":0},"",{"$f":"Benchsheet!B166","v":0},{"$f":"IF(J163=\"WL001\",\"RW001\",IF(Benchsheet!B166=FALSE,\"\",IF(J163=\"WL002\",\"RW002\",IF(J163=\"WL003\",\"RW003\",IF(J163=\"DS001\",\"TCR001\",IF(J163=\"DS001\",\"TCR01\"))))))","v":""},{"$f":"Benchsheet!D166","v":0},{"$f":"Benchsheet!G166","v":"00:00:00"},{"$f":"Benchsheet!H166","v":0},{"$f":"Benchsheet!I166","v":"00:00:00"},{"$f":"Benchsheet!F166","v":0},{"$f":"Benchsheet!P166","v":0},{"$f":"Benchsheet!O166","v":0}]
[{"$f":"IF(Benchsheet!A167>1,\"sample\",IF(Benchsheet!A167=FALSE,\"\"))","v":""},{"$f":"IF(Benchsheet!A167>1,\"STATE\",IF(Benchsheet!A167=FALSE,\"\"))","v":""},{"$f":"IF(Benchsheet!A167>1,\"00035\",IF(Benchsheet!A167=FALSE,\"\"))","v":""},{"$f":"Benchsheet!A167","v":0},{"$f":"IF(Benchsheet!C167=1121057,\"VA1121057\",IF(Benchsheet!C167=1121090,\"VA1121090\",IF(Benchsheet!C167=1121052,\"VA1121052\",IF(Benchsheet!C167=1121175,\"VA1121175\",IF(Benchsheet!C167=1121580,\"VA1121580\",IF(Benchsheet!C167=1121570,\"VA1121570\",IF(Benchsheet!C167=1121045,\"VA1121045\",IF(Benchsheet!C167=1121655,\"VA1121655\",IF(Benchsheet!C167=1121503,\"VA1121503\",IF(Benchsheet!C167=1121043,\"VA1121043\",IF(Benchsheet!C167=1121900,\"VA1121900\",IF(Benchsheet!C167=1121845,\"VA1121845\",IF(Benchsheet!C167=1121655,\"VA1121655\",IF(Benchsheet!C167=1121900,\"VA1121900\",IF(Benchsheet!C167<1,\"\")))))))))))))))","v":""},{"$f":"IF(Benchsheet!A167>1,\"TC\",IF(Benchsheet!A167=FALSE,\"\"))","v":""},{"$f":"IF(J164=\"WL001\",\"MPN\",IF(Benchsheet!B167=FALSE,\"\",IF(J164=\"WL002\",\"MPN\",IF(J164=\"WL003\",\"MPN\",IF(J164=\"DS001\",\"TC\")))))","v":""},{"$f":"Benchsheet!E167","v":0},"",{"$f":"Benchsheet!B167","v":0},{"$f":"IF(J164=\"WL001\",\"RW001\",IF(Benchsheet!B167=FALSE,\"\",IF(J164=\"WL002\",\"RW002\",IF(J164=\"WL003\",\"RW003\",IF(J164=\"DS001\",\"TCR001\",IF(J164=\"DS001\",\"TCR01\"))))))","v":""},{"$f":"Benchsheet!D167","v":0},{"$f":"Benchsheet!G167","v":"00:00:00"},{"$f":"Benchsheet!H167","v":0},{"$f":"Benchsheet!I167","v":"00:00:00"},{"$f":"Benchsheet!F167","v":0},{"$f":"Benchsheet!P167","v":0},{"$f":"Benchsheet!O167","v":0}]
[{"$f":"IF(Benchsheet!A168>1,\"sample\",IF(Benchsheet!A168=FALSE,\"\"))","v":""},{"$f":"IF(Benchsheet!A168>1,\"STATE\",IF(Benchsheet!A168=FALSE,\"\"))","v":""},{"$f":"IF(Benchsheet!A168>1,\"00035\",IF(Benchsheet!A168=FALSE,\"\"))","v":""},{"$f":"Benchsheet!A168","v":0},{"$f":"IF(Benchsheet!C168=1121057,\"VA1121057\",IF(Benchsheet!C168=1121090,\"VA1121090\",IF(Benchsheet!C168=1121052,\"VA1121052\",IF(Benchsheet!C168=1121175,\"VA1121175\",IF(Benchsheet!C168=1121580,\"VA1121580\",IF(Benchsheet!C168=1121570,\"VA1121570\",IF(Benchsheet!C168=1121045,\"VA1121045\",IF(Benchsheet!C168=1121655,\"VA1121655\",IF(Benchsheet!C168=1121503,\"VA1121503\",IF(Benchsheet!C168=1121043,\"VA1121043\",IF(Benchsheet!C168=1121900,\"VA1121900\",IF(Benchsheet!C168=1121845,\"VA1121845\",IF(Benchsheet!C168=1121655,\"VA1121655\",IF(Benchsheet!C168=1121900,\"VA1121900\",IF(Benchsheet!C168<1,\"\")))))))))))))))","v":""},{"$f":"IF(Benchsheet!A168>1,\"TC\",IF(Benchsheet!A168=FALSE,\"\"))","v":""},{"$f":"IF(J165=\"WL001\",\"MPN\",IF(Benchsheet!B168=FALSE,\"\",IF(J165=\"WL002\",\"MPN\",IF(J165=\"WL003\",\"MPN\",IF(J165=\"DS001\",\"TC\")))))","v":""},{"$f":"Benchsheet!E168","v":0},"",{"$f":"Benchsheet!B168","v":0},{"$f":"IF(J165=\"WL001\",\"RW001\",IF(Benchsheet!B168=FALSE,\"\",IF(J165=\"WL002\",\"RW002\",IF(J165=\"WL003\",\"RW003\",IF(J165=\"DS001\",\"TCR001\",IF(J165=\"DS001\",\"TCR01\"))))))","v":""},{"$f":"Benchsheet!D168","v":0},{"$f":"Benchsheet!G168","v":"00:00:00"},{"$f":"Benchsheet!H168","v":0},{"$f":"Benchsheet!I168","v":"00:00:00"},{"$f":"Benchsheet!F168","v":0},{"$f":"Benchsheet!P168","v":0},{"$f":"Benchsheet!O168","v":0}]
[{"$f":"IF(Benchsheet!A169>1,\"sample\",IF(Benchsheet!A169=FALSE,\"\"))","v":""},{"$f":"IF(Benchsheet!A169>1,\"STATE\",IF(Benchsheet!A169=FALSE,\"\"))","v":""},{"$f":"IF(Benchsheet!A169>1,\"00035\",IF(Benchsheet!A169=FALSE,\"\"))","v":""},{"$f":"Benchsheet!A169","v":0},{"$f":"IF(Benchsheet!C169=1121057,\"VA1121057\",IF(Benchsheet!C169=1121090,\"VA1121090\",IF(Benchsheet!C169=1121052,\"VA1121052\",IF(Benchsheet!C169=1121175,\"VA1121175\",IF(Benchsheet!C169=1121580,\"VA1121580\",IF(Benchsheet!C169=1121570,\"VA1121570\",IF(Benchsheet!C169=1121045,\"VA1121045\",IF(Benchsheet!C169=1121655,\"VA1121655\",IF(Benchsheet!C169=1121503,\"VA1121503\",IF(Benchsheet!C169=1121043,\"VA1121043\",IF(Benchsheet!C169=1121900,\"VA1121900\",IF(Benchsheet!C169=1121845,\"VA1121845\",IF(Benchsheet!C169=1121655,\"VA1121655\",IF(Benchsheet!C169=1121900,\"VA1121900\",IF(Benchsheet!C169<1,\"\")))))))))))))))","v":""},{"$f":"IF(Benchsheet!A169>1,\"TC\",IF(Benchsheet!A169=FALSE,\"\"))","v":""},{"$f":"IF(J166=\"WL001\",\"MPN\",IF(Benchsheet!B169=FALSE,\"\",IF(J166=\"WL002\",\"MPN\",IF(J166=\"WL003\",\"MPN\",IF(J166=\"DS001\",\"TC\")))))","v":""},{"$f":"Benchsheet!E169","v":0},"",{"$f":"Benchsheet!B169","v":0},{"$f":"IF(J166=\"WL001\",\"RW001\",IF(Benchsheet!B169=FALSE,\"\",IF(J166=\"WL002\",\"RW002\",IF(J166=\"WL003\",\"RW003\",IF(J166=\"DS001\",\"TCR001\",IF(J166=\"DS001\",\"TCR01\"))))))","v":""},{"$f":"Benchsheet!D169","v":0},{"$f":"Benchsheet!G169","v":"00:00:00"},{"$f":"Benchsheet!H169","v":0},{"$f":"Benchsheet!I169","v":"00:00:00"},{"$f":"Benchsheet!F169","v":0},{"$f":"Benchsheet!P169","v":0},{"$f":"Benchsheet!O169","v":0}]
[{"$f":"IF(Benchsheet!A170>1,\"sample\",IF(Benchsheet!A170=FALSE,\"\"))","v":""},{"$f":"IF(Benchsheet!A170>1,\"STATE\",IF(Benchsheet!A170=FALSE,\"\"))","v":""},{"$f":"IF(Benchsheet!A170>1,\"00035\",IF(Benchsheet!A170=FALSE,\"\"))","v":""},{"$f":"Benchsheet!A170","v":0},{"$f":"IF(Benchsheet!C170=1121057,\"VA1121057\",IF(Benchsheet!C170=1121090,\"VA1121090\",IF(Benchsheet!C170=1121052,\"VA1121052\",IF(Benchsheet!C170=1121175,\"VA1121175\",IF(Benchsheet!C170=1121580,\"VA1121580\",IF(Benchsheet!C170=1121570,\"VA1121570\",IF(Benchsheet!C170=1121045,\"VA1121045\",IF(Benchsheet!C170=1121655,\"VA1121655\",IF(Benchsheet!C170=1121503,\"VA1121503\",IF(Benchsheet!C170=1121043,\"VA1121043\",IF(Benchsheet!C170=1121900,\"VA1121900\",IF(Benchsheet!C170=1121845,\"VA1121845\",IF(Benchsheet!C170=1121655,\"VA1121655\",IF(Benchsheet!C170=1121900,\"VA1121900\",IF(Benchsheet!C170<1,\"\")))))))))))))))","v":""},{"$f":"IF(Benchsheet!A170>1,\"TC\",IF(Benchsheet!A170=FALSE,\"\"))","v":""},{"$f":"IF(J167=\"WL001\",\"MPN\",IF(Benchsheet!B170=FALSE,\"\",IF(J167=\"WL002\",\"MPN\",IF(J167=\"WL003\",\"MPN\",IF(J167=\"DS001\",\"TC\")))))","v":""},{"$f":"Benchsheet!E170","v":0},"",{"$f":"Benchsheet!B170","v":0},{"$f":"IF(J167=\"WL001\",\"RW001\",IF(Benchsheet!B170=FALSE,\"\",IF(J167=\"WL002\",\"RW002\",IF(J167=\"WL003\",\"RW003\",IF(J167=\"DS001\",\"TCR001\",IF(J167=\"DS001\",\"TCR01\"))))))","v":""},{"$f":"Benchsheet!D170","v":0},{"$f":"Benchsheet!G170","v":"00:00:00"},{"$f":"Benchsheet!H170","v":0},{"$f":"Benchsheet!I170","v":"00:00:00"},{"$f":"Benchsheet!F170","v":0},{"$f":"Benchsheet!P170","v":0},{"$f":"Benchsheet!O170","v":0}]
[{"$f":"IF(Benchsheet!A171>1,\"sample\",IF(Benchsheet!A171=FALSE,\"\"))","v":""},{"$f":"IF(Benchsheet!A171>1,\"STATE\",IF(Benchsheet!A171=FALSE,\"\"))","v":""},{"$f":"IF(Benchsheet!A171>1,\"00035\",IF(Benchsheet!A171=FALSE,\"\"))","v":""},{"$f":"Benchsheet!A171","v":0},{"$f":"IF(Benchsheet!C171=1121057,\"VA1121057\",IF(Benchsheet!C171=1121090,\"VA1121090\",IF(Benchsheet!C171=1121052,\"VA1121052\",IF(Benchsheet!C171=1121175,\"VA1121175\",IF(Benchsheet!C171=1121580,\"VA1121580\",IF(Benchsheet!C171=1121570,\"VA1121570\",IF(Benchsheet!C171=1121045,\"VA1121045\",IF(Benchsheet!C171=1121655,\"VA1121655\",IF(Benchsheet!C171=1121503,\"VA1121503\",IF(Benchsheet!C171=1121043,\"VA1121043\",IF(Benchsheet!C171=1121900,\"VA1121900\",IF(Benchsheet!C171=1121845,\"VA1121845\",IF(Benchsheet!C171=1121655,\"VA1121655\",IF(Benchsheet!C171=1121900,\"VA1121900\",IF(Benchsheet!C171<1,\"\")))))))))))))))","v":""},{"$f":"IF(Benchsheet!A171>1,\"TC\",IF(Benchsheet!A171=FALSE,\"\"))","v":""},{"$f":"IF(J168=\"WL001\",\"MPN\",IF(Benchsheet!B171=FALSE,\"\",IF(J168=\"WL002\",\"MPN\",IF(J168=\"WL003\",\"MPN\",IF(J168=\"DS001\",\"TC\")))))","v":""},{"$f":"Benchsheet!E171","v":0},"",{"$f":"Benchsheet!B171","v":0},{"$f":"IF(J168=\"WL001\",\"RW001\",IF(Benchsheet!B171=FALSE,\"\",IF(J168=\"WL002\",\"RW002\",IF(J168=\"WL003\",\"RW003\",IF(J168=\"DS001\",\"TCR001\",IF(J168=\"DS001\",\"TCR01\"))))))","v":""},{"$f":"Benchsheet!D171","v":0},{"$f":"Benchsheet!G171","v":"00:00:00"},{"$f":"Benchsheet!H171","v":0},{"$f":"Benchsheet!I171","v":"00:00:00"},{"$f":"Benchsheet!F171","v":0},{"$f":"Benchsheet!P171","v":0},{"$f":"Benchsheet!O171","v":0}]
[{"$f":"IF(Benchsheet!A172>1,\"sample\",IF(Benchsheet!A172=FALSE,\"\"))","v":""},{"$f":"IF(Benchsheet!A172>1,\"STATE\",IF(Benchsheet!A172=FALSE,\"\"))","v":""},{"$f":"IF(Benchsheet!A172>1,\"00035\",IF(Benchsheet!A172=FALSE,\"\"))","v":""},{"$f":"Benchsheet!A172","v":0},{"$f":"IF(Benchsheet!C172=1121057,\"VA1121057\",IF(Benchsheet!C172=1121090,\"VA1121090\",IF(Benchsheet!C172=1121052,\"VA1121052\",IF(Benchsheet!C172=1121175,\"VA1121175\",IF(Benchsheet!C172=1121580,\"VA1121580\",IF(Benchsheet!C172=1121570,\"VA1121570\",IF(Benchsheet!C172=1121045,\"VA1121045\",IF(Benchsheet!C172=1121655,\"VA1121655\",IF(Benchsheet!C172=1121503,\"VA1121503\",IF(Benchsheet!C172=1121043,\"VA1121043\",IF(Benchsheet!C172=1121900,\"VA1121900\",IF(Benchsheet!C172=1121845,\"VA1121845\",IF(Benchsheet!C172=1121655,\"VA1121655\",IF(Benchsheet!C172=1121900,\"VA1121900\",IF(Benchsheet!C172<1,\"\")))))))))))))))","v":""},{"$f":"IF(Benchsheet!A172>1,\"TC\",IF(Benchsheet!A172=FALSE,\"\"))","v":""},{"$f":"IF(J169=\"WL001\",\"MPN\",IF(Benchsheet!B172=FALSE,\"\",IF(J169=\"WL002\",\"MPN\",IF(J169=\"WL003\",\"MPN\",IF(J169=\"DS001\",\"TC\")))))","v":""},{"$f":"Benchsheet!E172","v":0},"",{"$f":"Benchsheet!B172","v":0},{"$f":"IF(J169=\"WL001\",\"RW001\",IF(Benchsheet!B172=FALSE,\"\",IF(J169=\"WL002\",\"RW002\",IF(J169=\"WL003\",\"RW003\",IF(J169=\"DS001\",\"TCR001\",IF(J169=\"DS001\",\"TCR01\"))))))","v":""},{"$f":"Benchsheet!D172","v":0},{"$f":"Benchsheet!G172","v":"00:00:00"},{"$f":"Benchsheet!H172","v":0},{"$f":"Benchsheet!I172","v":"00:00:00"},{"$f":"Benchsheet!F172","v":0},{"$f":"Benchsheet!P172","v":0},{"$f":"Benchsheet!O172","v":0}]
[{"$f":"IF(Benchsheet!A173>1,\"sample\",IF(Benchsheet!A173=FALSE,\"\"))","v":""},{"$f":"IF(Benchsheet!A173>1,\"STATE\",IF(Benchsheet!A173=FALSE,\"\"))","v":""},{"$f":"IF(Benchsheet!A173>1,\"00035\",IF(Benchsheet!A173=FALSE,\"\"))","v":""},{"$f":"Benchsheet!A173","v":0},{"$f":"IF(Benchsheet!C173=1121057,\"VA1121057\",IF(Benchsheet!C173=1121090,\"VA1121090\",IF(Benchsheet!C173=1121052,\"VA1121052\",IF(Benchsheet!C173=1121175,\"VA1121175\",IF(Benchsheet!C173=1121580,\"VA1121580\",IF(Benchsheet!C173=1121570,\"VA1121570\",IF(Benchsheet!C173=1121045,\"VA1121045\",IF(Benchsheet!C173=1121655,\"VA1121655\",IF(Benchsheet!C173=1121503,\"VA1121503\",IF(Benchsheet!C173=1121043,\"VA1121043\",IF(Benchsheet!C173=1121900,\"VA1121900\",IF(Benchsheet!C173=1121845,\"VA1121845\",IF(Benchsheet!C173=1121655,\"VA1121655\",IF(Benchsheet!C173=1121900,\"VA1121900\",IF(Benchsheet!C173<1,\"\")))))))))))))))","v":""},{"$f":"IF(Benchsheet!A173>1,\"TC\",IF(Benchsheet!A173=FALSE,\"\"))","v":""},{"$f":"IF(J170=\"WL001\",\"MPN\",IF(Benchsheet!B173=FALSE,\"\",IF(J170=\"WL002\",\"MPN\",IF(J170=\"WL003\",\"MPN\",IF(J170=\"DS001\",\"TC\")))))","v":""},{"$f":"Benchsheet!E173","v":0},"",{"$f":"Benchsheet!B173","v":0},{"$f":"IF(J170=\"WL001\",\"RW001\",IF(Benchsheet!B173=FALSE,\"\",IF(J170=\"WL002\",\"RW002\",IF(J170=\"WL003\",\"RW003\",IF(J170=\"DS001\",\"TCR001\",IF(J170=\"DS001\",\"TCR01\"))))))","v":""},{"$f":"Benchsheet!D173","v":0},{"$f":"Benchsheet!G173","v":"00:00:00"},{"$f":"Benchsheet!H173","v":0},{"$f":"Benchsheet!I173","v":"00:00:00"},{"$f":"Benchsheet!F173","v":0},{"$f":"Benchsheet!P173","v":0},{"$f":"Benchsheet!O173","v":0}]
[{"$f":"IF(Benchsheet!A174>1,\"sample\",IF(Benchsheet!A174=FALSE,\"\"))","v":""},{"$f":"IF(Benchsheet!A174>1,\"STATE\",IF(Benchsheet!A174=FALSE,\"\"))","v":""},{"$f":"IF(Benchsheet!A174>1,\"00035\",IF(Benchsheet!A174=FALSE,\"\"))","v":""},{"$f":"Benchsheet!A174","v":0},{"$f":"IF(Benchsheet!C174=1121057,\"VA1121057\",IF(Benchsheet!C174=1121090,\"VA1121090\",IF(Benchsheet!C174=1121052,\"VA1121052\",IF(Benchsheet!C174=1121175,\"VA1121175\",IF(Benchsheet!C174=1121580,\"VA1121580\",IF(Benchsheet!C174=1121570,\"VA1121570\",IF(Benchsheet!C174=1121045,\"VA1121045\",IF(Benchsheet!C174=1121655,\"VA1121655\",IF(Benchsheet!C174=1121503,\"VA1121503\",IF(Benchsheet!C174=1121043,\"VA1121043\",IF(Benchsheet!C174=1121900,\"VA1121900\",IF(Benchsheet!C174=1121845,\"VA1121845\",IF(Benchsheet!C174=1121655,\"VA1121655\",IF(Benchsheet!C174=1121900,\"VA1121900\",IF(Benchsheet!C174<1,\"\")))))))))))))))","v":""},{"$f":"IF(Benchsheet!A174>1,\"TC\",IF(Benchsheet!A174=FALSE,\"\"))","v":""},{"$f":"IF(J171=\"WL001\",\"MPN\",IF(Benchsheet!B174=FALSE,\"\",IF(J171=\"WL002\",\"MPN\",IF(J171=\"WL003\",\"MPN\",IF(J171=\"DS001\",\"TC\")))))","v":""},{"$f":"Benchsheet!E174","v":0},"",{"$f":"Benchsheet!B174","v":0},{"$f":"IF(J171=\"WL001\",\"RW001\",IF(Benchsheet!B174=FALSE,\"\",IF(J171=\"WL002\",\"RW002\",IF(J171=\"WL003\",\"RW003\",IF(J171=\"DS001\",\"TCR001\",IF(J171=\"DS001\",\"TCR01\"))))))","v":""},{"$f":"Benchsheet!D174","v":0},{"$f":"Benchsheet!G174","v":"00:00:00"},{"$f":"Benchsheet!H174","v":0},{"$f":"Benchsheet!I174","v":"00:00:00"},{"$f":"Benchsheet!F174","v":0},{"$f":"Benchsheet!P174","v":0},{"$f":"Benchsheet!O174","v":0}]
[{"$f":"IF(Benchsheet!A175>1,\"sample\",IF(Benchsheet!A175=FALSE,\"\"))","v":""},{"$f":"IF(Benchsheet!A175>1,\"STATE\",IF(Benchsheet!A175=FALSE,\"\"))","v":""},{"$f":"IF(Benchsheet!A175>1,\"00035\",IF(Benchsheet!A175=FALSE,\"\"))","v":""},{"$f":"Benchsheet!A175","v":0},{"$f":"IF(Benchsheet!C175=1121057,\"VA1121057\",IF(Benchsheet!C175=1121090,\"VA1121090\",IF(Benchsheet!C175=1121052,\"VA1121052\",IF(Benchsheet!C175=1121175,\"VA1121175\",IF(Benchsheet!C175=1121580,\"VA1121580\",IF(Benchsheet!C175=1121570,\"VA1121570\",IF(Benchsheet!C175=1121045,\"VA1121045\",IF(Benchsheet!C175=1121655,\"VA1121655\",IF(Benchsheet!C175=1121503,\"VA1121503\",IF(Benchsheet!C175=1121043,\"VA1121043\",IF(Benchsheet!C175=1121900,\"VA1121900\",IF(Benchsheet!C175=1121845,\"VA1121845\",IF(Benchsheet!C175=1121655,\"VA1121655\",IF(Benchsheet!C175=1121900,\"VA1121900\",IF(Benchsheet!C175<1,\"\")))))))))))))))","v":""},{"$f":"IF(Benchsheet!A175>1,\"TC\",IF(Benchsheet!A175=FALSE,\"\"))","v":""},{"$f":"IF(J172=\"WL001\",\"MPN\",IF(Benchsheet!B175=FALSE,\"\",IF(J172=\"WL002\",\"MPN\",IF(J172=\"WL003\",\"MPN\",IF(J172=\"DS001\",\"TC\")))))","v":""},{"$f":"Benchsheet!E175","v":0},"",{"$f":"Benchsheet!B175","v":0},{"$f":"IF(J172=\"WL001\",\"RW001\",IF(Benchsheet!B175=FALSE,\"\",IF(J172=\"WL002\",\"RW002\",IF(J172=\"WL003\",\"RW003\",IF(J172=\"DS001\",\"TCR001\",IF(J172=\"DS001\",\"TCR01\"))))))","v":""},{"$f":"Benchsheet!D175","v":0},{"$f":"Benchsheet!G175","v":"00:00:00"},{"$f":"Benchsheet!H175","v":0},{"$f":"Benchsheet!I175","v":"00:00:00"},{"$f":"Benchsheet!F175","v":0},{"$f":"Benchsheet!P175","v":0},{"$f":"Benchsheet!O175","v":0}]
[{"$f":"IF(Benchsheet!A176>1,\"sample\",IF(Benchsheet!A176=FALSE,\"\"))","v":""},{"$f":"IF(Benchsheet!A176>1,\"STATE\",IF(Benchsheet!A176=FALSE,\"\"))","v":""},{"$f":"IF(Benchsheet!A176>1,\"00035\",IF(Benchsheet!A176=FALSE,\"\"))","v":""},{"$f":"Benchsheet!A176","v":0},{"$f":"IF(Benchsheet!C176=1121057,\"VA1121057\",IF(Benchsheet!C176=1121090,\"VA1121090\",IF(Benchsheet!C176=1121052,\"VA1121052\",IF(Benchsheet!C176=1121175,\"VA1121175\",IF(Benchsheet!C176=1121580,\"VA1121580\",IF(Benchsheet!C176=1121570,\"VA1121570\",IF(Benchsheet!C176=1121045,\"VA1121045\",IF(Benchsheet!C176=1121655,\"VA1121655\",IF(Benchsheet!C176=1121503,\"VA1121503\",IF(Benchsheet!C176=1121043,\"VA1121043\",IF(Benchsheet!C176=1121900,\"VA1121900\",IF(Benchsheet!C176=1121845,\"VA1121845\",IF(Benchsheet!C176=1121655,\"VA1121655\",IF(Benchsheet!C176=1121900,\"VA1121900\",IF(Benchsheet!C176<1,\"\")))))))))))))))","v":""},{"$f":"IF(Benchsheet!A176>1,\"TC\",IF(Benchsheet!A176=FALSE,\"\"))","v":""},{"$f":"IF(J173=\"WL001\",\"MPN\",IF(Benchsheet!B176=FALSE,\"\",IF(J173=\"WL002\",\"MPN\",IF(J173=\"WL003\",\"MPN\",IF(J173=\"DS001\",\"TC\")))))","v":""},{"$f":"Benchsheet!E176","v":0},"",{"$f":"Benchsheet!B176","v":0},{"$f":"IF(J173=\"WL001\",\"RW001\",IF(Benchsheet!B176=FALSE,\"\",IF(J173=\"WL002\",\"RW002\",IF(J173=\"WL003\",\"RW003\",IF(J173=\"DS001\",\"TCR001\",IF(J173=\"DS001\",\"TCR01\"))))))","v":""},{"$f":"Benchsheet!D176","v":0},{"$f":"Benchsheet!G176","v":"00:00:00"},{"$f":"Benchsheet!H176","v":0},{"$f":"Benchsheet!I176","v":"00:00:00"},{"$f":"Benchsheet!F176","v":0},{"$f":"Benchsheet!P176","v":0},{"$f":"Benchsheet!O176","v":0}]
[{"$f":"IF(Benchsheet!A177>1,\"sample\",IF(Benchsheet!A177=FALSE,\"\"))","v":""},{"$f":"IF(Benchsheet!A177>1,\"STATE\",IF(Benchsheet!A177=FALSE,\"\"))","v":""},{"$f":"IF(Benchsheet!A177>1,\"00035\",IF(Benchsheet!A177=FALSE,\"\"))","v":""},{"$f":"Benchsheet!A177","v":0},{"$f":"IF(Benchsheet!C177=1121057,\"VA1121057\",IF(Benchsheet!C177=1121090,\"VA1121090\",IF(Benchsheet!C177=1121052,\"VA1121052\",IF(Benchsheet!C177=1121175,\"VA1121175\",IF(Benchsheet!C177=1121580,\"VA1121580\",IF(Benchsheet!C177=1121570,\"VA1121570\",IF(Benchsheet!C177=1121045,\"VA1121045\",IF(Benchsheet!C177=1121655,\"VA1121655\",IF(Benchsheet!C177=1121503,\"VA1121503\",IF(Benchsheet!C177=1121043,\"VA1121043\",IF(Benchsheet!C177=1121900,\"VA1121900\",IF(Benchsheet!C177=1121845,\"VA1121845\",IF(Benchsheet!C177=1121655,\"VA1121655\",IF(Benchsheet!C177=1121900,\"VA1121900\",IF(Benchsheet!C177<1,\"\")))))))))))))))","v":""},{"$f":"IF(Benchsheet!A177>1,\"TC\",IF(Benchsheet!A177=FALSE,\"\"))","v":""},{"$f":"IF(J174=\"WL001\",\"MPN\",IF(Benchsheet!B177=FALSE,\"\",IF(J174=\"WL002\",\"MPN\",IF(J174=\"WL003\",\"MPN\",IF(J174=\"DS001\",\"TC\")))))","v":""},{"$f":"Benchsheet!E177","v":0},"",{"$f":"Benchsheet!B177","v":0},{"$f":"IF(J174=\"WL001\",\"RW001\",IF(Benchsheet!B177=FALSE,\"\",IF(J174=\"WL002\",\"RW002\",IF(J174=\"WL003\",\"RW003\",IF(J174=\"DS001\",\"TCR001\",IF(J174=\"DS001\",\"TCR01\"))))))","v":""},{"$f":"Benchsheet!D177","v":0},{"$f":"Benchsheet!G177","v":"00:00:00"},{"$f":"Benchsheet!H177","v":0},{"$f":"Benchsheet!I177","v":"00:00:00"},{"$f":"Benchsheet!F177","v":0},{"$f":"Benchsheet!P177","v":0},{"$f":"Benchsheet!O177","v":0}]
[{"$f":"IF(Benchsheet!A178>1,\"sample\",IF(Benchsheet!A178=FALSE,\"\"))","v":""},{"$f":"IF(Benchsheet!A178>1,\"STATE\",IF(Benchsheet!A178=FALSE,\"\"))","v":""},{"$f":"IF(Benchsheet!A178>1,\"00035\",IF(Benchsheet!A178=FALSE,\"\"))","v":""},{"$f":"Benchsheet!A178","v":0},{"$f":"IF(Benchsheet!C178=1121057,\"VA1121057\",IF(Benchsheet!C178=1121090,\"VA1121090\",IF(Benchsheet!C178=1121052,\"VA1121052\",IF(Benchsheet!C178=1121175,\"VA1121175\",IF(Benchsheet!C178=1121580,\"VA1121580\",IF(Benchsheet!C178=1121570,\"VA1121570\",IF(Benchsheet!C178=1121045,\"VA1121045\",IF(Benchsheet!C178=1121655,\"VA1121655\",IF(Benchsheet!C178=1121503,\"VA1121503\",IF(Benchsheet!C178=1121043,\"VA1121043\",IF(Benchsheet!C178=1121900,\"VA1121900\",IF(Benchsheet!C178=1121845,\"VA1121845\",IF(Benchsheet!C178=1121655,\"VA1121655\",IF(Benchsheet!C178=1121900,\"VA1121900\",IF(Benchsheet!C178<1,\"\")))))))))))))))","v":""},{"$f":"IF(Benchsheet!A178>1,\"TC\",IF(Benchsheet!A178=FALSE,\"\"))","v":""},{"$f":"IF(J175=\"WL001\",\"MPN\",IF(Benchsheet!B178=FALSE,\"\",IF(J175=\"WL002\",\"MPN\",IF(J175=\"WL003\",\"MPN\",IF(J175=\"DS001\",\"TC\")))))","v":""},{"$f":"Benchsheet!E178","v":0},"",{"$f":"Benchsheet!B178","v":0},{"$f":"IF(J175=\"WL001\",\"RW001\",IF(Benchsheet!B178=FALSE,\"\",IF(J175=\"WL002\",\"RW002\",IF(J175=\"WL003\",\"RW003\",IF(J175=\"DS001\",\"TCR001\",IF(J175=\"DS001\",\"TCR01\"))))))","v":""},{"$f":"Benchsheet!D178","v":0},{"$f":"Benchsheet!G178","v":"00:00:00"},{"$f":"Benchsheet!H178","v":0},{"$f":"Benchsheet!I178","v":"00:00:00"},{"$f":"Benchsheet!F178","v":0},{"$f":"Benchsheet!P178","v":0},{"$f":"Benchsheet!O178","v":0}]
[{"$f":"IF(Benchsheet!A179>1,\"sample\",IF(Benchsheet!A179=FALSE,\"\"))","v":""},{"$f":"IF(Benchsheet!A179>1,\"STATE\",IF(Benchsheet!A179=FALSE,\"\"))","v":""},{"$f":"IF(Benchsheet!A179>1,\"00035\",IF(Benchsheet!A179=FALSE,\"\"))","v":""},{"$f":"Benchsheet!A179","v":0},{"$f":"IF(Benchsheet!C179=1121057,\"VA1121057\",IF(Benchsheet!C179=1121090,\"VA1121090\",IF(Benchsheet!C179=1121052,\"VA1121052\",IF(Benchsheet!C179=1121175,\"VA1121175\",IF(Benchsheet!C179=1121580,\"VA1121580\",IF(Benchsheet!C179=1121570,\"VA1121570\",IF(Benchsheet!C179=1121045,\"VA1121045\",IF(Benchsheet!C179=1121655,\"VA1121655\",IF(Benchsheet!C179=1121503,\"VA1121503\",IF(Benchsheet!C179=1121043,\"VA1121043\",IF(Benchsheet!C179=1121900,\"VA1121900\",IF(Benchsheet!C179=1121845,\"VA1121845\",IF(Benchsheet!C179=1121655,\"VA1121655\",IF(Benchsheet!C179=1121900,\"VA1121900\",IF(Benchsheet!C179<1,\"\")))))))))))))))","v":""},{"$f":"IF(Benchsheet!A179>1,\"TC\",IF(Benchsheet!A179=FALSE,\"\"))","v":""},{"$f":"IF(J176=\"WL001\",\"MPN\",IF(Benchsheet!B179=FALSE,\"\",IF(J176=\"WL002\",\"MPN\",IF(J176=\"WL003\",\"MPN\",IF(J176=\"DS001\",\"TC\")))))","v":""},{"$f":"Benchsheet!E179","v":0},"",{"$f":"Benchsheet!B179","v":0},{"$f":"IF(J176=\"WL001\",\"RW001\",IF(Benchsheet!B179=FALSE,\"\",IF(J176=\"WL002\",\"RW002\",IF(J176=\"WL003\",\"RW003\",IF(J176=\"DS001\",\"TCR001\",IF(J176=\"DS001\",\"TCR01\"))))))","v":""},{"$f":"Benchsheet!D179","v":0},{"$f":"Benchsheet!G179","v":"00:00:00"},{"$f":"Benchsheet!H179","v":0},{"$f":"Benchsheet!I179","v":"00:00:00"},{"$f":"Benchsheet!F179","v":0},{"$f":"Benchsheet!P179","v":0},{"$f":"Benchsheet!O179","v":0}]
[{"$f":"IF(Benchsheet!A180>1,\"sample\",IF(Benchsheet!A180=FALSE,\"\"))","v":""},{"$f":"IF(Benchsheet!A180>1,\"STATE\",IF(Benchsheet!A180=FALSE,\"\"))","v":""},{"$f":"IF(Benchsheet!A180>1,\"00035\",IF(Benchsheet!A180=FALSE,\"\"))","v":""},{"$f":"Benchsheet!A180","v":0},{"$f":"IF(Benchsheet!C180=1121057,\"VA1121057\",IF(Benchsheet!C180=1121090,\"VA1121090\",IF(Benchsheet!C180=1121052,\"VA1121052\",IF(Benchsheet!C180=1121175,\"VA1121175\",IF(Benchsheet!C180=1121580,\"VA1121580\",IF(Benchsheet!C180=1121570,\"VA1121570\",IF(Benchsheet!C180=1121045,\"VA1121045\",IF(Benchsheet!C180=1121655,\"VA1121655\",IF(Benchsheet!C180=1121503,\"VA1121503\",IF(Benchsheet!C180=1121043,\"VA1121043\",IF(Benchsheet!C180=1121900,\"VA1121900\",IF(Benchsheet!C180=1121845,\"VA1121845\",IF(Benchsheet!C180=1121655,\"VA1121655\",IF(Benchsheet!C180=1121900,\"VA1121900\",IF(Benchsheet!C180<1,\"\")))))))))))))))","v":""},{"$f":"IF(Benchsheet!A180>1,\"TC\",IF(Benchsheet!A180=FALSE,\"\"))","v":""},{"$f":"IF(J177=\"WL001\",\"MPN\",IF(Benchsheet!B180=FALSE,\"\",IF(J177=\"WL002\",\"MPN\",IF(J177=\"WL003\",\"MPN\",IF(J177=\"DS001\",\"TC\")))))","v":""},{"$f":"Benchsheet!E180","v":0},"",{"$f":"Benchsheet!B180","v":0},{"$f":"IF(J177=\"WL001\",\"RW001\",IF(Benchsheet!B180=FALSE,\"\",IF(J177=\"WL002\",\"RW002\",IF(J177=\"WL003\",\"RW003\",IF(J177=\"DS001\",\"TCR001\",IF(J177=\"DS001\",\"TCR01\"))))))","v":""},{"$f":"Benchsheet!D180","v":0},{"$f":"Benchsheet!G180","v":"00:00:00"},{"$f":"Benchsheet!H180","v":0},{"$f":"Benchsheet!I180","v":"00:00:00"},{"$f":"Benchsheet!F180","v":0},{"$f":"Benchsheet!P180","v":0},{"$f":"Benchsheet!O180","v":0}]
[{"$f":"IF(Benchsheet!A181>1,\"sample\",IF(Benchsheet!A181=FALSE,\"\"))","v":""},{"$f":"IF(Benchsheet!A181>1,\"STATE\",IF(Benchsheet!A181=FALSE,\"\"))","v":""},{"$f":"IF(Benchsheet!A181>1,\"00035\",IF(Benchsheet!A181=FALSE,\"\"))","v":""},{"$f":"Benchsheet!A181","v":0},{"$f":"IF(Benchsheet!C181=1121057,\"VA1121057\",IF(Benchsheet!C181=1121090,\"VA1121090\",IF(Benchsheet!C181=1121052,\"VA1121052\",IF(Benchsheet!C181=1121175,\"VA1121175\",IF(Benchsheet!C181=1121580,\"VA1121580\",IF(Benchsheet!C181=1121570,\"VA1121570\",IF(Benchsheet!C181=1121045,\"VA1121045\",IF(Benchsheet!C181=1121655,\"VA1121655\",IF(Benchsheet!C181=1121503,\"VA1121503\",IF(Benchsheet!C181=1121043,\"VA1121043\",IF(Benchsheet!C181=1121900,\"VA1121900\",IF(Benchsheet!C181=1121845,\"VA1121845\",IF(Benchsheet!C181=1121655,\"VA1121655\",IF(Benchsheet!C181=1121900,\"VA1121900\",IF(Benchsheet!C181<1,\"\")))))))))))))))","v":""},{"$f":"IF(Benchsheet!A181>1,\"TC\",IF(Benchsheet!A181=FALSE,\"\"))","v":""},{"$f":"IF(J178=\"WL001\",\"MPN\",IF(Benchsheet!B181=FALSE,\"\",IF(J178=\"WL002\",\"MPN\",IF(J178=\"WL003\",\"MPN\",IF(J178=\"DS001\",\"TC\")))))","v":""},{"$f":"Benchsheet!E181","v":0},"",{"$f":"Benchsheet!B181","v":0},{"$f":"IF(J178=\"WL001\",\"RW001\",IF(Benchsheet!B181=FALSE,\"\",IF(J178=\"WL002\",\"RW002\",IF(J178=\"WL003\",\"RW003\",IF(J178=\"DS001\",\"TCR001\",IF(J178=\"DS001\",\"TCR01\"))))))","v":""},{"$f":"Benchsheet!D181","v":0},{"$f":"Benchsheet!G181","v":"00:00:00"},{"$f":"Benchsheet!H181","v":0},{"$f":"Benchsheet!I181","v":"00:00:00"},{"$f":"Benchsheet!F181","v":0},{"$f":"Benchsheet!P181","v":0},{"$f":"Benchsheet!O181","v":0}]
[{"$f":"IF(Benchsheet!A182>1,\"sample\",IF(Benchsheet!A182=FALSE,\"\"))","v":""},{"$f":"IF(Benchsheet!A182>1,\"STATE\",IF(Benchsheet!A182=FALSE,\"\"))","v":""},{"$f":"IF(Benchsheet!A182>1,\"00035\",IF(Benchsheet!A182=FALSE,\"\"))","v":""},{"$f":"Benchsheet!A182","v":0},{"$f":"IF(Benchsheet!C182=1121057,\"VA1121057\",IF(Benchsheet!C182=1121090,\"VA1121090\",IF(Benchsheet!C182=1121052,\"VA1121052\",IF(Benchsheet!C182=1121175,\"VA1121175\",IF(Benchsheet!C182=1121580,\"VA1121580\",IF(Benchsheet!C182=1121570,\"VA1121570\",IF(Benchsheet!C182=1121045,\"VA1121045\",IF(Benchsheet!C182=1121655,\"VA1121655\",IF(Benchsheet!C182=1121503,\"VA1121503\",IF(Benchsheet!C182=1121043,\"VA1121043\",IF(Benchsheet!C182=1121900,\"VA1121900\",IF(Benchsheet!C182=1121845,\"VA1121845\",IF(Benchsheet!C182=1121655,\"VA1121655\",IF(Benchsheet!C182=1121900,\"VA1121900\",IF(Benchsheet!C182<1,\"\")))))))))))))))","v":""},{"$f":"IF(Benchsheet!A182>1,\"TC\",IF(Benchsheet!A182=FALSE,\"\"))","v":""},{"$f":"IF(J179=\"WL001\",\"MPN\",IF(Benchsheet!B182=FALSE,\"\",IF(J179=\"WL002\",\"MPN\",IF(J179=\"WL003\",\"MPN\",IF(J179=\"DS001\",\"TC\")))))","v":""},{"$f":"Benchsheet!E182","v":0},"",{"$f":"Benchsheet!B182","v":0},{"$f":"IF(J179=\"WL001\",\"RW001\",IF(Benchsheet!B182=FALSE,\"\",IF(J179=\"WL002\",\"RW002\",IF(J179=\"WL003\",\"RW003\",IF(J179=\"DS001\",\"TCR001\",IF(J179=\"DS001\",\"TCR01\"))))))","v":""},{"$f":"Benchsheet!D182","v":0},{"$f":"Benchsheet!G182","v":"00:00:00"},{"$f":"Benchsheet!H182","v":0},{"$f":"Benchsheet!I182","v":"00:00:00"},{"$f":"Benchsheet!F182","v":0},{"$f":"Benchsheet!P182","v":0},{"$f":"Benchsheet!O182","v":0}]
[{"$f":"IF(Benchsheet!A183>1,\"sample\",IF(Benchsheet!A183=FALSE,\"\"))","v":""},{"$f":"IF(Benchsheet!A183>1,\"STATE\",IF(Benchsheet!A183=FALSE,\"\"))","v":""},{"$f":"IF(Benchsheet!A183>1,\"00035\",IF(Benchsheet!A183=FALSE,\"\"))","v":""},{"$f":"Benchsheet!A183","v":0},{"$f":"IF(Benchsheet!C183=1121057,\"VA1121057\",IF(Benchsheet!C183=1121090,\"VA1121090\",IF(Benchsheet!C183=1121052,\"VA1121052\",IF(Benchsheet!C183=1121175,\"VA1121175\",IF(Benchsheet!C183=1121580,\"VA1121580\",IF(Benchsheet!C183=1121570,\"VA1121570\",IF(Benchsheet!C183=1121045,\"VA1121045\",IF(Benchsheet!C183=1121655,\"VA1121655\",IF(Benchsheet!C183=1121503,\"VA1121503\",IF(Benchsheet!C183=1121043,\"VA1121043\",IF(Benchsheet!C183=1121900,\"VA1121900\",IF(Benchsheet!C183=1121845,\"VA1121845\",IF(Benchsheet!C183=1121655,\"VA1121655\",IF(Benchsheet!C183=1121900,\"VA1121900\",IF(Benchsheet!C183<1,\"\")))))))))))))))","v":""},{"$f":"IF(Benchsheet!A183>1,\"TC\",IF(Benchsheet!A183=FALSE,\"\"))","v":""},{"$f":"IF(J180=\"WL001\",\"MPN\",IF(Benchsheet!B183=FALSE,\"\",IF(J180=\"WL002\",\"MPN\",IF(J180=\"WL003\",\"MPN\",IF(J180=\"DS001\",\"TC\")))))","v":""},{"$f":"Benchsheet!E183","v":0},"",{"$f":"Benchsheet!B183","v":0},{"$f":"IF(J180=\"WL001\",\"RW001\",IF(Benchsheet!B183=FALSE,\"\",IF(J180=\"WL002\",\"RW002\",IF(J180=\"WL003\",\"RW003\",IF(J180=\"DS001\",\"TCR001\",IF(J180=\"DS001\",\"TCR01\"))))))","v":""},{"$f":"Benchsheet!D183","v":0},{"$f":"Benchsheet!G183","v":"00:00:00"},{"$f":"Benchsheet!H183","v":0},{"$f":"Benchsheet!I183","v":"00:00:00"},{"$f":"Benchsheet!F183","v":0},{"$f":"Benchsheet!P183","v":0},{"$f":"Benchsheet!O183","v":0}]
[{"$f":"IF(Benchsheet!A184>1,\"sample\",IF(Benchsheet!A184=FALSE,\"\"))","v":""},{"$f":"IF(Benchsheet!A184>1,\"STATE\",IF(Benchsheet!A184=FALSE,\"\"))","v":""},{"$f":"IF(Benchsheet!A184>1,\"00035\",IF(Benchsheet!A184=FALSE,\"\"))","v":""},{"$f":"Benchsheet!A184","v":0},{"$f":"IF(Benchsheet!C184=1121057,\"VA1121057\",IF(Benchsheet!C184=1121090,\"VA1121090\",IF(Benchsheet!C184=1121052,\"VA1121052\",IF(Benchsheet!C184=1121175,\"VA1121175\",IF(Benchsheet!C184=1121580,\"VA1121580\",IF(Benchsheet!C184=1121570,\"VA1121570\",IF(Benchsheet!C184=1121045,\"VA1121045\",IF(Benchsheet!C184=1121655,\"VA1121655\",IF(Benchsheet!C184=1121503,\"VA1121503\",IF(Benchsheet!C184=1121043,\"VA1121043\",IF(Benchsheet!C184=1121900,\"VA1121900\",IF(Benchsheet!C184=1121845,\"VA1121845\",IF(Benchsheet!C184=1121655,\"VA1121655\",IF(Benchsheet!C184=1121900,\"VA1121900\",IF(Benchsheet!C184<1,\"\")))))))))))))))","v":""},{"$f":"IF(Benchsheet!A184>1,\"TC\",IF(Benchsheet!A184=FALSE,\"\"))","v":""},{"$f":"IF(J181=\"WL001\",\"MPN\",IF(Benchsheet!B184=FALSE,\"\",IF(J181=\"WL002\",\"MPN\",IF(J181=\"WL003\",\"MPN\",IF(J181=\"DS001\",\"TC\")))))","v":""},{"$f":"Benchsheet!E184","v":0},"",{"$f":"Benchsheet!B184","v":0},{"$f":"IF(J181=\"WL001\",\"RW001\",IF(Benchsheet!B184=FALSE,\"\",IF(J181=\"WL002\",\"RW002\",IF(J181=\"WL003\",\"RW003\",IF(J181=\"DS001\",\"TCR001\",IF(J181=\"DS001\",\"TCR01\"))))))","v":""},{"$f":"Benchsheet!D184","v":0},{"$f":"Benchsheet!G184","v":"00:00:00"},{"$f":"Benchsheet!H184","v":0},{"$f":"Benchsheet!I184","v":"00:00:00"},{"$f":"Benchsheet!F184","v":0},{"$f":"Benchsheet!P184","v":0},{"$f":"Benchsheet!O184","v":0}]
[{"$f":"IF(Benchsheet!A185>1,\"sample\",IF(Benchsheet!A185=FALSE,\"\"))","v":""},{"$f":"IF(Benchsheet!A185>1,\"STATE\",IF(Benchsheet!A185=FALSE,\"\"))","v":""},{"$f":"IF(Benchsheet!A185>1,\"00035\",IF(Benchsheet!A185=FALSE,\"\"))","v":""},{"$f":"Benchsheet!A185","v":0},{"$f":"IF(Benchsheet!C185=1121057,\"VA1121057\",IF(Benchsheet!C185=1121090,\"VA1121090\",IF(Benchsheet!C185=1121052,\"VA1121052\",IF(Benchsheet!C185=1121175,\"VA1121175\",IF(Benchsheet!C185=1121580,\"VA1121580\",IF(Benchsheet!C185=1121570,\"VA1121570\",IF(Benchsheet!C185=1121045,\"VA1121045\",IF(Benchsheet!C185=1121655,\"VA1121655\",IF(Benchsheet!C185=1121503,\"VA1121503\",IF(Benchsheet!C185=1121043,\"VA1121043\",IF(Benchsheet!C185=1121900,\"VA1121900\",IF(Benchsheet!C185=1121845,\"VA1121845\",IF(Benchsheet!C185=1121655,\"VA1121655\",IF(Benchsheet!C185=1121900,\"VA1121900\",IF(Benchsheet!C185<1,\"\")))))))))))))))","v":""},{"$f":"IF(Benchsheet!A185>1,\"TC\",IF(Benchsheet!A185=FALSE,\"\"))","v":""},{"$f":"IF(J182=\"WL001\",\"MPN\",IF(Benchsheet!B185=FALSE,\"\",IF(J182=\"WL002\",\"MPN\",IF(J182=\"WL003\",\"MPN\",IF(J182=\"DS001\",\"TC\")))))","v":""},{"$f":"Benchsheet!E185","v":0},"",{"$f":"Benchsheet!B185","v":0},{"$f":"IF(J182=\"WL001\",\"RW001\",IF(Benchsheet!B185=FALSE,\"\",IF(J182=\"WL002\",\"RW002\",IF(J182=\"WL003\",\"RW003\",IF(J182=\"DS001\",\"TCR001\",IF(J182=\"DS001\",\"TCR01\"))))))","v":""},{"$f":"Benchsheet!D185","v":0},{"$f":"Benchsheet!G185","v":"00:00:00"},{"$f":"Benchsheet!H185","v":0},{"$f":"Benchsheet!I185","v":"00:00:00"},{"$f":"Benchsheet!F185","v":0},{"$f":"Benchsheet!P185","v":0},{"$f":"Benchsheet!O185","v":0}]
[{"$f":"IF(Benchsheet!A186>1,\"sample\",IF(Benchsheet!A186=FALSE,\"\"))","v":""},{"$f":"IF(Benchsheet!A186>1,\"STATE\",IF(Benchsheet!A186=FALSE,\"\"))","v":""},{"$f":"IF(Benchsheet!A186>1,\"00035\",IF(Benchsheet!A186=FALSE,\"\"))","v":""},{"$f":"Benchsheet!A186","v":0},{"$f":"IF(Benchsheet!C186=1121057,\"VA1121057\",IF(Benchsheet!C186=1121090,\"VA1121090\",IF(Benchsheet!C186=1121052,\"VA1121052\",IF(Benchsheet!C186=1121175,\"VA1121175\",IF(Benchsheet!C186=1121580,\"VA1121580\",IF(Benchsheet!C186=1121570,\"VA1121570\",IF(Benchsheet!C186=1121045,\"VA1121045\",IF(Benchsheet!C186=1121655,\"VA1121655\",IF(Benchsheet!C186=1121503,\"VA1121503\",IF(Benchsheet!C186=1121043,\"VA1121043\",IF(Benchsheet!C186=1121900,\"VA1121900\",IF(Benchsheet!C186=1121845,\"VA1121845\",IF(Benchsheet!C186=1121655,\"VA1121655\",IF(Benchsheet!C186=1121900,\"VA1121900\",IF(Benchsheet!C186<1,\"\")))))))))))))))","v":""},{"$f":"IF(Benchsheet!A186>1,\"TC\",IF(Benchsheet!A186=FALSE,\"\"))","v":""},{"$f":"IF(J183=\"WL001\",\"MPN\",IF(Benchsheet!B186=FALSE,\"\",IF(J183=\"WL002\",\"MPN\",IF(J183=\"WL003\",\"MPN\",IF(J183=\"DS001\",\"TC\")))))","v":""},{"$f":"Benchsheet!E186","v":0},"",{"$f":"Benchsheet!B186","v":0},{"$f":"IF(J183=\"WL001\",\"RW001\",IF(Benchsheet!B186=FALSE,\"\",IF(J183=\"WL002\",\"RW002\",IF(J183=\"WL003\",\"RW003\",IF(J183=\"DS001\",\"TCR001\",IF(J183=\"DS001\",\"TCR01\"))))))","v":""},{"$f":"Benchsheet!D186","v":0},{"$f":"Benchsheet!G186","v":"00:00:00"},{"$f":"Benchsheet!H186","v":0},{"$f":"Benchsheet!I186","v":"00:00:00"},{"$f":"Benchsheet!F186","v":0},{"$f":"Benchsheet!P186","v":0},{"$f":"Benchsheet!O186","v":0}]
[{"$f":"IF(Benchsheet!A187>1,\"sample\",IF(Benchsheet!A187=FALSE,\"\"))","v":""},{"$f":"IF(Benchsheet!A187>1,\"STATE\",IF(Benchsheet!A187=FALSE,\"\"))","v":""},{"$f":"IF(Benchsheet!A187>1,\"00035\",IF(Benchsheet!A187=FALSE,\"\"))","v":""},{"$f":"Benchsheet!A187","v":0},{"$f":"IF(Benchsheet!C187=1121057,\"VA1121057\",IF(Benchsheet!C187=1121090,\"VA1121090\",IF(Benchsheet!C187=1121052,\"VA1121052\",IF(Benchsheet!C187=1121175,\"VA1121175\",IF(Benchsheet!C187=1121580,\"VA1121580\",IF(Benchsheet!C187=1121570,\"VA1121570\",IF(Benchsheet!C187=1121045,\"VA1121045\",IF(Benchsheet!C187=1121655,\"VA1121655\",IF(Benchsheet!C187=1121503,\"VA1121503\",IF(Benchsheet!C187=1121043,\"VA1121043\",IF(Benchsheet!C187=1121900,\"VA1121900\",IF(Benchsheet!C187=1121845,\"VA1121845\",IF(Benchsheet!C187=1121655,\"VA1121655\",IF(Benchsheet!C187=1121900,\"VA1121900\",IF(Benchsheet!C187<1,\"\")))))))))))))))","v":""},{"$f":"IF(Benchsheet!A187>1,\"TC\",IF(Benchsheet!A187=FALSE,\"\"))","v":""},{"$f":"IF(J184=\"WL001\",\"MPN\",IF(Benchsheet!B187=FALSE,\"\",IF(J184=\"WL002\",\"MPN\",IF(J184=\"WL003\",\"MPN\",IF(J184=\"DS001\",\"TC\")))))","v":""},{"$f":"Benchsheet!E187","v":0},"",{"$f":"Benchsheet!B187","v":0},{"$f":"IF(J184=\"WL001\",\"RW001\",IF(Benchsheet!B187=FALSE,\"\",IF(J184=\"WL002\",\"RW002\",IF(J184=\"WL003\",\"RW003\",IF(J184=\"DS001\",\"TCR001\",IF(J184=\"DS001\",\"TCR01\"))))))","v":""},{"$f":"Benchsheet!D187","v":0},{"$f":"Benchsheet!G187","v":"00:00:00"},{"$f":"Benchsheet!H187","v":0},{"$f":"Benchsheet!I187","v":"00:00:00"},{"$f":"Benchsheet!F187","v":0},{"$f":"Benchsheet!P187","v":0},{"$f":"Benchsheet!O187","v":0}]
[{"$f":"IF(Benchsheet!A188>1,\"sample\",IF(Benchsheet!A188=FALSE,\"\"))","v":""},{"$f":"IF(Benchsheet!A188>1,\"STATE\",IF(Benchsheet!A188=FALSE,\"\"))","v":""},{"$f":"IF(Benchsheet!A188>1,\"00035\",IF(Benchsheet!A188=FALSE,\"\"))","v":""},{"$f":"Benchsheet!A188","v":0},{"$f":"IF(Benchsheet!C188=1121057,\"VA1121057\",IF(Benchsheet!C188=1121090,\"VA1121090\",IF(Benchsheet!C188=1121052,\"VA1121052\",IF(Benchsheet!C188=1121175,\"VA1121175\",IF(Benchsheet!C188=1121580,\"VA1121580\",IF(Benchsheet!C188=1121570,\"VA1121570\",IF(Benchsheet!C188=1121045,\"VA1121045\",IF(Benchsheet!C188=1121655,\"VA1121655\",IF(Benchsheet!C188=1121503,\"VA1121503\",IF(Benchsheet!C188=1121043,\"VA1121043\",IF(Benchsheet!C188=1121900,\"VA1121900\",IF(Benchsheet!C188=1121845,\"VA1121845\",IF(Benchsheet!C188=1121655,\"VA1121655\",IF(Benchsheet!C188=1121900,\"VA1121900\",IF(Benchsheet!C188<1,\"\")))))))))))))))","v":""},{"$f":"IF(Benchsheet!A188>1,\"TC\",IF(Benchsheet!A188=FALSE,\"\"))","v":""},{"$f":"IF(J185=\"WL001\",\"MPN\",IF(Benchsheet!B188=FALSE,\"\",IF(J185=\"WL002\",\"MPN\",IF(J185=\"WL003\",\"MPN\",IF(J185=\"DS001\",\"TC\")))))","v":""},{"$f":"Benchsheet!E188","v":0},"",{"$f":"Benchsheet!B188","v":0},{"$f":"IF(J185=\"WL001\",\"RW001\",IF(Benchsheet!B188=FALSE,\"\",IF(J185=\"WL002\",\"RW002\",IF(J185=\"WL003\",\"RW003\",IF(J185=\"DS001\",\"TCR001\",IF(J185=\"DS001\",\"TCR01\"))))))","v":""},{"$f":"Benchsheet!D188","v":0},{"$f":"Benchsheet!G188","v":"00:00:00"},{"$f":"Benchsheet!H188","v":0},{"$f":"Benchsheet!I188","v":"00:00:00"},{"$f":"Benchsheet!F188","v":0},{"$f":"Benchsheet!P188","v":0},{"$f":"Benchsheet!O188","v":0}]
[{"$f":"IF(Benchsheet!A189>1,\"sample\",IF(Benchsheet!A189=FALSE,\"\"))","v":""},{"$f":"IF(Benchsheet!A189>1,\"STATE\",IF(Benchsheet!A189=FALSE,\"\"))","v":""},{"$f":"IF(Benchsheet!A189>1,\"00035\",IF(Benchsheet!A189=FALSE,\"\"))","v":""},{"$f":"Benchsheet!A189","v":0},{"$f":"IF(Benchsheet!C189=1121057,\"VA1121057\",IF(Benchsheet!C189=1121090,\"VA1121090\",IF(Benchsheet!C189=1121052,\"VA1121052\",IF(Benchsheet!C189=1121175,\"VA1121175\",IF(Benchsheet!C189=1121580,\"VA1121580\",IF(Benchsheet!C189=1121570,\"VA1121570\",IF(Benchsheet!C189=1121045,\"VA1121045\",IF(Benchsheet!C189=1121655,\"VA1121655\",IF(Benchsheet!C189=1121503,\"VA1121503\",IF(Benchsheet!C189=1121043,\"VA1121043\",IF(Benchsheet!C189=1121900,\"VA1121900\",IF(Benchsheet!C189=1121845,\"VA1121845\",IF(Benchsheet!C189=1121655,\"VA1121655\",IF(Benchsheet!C189=1121900,\"VA1121900\",IF(Benchsheet!C189<1,\"\")))))))))))))))","v":""},{"$f":"IF(Benchsheet!A189>1,\"TC\",IF(Benchsheet!A189=FALSE,\"\"))","v":""},{"$f":"IF(J186=\"WL001\",\"MPN\",IF(Benchsheet!B189=FALSE,\"\",IF(J186=\"WL002\",\"MPN\",IF(J186=\"WL003\",\"MPN\",IF(J186=\"DS001\",\"TC\")))))","v":""},{"$f":"Benchsheet!E189","v":0},"",{"$f":"Benchsheet!B189","v":0},{"$f":"IF(J186=\"WL001\",\"RW001\",IF(Benchsheet!B189=FALSE,\"\",IF(J186=\"WL002\",\"RW002\",IF(J186=\"WL003\",\"RW003\",IF(J186=\"DS001\",\"TCR001\",IF(J186=\"DS001\",\"TCR01\"))))))","v":""},{"$f":"Benchsheet!D189","v":0},{"$f":"Benchsheet!G189","v":"00:00:00"},{"$f":"Benchsheet!H189","v":0},{"$f":"Benchsheet!I189","v":"00:00:00"},{"$f":"Benchsheet!F189","v":0},{"$f":"Benchsheet!P189","v":0},{"$f":"Benchsheet!O189","v":0}]
[{"$f":"IF(Benchsheet!A190>1,\"sample\",IF(Benchsheet!A190=FALSE,\"\"))","v":""},{"$f":"IF(Benchsheet!A190>1,\"STATE\",IF(Benchsheet!A190=FALSE,\"\"))","v":""},{"$f":"IF(Benchsheet!A190>1,\"00035\",IF(Benchsheet!A190=FALSE,\"\"))","v":""},{"$f":"Benchsheet!A190","v":0},{"$f":"IF(Benchsheet!C190=1121057,\"VA1121057\",IF(Benchsheet!C190=1121090,\"VA1121090\",IF(Benchsheet!C190=1121052,\"VA1121052\",IF(Benchsheet!C190=1121175,\"VA1121175\",IF(Benchsheet!C190=1121580,\"VA1121580\",IF(Benchsheet!C190=1121570,\"VA1121570\",IF(Benchsheet!C190=1121045,\"VA1121045\",IF(Benchsheet!C190=1121655,\"VA1121655\",IF(Benchsheet!C190=1121503,\"VA1121503\",IF(Benchsheet!C190=1121043,\"VA1121043\",IF(Benchsheet!C190=1121900,\"VA1121900\",IF(Benchsheet!C190=1121845,\"VA1121845\",IF(Benchsheet!C190=1121655,\"VA1121655\",IF(Benchsheet!C190=1121900,\"VA1121900\",IF(Benchsheet!C190<1,\"\")))))))))))))))","v":""},{"$f":"IF(Benchsheet!A190>1,\"TC\",IF(Benchsheet!A190=FALSE,\"\"))","v":""},{"$f":"IF(J187=\"WL001\",\"MPN\",IF(Benchsheet!B190=FALSE,\"\",IF(J187=\"WL002\",\"MPN\",IF(J187=\"WL003\",\"MPN\",IF(J187=\"DS001\",\"TC\")))))","v":""},{"$f":"Benchsheet!E190","v":0},"",{"$f":"Benchsheet!B190","v":0},{"$f":"IF(J187=\"WL001\",\"RW001\",IF(Benchsheet!B190=FALSE,\"\",IF(J187=\"WL002\",\"RW002\",IF(J187=\"WL003\",\"RW003\",IF(J187=\"DS001\",\"TCR001\",IF(J187=\"DS001\",\"TCR01\"))))))","v":""},{"$f":"Benchsheet!D190","v":0},{"$f":"Benchsheet!G190","v":"00:00:00"},{"$f":"Benchsheet!H190","v":0},{"$f":"Benchsheet!I190","v":"00:00:00"},{"$f":"Benchsheet!F190","v":0},{"$f":"Benchsheet!P190","v":0},{"$f":"Benchsheet!O190","v":0}]
[{"$f":"IF(Benchsheet!A191>1,\"sample\",IF(Benchsheet!A191=FALSE,\"\"))","v":""},{"$f":"IF(Benchsheet!A191>1,\"STATE\",IF(Benchsheet!A191=FALSE,\"\"))","v":""},{"$f":"IF(Benchsheet!A191>1,\"00035\",IF(Benchsheet!A191=FALSE,\"\"))","v":""},{"$f":"Benchsheet!A191","v":0},{"$f":"IF(Benchsheet!C191=1121057,\"VA1121057\",IF(Benchsheet!C191=1121090,\"VA1121090\",IF(Benchsheet!C191=1121052,\"VA1121052\",IF(Benchsheet!C191=1121175,\"VA1121175\",IF(Benchsheet!C191=1121580,\"VA1121580\",IF(Benchsheet!C191=1121570,\"VA1121570\",IF(Benchsheet!C191=1121045,\"VA1121045\",IF(Benchsheet!C191=1121655,\"VA1121655\",IF(Benchsheet!C191=1121503,\"VA1121503\",IF(Benchsheet!C191=1121043,\"VA1121043\",IF(Benchsheet!C191=1121900,\"VA1121900\",IF(Benchsheet!C191=1121845,\"VA1121845\",IF(Benchsheet!C191=1121655,\"VA1121655\",IF(Benchsheet!C191=1121900,\"VA1121900\",IF(Benchsheet!C191<1,\"\")))))))))))))))","v":""},{"$f":"IF(Benchsheet!A191>1,\"TC\",IF(Benchsheet!A191=FALSE,\"\"))","v":""},{"$f":"IF(J188=\"WL001\",\"MPN\",IF(Benchsheet!B191=FALSE,\"\",IF(J188=\"WL002\",\"MPN\",IF(J188=\"WL003\",\"MPN\",IF(J188=\"DS001\",\"TC\")))))","v":""},{"$f":"Benchsheet!E191","v":0},"",{"$f":"Benchsheet!B191","v":0},{"$f":"IF(J188=\"WL001\",\"RW001\",IF(Benchsheet!B191=FALSE,\"\",IF(J188=\"WL002\",\"RW002\",IF(J188=\"WL003\",\"RW003\",IF(J188=\"DS001\",\"TCR001\",IF(J188=\"DS001\",\"TCR01\"))))))","v":""},{"$f":"Benchsheet!D191","v":0},{"$f":"Benchsheet!G191","v":"00:00:00"},{"$f":"Benchsheet!H191","v":0},{"$f":"Benchsheet!I191","v":"00:00:00"},{"$f":"Benchsheet!F191","v":0},{"$f":"Benchsheet!P191","v":0},{"$f":"Benchsheet!O191","v":0}]
[{"$f":"IF(Benchsheet!A192>1,\"sample\",IF(Benchsheet!A192=FALSE,\"\"))","v":""},{"$f":"IF(Benchsheet!A192>1,\"STATE\",IF(Benchsheet!A192=FALSE,\"\"))","v":""},{"$f":"IF(Benchsheet!A192>1,\"00035\",IF(Benchsheet!A192=FALSE,\"\"))","v":""},{"$f":"Benchsheet!A192","v":0},{"$f":"IF(Benchsheet!C192=1121057,\"VA1121057\",IF(Benchsheet!C192=1121090,\"VA1121090\",IF(Benchsheet!C192=1121052,\"VA1121052\",IF(Benchsheet!C192=1121175,\"VA1121175\",IF(Benchsheet!C192=1121580,\"VA1121580\",IF(Benchsheet!C192=1121570,\"VA1121570\",IF(Benchsheet!C192=1121045,\"VA1121045\",IF(Benchsheet!C192=1121655,\"VA1121655\",IF(Benchsheet!C192=1121503,\"VA1121503\",IF(Benchsheet!C192=1121043,\"VA1121043\",IF(Benchsheet!C192=1121900,\"VA1121900\",IF(Benchsheet!C192=1121845,\"VA1121845\",IF(Benchsheet!C192=1121655,\"VA1121655\",IF(Benchsheet!C192=1121900,\"VA1121900\",IF(Benchsheet!C192<1,\"\")))))))))))))))","v":""},{"$f":"IF(Benchsheet!A192>1,\"TC\",IF(Benchsheet!A192=FALSE,\"\"))","v":""},{"$f":"IF(J189=\"WL001\",\"MPN\",IF(Benchsheet!B192=FALSE,\"\",IF(J189=\"WL002\",\"MPN\",IF(J189=\"WL003\",\"MPN\",IF(J189=\"DS001\",\"TC\")))))","v":""},{"$f":"Benchsheet!E192","v":0},"",{"$f":"Benchsheet!B192","v":0},{"$f":"IF(J189=\"WL001\",\"RW001\",IF(Benchsheet!B192=FALSE,\"\",IF(J189=\"WL002\",\"RW002\",IF(J189=\"WL003\",\"RW003\",IF(J189=\"DS001\",\"TCR001\",IF(J189=\"DS001\",\"TCR01\"))))))","v":""},{"$f":"Benchsheet!D192","v":0},{"$f":"Benchsheet!G192","v":"00:00:00"},{"$f":"Benchsheet!H192","v":0},{"$f":"Benchsheet!I192","v":"00:00:00"},{"$f":"Benchsheet!F192","v":0},{"$f":"Benchsheet!P192","v":0},{"$f":"Benchsheet!O192","v":0}]
[{"$f":"IF(Benchsheet!A193>1,\"sample\",IF(Benchsheet!A193=FALSE,\"\"))","v":""},{"$f":"IF(Benchsheet!A193>1,\"STATE\",IF(Benchsheet!A193=FALSE,\"\"))","v":""},{"$f":"IF(Benchsheet!A193>1,\"00035\",IF(Benchsheet!A193=FALSE,\"\"))","v":""},{"$f":"Benchsheet!A193","v":0},{"$f":"IF(Benchsheet!C193=1121057,\"VA1121057\",IF(Benchsheet!C193=1121090,\"VA1121090\",IF(Benchsheet!C193=1121052,\"VA1121052\",IF(Benchsheet!C193=1121175,\"VA1121175\",IF(Benchsheet!C193=1121580,\"VA1121580\",IF(Benchsheet!C193=1121570,\"VA1121570\",IF(Benchsheet!C193=1121045,\"VA1121045\",IF(Benchsheet!C193=1121655,\"VA1121655\",IF(Benchsheet!C193=1121503,\"VA1121503\",IF(Benchsheet!C193=1121043,\"VA1121043\",IF(Benchsheet!C193=1121900,\"VA1121900\",IF(Benchsheet!C193=1121845,\"VA1121845\",IF(Benchsheet!C193=1121655,\"VA1121655\",IF(Benchsheet!C193=1121900,\"VA1121900\",IF(Benchsheet!C193<1,\"\")))))))))))))))","v":""},{"$f":"IF(Benchsheet!A193>1,\"TC\",IF(Benchsheet!A193=FALSE,\"\"))","v":""},{"$f":"IF(J190=\"WL001\",\"MPN\",IF(Benchsheet!B193=FALSE,\"\",IF(J190=\"WL002\",\"MPN\",IF(J190=\"WL003\",\"MPN\",IF(J190=\"DS001\",\"TC\")))))","v":""},{"$f":"Benchsheet!E193","v":0},"",{"$f":"Benchsheet!B193","v":0},{"$f":"IF(J190=\"WL001\",\"RW001\",IF(Benchsheet!B193=FALSE,\"\",IF(J190=\"WL002\",\"RW002\",IF(J190=\"WL003\",\"RW003\",IF(J190=\"DS001\",\"TCR001\",IF(J190=\"DS001\",\"TCR01\"))))))","v":""},{"$f":"Benchsheet!D193","v":0},{"$f":"Benchsheet!G193","v":"00:00:00"},{"$f":"Benchsheet!H193","v":0},{"$f":"Benchsheet!I193","v":"00:00:00"},{"$f":"Benchsheet!F193","v":0},{"$f":"Benchsheet!P193","v":0},{"$f":"Benchsheet!O193","v":0}]
[{"$f":"IF(Benchsheet!A194>1,\"sample\",IF(Benchsheet!A194=FALSE,\"\"))","v":""},{"$f":"IF(Benchsheet!A194>1,\"STATE\",IF(Benchsheet!A194=FALSE,\"\"))","v":""},{"$f":"IF(Benchsheet!A194>1,\"00035\",IF(Benchsheet!A194=FALSE,\"\"))","v":""},{"$f":"Benchsheet!A194","v":0},{"$f":"IF(Benchsheet!C194=1121057,\"VA1121057\",IF(Benchsheet!C194=1121090,\"VA1121090\",IF(Benchsheet!C194=1121052,\"VA1121052\",IF(Benchsheet!C194=1121175,\"VA1121175\",IF(Benchsheet!C194=1121580,\"VA1121580\",IF(Benchsheet!C194=1121570,\"VA1121570\",IF(Benchsheet!C194=1121045,\"VA1121045\",IF(Benchsheet!C194=1121655,\"VA1121655\",IF(Benchsheet!C194=1121503,\"VA1121503\",IF(Benchsheet!C194=1121043,\"VA1121043\",IF(Benchsheet!C194=1121900,\"VA1121900\",IF(Benchsheet!C194=1121845,\"VA1121845\",IF(Benchsheet!C194=1121655,\"VA1121655\",IF(Benchsheet!C194=1121900,\"VA1121900\",IF(Benchsheet!C194<1,\"\")))))))))))))))","v":""},{"$f":"IF(Benchsheet!A194>1,\"TC\",IF(Benchsheet!A194=FALSE,\"\"))","v":""},{"$f":"IF(J191=\"WL001\",\"MPN\",IF(Benchsheet!B194=FALSE,\"\",IF(J191=\"WL002\",\"MPN\",IF(J191=\"WL003\",\"MPN\",IF(J191=\"DS001\",\"TC\")))))","v":""},{"$f":"Benchsheet!E194","v":0},"",{"$f":"Benchsheet!B194","v":0},{"$f":"IF(J191=\"WL001\",\"RW001\",IF(Benchsheet!B194=FALSE,\"\",IF(J191=\"WL002\",\"RW002\",IF(J191=\"WL003\",\"RW003\",IF(J191=\"DS001\",\"TCR001\",IF(J191=\"DS001\",\"TCR01\"))))))","v":""},{"$f":"Benchsheet!D194","v":0},{"$f":"Benchsheet!G194","v":"00:00:00"},{"$f":"Benchsheet!H194","v":0},{"$f":"Benchsheet!I194","v":"00:00:00"},{"$f":"Benchsheet!F194","v":0},{"$f":"Benchsheet!P194","v":0},{"$f":"Benchsheet!O194","v":0}]
[{"$f":"IF(Benchsheet!A195>1,\"sample\",IF(Benchsheet!A195=FALSE,\"\"))","v":""},{"$f":"IF(Benchsheet!A195>1,\"STATE\",IF(Benchsheet!A195=FALSE,\"\"))","v":""},{"$f":"IF(Benchsheet!A195>1,\"00035\",IF(Benchsheet!A195=FALSE,\"\"))","v":""},{"$f":"Benchsheet!A195","v":0},{"$f":"IF(Benchsheet!C195=1121057,\"VA1121057\",IF(Benchsheet!C195=1121090,\"VA1121090\",IF(Benchsheet!C195=1121052,\"VA1121052\",IF(Benchsheet!C195=1121175,\"VA1121175\",IF(Benchsheet!C195=1121580,\"VA1121580\",IF(Benchsheet!C195=1121570,\"VA1121570\",IF(Benchsheet!C195=1121045,\"VA1121045\",IF(Benchsheet!C195=1121655,\"VA1121655\",IF(Benchsheet!C195=1121503,\"VA1121503\",IF(Benchsheet!C195=1121043,\"VA1121043\",IF(Benchsheet!C195=1121900,\"VA1121900\",IF(Benchsheet!C195=1121845,\"VA1121845\",IF(Benchsheet!C195=1121655,\"VA1121655\",IF(Benchsheet!C195=1121900,\"VA1121900\",IF(Benchsheet!C195<1,\"\")))))))))))))))","v":""},{"$f":"IF(Benchsheet!A195>1,\"TC\",IF(Benchsheet!A195=FALSE,\"\"))","v":""},{"$f":"IF(J192=\"WL001\",\"MPN\",IF(Benchsheet!B195=FALSE,\"\",IF(J192=\"WL002\",\"MPN\",IF(J192=\"WL003\",\"MPN\",IF(J192=\"DS001\",\"TC\")))))","v":""},{"$f":"Benchsheet!E195","v":0},"",{"$f":"Benchsheet!B195","v":0},{"$f":"IF(J192=\"WL001\",\"RW001\",IF(Benchsheet!B195=FALSE,\"\",IF(J192=\"WL002\",\"RW002\",IF(J192=\"WL003\",\"RW003\",IF(J192=\"DS001\",\"TCR001\",IF(J192=\"DS001\",\"TCR01\"))))))","v":""},{"$f":"Benchsheet!D195","v":0},{"$f":"Benchsheet!G195","v":"00:00:00"},{"$f":"Benchsheet!H195","v":0},{"$f":"Benchsheet!I195","v":"00:00:00"},{"$f":"Benchsheet!F195","v":0},{"$f":"Benchsheet!P195","v":0},{"$f":"Benchsheet!O195","v":0}]
[{"$f":"IF(Benchsheet!A196>1,\"sample\",IF(Benchsheet!A196=FALSE,\"\"))","v":""},{"$f":"IF(Benchsheet!A196>1,\"STATE\",IF(Benchsheet!A196=FALSE,\"\"))","v":""},{"$f":"IF(Benchsheet!A196>1,\"00035\",IF(Benchsheet!A196=FALSE,\"\"))","v":""},{"$f":"Benchsheet!A196","v":0},{"$f":"IF(Benchsheet!C196=1121057,\"VA1121057\",IF(Benchsheet!C196=1121090,\"VA1121090\",IF(Benchsheet!C196=1121052,\"VA1121052\",IF(Benchsheet!C196=1121175,\"VA1121175\",IF(Benchsheet!C196=1121580,\"VA1121580\",IF(Benchsheet!C196=1121570,\"VA1121570\",IF(Benchsheet!C196=1121045,\"VA1121045\",IF(Benchsheet!C196=1121655,\"VA1121655\",IF(Benchsheet!C196=1121503,\"VA1121503\",IF(Benchsheet!C196=1121043,\"VA1121043\",IF(Benchsheet!C196=1121900,\"VA1121900\",IF(Benchsheet!C196=1121845,\"VA1121845\",IF(Benchsheet!C196=1121655,\"VA1121655\",IF(Benchsheet!C196=1121900,\"VA1121900\",IF(Benchsheet!C196<1,\"\")))))))))))))))","v":""},{"$f":"IF(Benchsheet!A196>1,\"TC\",IF(Benchsheet!A196=FALSE,\"\"))","v":""},{"$f":"IF(J193=\"WL001\",\"MPN\",IF(Benchsheet!B196=FALSE,\"\",IF(J193=\"WL002\",\"MPN\",IF(J193=\"WL003\",\"MPN\",IF(J193=\"DS001\",\"TC\")))))","v":""},{"$f":"Benchsheet!E196","v":0},"",{"$f":"Benchsheet!B196","v":0},{"$f":"IF(J193=\"WL001\",\"RW001\",IF(Benchsheet!B196=FALSE,\"\",IF(J193=\"WL002\",\"RW002\",IF(J193=\"WL003\",\"RW003\",IF(J193=\"DS001\",\"TCR001\",IF(J193=\"DS001\",\"TCR01\"))))))","v":""},{"$f":"Benchsheet!D196","v":0},{"$f":"Benchsheet!G196","v":"00:00:00"},{"$f":"Benchsheet!H196","v":0},{"$f":"Benchsheet!I196","v":"00:00:00"},{"$f":"Benchsheet!F196","v":0},{"$f":"Benchsheet!P196","v":0},{"$f":"Benchsheet!O196","v":0}]
[{"$f":"IF(Benchsheet!A197>1,\"sample\",IF(Benchsheet!A197=FALSE,\"\"))","v":""},{"$f":"IF(Benchsheet!A197>1,\"STATE\",IF(Benchsheet!A197=FALSE,\"\"))","v":""},{"$f":"IF(Benchsheet!A197>1,\"00035\",IF(Benchsheet!A197=FALSE,\"\"))","v":""},{"$f":"Benchsheet!A197","v":0},{"$f":"IF(Benchsheet!C197=1121057,\"VA1121057\",IF(Benchsheet!C197=1121090,\"VA1121090\",IF(Benchsheet!C197=1121052,\"VA1121052\",IF(Benchsheet!C197=1121175,\"VA1121175\",IF(Benchsheet!C197=1121580,\"VA1121580\",IF(Benchsheet!C197=1121570,\"VA1121570\",IF(Benchsheet!C197=1121045,\"VA1121045\",IF(Benchsheet!C197=1121655,\"VA1121655\",IF(Benchsheet!C197=1121503,\"VA1121503\",IF(Benchsheet!C197=1121043,\"VA1121043\",IF(Benchsheet!C197=1121900,\"VA1121900\",IF(Benchsheet!C197=1121845,\"VA1121845\",IF(Benchsheet!C197=1121655,\"VA1121655\",IF(Benchsheet!C197=1121900,\"VA1121900\",IF(Benchsheet!C197<1,\"\")))))))))))))))","v":""},{"$f":"IF(Benchsheet!A197>1,\"TC\",IF(Benchsheet!A197=FALSE,\"\"))","v":""},{"$f":"IF(J194=\"WL001\",\"MPN\",IF(Benchsheet!B197=FALSE,\"\",IF(J194=\"WL002\",\"MPN\",IF(J194=\"WL003\",\"MPN\",IF(J194=\"DS001\",\"TC\")))))","v":""},{"$f":"Benchsheet!E197","v":0},"",{"$f":"Benchsheet!B197","v":0},{"$f":"IF(J194=\"WL001\",\"RW001\",IF(Benchsheet!B197=FALSE,\"\",IF(J194=\"WL002\",\"RW002\",IF(J194=\"WL003\",\"RW003\",IF(J194=\"DS001\",\"TCR001\",IF(J194=\"DS001\",\"TCR01\"))))))","v":""},{"$f":"Benchsheet!D197","v":0},{"$f":"Benchsheet!G197","v":"00:00:00"},{"$f":"Benchsheet!H197","v":0},{"$f":"Benchsheet!I197","v":"00:00:00"},{"$f":"Benchsheet!F197","v":0},{"$f":"Benchsheet!P197","v":0},{"$f":"Benchsheet!O197","v":0}]
[{"$f":"IF(Benchsheet!A198>1,\"sample\",IF(Benchsheet!A198=FALSE,\"\"))","v":""},{"$f":"IF(Benchsheet!A198>1,\"STATE\",IF(Benchsheet!A198=FALSE,\"\"))","v":""},{"$f":"IF(Benchsheet!A198>1,\"00035\",IF(Benchsheet!A198=FALSE,\"\"))","v":""},{"$f":"Benchsheet!A198","v":0},{"$f":"IF(Benchsheet!C198=1121057,\"VA1121057\",IF(Benchsheet!C198=1121090,\"VA1121090\",IF(Benchsheet!C198=1121052,\"VA1121052\",IF(Benchsheet!C198=1121175,\"VA1121175\",IF(Benchsheet!C198=1121580,\"VA1121580\",IF(Benchsheet!C198=1121570,\"VA1121570\",IF(Benchsheet!C198=1121045,\"VA1121045\",IF(Benchsheet!C198=1121655,\"VA1121655\",IF(Benchsheet!C198=1121503,\"VA1121503\",IF(Benchsheet!C198=1121043,\"VA1121043\",IF(Benchsheet!C198=1121900,\"VA1121900\",IF(Benchsheet!C198=1121845,\"VA1121845\",IF(Benchsheet!C198=1121655,\"VA1121655\",IF(Benchsheet!C198=1121900,\"VA1121900\",IF(Benchsheet!C198<1,\"\")))))))))))))))","v":""},{"$f":"IF(Benchsheet!A198>1,\"TC\",IF(Benchsheet!A198=FALSE,\"\"))","v":""},{"$f":"IF(J195=\"WL001\",\"MPN\",IF(Benchsheet!B198=FALSE,\"\",IF(J195=\"WL002\",\"MPN\",IF(J195=\"WL003\",\"MPN\",IF(J195=\"DS001\",\"TC\")))))","v":""},{"$f":"Benchsheet!E198","v":0},{"$f":"IF(H195=\"RT\",\"Y\",IF(H195=\"SP\",\"N\",IF(H195=\"RP\",\"Y\",IF(H195=\"GE\",\"Y\",\"\"))))","v":""},{"$f":"Benchsheet!B198","v":0},{"$f":"IF(J195=\"WL001\",\"RW001\",IF(Benchsheet!B198=FALSE,\"\",IF(J195=\"WL002\",\"RW002\",IF(J195=\"WL003\",\"RW003\",IF(J195=\"DS001\",\"TCR001\",IF(J195=\"DS001\",\"TCR01\"))))))","v":""},{"$f":"Benchsheet!D198","v":0},{"$f":"Benchsheet!G198","v":"00:00:00"},{"$f":"Benchsheet!H198","v":0},{"$f":"Benchsheet!I198","v":"00:00:00"},{"$f":"Benchsheet!F198","v":0},{"$f":"Benchsheet!P198","v":0},{"$f":"Benchsheet!O198","v":0}]
[{"$f":"IF(Benchsheet!A199>1,\"sample\",IF(Benchsheet!A199=FALSE,\"\"))","v":""},{"$f":"IF(Benchsheet!A199>1,\"STATE\",IF(Benchsheet!A199=FALSE,\"\"))","v":""},{"$f":"IF(Benchsheet!A199>1,\"00035\",IF(Benchsheet!A199=FALSE,\"\"))","v":""},{"$f":"Benchsheet!A199","v":0},{"$f":"IF(Benchsheet!C199=1121057,\"VA1121057\",IF(Benchsheet!C199=1121090,\"VA1121090\",IF(Benchsheet!C199=1121052,\"VA1121052\",IF(Benchsheet!C199=1121175,\"VA1121175\",IF(Benchsheet!C199=1121580,\"VA1121580\",IF(Benchsheet!C199=1121570,\"VA1121570\",IF(Benchsheet!C199=1121045,\"VA1121045\",IF(Benchsheet!C199=1121655,\"VA1121655\",IF(Benchsheet!C199=1121503,\"VA1121503\",IF(Benchsheet!C199=1121043,\"VA1121043\",IF(Benchsheet!C199=1121900,\"VA1121900\",IF(Benchsheet!C199=1121845,\"VA1121845\",IF(Benchsheet!C199=1121655,\"VA1121655\",IF(Benchsheet!C199=1121900,\"VA1121900\",IF(Benchsheet!C199<1,\"\")))))))))))))))","v":""},{"$f":"IF(Benchsheet!A199>1,\"TC\",IF(Benchsheet!A199=FALSE,\"\"))","v":""},{"$f":"IF(J196=\"WL001\",\"MPN\",IF(Benchsheet!B199=FALSE,\"\",IF(J196=\"WL002\",\"MPN\",IF(J196=\"WL003\",\"MPN\",IF(J196=\"DS001\",\"TC\")))))","v":""},{"$f":"Benchsheet!E199","v":0},"",{"$f":"Benchsheet!B199","v":0},{"$f":"IF(J196=\"WL001\",\"RW001\",IF(Benchsheet!B199=FALSE,\"\",IF(J196=\"WL002\",\"RW002\",IF(J196=\"WL003\",\"RW003\",IF(J196=\"DS001\",\"TCR001\",IF(J196=\"DS001\",\"TCR01\"))))))","v":""},{"$f":"Benchsheet!D199","v":0},{"$f":"Benchsheet!G199","v":"00:00:00"},{"$f":"Benchsheet!H199","v":0},{"$f":"Benchsheet!I199","v":"00:00:00"},{"$f":"Benchsheet!F199","v":0},{"$f":"Benchsheet!P199","v":0},{"$f":"Benchsheet!O199","v":0}]
[{"$f":"IF(Benchsheet!A200>1,\"sample\",IF(Benchsheet!A200=FALSE,\"\"))","v":""},{"$f":"IF(Benchsheet!A200>1,\"STATE\",IF(Benchsheet!A200=FALSE,\"\"))","v":""},{"$f":"IF(Benchsheet!A200>1,\"00035\",IF(Benchsheet!A200=FALSE,\"\"))","v":""},{"$f":"Benchsheet!A200","v":0},{"$f":"IF(Benchsheet!C200=1121057,\"VA1121057\",IF(Benchsheet!C200=1121090,\"VA1121090\",IF(Benchsheet!C200=1121052,\"VA1121052\",IF(Benchsheet!C200=1121175,\"VA1121175\",IF(Benchsheet!C200=1121580,\"VA1121580\",IF(Benchsheet!C200=1121570,\"VA1121570\",IF(Benchsheet!C200=1121045,\"VA1121045\",IF(Benchsheet!C200=1121655,\"VA1121655\",IF(Benchsheet!C200=1121503,\"VA1121503\",IF(Benchsheet!C200=1121043,\"VA1121043\",IF(Benchsheet!C200=1121900,\"VA1121900\",IF(Benchsheet!C200=1121845,\"VA1121845\",IF(Benchsheet!C200=1121655,\"VA1121655\",IF(Benchsheet!C200=1121900,\"VA1121900\",IF(Benchsheet!C200<1,\"\")))))))))))))))","v":""},{"$f":"IF(Benchsheet!A200>1,\"TC\",IF(Benchsheet!A200=FALSE,\"\"))","v":""},{"$f":"IF(J197=\"WL001\",\"MPN\",IF(Benchsheet!B200=FALSE,\"\",IF(J197=\"WL002\",\"MPN\",IF(J197=\"WL003\",\"MPN\",IF(J197=\"DS001\",\"TC\")))))","v":""},{"$f":"Benchsheet!E200","v":0},"",{"$f":"Benchsheet!B200","v":0},{"$f":"IF(J197=\"WL001\",\"RW001\",IF(Benchsheet!B200=FALSE,\"\",IF(J197=\"WL002\",\"RW002\",IF(J197=\"WL003\",\"RW003\",IF(J197=\"DS001\",\"TCR001\",IF(J197=\"DS001\",\"TCR01\"))))))","v":""},{"$f":"Benchsheet!D200","v":0},{"$f":"Benchsheet!G200","v":"00:00:00"},{"$f":"Benchsheet!H200","v":0},{"$f":"Benchsheet!I200","v":"00:00:00"},{"$f":"Benchsheet!F200","v":0},{"$f":"Benchsheet!P200","v":0},{"$f":"Benchsheet!O200","v":0}]
[{"$f":"IF(Benchsheet!A201>1,\"sample\",IF(Benchsheet!A201=FALSE,\"\"))","v":""},{"$f":"IF(Benchsheet!A201>1,\"STATE\",IF(Benchsheet!A201=FALSE,\"\"))","v":""},{"$f":"IF(Benchsheet!A201>1,\"00035\",IF(Benchsheet!A201=FALSE,\"\"))","v":""},{"$f":"Benchsheet!A201","v":0},{"$f":"IF(Benchsheet!C201=1121057,\"VA1121057\",IF(Benchsheet!C201=1121090,\"VA1121090\",IF(Benchsheet!C201=1121052,\"VA1121052\",IF(Benchsheet!C201=1121175,\"VA1121175\",IF(Benchsheet!C201=1121580,\"VA1121580\",IF(Benchsheet!C201=1121570,\"VA1121570\",IF(Benchsheet!C201=1121045,\"VA1121045\",IF(Benchsheet!C201=1121655,\"VA1121655\",IF(Benchsheet!C201=1121503,\"VA1121503\",IF(Benchsheet!C201=1121043,\"VA1121043\",IF(Benchsheet!C201=1121900,\"VA1121900\",IF(Benchsheet!C201=1121845,\"VA1121845\",IF(Benchsheet!C201=1121655,\"VA1121655\",IF(Benchsheet!C201=1121900,\"VA1121900\",IF(Benchsheet!C201<1,\"\")))))))))))))))","v":""},{"$f":"IF(Benchsheet!A201>1,\"TC\",IF(Benchsheet!A201=FALSE,\"\"))","v":""},{"$f":"IF(J198=\"WL001\",\"MPN\",IF(Benchsheet!B201=FALSE,\"\",IF(J198=\"WL002\",\"MPN\",IF(J198=\"WL003\",\"MPN\",IF(J198=\"DS001\",\"TC\")))))","v":""},{"$f":"Benchsheet!E201","v":0},"",{"$f":"Benchsheet!B201","v":0},{"$f":"IF(J198=\"WL001\",\"RW001\",IF(Benchsheet!B201=FALSE,\"\",IF(J198=\"WL002\",\"RW002\",IF(J198=\"WL003\",\"RW003\",IF(J198=\"DS001\",\"TCR001\",IF(J198=\"DS001\",\"TCR01\"))))))","v":""},{"$f":"Benchsheet!D201","v":0},{"$f":"Benchsheet!G201","v":"00:00:00"},{"$f":"Benchsheet!H201","v":0},{"$f":"Benchsheet!I201","v":"00:00:00"},{"$f":"Benchsheet!F201","v":0},{"$f":"Benchsheet!P201","v":0},{"$f":"Benchsheet!O201","v":0}]
[{"$f":"IF(Benchsheet!A202>1,\"sample\",IF(Benchsheet!A202=FALSE,\"\"))","v":""},{"$f":"IF(Benchsheet!A202>1,\"STATE\",IF(Benchsheet!A202=FALSE,\"\"))","v":""},{"$f":"IF(Benchsheet!A202>1,\"00035\",IF(Benchsheet!A202=FALSE,\"\"))","v":""},{"$f":"Benchsheet!A202","v":0},{"$f":"IF(Benchsheet!C202=1121057,\"VA1121057\",IF(Benchsheet!C202=1121090,\"VA1121090\",IF(Benchsheet!C202=1121052,\"VA1121052\",IF(Benchsheet!C202=1121175,\"VA1121175\",IF(Benchsheet!C202=1121580,\"VA1121580\",IF(Benchsheet!C202=1121570,\"VA1121570\",IF(Benchsheet!C202=1121045,\"VA1121045\",IF(Benchsheet!C202=1121655,\"VA1121655\",IF(Benchsheet!C202=1121503,\"VA1121503\",IF(Benchsheet!C202=1121043,\"VA1121043\",IF(Benchsheet!C202=1121900,\"VA1121900\",IF(Benchsheet!C202=1121845,\"VA1121845\",IF(Benchsheet!C202=1121655,\"VA1121655\",IF(Benchsheet!C202=1121900,\"VA1121900\",IF(Benchsheet!C202<1,\"\")))))))))))))))","v":""},{"$f":"IF(Benchsheet!A202>1,\"TC\",IF(Benchsheet!A202=FALSE,\"\"))","v":""},{"$f":"IF(J199=\"WL001\",\"MPN\",IF(Benchsheet!B202=FALSE,\"\",IF(J199=\"WL002\",\"MPN\",IF(J199=\"WL003\",\"MPN\",IF(J199=\"DS001\",\"TC\")))))","v":""},{"$f":"Benchsheet!E202","v":0},"",{"$f":"Benchsheet!B202","v":0},{"$f":"IF(J199=\"WL001\",\"RW001\",IF(Benchsheet!B202=FALSE,\"\",IF(J199=\"WL002\",\"RW002\",IF(J199=\"WL003\",\"RW003\",IF(J199=\"DS001\",\"TCR001\",IF(J199=\"DS001\",\"TCR01\"))))))","v":""},{"$f":"Benchsheet!D202","v":0},{"$f":"Benchsheet!G202","v":"00:00:00"},{"$f":"Benchsheet!H202","v":0},{"$f":"Benchsheet!I202","v":"00:00:00"},{"$f":"Benchsheet!F202","v":0},{"$f":"Benchsheet!P202","v":0},{"$f":"Benchsheet!O202","v":0}]
[{"$f":"IF(Benchsheet!A203>1,\"sample\",IF(Benchsheet!A203=FALSE,\"\"))","v":""},{"$f":"IF(Benchsheet!A203>1,\"STATE\",IF(Benchsheet!A203=FALSE,\"\"))","v":""},{"$f":"IF(Benchsheet!A203>1,\"00035\",IF(Benchsheet!A203=FALSE,\"\"))","v":""},{"$f":"Benchsheet!A203","v":0},{"$f":"IF(Benchsheet!C203=1121057,\"VA1121057\",IF(Benchsheet!C203=1121090,\"VA1121090\",IF(Benchsheet!C203=1121052,\"VA1121052\",IF(Benchsheet!C203=1121175,\"VA1121175\",IF(Benchsheet!C203=1121580,\"VA1121580\",IF(Benchsheet!C203=1121570,\"VA1121570\",IF(Benchsheet!C203=1121045,\"VA1121045\",IF(Benchsheet!C203=1121655,\"VA1121655\",IF(Benchsheet!C203=1121503,\"VA1121503\",IF(Benchsheet!C203=1121043,\"VA1121043\",IF(Benchsheet!C203=1121900,\"VA1121900\",IF(Benchsheet!C203=1121845,\"VA1121845\",IF(Benchsheet!C203=1121655,\"VA1121655\",IF(Benchsheet!C203=1121900,\"VA1121900\",IF(Benchsheet!C203<1,\"\")))))))))))))))","v":""},{"$f":"IF(Benchsheet!A203>1,\"TC\",IF(Benchsheet!A203=FALSE,\"\"))","v":""},{"$f":"IF(J200=\"WL001\",\"MPN\",IF(Benchsheet!B203=FALSE,\"\",IF(J200=\"WL002\",\"MPN\",IF(J200=\"WL003\",\"MPN\",IF(J200=\"DS001\",\"TC\")))))","v":""},{"$f":"Benchsheet!E203","v":0},"",{"$f":"Benchsheet!B203","v":0},{"$f":"IF(J200=\"WL001\",\"RW001\",IF(Benchsheet!B203=FALSE,\"\",IF(J200=\"WL002\",\"RW002\",IF(J200=\"WL003\",\"RW003\",IF(J200=\"DS001\",\"TCR001\",IF(J200=\"DS001\",\"TCR01\"))))))","v":""},{"$f":"Benchsheet!D203","v":0},{"$f":"Benchsheet!G203","v":"00:00:00"},{"$f":"Benchsheet!H203","v":0},{"$f":"Benchsheet!I203","v":"00:00:00"},{"$f":"Benchsheet!F203","v":0},{"$f":"Benchsheet!P203","v":0},{"$f":"Benchsheet!O203","v":0}]
[{"$f":"IF(Benchsheet!A204>1,\"sample\",IF(Benchsheet!A204=FALSE,\"\"))","v":""},{"$f":"IF(Benchsheet!A204>1,\"STATE\",IF(Benchsheet!A204=FALSE,\"\"))","v":""},{"$f":"IF(Benchsheet!A204>1,\"00035\",IF(Benchsheet!A204=FALSE,\"\"))","v":""},{"$f":"Benchsheet!A204","v":0},{"$f":"IF(Benchsheet!C204=1121057,\"VA1121057\",IF(Benchsheet!C204=1121090,\"VA1121090\",IF(Benchsheet!C204=1121052,\"VA1121052\",IF(Benchsheet!C204=1121175,\"VA1121175\",IF(Benchsheet!C204=1121580,\"VA1121580\",IF(Benchsheet!C204=1121570,\"VA1121570\",IF(Benchsheet!C204=1121045,\"VA1121045\",IF(Benchsheet!C204=1121655,\"VA1121655\",IF(Benchsheet!C204=1121503,\"VA1121503\",IF(Benchsheet!C204=1121043,\"VA1121043\",IF(Benchsheet!C204=1121900,\"VA1121900\",IF(Benchsheet!C204=1121845,\"VA1121845\",IF(Benchsheet!C204=1121655,\"VA1121655\",IF(Benchsheet!C204=1121900,\"VA1121900\",IF(Benchsheet!C204<1,\"\")))))))))))))))","v":""},{"$f":"IF(Benchsheet!A204>1,\"TC\",IF(Benchsheet!A204=FALSE,\"\"))","v":""},{"$f":"IF(J201=\"WL001\",\"MPN\",IF(Benchsheet!B204=FALSE,\"\",IF(J201=\"WL002\",\"MPN\",IF(J201=\"WL003\",\"MPN\",IF(J201=\"DS001\",\"TC\")))))","v":""},{"$f":"Benchsheet!E204","v":0},"",{"$f":"Benchsheet!B204","v":0},{"$f":"IF(J201=\"WL001\",\"RW001\",IF(Benchsheet!B204=FALSE,\"\",IF(J201=\"WL002\",\"RW002\",IF(J201=\"WL003\",\"RW003\",IF(J201=\"DS001\",\"TCR001\",IF(J201=\"DS001\",\"TCR01\"))))))","v":""},{"$f":"Benchsheet!D204","v":0},{"$f":"Benchsheet!G204","v":"00:00:00"},{"$f":"Benchsheet!H204","v":0},{"$f":"Benchsheet!I204","v":"00:00:00"},{"$f":"Benchsheet!F204","v":0},{"$f":"Benchsheet!P204","v":0},{"$f":"Benchsheet!O204","v":0}]
[{"$f":"IF(Benchsheet!A205>1,\"sample\",IF(Benchsheet!A205=FALSE,\"\"))","v":""},{"$f":"IF(Benchsheet!A205>1,\"STATE\",IF(Benchsheet!A205=FALSE,\"\"))","v":""},{"$f":"IF(Benchsheet!A205>1,\"00035\",IF(Benchsheet!A205=FALSE,\"\"))","v":""},{"$f":"Benchsheet!A205","v":0},{"$f":"IF(Benchsheet!C205=1121057,\"VA1121057\",IF(Benchsheet!C205=1121090,\"VA1121090\",IF(Benchsheet!C205=1121052,\"VA1121052\",IF(Benchsheet!C205=1121175,\"VA1121175\",IF(Benchsheet!C205=1121580,\"VA1121580\",IF(Benchsheet!C205=1121570,\"VA1121570\",IF(Benchsheet!C205=1121045,\"VA1121045\",IF(Benchsheet!C205=1121655,\"VA1121655\",IF(Benchsheet!C205=1121503,\"VA1121503\",IF(Benchsheet!C205=1121043,\"VA1121043\",IF(Benchsheet!C205=1121900,\"VA1121900\",IF(Benchsheet!C205=1121845,\"VA1121845\",IF(Benchsheet!C205=1121655,\"VA1121655\",IF(Benchsheet!C205=1121900,\"VA1121900\",IF(Benchsheet!C205<1,\"\")))))))))))))))","v":""},{"$f":"IF(Benchsheet!A205>1,\"TC\",IF(Benchsheet!A205=FALSE,\"\"))","v":""},{"$f":"IF(J202=\"WL001\",\"MPN\",IF(Benchsheet!B205=FALSE,\"\",IF(J202=\"WL002\",\"MPN\",IF(J202=\"WL003\",\"MPN\",IF(J202=\"DS001\",\"TC\")))))","v":""},{"$f":"Benchsheet!E205","v":0},"",{"$f":"Benchsheet!B205","v":0},{"$f":"IF(J202=\"WL001\",\"RW001\",IF(Benchsheet!B205=FALSE,\"\",IF(J202=\"WL002\",\"RW002\",IF(J202=\"WL003\",\"RW003\",IF(J202=\"DS001\",\"TCR001\",IF(J202=\"DS001\",\"TCR01\"))))))","v":""},{"$f":"Benchsheet!D205","v":0},{"$f":"Benchsheet!G205","v":"00:00:00"},{"$f":"Benchsheet!H205","v":0},{"$f":"Benchsheet!I205","v":"00:00:00"},{"$f":"Benchsheet!F205","v":0},{"$f":"Benchsheet!P205","v":0},{"$f":"Benchsheet!O205","v":0}]
[{"$f":"IF(Benchsheet!A206>1,\"sample\",IF(Benchsheet!A206=FALSE,\"\"))","v":""},{"$f":"IF(Benchsheet!A206>1,\"STATE\",IF(Benchsheet!A206=FALSE,\"\"))","v":""},{"$f":"IF(Benchsheet!A206>1,\"00035\",IF(Benchsheet!A206=FALSE,\"\"))","v":""},{"$f":"Benchsheet!A206","v":0},{"$f":"IF(Benchsheet!C206=1121057,\"VA1121057\",IF(Benchsheet!C206=1121090,\"VA1121090\",IF(Benchsheet!C206=1121052,\"VA1121052\",IF(Benchsheet!C206=1121175,\"VA1121175\",IF(Benchsheet!C206=1121580,\"VA1121580\",IF(Benchsheet!C206=1121570,\"VA1121570\",IF(Benchsheet!C206=1121045,\"VA1121045\",IF(Benchsheet!C206=1121655,\"VA1121655\",IF(Benchsheet!C206=1121503,\"VA1121503\",IF(Benchsheet!C206=1121043,\"VA1121043\",IF(Benchsheet!C206=1121900,\"VA1121900\",IF(Benchsheet!C206=1121845,\"VA1121845\",IF(Benchsheet!C206=1121655,\"VA1121655\",IF(Benchsheet!C206=1121900,\"VA1121900\",IF(Benchsheet!C206<1,\"\")))))))))))))))","v":""},{"$f":"IF(Benchsheet!A206>1,\"TC\",IF(Benchsheet!A206=FALSE,\"\"))","v":""},{"$f":"IF(J203=\"WL001\",\"MPN\",IF(Benchsheet!B206=FALSE,\"\",IF(J203=\"WL002\",\"MPN\",IF(J203=\"WL003\",\"MPN\",IF(J203=\"DS001\",\"TC\")))))","v":""},{"$f":"Benchsheet!E206","v":0},"",{"$f":"Benchsheet!B206","v":0},{"$f":"IF(J203=\"WL001\",\"RW001\",IF(Benchsheet!B206=FALSE,\"\",IF(J203=\"WL002\",\"RW002\",IF(J203=\"WL003\",\"RW003\",IF(J203=\"DS001\",\"TCR001\",IF(J203=\"DS001\",\"TCR01\"))))))","v":""},{"$f":"Benchsheet!D206","v":0},{"$f":"Benchsheet!G206","v":"00:00:00"},{"$f":"Benchsheet!H206","v":0},{"$f":"Benchsheet!I206","v":"00:00:00"},{"$f":"Benchsheet!F206","v":0},{"$f":"Benchsheet!P206","v":0},{"$f":"Benchsheet!O206","v":0}]
[{"$f":"IF(Benchsheet!A207>1,\"sample\",IF(Benchsheet!A207=FALSE,\"\"))","v":""},{"$f":"IF(Benchsheet!A207>1,\"STATE\",IF(Benchsheet!A207=FALSE,\"\"))","v":""},{"$f":"IF(Benchsheet!A207>1,\"00035\",IF(Benchsheet!A207=FALSE,\"\"))","v":""},{"$f":"Benchsheet!A207","v":0},{"$f":"IF(Benchsheet!C207=1121057,\"VA1121057\",IF(Benchsheet!C207=1121090,\"VA1121090\",IF(Benchsheet!C207=1121052,\"VA1121052\",IF(Benchsheet!C207=1121175,\"VA1121175\",IF(Benchsheet!C207=1121580,\"VA1121580\",IF(Benchsheet!C207=1121570,\"VA1121570\",IF(Benchsheet!C207=1121045,\"VA1121045\",IF(Benchsheet!C207=1121655,\"VA1121655\",IF(Benchsheet!C207=1121503,\"VA1121503\",IF(Benchsheet!C207=1121043,\"VA1121043\",IF(Benchsheet!C207=1121900,\"VA1121900\",IF(Benchsheet!C207=1121845,\"VA1121845\",IF(Benchsheet!C207=1121655,\"VA1121655\",IF(Benchsheet!C207=1121900,\"VA1121900\",IF(Benchsheet!C207<1,\"\")))))))))))))))","v":""},{"$f":"IF(Benchsheet!A207>1,\"TC\",IF(Benchsheet!A207=FALSE,\"\"))","v":""},{"$f":"IF(J204=\"WL001\",\"MPN\",IF(Benchsheet!B207=FALSE,\"\",IF(J204=\"WL002\",\"MPN\",IF(J204=\"WL003\",\"MPN\",IF(J204=\"DS001\",\"TC\")))))","v":""},{"$f":"Benchsheet!E207","v":0},"",{"$f":"Benchsheet!B207","v":0},{"$f":"IF(J204=\"WL001\",\"RW001\",IF(Benchsheet!B207=FALSE,\"\",IF(J204=\"WL002\",\"RW002\",IF(J204=\"WL003\",\"RW003\",IF(J204=\"DS001\",\"TCR001\",IF(J204=\"DS001\",\"TCR01\"))))))","v":""},{"$f":"Benchsheet!D207","v":0},{"$f":"Benchsheet!G207","v":"00:00:00"},{"$f":"Benchsheet!H207","v":0},{"$f":"Benchsheet!I207","v":"00:00:00"},{"$f":"Benchsheet!F207","v":0},{"$f":"Benchsheet!P207","v":0},{"$f":"Benchsheet!O207","v":0}]
[{"$f":"IF(Benchsheet!A208>1,\"sample\",IF(Benchsheet!A208=FALSE,\"\"))","v":""},{"$f":"IF(Benchsheet!A208>1,\"STATE\",IF(Benchsheet!A208=FALSE,\"\"))","v":""},{"$f":"IF(Benchsheet!A208>1,\"00035\",IF(Benchsheet!A208=FALSE,\"\"))","v":""},{"$f":"Benchsheet!A208","v":0},{"$f":"IF(Benchsheet!C208=1121057,\"VA1121057\",IF(Benchsheet!C208=1121090,\"VA1121090\",IF(Benchsheet!C208=1121052,\"VA1121052\",IF(Benchsheet!C208=1121175,\"VA1121175\",IF(Benchsheet!C208=1121580,\"VA1121580\",IF(Benchsheet!C208=1121570,\"VA1121570\",IF(Benchsheet!C208=1121045,\"VA1121045\",IF(Benchsheet!C208=1121655,\"VA1121655\",IF(Benchsheet!C208=1121503,\"VA1121503\",IF(Benchsheet!C208=1121043,\"VA1121043\",IF(Benchsheet!C208=1121900,\"VA1121900\",IF(Benchsheet!C208=1121845,\"VA1121845\",IF(Benchsheet!C208=1121655,\"VA1121655\",IF(Benchsheet!C208=1121900,\"VA1121900\",IF(Benchsheet!C208<1,\"\")))))))))))))))","v":""},{"$f":"IF(Benchsheet!A208>1,\"TC\",IF(Benchsheet!A208=FALSE,\"\"))","v":""},{"$f":"IF(J205=\"WL001\",\"MPN\",IF(Benchsheet!B208=FALSE,\"\",IF(J205=\"WL002\",\"MPN\",IF(J205=\"WL003\",\"MPN\",IF(J205=\"DS001\",\"TC\")))))","v":""},{"$f":"Benchsheet!E208","v":0},"",{"$f":"Benchsheet!B208","v":0},{"$f":"IF(J205=\"WL001\",\"RW001\",IF(Benchsheet!B208=FALSE,\"\",IF(J205=\"WL002\",\"RW002\",IF(J205=\"WL003\",\"RW003\",IF(J205=\"DS001\",\"TCR001\",IF(J205=\"DS001\",\"TCR01\"))))))","v":""},{"$f":"Benchsheet!D208","v":0},{"$f":"Benchsheet!G208","v":"00:00:00"},{"$f":"Benchsheet!H208","v":0},{"$f":"Benchsheet!I208","v":"00:00:00"},{"$f":"Benchsheet!F208","v":0},{"$f":"Benchsheet!P208","v":0},{"$f":"Benchsheet!O208","v":0}]
[{"$f":"IF(Benchsheet!A209>1,\"sample\",IF(Benchsheet!A209=FALSE,\"\"))","v":""},{"$f":"IF(Benchsheet!A209>1,\"STATE\",IF(Benchsheet!A209=FALSE,\"\"))","v":""},{"$f":"IF(Benchsheet!A209>1,\"00035\",IF(Benchsheet!A209=FALSE,\"\"))","v":""},{"$f":"Benchsheet!A209","v":0},{"$f":"IF(Benchsheet!C209=1121057,\"VA1121057\",IF(Benchsheet!C209=1121090,\"VA1121090\",IF(Benchsheet!C209=1121052,\"VA1121052\",IF(Benchsheet!C209=1121175,\"VA1121175\",IF(Benchsheet!C209=1121580,\"VA1121580\",IF(Benchsheet!C209=1121570,\"VA1121570\",IF(Benchsheet!C209=1121045,\"VA1121045\",IF(Benchsheet!C209=1121655,\"VA1121655\",IF(Benchsheet!C209=1121503,\"VA1121503\",IF(Benchsheet!C209=1121043,\"VA1121043\",IF(Benchsheet!C209=1121900,\"VA1121900\",IF(Benchsheet!C209=1121845,\"VA1121845\",IF(Benchsheet!C209=1121655,\"VA1121655\",IF(Benchsheet!C209=1121900,\"VA1121900\",IF(Benchsheet!C209<1,\"\")))))))))))))))","v":""},{"$f":"IF(Benchsheet!A209>1,\"TC\",IF(Benchsheet!A209=FALSE,\"\"))","v":""},{"$f":"IF(J206=\"WL001\",\"MPN\",IF(Benchsheet!B209=FALSE,\"\",IF(J206=\"WL002\",\"MPN\",IF(J206=\"WL003\",\"MPN\",IF(J206=\"DS001\",\"TC\")))))","v":""},{"$f":"Benchsheet!E209","v":0},"",{"$f":"Benchsheet!B209","v":0},{"$f":"IF(J206=\"WL001\",\"RW001\",IF(Benchsheet!B209=FALSE,\"\",IF(J206=\"WL002\",\"RW002\",IF(J206=\"WL003\",\"RW003\",IF(J206=\"DS001\",\"TCR001\",IF(J206=\"DS001\",\"TCR01\"))))))","v":""},{"$f":"Benchsheet!D209","v":0},{"$f":"Benchsheet!G209","v":"00:00:00"},{"$f":"Benchsheet!H209","v":0},{"$f":"Benchsheet!I209","v":"00:00:00"},{"$f":"Benchsheet!F209","v":0},{"$f":"Benchsheet!P209","v":0},{"$f":"Benchsheet!O209","v":0}]
[{"$f":"IF(Benchsheet!A210>1,\"sample\",IF(Benchsheet!A210=FALSE,\"\"))","v":""},{"$f":"IF(Benchsheet!A210>1,\"STATE\",IF(Benchsheet!A210=FALSE,\"\"))","v":""},{"$f":"IF(Benchsheet!A210>1,\"00035\",IF(Benchsheet!A210=FALSE,\"\"))","v":""},{"$f":"Benchsheet!A210","v":0},{"$f":"IF(Benchsheet!C210=1121057,\"VA1121057\",IF(Benchsheet!C210=1121090,\"VA1121090\",IF(Benchsheet!C210=1121052,\"VA1121052\",IF(Benchsheet!C210=1121175,\"VA1121175\",IF(Benchsheet!C210=1121580,\"VA1121580\",IF(Benchsheet!C210=1121570,\"VA1121570\",IF(Benchsheet!C210=1121045,\"VA1121045\",IF(Benchsheet!C210=1121655,\"VA1121655\",IF(Benchsheet!C210=1121503,\"VA1121503\",IF(Benchsheet!C210=1121043,\"VA1121043\",IF(Benchsheet!C210=1121900,\"VA1121900\",IF(Benchsheet!C210=1121845,\"VA1121845\",IF(Benchsheet!C210=1121655,\"VA1121655\",IF(Benchsheet!C210=1121900,\"VA1121900\",IF(Benchsheet!C210<1,\"\")))))))))))))))","v":""},{"$f":"IF(Benchsheet!A210>1,\"TC\",IF(Benchsheet!A210=FALSE,\"\"))","v":""},{"$f":"IF(J207=\"WL001\",\"MPN\",IF(Benchsheet!B210=FALSE,\"\",IF(J207=\"WL002\",\"MPN\",IF(J207=\"WL003\",\"MPN\",IF(J207=\"DS001\",\"TC\")))))","v":""},{"$f":"Benchsheet!E210","v":0},"",{"$f":"Benchsheet!B210","v":0},{"$f":"IF(J207=\"WL001\",\"RW001\",IF(Benchsheet!B210=FALSE,\"\",IF(J207=\"WL002\",\"RW002\",IF(J207=\"WL003\",\"RW003\",IF(J207=\"DS001\",\"TCR001\",IF(J207=\"DS001\",\"TCR01\"))))))","v":""},{"$f":"Benchsheet!D210","v":0},{"$f":"Benchsheet!G210","v":"00:00:00"},{"$f":"Benchsheet!H210","v":0},{"$f":"Benchsheet!I210","v":"00:00:00"},{"$f":"Benchsheet!F210","v":0},{"$f":"Benchsheet!P210","v":0},{"$f":"Benchsheet!O210","v":0}]
[{"$f":"IF(Benchsheet!A211>1,\"sample\",IF(Benchsheet!A211=FALSE,\"\"))","v":""},{"$f":"IF(Benchsheet!A211>1,\"STATE\",IF(Benchsheet!A211=FALSE,\"\"))","v":""},{"$f":"IF(Benchsheet!A211>1,\"00035\",IF(Benchsheet!A211=FALSE,\"\"))","v":""},{"$f":"Benchsheet!A211","v":0},{"$f":"IF(Benchsheet!C211=1121057,\"VA1121057\",IF(Benchsheet!C211=1121090,\"VA1121090\",IF(Benchsheet!C211=1121052,\"VA1121052\",IF(Benchsheet!C211=1121175,\"VA1121175\",IF(Benchsheet!C211=1121580,\"VA1121580\",IF(Benchsheet!C211=1121570,\"VA1121570\",IF(Benchsheet!C211=1121045,\"VA1121045\",IF(Benchsheet!C211=1121655,\"VA1121655\",IF(Benchsheet!C211=1121503,\"VA1121503\",IF(Benchsheet!C211=1121043,\"VA1121043\",IF(Benchsheet!C211=1121900,\"VA1121900\",IF(Benchsheet!C211=1121845,\"VA1121845\",IF(Benchsheet!C211=1121655,\"VA1121655\",IF(Benchsheet!C211=1121900,\"VA1121900\",IF(Benchsheet!C211<1,\"\")))))))))))))))","v":""},{"$f":"IF(Benchsheet!A211>1,\"TC\",IF(Benchsheet!A211=FALSE,\"\"))","v":""},{"$f":"IF(J208=\"WL001\",\"MPN\",IF(Benchsheet!B211=FALSE,\"\",IF(J208=\"WL002\",\"MPN\",IF(J208=\"WL003\",\"MPN\",IF(J208=\"DS001\",\"TC\")))))","v":""},{"$f":"Benchsheet!E211","v":0},"",{"$f":"Benchsheet!B211","v":0},{"$f":"IF(J208=\"WL001\",\"RW001\",IF(Benchsheet!B211=FALSE,\"\",IF(J208=\"WL002\",\"RW002\",IF(J208=\"WL003\",\"RW003\",IF(J208=\"DS001\",\"TCR001\",IF(J208=\"DS001\",\"TCR01\"))))))","v":""},{"$f":"Benchsheet!D211","v":0},{"$f":"Benchsheet!G211","v":"00:00:00"},{"$f":"Benchsheet!H211","v":0},{"$f":"Benchsheet!I211","v":"00:00:00"},{"$f":"Benchsheet!F211","v":0},{"$f":"Benchsheet!P211","v":0},{"$f":"Benchsheet!O211","v":0}]
[{"$f":"IF(Benchsheet!A212>1,\"sample\",IF(Benchsheet!A212=FALSE,\"\"))","v":""},{"$f":"IF(Benchsheet!A212>1,\"STATE\",IF(Benchsheet!A212=FALSE,\"\"))","v":""},{"$f":"IF(Benchsheet!A212>1,\"00035\",IF(Benchsheet!A212=FALSE,\"\"))","v":""},{"$f":"Benchsheet!A212","v":0},{"$f":"IF(Benchsheet!C212=1121057,\"VA1121057\",IF(Benchsheet!C212=1121090,\"VA1121090\",IF(Benchsheet!C212=1121052,\"VA1121052\",IF(Benchsheet!C212=1121175,\"VA1121175\",IF(Benchsheet!C212=1121580,\"VA1121580\",IF(Benchsheet!C212=1121570,\"VA1121570\",IF(Benchsheet!C212=1121045,\"VA1121045\",IF(Benchsheet!C212=1121655,\"VA1121655\",IF(Benchsheet!C212=1121503,\"VA1121503\",IF(Benchsheet!C212=1121043,\"VA1121043\",IF(Benchsheet!C212=1121900,\"VA1121900\",IF(Benchsheet!C212=1121845,\"VA1121845\",IF(Benchsheet!C212=1121655,\"VA1121655\",IF(Benchsheet!C212=1121900,\"VA1121900\",IF(Benchsheet!C212<1,\"\")))))))))))))))","v":""},{"$f":"IF(Benchsheet!A212>1,\"TC\",IF(Benchsheet!A212=FALSE,\"\"))","v":""},{"$f":"IF(J209=\"WL001\",\"MPN\",IF(Benchsheet!B212=FALSE,\"\",IF(J209=\"WL002\",\"MPN\",IF(J209=\"WL003\",\"MPN\",IF(J209=\"DS001\",\"TC\")))))","v":""},{"$f":"Benchsheet!E212","v":0},"",{"$f":"Benchsheet!B212","v":0},{"$f":"IF(J209=\"WL001\",\"RW001\",IF(Benchsheet!B212=FALSE,\"\",IF(J209=\"WL002\",\"RW002\",IF(J209=\"WL003\",\"RW003\",IF(J209=\"DS001\",\"TCR001\",IF(J209=\"DS001\",\"TCR01\"))))))","v":""},{"$f":"Benchsheet!D212","v":0},{"$f":"Benchsheet!G212","v":"00:00:00"},{"$f":"Benchsheet!H212","v":0},{"$f":"Benchsheet!I212","v":"00:00:00"},{"$f":"Benchsheet!F212","v":0},{"$f":"Benchsheet!P212","v":0},{"$f":"Benchsheet!O212","v":0}]
[{"$f":"IF(Benchsheet!A213>1,\"sample\",IF(Benchsheet!A213=FALSE,\"\"))","v":""},{"$f":"IF(Benchsheet!A213>1,\"STATE\",IF(Benchsheet!A213=FALSE,\"\"))","v":""},{"$f":"IF(Benchsheet!A213>1,\"00035\",IF(Benchsheet!A213=FALSE,\"\"))","v":""},{"$f":"Benchsheet!A213","v":0},{"$f":"IF(Benchsheet!C213=1121057,\"VA1121057\",IF(Benchsheet!C213=1121090,\"VA1121090\",IF(Benchsheet!C213=1121052,\"VA1121052\",IF(Benchsheet!C213=1121175,\"VA1121175\",IF(Benchsheet!C213=1121580,\"VA1121580\",IF(Benchsheet!C213=1121570,\"VA1121570\",IF(Benchsheet!C213=1121045,\"VA1121045\",IF(Benchsheet!C213=1121655,\"VA1121655\",IF(Benchsheet!C213=1121503,\"VA1121503\",IF(Benchsheet!C213=1121043,\"VA1121043\",IF(Benchsheet!C213=1121900,\"VA1121900\",IF(Benchsheet!C213=1121845,\"VA1121845\",IF(Benchsheet!C213=1121655,\"VA1121655\",IF(Benchsheet!C213=1121900,\"VA1121900\",IF(Benchsheet!C213<1,\"\")))))))))))))))","v":""},{"$f":"IF(Benchsheet!A213>1,\"TC\",IF(Benchsheet!A213=FALSE,\"\"))","v":""},{"$f":"IF(J210=\"WL001\",\"MPN\",IF(Benchsheet!B213=FALSE,\"\",IF(J210=\"WL002\",\"MPN\",IF(J210=\"WL003\",\"MPN\",IF(J210=\"DS001\",\"TC\")))))","v":""},{"$f":"Benchsheet!E213","v":0},"",{"$f":"Benchsheet!B213","v":0},{"$f":"IF(J210=\"WL001\",\"RW001\",IF(Benchsheet!B213=FALSE,\"\",IF(J210=\"WL002\",\"RW002\",IF(J210=\"WL003\",\"RW003\",IF(J210=\"DS001\",\"TCR001\",IF(J210=\"DS001\",\"TCR01\"))))))","v":""},{"$f":"Benchsheet!D213","v":0},{"$f":"Benchsheet!G213","v":"00:00:00"},{"$f":"Benchsheet!H213","v":0},{"$f":"Benchsheet!I213","v":"00:00:00"},{"$f":"Benchsheet!F213","v":0},{"$f":"Benchsheet!P213","v":0},{"$f":"Benchsheet!O213","v":0}]
[{"$f":"IF(Benchsheet!A214>1,\"sample\",IF(Benchsheet!A214=FALSE,\"\"))","v":""},{"$f":"IF(Benchsheet!A214>1,\"STATE\",IF(Benchsheet!A214=FALSE,\"\"))","v":""},{"$f":"IF(Benchsheet!A214>1,\"00035\",IF(Benchsheet!A214=FALSE,\"\"))","v":""},{"$f":"Benchsheet!A214","v":0},{"$f":"IF(Benchsheet!C214=1121057,\"VA1121057\",IF(Benchsheet!C214=1121090,\"VA1121090\",IF(Benchsheet!C214=1121052,\"VA1121052\",IF(Benchsheet!C214=1121175,\"VA1121175\",IF(Benchsheet!C214=1121580,\"VA1121580\",IF(Benchsheet!C214=1121570,\"VA1121570\",IF(Benchsheet!C214=1121045,\"VA1121045\",IF(Benchsheet!C214=1121655,\"VA1121655\",IF(Benchsheet!C214=1121503,\"VA1121503\",IF(Benchsheet!C214=1121043,\"VA1121043\",IF(Benchsheet!C214=1121900,\"VA1121900\",IF(Benchsheet!C214=1121845,\"VA1121845\",IF(Benchsheet!C214=1121655,\"VA1121655\",IF(Benchsheet!C214=1121900,\"VA1121900\",IF(Benchsheet!C214<1,\"\")))))))))))))))","v":""},{"$f":"IF(Benchsheet!A214>1,\"TC\",IF(Benchsheet!A214=FALSE,\"\"))","v":""},{"$f":"IF(J211=\"WL001\",\"MPN\",IF(Benchsheet!B214=FALSE,\"\",IF(J211=\"WL002\",\"MPN\",IF(J211=\"WL003\",\"MPN\",IF(J211=\"DS001\",\"TC\")))))","v":""},{"$f":"Benchsheet!E214","v":0},"",{"$f":"Benchsheet!B214","v":0},{"$f":"IF(J211=\"WL001\",\"RW001\",IF(Benchsheet!B214=FALSE,\"\",IF(J211=\"WL002\",\"RW002\",IF(J211=\"WL003\",\"RW003\",IF(J211=\"DS001\",\"TCR001\",IF(J211=\"DS001\",\"TCR01\"))))))","v":""},{"$f":"Benchsheet!D214","v":0},{"$f":"Benchsheet!G214","v":"00:00:00"},{"$f":"Benchsheet!H214","v":0},{"$f":"Benchsheet!I214","v":"00:00:00"},{"$f":"Benchsheet!F214","v":0},{"$f":"Benchsheet!P214","v":0},{"$f":"Benchsheet!O214","v":0}]
[{"$f":"IF(Benchsheet!A215>1,\"sample\",IF(Benchsheet!A215=FALSE,\"\"))","v":""},{"$f":"IF(Benchsheet!A215>1,\"STATE\",IF(Benchsheet!A215=FALSE,\"\"))","v":""},{"$f":"IF(Benchsheet!A215>1,\"00035\",IF(Benchsheet!A215=FALSE,\"\"))","v":""},{"$f":"Benchsheet!A215","v":0},{"$f":"IF(Benchsheet!C215=1121057,\"VA1121057\",IF(Benchsheet!C215=1121090,\"VA1121090\",IF(Benchsheet!C215=1121052,\"VA1121052\",IF(Benchsheet!C215=1121175,\"VA1121175\",IF(Benchsheet!C215=1121580,\"VA1121580\",IF(Benchsheet!C215=1121570,\"VA1121570\",IF(Benchsheet!C215=1121045,\"VA1121045\",IF(Benchsheet!C215=1121655,\"VA1121655\",IF(Benchsheet!C215=1121503,\"VA1121503\",IF(Benchsheet!C215=1121043,\"VA1121043\",IF(Benchsheet!C215=1121900,\"VA1121900\",IF(Benchsheet!C215=1121845,\"VA1121845\",IF(Benchsheet!C215=1121655,\"VA1121655\",IF(Benchsheet!C215=1121900,\"VA1121900\",IF(Benchsheet!C215<1,\"\")))))))))))))))","v":""},{"$f":"IF(Benchsheet!A215>1,\"TC\",IF(Benchsheet!A215=FALSE,\"\"))","v":""},{"$f":"IF(J212=\"WL001\",\"MPN\",IF(Benchsheet!B215=FALSE,\"\",IF(J212=\"WL002\",\"MPN\",IF(J212=\"WL003\",\"MPN\",IF(J212=\"DS001\",\"TC\")))))","v":""},{"$f":"Benchsheet!E215","v":0},"",{"$f":"Benchsheet!B215","v":0},{"$f":"IF(J212=\"WL001\",\"RW001\",IF(Benchsheet!B215=FALSE,\"\",IF(J212=\"WL002\",\"RW002\",IF(J212=\"WL003\",\"RW003\",IF(J212=\"DS001\",\"TCR001\",IF(J212=\"DS001\",\"TCR01\"))))))","v":""},{"$f":"Benchsheet!D215","v":0},{"$f":"Benchsheet!G215","v":"00:00:00"},{"$f":"Benchsheet!H215","v":0},{"$f":"Benchsheet!I215","v":"00:00:00"},{"$f":"Benchsheet!F215","v":0},{"$f":"Benchsheet!P215","v":0},{"$f":"Benchsheet!O215","v":0}]
[{"$f":"IF(Benchsheet!A216>1,\"sample\",IF(Benchsheet!A216=FALSE,\"\"))","v":""},{"$f":"IF(Benchsheet!A216>1,\"STATE\",IF(Benchsheet!A216=FALSE,\"\"))","v":""},{"$f":"IF(Benchsheet!A216>1,\"00035\",IF(Benchsheet!A216=FALSE,\"\"))","v":""},{"$f":"Benchsheet!A216","v":0},{"$f":"IF(Benchsheet!C216=1121057,\"VA1121057\",IF(Benchsheet!C216=1121090,\"VA1121090\",IF(Benchsheet!C216=1121052,\"VA1121052\",IF(Benchsheet!C216=1121175,\"VA1121175\",IF(Benchsheet!C216=1121580,\"VA1121580\",IF(Benchsheet!C216=1121570,\"VA1121570\",IF(Benchsheet!C216=1121045,\"VA1121045\",IF(Benchsheet!C216=1121655,\"VA1121655\",IF(Benchsheet!C216=1121503,\"VA1121503\",IF(Benchsheet!C216=1121043,\"VA1121043\",IF(Benchsheet!C216=1121900,\"VA1121900\",IF(Benchsheet!C216=1121845,\"VA1121845\",IF(Benchsheet!C216=1121655,\"VA1121655\",IF(Benchsheet!C216=1121900,\"VA1121900\",IF(Benchsheet!C216<1,\"\")))))))))))))))","v":""},{"$f":"IF(Benchsheet!A216>1,\"TC\",IF(Benchsheet!A216=FALSE,\"\"))","v":""},{"$f":"IF(J213=\"WL001\",\"MPN\",IF(Benchsheet!B216=FALSE,\"\",IF(J213=\"WL002\",\"MPN\",IF(J213=\"WL003\",\"MPN\",IF(J213=\"DS001\",\"TC\")))))","v":""},{"$f":"Benchsheet!E216","v":0},"",{"$f":"Benchsheet!B216","v":0},{"$f":"IF(J213=\"WL001\",\"RW001\",IF(Benchsheet!B216=FALSE,\"\",IF(J213=\"WL002\",\"RW002\",IF(J213=\"WL003\",\"RW003\",IF(J213=\"DS001\",\"TCR001\",IF(J213=\"DS001\",\"TCR01\"))))))","v":""},{"$f":"Benchsheet!D216","v":0},{"$f":"Benchsheet!G216","v":"00:00:00"},{"$f":"Benchsheet!H216","v":0},{"$f":"Benchsheet!I216","v":"00:00:00"},{"$f":"Benchsheet!F216","v":0},{"$f":"Benchsheet!P216","v":0},{"$f":"Benchsheet!O216","v":0}]
[{"$f":"IF(Benchsheet!A217>1,\"sample\",IF(Benchsheet!A217=FALSE,\"\"))","v":""},{"$f":"IF(Benchsheet!A217>1,\"STATE\",IF(Benchsheet!A217=FALSE,\"\"))","v":""},{"$f":"IF(Benchsheet!A217>1,\"00035\",IF(Benchsheet!A217=FALSE,\"\"))","v":""},{"$f":"Benchsheet!A217","v":0},{"$f":"IF(Benchsheet!C217=1121057,\"VA1121057\",IF(Benchsheet!C217=1121090,\"VA1121090\",IF(Benchsheet!C217=1121052,\"VA1121052\",IF(Benchsheet!C217=1121175,\"VA1121175\",IF(Benchsheet!C217=1121580,\"VA1121580\",IF(Benchsheet!C217=1121570,\"VA1121570\",IF(Benchsheet!C217=1121045,\"VA1121045\",IF(Benchsheet!C217=1121655,\"VA1121655\",IF(Benchsheet!C217=1121503,\"VA1121503\",IF(Benchsheet!C217=1121043,\"VA1121043\",IF(Benchsheet!C217=1121900,\"VA1121900\",IF(Benchsheet!C217=1121845,\"VA1121845\",IF(Benchsheet!C217=1121655,\"VA1121655\",IF(Benchsheet!C217=1121900,\"VA1121900\",IF(Benchsheet!C217<1,\"\")))))))))))))))","v":""},{"$f":"IF(Benchsheet!A217>1,\"TC\",IF(Benchsheet!A217=FALSE,\"\"))","v":""},{"$f":"IF(J214=\"WL001\",\"MPN\",IF(Benchsheet!B217=FALSE,\"\",IF(J214=\"WL002\",\"MPN\",IF(J214=\"WL003\",\"MPN\",IF(J214=\"DS001\",\"TC\")))))","v":""},{"$f":"Benchsheet!E217","v":0},"",{"$f":"Benchsheet!B217","v":0},{"$f":"IF(J214=\"WL001\",\"RW001\",IF(Benchsheet!B217=FALSE,\"\",IF(J214=\"WL002\",\"RW002\",IF(J214=\"WL003\",\"RW003\",IF(J214=\"DS001\",\"TCR001\",IF(J214=\"DS001\",\"TCR01\"))))))","v":""},{"$f":"Benchsheet!D217","v":0},{"$f":"Benchsheet!G217","v":"00:00:00"},{"$f":"Benchsheet!H217","v":0},{"$f":"Benchsheet!I217","v":"00:00:00"},{"$f":"Benchsheet!F217","v":0},{"$f":"Benchsheet!P217","v":0},{"$f":"Benchsheet!O217","v":0}]
[{"$f":"IF(Benchsheet!A218>1,\"sample\",IF(Benchsheet!A218=FALSE,\"\"))","v":""},{"$f":"IF(Benchsheet!A218>1,\"STATE\",IF(Benchsheet!A218=FALSE,\"\"))","v":""},{"$f":"IF(Benchsheet!A218>1,\"00035\",IF(Benchsheet!A218=FALSE,\"\"))","v":""},{"$f":"Benchsheet!A218","v":0},{"$f":"IF(Benchsheet!C218=1121057,\"VA1121057\",IF(Benchsheet!C218=1121090,\"VA1121090\",IF(Benchsheet!C218=1121052,\"VA1121052\",IF(Benchsheet!C218=1121175,\"VA1121175\",IF(Benchsheet!C218=1121580,\"VA1121580\",IF(Benchsheet!C218=1121570,\"VA1121570\",IF(Benchsheet!C218=1121045,\"VA1121045\",IF(Benchsheet!C218=1121655,\"VA1121655\",IF(Benchsheet!C218=1121503,\"VA1121503\",IF(Benchsheet!C218=1121043,\"VA1121043\",IF(Benchsheet!C218=1121900,\"VA1121900\",IF(Benchsheet!C218=1121845,\"VA1121845\",IF(Benchsheet!C218=1121655,\"VA1121655\",IF(Benchsheet!C218=1121900,\"VA1121900\",IF(Benchsheet!C218<1,\"\")))))))))))))))","v":""},{"$f":"IF(Benchsheet!A218>1,\"TC\",IF(Benchsheet!A218=FALSE,\"\"))","v":""},{"$f":"IF(J215=\"WL001\",\"MPN\",IF(Benchsheet!B218=FALSE,\"\",IF(J215=\"WL002\",\"MPN\",IF(J215=\"WL003\",\"MPN\",IF(J215=\"DS001\",\"TC\")))))","v":""},{"$f":"Benchsheet!E218","v":0},"",{"$f":"Benchsheet!B218","v":0},{"$f":"IF(J215=\"WL001\",\"RW001\",IF(Benchsheet!B218=FALSE,\"\",IF(J215=\"WL002\",\"RW002\",IF(J215=\"WL003\",\"RW003\",IF(J215=\"DS001\",\"TCR001\",IF(J215=\"DS001\",\"TCR01\"))))))","v":""},{"$f":"Benchsheet!D218","v":0},{"$f":"Benchsheet!G218","v":"00:00:00"},{"$f":"Benchsheet!H218","v":0},{"$f":"Benchsheet!I218","v":"00:00:00"},{"$f":"Benchsheet!F218","v":0},{"$f":"Benchsheet!P218","v":0},{"$f":"Benchsheet!O218","v":0}]
[{"$f":"IF(Benchsheet!A219>1,\"sample\",IF(Benchsheet!A219=FALSE,\"\"))","v":""},{"$f":"IF(Benchsheet!A219>1,\"STATE\",IF(Benchsheet!A219=FALSE,\"\"))","v":""},{"$f":"IF(Benchsheet!A219>1,\"00035\",IF(Benchsheet!A219=FALSE,\"\"))","v":""},{"$f":"Benchsheet!A219","v":0},{"$f":"IF(Benchsheet!C219=1121057,\"VA1121057\",IF(Benchsheet!C219=1121090,\"VA1121090\",IF(Benchsheet!C219=1121052,\"VA1121052\",IF(Benchsheet!C219=1121175,\"VA1121175\",IF(Benchsheet!C219=1121580,\"VA1121580\",IF(Benchsheet!C219=1121570,\"VA1121570\",IF(Benchsheet!C219=1121045,\"VA1121045\",IF(Benchsheet!C219=1121655,\"VA1121655\",IF(Benchsheet!C219=1121503,\"VA1121503\",IF(Benchsheet!C219=1121043,\"VA1121043\",IF(Benchsheet!C219=1121900,\"VA1121900\",IF(Benchsheet!C219=1121845,\"VA1121845\",IF(Benchsheet!C219=1121655,\"VA1121655\",IF(Benchsheet!C219=1121900,\"VA1121900\",IF(Benchsheet!C219<1,\"\")))))))))))))))","v":""},{"$f":"IF(Benchsheet!A219>1,\"TC\",IF(Benchsheet!A219=FALSE,\"\"))","v":""},{"$f":"IF(J216=\"WL001\",\"MPN\",IF(Benchsheet!B219=FALSE,\"\",IF(J216=\"WL002\",\"MPN\",IF(J216=\"WL003\",\"MPN\",IF(J216=\"DS001\",\"TC\")))))","v":""},{"$f":"Benchsheet!E219","v":0},"",{"$f":"Benchsheet!B219","v":0},{"$f":"IF(J216=\"WL001\",\"RW001\",IF(Benchsheet!B219=FALSE,\"\",IF(J216=\"WL002\",\"RW002\",IF(J216=\"WL003\",\"RW003\",IF(J216=\"DS001\",\"TCR001\",IF(J216=\"DS001\",\"TCR01\"))))))","v":""},{"$f":"Benchsheet!D219","v":0},{"$f":"Benchsheet!G219","v":"00:00:00"},{"$f":"Benchsheet!H219","v":0},{"$f":"Benchsheet!I219","v":"00:00:00"},{"$f":"Benchsheet!F219","v":0},{"$f":"Benchsheet!P219","v":0},{"$f":"Benchsheet!O219","v":0}]
[{"$f":"IF(Benchsheet!A220>1,\"sample\",IF(Benchsheet!A220=FALSE,\"\"))","v":""},{"$f":"IF(Benchsheet!A220>1,\"STATE\",IF(Benchsheet!A220=FALSE,\"\"))","v":""},{"$f":"IF(Benchsheet!A220>1,\"00035\",IF(Benchsheet!A220=FALSE,\"\"))","v":""},{"$f":"Benchsheet!A220","v":0},{"$f":"IF(Benchsheet!C220=1121057,\"VA1121057\",IF(Benchsheet!C220=1121090,\"VA1121090\",IF(Benchsheet!C220=1121052,\"VA1121052\",IF(Benchsheet!C220=1121175,\"VA1121175\",IF(Benchsheet!C220=1121580,\"VA1121580\",IF(Benchsheet!C220=1121570,\"VA1121570\",IF(Benchsheet!C220=1121045,\"VA1121045\",IF(Benchsheet!C220=1121655,\"VA1121655\",IF(Benchsheet!C220=1121503,\"VA1121503\",IF(Benchsheet!C220=1121043,\"VA1121043\",IF(Benchsheet!C220=1121900,\"VA1121900\",IF(Benchsheet!C220=1121845,\"VA1121845\",IF(Benchsheet!C220=1121655,\"VA1121655\",IF(Benchsheet!C220=1121900,\"VA1121900\",IF(Benchsheet!C220<1,\"\")))))))))))))))","v":""},{"$f":"IF(Benchsheet!A220>1,\"TC\",IF(Benchsheet!A220=FALSE,\"\"))","v":""},{"$f":"IF(J217=\"WL001\",\"MPN\",IF(Benchsheet!B220=FALSE,\"\",IF(J217=\"WL002\",\"MPN\",IF(J217=\"WL003\",\"MPN\",IF(J217=\"DS001\",\"TC\")))))","v":""},{"$f":"Benchsheet!E220","v":0},"",{"$f":"Benchsheet!B220","v":0},{"$f":"IF(J217=\"WL001\",\"RW001\",IF(Benchsheet!B220=FALSE,\"\",IF(J217=\"WL002\",\"RW002\",IF(J217=\"WL003\",\"RW003\",IF(J217=\"DS001\",\"TCR001\",IF(J217=\"DS001\",\"TCR01\"))))))","v":""},{"$f":"Benchsheet!D220","v":0},{"$f":"Benchsheet!G220","v":"00:00:00"},{"$f":"Benchsheet!H220","v":0},{"$f":"Benchsheet!I220","v":"00:00:00"},{"$f":"Benchsheet!F220","v":0},{"$f":"Benchsheet!P220","v":0},{"$f":"Benchsheet!O220","v":0}]
[{"$f":"IF(Benchsheet!A221>1,\"sample\",IF(Benchsheet!A221=FALSE,\"\"))","v":""},{"$f":"IF(Benchsheet!A221>1,\"STATE\",IF(Benchsheet!A221=FALSE,\"\"))","v":""},{"$f":"IF(Benchsheet!A221>1,\"00035\",IF(Benchsheet!A221=FALSE,\"\"))","v":""},{"$f":"Benchsheet!A221","v":0},{"$f":"IF(Benchsheet!C221=1121057,\"VA1121057\",IF(Benchsheet!C221=1121090,\"VA1121090\",IF(Benchsheet!C221=1121052,\"VA1121052\",IF(Benchsheet!C221=1121175,\"VA1121175\",IF(Benchsheet!C221=1121580,\"VA1121580\",IF(Benchsheet!C221=1121570,\"VA1121570\",IF(Benchsheet!C221=1121045,\"VA1121045\",IF(Benchsheet!C221=1121655,\"VA1121655\",IF(Benchsheet!C221=1121503,\"VA1121503\",IF(Benchsheet!C221=1121043,\"VA1121043\",IF(Benchsheet!C221=1121900,\"VA1121900\",IF(Benchsheet!C221=1121845,\"VA1121845\",IF(Benchsheet!C221=1121655,\"VA1121655\",IF(Benchsheet!C221=1121900,\"VA1121900\",IF(Benchsheet!C221<1,\"\")))))))))))))))","v":""},{"$f":"IF(Benchsheet!A221>1,\"TC\",IF(Benchsheet!A221=FALSE,\"\"))","v":""},{"$f":"IF(J218=\"WL001\",\"MPN\",IF(Benchsheet!B221=FALSE,\"\",IF(J218=\"WL002\",\"MPN\",IF(J218=\"WL003\",\"MPN\",IF(J218=\"DS001\",\"TC\")))))","v":""},{"$f":"Benchsheet!E221","v":0},"",{"$f":"Benchsheet!B221","v":0},{"$f":"IF(J218=\"WL001\",\"RW001\",IF(Benchsheet!B221=FALSE,\"\",IF(J218=\"WL002\",\"RW002\",IF(J218=\"WL003\",\"RW003\",IF(J218=\"DS001\",\"TCR001\",IF(J218=\"DS001\",\"TCR01\"))))))","v":""},{"$f":"Benchsheet!D221","v":0},{"$f":"Benchsheet!G221","v":"00:00:00"},{"$f":"Benchsheet!H221","v":0},{"$f":"Benchsheet!I221","v":"00:00:00"},{"$f":"Benchsheet!F221","v":0},{"$f":"Benchsheet!P221","v":0},{"$f":"Benchsheet!O221","v":0}]
[{"$f":"IF(Benchsheet!A222>1,\"sample\",IF(Benchsheet!A222=FALSE,\"\"))","v":""},{"$f":"IF(Benchsheet!A222>1,\"STATE\",IF(Benchsheet!A222=FALSE,\"\"))","v":""},{"$f":"IF(Benchsheet!A222>1,\"00035\",IF(Benchsheet!A222=FALSE,\"\"))","v":""},{"$f":"Benchsheet!A222","v":0},{"$f":"IF(Benchsheet!C222=1121057,\"VA1121057\",IF(Benchsheet!C222=1121090,\"VA1121090\",IF(Benchsheet!C222=1121052,\"VA1121052\",IF(Benchsheet!C222=1121175,\"VA1121175\",IF(Benchsheet!C222=1121580,\"VA1121580\",IF(Benchsheet!C222=1121570,\"VA1121570\",IF(Benchsheet!C222=1121045,\"VA1121045\",IF(Benchsheet!C222=1121655,\"VA1121655\",IF(Benchsheet!C222=1121503,\"VA1121503\",IF(Benchsheet!C222=1121043,\"VA1121043\",IF(Benchsheet!C222=1121900,\"VA1121900\",IF(Benchsheet!C222=1121845,\"VA1121845\",IF(Benchsheet!C222=1121655,\"VA1121655\",IF(Benchsheet!C222=1121900,\"VA1121900\",IF(Benchsheet!C222<1,\"\")))))))))))))))","v":""},{"$f":"IF(Benchsheet!A222>1,\"TC\",IF(Benchsheet!A222=FALSE,\"\"))","v":""},{"$f":"IF(J219=\"WL001\",\"MPN\",IF(Benchsheet!B222=FALSE,\"\",IF(J219=\"WL002\",\"MPN\",IF(J219=\"WL003\",\"MPN\",IF(J219=\"DS001\",\"TC\")))))","v":""},{"$f":"Benchsheet!E222","v":0},"",{"$f":"Benchsheet!B222","v":0},{"$f":"IF(J219=\"WL001\",\"RW001\",IF(Benchsheet!B222=FALSE,\"\",IF(J219=\"WL002\",\"RW002\",IF(J219=\"WL003\",\"RW003\",IF(J219=\"DS001\",\"TCR001\",IF(J219=\"DS001\",\"TCR01\"))))))","v":""},{"$f":"Benchsheet!D222","v":0},{"$f":"Benchsheet!G222","v":"00:00:00"},{"$f":"Benchsheet!H222","v":0},{"$f":"Benchsheet!I222","v":"00:00:00"},{"$f":"Benchsheet!F222","v":0},{"$f":"Benchsheet!P222","v":0},{"$f":"Benchsheet!O222","v":0}]
[{"$f":"IF(Benchsheet!A223>1,\"sample\",IF(Benchsheet!A223=FALSE,\"\"))","v":""},{"$f":"IF(Benchsheet!A223>1,\"STATE\",IF(Benchsheet!A223=FALSE,\"\"))","v":""},{"$f":"IF(Benchsheet!A223>1,\"00035\",IF(Benchsheet!A223=FALSE,\"\"))","v":""},{"$f":"Benchsheet!A223","v":0},{"$f":"IF(Benchsheet!C223=1121057,\"VA1121057\",IF(Benchsheet!C223=1121090,\"VA1121090\",IF(Benchsheet!C223=1121052,\"VA1121052\",IF(Benchsheet!C223=1121175,\"VA1121175\",IF(Benchsheet!C223=1121580,\"VA1121580\",IF(Benchsheet!C223=1121570,\"VA1121570\",IF(Benchsheet!C223=1121045,\"VA1121045\",IF(Benchsheet!C223=1121655,\"VA1121655\",IF(Benchsheet!C223=1121503,\"VA1121503\",IF(Benchsheet!C223=1121043,\"VA1121043\",IF(Benchsheet!C223=1121900,\"VA1121900\",IF(Benchsheet!C223=1121845,\"VA1121845\",IF(Benchsheet!C223=1121655,\"VA1121655\",IF(Benchsheet!C223=1121900,\"VA1121900\",IF(Benchsheet!C223<1,\"\")))))))))))))))","v":""},{"$f":"IF(Benchsheet!A223>1,\"TC\",IF(Benchsheet!A223=FALSE,\"\"))","v":""},{"$f":"IF(J220=\"WL001\",\"MPN\",IF(Benchsheet!B223=FALSE,\"\",IF(J220=\"WL002\",\"MPN\",IF(J220=\"WL003\",\"MPN\",IF(J220=\"DS001\",\"TC\")))))","v":""},{"$f":"Benchsheet!E223","v":0},"",{"$f":"Benchsheet!B223","v":0},{"$f":"IF(J220=\"WL001\",\"RW001\",IF(Benchsheet!B223=FALSE,\"\",IF(J220=\"WL002\",\"RW002\",IF(J220=\"WL003\",\"RW003\",IF(J220=\"DS001\",\"TCR001\",IF(J220=\"DS001\",\"TCR01\"))))))","v":""},{"$f":"Benchsheet!D223","v":0},{"$f":"Benchsheet!G223","v":"00:00:00"},{"$f":"Benchsheet!H223","v":0},{"$f":"Benchsheet!I223","v":"00:00:00"},{"$f":"Benchsheet!F223","v":0},{"$f":"Benchsheet!P223","v":0},{"$f":"Benchsheet!O223","v":0}]
[{"$f":"IF(Benchsheet!A224>1,\"sample\",IF(Benchsheet!A224=FALSE,\"\"))","v":""},{"$f":"IF(Benchsheet!A224>1,\"STATE\",IF(Benchsheet!A224=FALSE,\"\"))","v":""},{"$f":"IF(Benchsheet!A224>1,\"00035\",IF(Benchsheet!A224=FALSE,\"\"))","v":""},{"$f":"Benchsheet!A224","v":0},{"$f":"IF(Benchsheet!C224=1121057,\"VA1121057\",IF(Benchsheet!C224=1121090,\"VA1121090\",IF(Benchsheet!C224=1121052,\"VA1121052\",IF(Benchsheet!C224=1121175,\"VA1121175\",IF(Benchsheet!C224=1121580,\"VA1121580\",IF(Benchsheet!C224=1121570,\"VA1121570\",IF(Benchsheet!C224=1121045,\"VA1121045\",IF(Benchsheet!C224=1121655,\"VA1121655\",IF(Benchsheet!C224=1121503,\"VA1121503\",IF(Benchsheet!C224=1121043,\"VA1121043\",IF(Benchsheet!C224=1121900,\"VA1121900\",IF(Benchsheet!C224=1121845,\"VA1121845\",IF(Benchsheet!C224=1121655,\"VA1121655\",IF(Benchsheet!C224=1121900,\"VA1121900\",IF(Benchsheet!C224<1,\"\")))))))))))))))","v":""},{"$f":"IF(Benchsheet!A224>1,\"TC\",IF(Benchsheet!A224=FALSE,\"\"))","v":""},{"$f":"IF(J221=\"WL001\",\"MPN\",IF(Benchsheet!B224=FALSE,\"\",IF(J221=\"WL002\",\"MPN\",IF(J221=\"WL003\",\"MPN\",IF(J221=\"DS001\",\"TC\")))))","v":""},{"$f":"Benchsheet!E224","v":0},"",{"$f":"Benchsheet!B224","v":0},{"$f":"IF(J221=\"WL001\",\"RW001\",IF(Benchsheet!B224=FALSE,\"\",IF(J221=\"WL002\",\"RW002\",IF(J221=\"WL003\",\"RW003\",IF(J221=\"DS001\",\"TCR001\",IF(J221=\"DS001\",\"TCR01\"))))))","v":""},{"$f":"Benchsheet!D224","v":0},{"$f":"Benchsheet!G224","v":"00:00:00"},{"$f":"Benchsheet!H224","v":0},{"$f":"Benchsheet!I224","v":"00:00:00"},{"$f":"Benchsheet!F224","v":0},{"$f":"Benchsheet!P224","v":0},{"$f":"Benchsheet!O224","v":0}]
[{"$f":"IF(Benchsheet!A225>1,\"sample\",IF(Benchsheet!A225=FALSE,\"\"))","v":""},{"$f":"IF(Benchsheet!A225>1,\"STATE\",IF(Benchsheet!A225=FALSE,\"\"))","v":""},{"$f":"IF(Benchsheet!A225>1,\"00035\",IF(Benchsheet!A225=FALSE,\"\"))","v":""},{"$f":"Benchsheet!A225","v":0},{"$f":"IF(Benchsheet!C225=1121057,\"VA1121057\",IF(Benchsheet!C225=1121090,\"VA1121090\",IF(Benchsheet!C225=1121052,\"VA1121052\",IF(Benchsheet!C225=1121175,\"VA1121175\",IF(Benchsheet!C225=1121580,\"VA1121580\",IF(Benchsheet!C225=1121570,\"VA1121570\",IF(Benchsheet!C225=1121045,\"VA1121045\",IF(Benchsheet!C225=1121655,\"VA1121655\",IF(Benchsheet!C225=1121503,\"VA1121503\",IF(Benchsheet!C225=1121043,\"VA1121043\",IF(Benchsheet!C225=1121900,\"VA1121900\",IF(Benchsheet!C225=1121845,\"VA1121845\",IF(Benchsheet!C225=1121655,\"VA1121655\",IF(Benchsheet!C225=1121900,\"VA1121900\",IF(Benchsheet!C225<1,\"\")))))))))))))))","v":""},{"$f":"IF(Benchsheet!A225>1,\"TC\",IF(Benchsheet!A225=FALSE,\"\"))","v":""},{"$f":"IF(J222=\"WL001\",\"MPN\",IF(Benchsheet!B225=FALSE,\"\",IF(J222=\"WL002\",\"MPN\",IF(J222=\"WL003\",\"MPN\",IF(J222=\"DS001\",\"TC\")))))","v":""},{"$f":"Benchsheet!E225","v":0},"",{"$f":"Benchsheet!B225","v":0},{"$f":"IF(J222=\"WL001\",\"RW001\",IF(Benchsheet!B225=FALSE,\"\",IF(J222=\"WL002\",\"RW002\",IF(J222=\"WL003\",\"RW003\",IF(J222=\"DS001\",\"TCR001\",IF(J222=\"DS001\",\"TCR01\"))))))","v":""},{"$f":"Benchsheet!D225","v":0},{"$f":"Benchsheet!G225","v":"00:00:00"},{"$f":"Benchsheet!H225","v":0},{"$f":"Benchsheet!I225","v":"00:00:00"},{"$f":"Benchsheet!F225","v":0},{"$f":"Benchsheet!P225","v":0},{"$f":"Benchsheet!O225","v":0}]
[{"$f":"IF(Benchsheet!A226>1,\"sample\",IF(Benchsheet!A226=FALSE,\"\"))","v":""},{"$f":"IF(Benchsheet!A226>1,\"STATE\",IF(Benchsheet!A226=FALSE,\"\"))","v":""},{"$f":"IF(Benchsheet!A226>1,\"00035\",IF(Benchsheet!A226=FALSE,\"\"))","v":""},{"$f":"Benchsheet!A226","v":0},{"$f":"IF(Benchsheet!C226=1121057,\"VA1121057\",IF(Benchsheet!C226=1121090,\"VA1121090\",IF(Benchsheet!C226=1121052,\"VA1121052\",IF(Benchsheet!C226=1121175,\"VA1121175\",IF(Benchsheet!C226=1121580,\"VA1121580\",IF(Benchsheet!C226=1121570,\"VA1121570\",IF(Benchsheet!C226=1121045,\"VA1121045\",IF(Benchsheet!C226=1121655,\"VA1121655\",IF(Benchsheet!C226=1121503,\"VA1121503\",IF(Benchsheet!C226=1121043,\"VA1121043\",IF(Benchsheet!C226=1121900,\"VA1121900\",IF(Benchsheet!C226=1121845,\"VA1121845\",IF(Benchsheet!C226=1121655,\"VA1121655\",IF(Benchsheet!C226=1121900,\"VA1121900\",IF(Benchsheet!C226<1,\"\")))))))))))))))","v":""},{"$f":"IF(Benchsheet!A226>1,\"TC\",IF(Benchsheet!A226=FALSE,\"\"))","v":""},{"$f":"IF(J223=\"WL001\",\"MPN\",IF(Benchsheet!B226=FALSE,\"\",IF(J223=\"WL002\",\"MPN\",IF(J223=\"WL003\",\"MPN\",IF(J223=\"DS001\",\"TC\")))))","v":""},{"$f":"Benchsheet!E226","v":0},"",{"$f":"Benchsheet!B226","v":0},{"$f":"IF(J223=\"WL001\",\"RW001\",IF(Benchsheet!B226=FALSE,\"\",IF(J223=\"WL002\",\"RW002\",IF(J223=\"WL003\",\"RW003\",IF(J223=\"DS001\",\"TCR001\",IF(J223=\"DS001\",\"TCR01\"))))))","v":""},{"$f":"Benchsheet!D226","v":0},{"$f":"Benchsheet!G226","v":"00:00:00"},{"$f":"Benchsheet!H226","v":0},{"$f":"Benchsheet!I226","v":"00:00:00"},{"$f":"Benchsheet!F226","v":0},{"$f":"Benchsheet!P226","v":0},{"$f":"Benchsheet!O226","v":0}]
[{"$f":"IF(Benchsheet!A227>1,\"sample\",IF(Benchsheet!A227=FALSE,\"\"))","v":""},{"$f":"IF(Benchsheet!A227>1,\"STATE\",IF(Benchsheet!A227=FALSE,\"\"))","v":""},{"$f":"IF(Benchsheet!A227>1,\"00035\",IF(Benchsheet!A227=FALSE,\"\"))","v":""},{"$f":"Benchsheet!A227","v":0},{"$f":"IF(Benchsheet!C227=1121057,\"VA1121057\",IF(Benchsheet!C227=1121090,\"VA1121090\",IF(Benchsheet!C227=1121052,\"VA1121052\",IF(Benchsheet!C227=1121175,\"VA1121175\",IF(Benchsheet!C227=1121580,\"VA1121580\",IF(Benchsheet!C227=1121570,\"VA1121570\",IF(Benchsheet!C227=1121045,\"VA1121045\",IF(Benchsheet!C227=1121655,\"VA1121655\",IF(Benchsheet!C227=1121503,\"VA1121503\",IF(Benchsheet!C227=1121043,\"VA1121043\",IF(Benchsheet!C227=1121900,\"VA1121900\",IF(Benchsheet!C227=1121845,\"VA1121845\",IF(Benchsheet!C227=1121655,\"VA1121655\",IF(Benchsheet!C227=1121900,\"VA1121900\",IF(Benchsheet!C227<1,\"\")))))))))))))))","v":""},{"$f":"IF(Benchsheet!A227>1,\"TC\",IF(Benchsheet!A227=FALSE,\"\"))","v":""},{"$f":"IF(J224=\"WL001\",\"MPN\",IF(Benchsheet!B227=FALSE,\"\",IF(J224=\"WL002\",\"MPN\",IF(J224=\"WL003\",\"MPN\",IF(J224=\"DS001\",\"TC\")))))","v":""},{"$f":"Benchsheet!E227","v":0},"",{"$f":"Benchsheet!B227","v":0},{"$f":"IF(J224=\"WL001\",\"RW001\",IF(Benchsheet!B227=FALSE,\"\",IF(J224=\"WL002\",\"RW002\",IF(J224=\"WL003\",\"RW003\",IF(J224=\"DS001\",\"TCR001\",IF(J224=\"DS001\",\"TCR01\"))))))","v":""},{"$f":"Benchsheet!D227","v":0},{"$f":"Benchsheet!G227","v":"00:00:00"},{"$f":"Benchsheet!H227","v":0},{"$f":"Benchsheet!I227","v":"00:00:00"},{"$f":"Benchsheet!F227","v":0},{"$f":"Benchsheet!P227","v":0},{"$f":"Benchsheet!O227","v":0}]
[{"$f":"IF(Benchsheet!A228>1,\"sample\",IF(Benchsheet!A228=FALSE,\"\"))","v":""},{"$f":"IF(Benchsheet!A228>1,\"STATE\",IF(Benchsheet!A228=FALSE,\"\"))","v":""},{"$f":"IF(Benchsheet!A228>1,\"00035\",IF(Benchsheet!A228=FALSE,\"\"))","v":""},{"$f":"Benchsheet!A228","v":0},{"$f":"IF(Benchsheet!C228=1121057,\"VA1121057\",IF(Benchsheet!C228=1121090,\"VA1121090\",IF(Benchsheet!C228=1121052,\"VA1121052\",IF(Benchsheet!C228=1121175,\"VA1121175\",IF(Benchsheet!C228=1121580,\"VA1121580\",IF(Benchsheet!C228=1121570,\"VA1121570\",IF(Benchsheet!C228=1121045,\"VA1121045\",IF(Benchsheet!C228=1121655,\"VA1121655\",IF(Benchsheet!C228=1121503,\"VA1121503\",IF(Benchsheet!C228=1121043,\"VA1121043\",IF(Benchsheet!C228=1121900,\"VA1121900\",IF(Benchsheet!C228=1121845,\"VA1121845\",IF(Benchsheet!C228=1121655,\"VA1121655\",IF(Benchsheet!C228=1121900,\"VA1121900\",IF(Benchsheet!C228<1,\"\")))))))))))))))","v":""},{"$f":"IF(Benchsheet!A228>1,\"TC\",IF(Benchsheet!A228=FALSE,\"\"))","v":""},{"$f":"IF(J225=\"WL001\",\"MPN\",IF(Benchsheet!B228=FALSE,\"\",IF(J225=\"WL002\",\"MPN\",IF(J225=\"WL003\",\"MPN\",IF(J225=\"DS001\",\"TC\")))))","v":""},{"$f":"Benchsheet!E228","v":0},"",{"$f":"Benchsheet!B228","v":0},{"$f":"IF(J225=\"WL001\",\"RW001\",IF(Benchsheet!B228=FALSE,\"\",IF(J225=\"WL002\",\"RW002\",IF(J225=\"WL003\",\"RW003\",IF(J225=\"DS001\",\"TCR001\",IF(J225=\"DS001\",\"TCR01\"))))))","v":""},{"$f":"Benchsheet!D228","v":0},{"$f":"Benchsheet!G228","v":"00:00:00"},{"$f":"Benchsheet!H228","v":0},{"$f":"Benchsheet!I228","v":"00:00:00"},{"$f":"Benchsheet!F228","v":0},{"$f":"Benchsheet!P228","v":0},{"$f":"Benchsheet!O228","v":0}]
[{"$f":"IF(Benchsheet!A229>1,\"sample\",IF(Benchsheet!A229=FALSE,\"\"))","v":""},{"$f":"IF(Benchsheet!A229>1,\"STATE\",IF(Benchsheet!A229=FALSE,\"\"))","v":""},{"$f":"IF(Benchsheet!A229>1,\"00035\",IF(Benchsheet!A229=FALSE,\"\"))","v":""},{"$f":"Benchsheet!A229","v":0},{"$f":"IF(Benchsheet!C229=1121057,\"VA1121057\",IF(Benchsheet!C229=1121090,\"VA1121090\",IF(Benchsheet!C229=1121052,\"VA1121052\",IF(Benchsheet!C229=1121175,\"VA1121175\",IF(Benchsheet!C229=1121580,\"VA1121580\",IF(Benchsheet!C229=1121570,\"VA1121570\",IF(Benchsheet!C229=1121045,\"VA1121045\",IF(Benchsheet!C229=1121655,\"VA1121655\",IF(Benchsheet!C229=1121503,\"VA1121503\",IF(Benchsheet!C229=1121043,\"VA1121043\",IF(Benchsheet!C229=1121900,\"VA1121900\",IF(Benchsheet!C229=1121845,\"VA1121845\",IF(Benchsheet!C229=1121655,\"VA1121655\",IF(Benchsheet!C229=1121900,\"VA1121900\",IF(Benchsheet!C229<1,\"\")))))))))))))))","v":""},{"$f":"IF(Benchsheet!A229>1,\"TC\",IF(Benchsheet!A229=FALSE,\"\"))","v":""},{"$f":"IF(J226=\"WL001\",\"MPN\",IF(Benchsheet!B229=FALSE,\"\",IF(J226=\"WL002\",\"MPN\",IF(J226=\"WL003\",\"MPN\",IF(J226=\"DS001\",\"TC\")))))","v":""},{"$f":"Benchsheet!E229","v":0},"",{"$f":"Benchsheet!B229","v":0},{"$f":"IF(J226=\"WL001\",\"RW001\",IF(Benchsheet!B229=FALSE,\"\",IF(J226=\"WL002\",\"RW002\",IF(J226=\"WL003\",\"RW003\",IF(J226=\"DS001\",\"TCR001\",IF(J226=\"DS001\",\"TCR01\"))))))","v":""},{"$f":"Benchsheet!D229","v":0},{"$f":"Benchsheet!G229","v":"00:00:00"},{"$f":"Benchsheet!H229","v":0},{"$f":"Benchsheet!I229","v":"00:00:00"},{"$f":"Benchsheet!F229","v":0},{"$f":"Benchsheet!P229","v":0},{"$f":"Benchsheet!O229","v":0}]
[{"$f":"IF(Benchsheet!A230>1,\"sample\",IF(Benchsheet!A230=FALSE,\"\"))","v":""},{"$f":"IF(Benchsheet!A230>1,\"STATE\",IF(Benchsheet!A230=FALSE,\"\"))","v":""},{"$f":"IF(Benchsheet!A230>1,\"00035\",IF(Benchsheet!A230=FALSE,\"\"))","v":""},{"$f":"Benchsheet!A230","v":0},{"$f":"IF(Benchsheet!C230=1121057,\"VA1121057\",IF(Benchsheet!C230=1121090,\"VA1121090\",IF(Benchsheet!C230=1121052,\"VA1121052\",IF(Benchsheet!C230=1121175,\"VA1121175\",IF(Benchsheet!C230=1121580,\"VA1121580\",IF(Benchsheet!C230=1121570,\"VA1121570\",IF(Benchsheet!C230=1121045,\"VA1121045\",IF(Benchsheet!C230=1121655,\"VA1121655\",IF(Benchsheet!C230=1121503,\"VA1121503\",IF(Benchsheet!C230=1121043,\"VA1121043\",IF(Benchsheet!C230=1121900,\"VA1121900\",IF(Benchsheet!C230=1121845,\"VA1121845\",IF(Benchsheet!C230=1121655,\"VA1121655\",IF(Benchsheet!C230=1121900,\"VA1121900\",IF(Benchsheet!C230<1,\"\")))))))))))))))","v":""},{"$f":"IF(Benchsheet!A230>1,\"TC\",IF(Benchsheet!A230=FALSE,\"\"))","v":""},{"$f":"IF(J227=\"WL001\",\"MPN\",IF(Benchsheet!B230=FALSE,\"\",IF(J227=\"WL002\",\"MPN\",IF(J227=\"WL003\",\"MPN\",IF(J227=\"DS001\",\"TC\")))))","v":""},{"$f":"Benchsheet!E230","v":0},"",{"$f":"Benchsheet!B230","v":0},{"$f":"IF(J227=\"WL001\",\"RW001\",IF(Benchsheet!B230=FALSE,\"\",IF(J227=\"WL002\",\"RW002\",IF(J227=\"WL003\",\"RW003\",IF(J227=\"DS001\",\"TCR001\",IF(J227=\"DS001\",\"TCR01\"))))))","v":""},{"$f":"Benchsheet!D230","v":0},{"$f":"Benchsheet!G230","v":"00:00:00"},{"$f":"Benchsheet!H230","v":0},{"$f":"Benchsheet!I230","v":"00:00:00"},{"$f":"Benchsheet!F230","v":0},{"$f":"Benchsheet!P230","v":0},{"$f":"Benchsheet!O230","v":0}]
[{"$f":"IF(Benchsheet!A231>1,\"sample\",IF(Benchsheet!A231=FALSE,\"\"))","v":""},{"$f":"IF(Benchsheet!A231>1,\"STATE\",IF(Benchsheet!A231=FALSE,\"\"))","v":""},{"$f":"IF(Benchsheet!A231>1,\"00035\",IF(Benchsheet!A231=FALSE,\"\"))","v":""},{"$f":"Benchsheet!A231","v":0},{"$f":"IF(Benchsheet!C231=1121057,\"VA1121057\",IF(Benchsheet!C231=1121090,\"VA1121090\",IF(Benchsheet!C231=1121052,\"VA1121052\",IF(Benchsheet!C231=1121175,\"VA1121175\",IF(Benchsheet!C231=1121580,\"VA1121580\",IF(Benchsheet!C231=1121570,\"VA1121570\",IF(Benchsheet!C231=1121045,\"VA1121045\",IF(Benchsheet!C231=1121655,\"VA1121655\",IF(Benchsheet!C231=1121503,\"VA1121503\",IF(Benchsheet!C231=1121043,\"VA1121043\",IF(Benchsheet!C231=1121900,\"VA1121900\",IF(Benchsheet!C231=1121845,\"VA1121845\",IF(Benchsheet!C231=1121655,\"VA1121655\",IF(Benchsheet!C231=1121900,\"VA1121900\",IF(Benchsheet!C231<1,\"\")))))))))))))))","v":""},{"$f":"IF(Benchsheet!A231>1,\"TC\",IF(Benchsheet!A231=FALSE,\"\"))","v":""},{"$f":"IF(J228=\"WL001\",\"MPN\",IF(Benchsheet!B231=FALSE,\"\",IF(J228=\"WL002\",\"MPN\",IF(J228=\"WL003\",\"MPN\",IF(J228=\"DS001\",\"TC\")))))","v":""},{"$f":"Benchsheet!E231","v":0},"",{"$f":"Benchsheet!B231","v":0},{"$f":"IF(J228=\"WL001\",\"RW001\",IF(Benchsheet!B231=FALSE,\"\",IF(J228=\"WL002\",\"RW002\",IF(J228=\"WL003\",\"RW003\",IF(J228=\"DS001\",\"TCR001\",IF(J228=\"DS001\",\"TCR01\"))))))","v":""},{"$f":"Benchsheet!D231","v":0},{"$f":"Benchsheet!G231","v":"00:00:00"},{"$f":"Benchsheet!H231","v":0},{"$f":"Benchsheet!I231","v":"00:00:00"},{"$f":"Benchsheet!F231","v":0},{"$f":"Benchsheet!P231","v":0},{"$f":"Benchsheet!O231","v":0}]
[{"$f":"IF(Benchsheet!A232>1,\"sample\",IF(Benchsheet!A232=FALSE,\"\"))","v":""},{"$f":"IF(Benchsheet!A232>1,\"STATE\",IF(Benchsheet!A232=FALSE,\"\"))","v":""},{"$f":"IF(Benchsheet!A232>1,\"00035\",IF(Benchsheet!A232=FALSE,\"\"))","v":""},{"$f":"Benchsheet!A232","v":0},{"$f":"IF(Benchsheet!C232=1121057,\"VA1121057\",IF(Benchsheet!C232=1121090,\"VA1121090\",IF(Benchsheet!C232=1121052,\"VA1121052\",IF(Benchsheet!C232=1121175,\"VA1121175\",IF(Benchsheet!C232=1121580,\"VA1121580\",IF(Benchsheet!C232=1121570,\"VA1121570\",IF(Benchsheet!C232=1121045,\"VA1121045\",IF(Benchsheet!C232=1121655,\"VA1121655\",IF(Benchsheet!C232=1121503,\"VA1121503\",IF(Benchsheet!C232=1121043,\"VA1121043\",IF(Benchsheet!C232=1121900,\"VA1121900\",IF(Benchsheet!C232=1121845,\"VA1121845\",IF(Benchsheet!C232=1121655,\"VA1121655\",IF(Benchsheet!C232=1121900,\"VA1121900\",IF(Benchsheet!C232<1,\"\")))))))))))))))","v":""},{"$f":"IF(Benchsheet!A232>1,\"TC\",IF(Benchsheet!A232=FALSE,\"\"))","v":""},{"$f":"IF(J229=\"WL001\",\"MPN\",IF(Benchsheet!B232=FALSE,\"\",IF(J229=\"WL002\",\"MPN\",IF(J229=\"WL003\",\"MPN\",IF(J229=\"DS001\",\"TC\")))))","v":""},{"$f":"Benchsheet!E232","v":0},"",{"$f":"Benchsheet!B232","v":0},{"$f":"IF(J229=\"WL001\",\"RW001\",IF(Benchsheet!B232=FALSE,\"\",IF(J229=\"WL002\",\"RW002\",IF(J229=\"WL003\",\"RW003\",IF(J229=\"DS001\",\"TCR001\",IF(J229=\"DS001\",\"TCR01\"))))))","v":""},{"$f":"Benchsheet!D232","v":0},{"$f":"Benchsheet!G232","v":"00:00:00"},{"$f":"Benchsheet!H232","v":0},{"$f":"Benchsheet!I232","v":"00:00:00"},{"$f":"Benchsheet!F232","v":0},{"$f":"Benchsheet!P232","v":0},{"$f":"Benchsheet!O232","v":0}]
[{"$f":"IF(Benchsheet!A233>1,\"sample\",IF(Benchsheet!A233=FALSE,\"\"))","v":""},{"$f":"IF(Benchsheet!A233>1,\"STATE\",IF(Benchsheet!A233=FALSE,\"\"))","v":""},{"$f":"IF(Benchsheet!A233>1,\"00035\",IF(Benchsheet!A233=FALSE,\"\"))","v":""},{"$f":"Benchsheet!A233","v":0},{"$f":"IF(Benchsheet!C233=1121057,\"VA1121057\",IF(Benchsheet!C233=1121090,\"VA1121090\",IF(Benchsheet!C233=1121052,\"VA1121052\",IF(Benchsheet!C233=1121175,\"VA1121175\",IF(Benchsheet!C233=1121580,\"VA1121580\",IF(Benchsheet!C233=1121570,\"VA1121570\",IF(Benchsheet!C233=1121045,\"VA1121045\",IF(Benchsheet!C233=1121655,\"VA1121655\",IF(Benchsheet!C233=1121503,\"VA1121503\",IF(Benchsheet!C233=1121043,\"VA1121043\",IF(Benchsheet!C233=1121900,\"VA1121900\",IF(Benchsheet!C233=1121845,\"VA1121845\",IF(Benchsheet!C233=1121655,\"VA1121655\",IF(Benchsheet!C233=1121900,\"VA1121900\",IF(Benchsheet!C233<1,\"\")))))))))))))))","v":""},{"$f":"IF(Benchsheet!A233>1,\"TC\",IF(Benchsheet!A233=FALSE,\"\"))","v":""},{"$f":"IF(J230=\"WL001\",\"MPN\",IF(Benchsheet!B233=FALSE,\"\",IF(J230=\"WL002\",\"MPN\",IF(J230=\"WL003\",\"MPN\",IF(J230=\"DS001\",\"TC\")))))","v":""},{"$f":"Benchsheet!E233","v":0},"",{"$f":"Benchsheet!B233","v":0},{"$f":"IF(J230=\"WL001\",\"RW001\",IF(Benchsheet!B233=FALSE,\"\",IF(J230=\"WL002\",\"RW002\",IF(J230=\"WL003\",\"RW003\",IF(J230=\"DS001\",\"TCR001\",IF(J230=\"DS001\",\"TCR01\"))))))","v":""},{"$f":"Benchsheet!D233","v":0},{"$f":"Benchsheet!G233","v":"00:00:00"},{"$f":"Benchsheet!H233","v":0},{"$f":"Benchsheet!I233","v":"00:00:00"},{"$f":"Benchsheet!F233","v":0},{"$f":"Benchsheet!P233","v":0},{"$f":"Benchsheet!O233","v":0}]
[{"$f":"IF(Benchsheet!A234>1,\"sample\",IF(Benchsheet!A234=FALSE,\"\"))","v":""},{"$f":"IF(Benchsheet!A234>1,\"STATE\",IF(Benchsheet!A234=FALSE,\"\"))","v":""},{"$f":"IF(Benchsheet!A234>1,\"00035\",IF(Benchsheet!A234=FALSE,\"\"))","v":""},{"$f":"Benchsheet!A234","v":0},{"$f":"IF(Benchsheet!C234=1121057,\"VA1121057\",IF(Benchsheet!C234=1121090,\"VA1121090\",IF(Benchsheet!C234=1121052,\"VA1121052\",IF(Benchsheet!C234=1121175,\"VA1121175\",IF(Benchsheet!C234=1121580,\"VA1121580\",IF(Benchsheet!C234=1121570,\"VA1121570\",IF(Benchsheet!C234=1121045,\"VA1121045\",IF(Benchsheet!C234=1121655,\"VA1121655\",IF(Benchsheet!C234=1121503,\"VA1121503\",IF(Benchsheet!C234=1121043,\"VA1121043\",IF(Benchsheet!C234=1121900,\"VA1121900\",IF(Benchsheet!C234=1121845,\"VA1121845\",IF(Benchsheet!C234=1121655,\"VA1121655\",IF(Benchsheet!C234=1121900,\"VA1121900\",IF(Benchsheet!C234<1,\"\")))))))))))))))","v":""},{"$f":"IF(Benchsheet!A234>1,\"TC\",IF(Benchsheet!A234=FALSE,\"\"))","v":""},{"$f":"IF(J231=\"WL001\",\"MPN\",IF(Benchsheet!B234=FALSE,\"\",IF(J231=\"WL002\",\"MPN\",IF(J231=\"WL003\",\"MPN\",IF(J231=\"DS001\",\"TC\")))))","v":""},{"$f":"Benchsheet!E234","v":0},"",{"$f":"Benchsheet!B234","v":0},{"$f":"IF(J231=\"WL001\",\"RW001\",IF(Benchsheet!B234=FALSE,\"\",IF(J231=\"WL002\",\"RW002\",IF(J231=\"WL003\",\"RW003\",IF(J231=\"DS001\",\"TCR001\",IF(J231=\"DS001\",\"TCR01\"))))))","v":""},{"$f":"Benchsheet!D234","v":0},{"$f":"Benchsheet!G234","v":"00:00:00"},{"$f":"Benchsheet!H234","v":0},{"$f":"Benchsheet!I234","v":"00:00:00"},{"$f":"Benchsheet!F234","v":0},{"$f":"Benchsheet!P234","v":0},{"$f":"Benchsheet!O234","v":0}]
[{"$f":"IF(Benchsheet!A235>1,\"sample\",IF(Benchsheet!A235=FALSE,\"\"))","v":""},{"$f":"IF(Benchsheet!A235>1,\"STATE\",IF(Benchsheet!A235=FALSE,\"\"))","v":""},{"$f":"IF(Benchsheet!A235>1,\"00035\",IF(Benchsheet!A235=FALSE,\"\"))","v":""},{"$f":"Benchsheet!A235","v":0},{"$f":"IF(Benchsheet!C235=1121057,\"VA1121057\",IF(Benchsheet!C235=1121090,\"VA1121090\",IF(Benchsheet!C235=1121052,\"VA1121052\",IF(Benchsheet!C235=1121175,\"VA1121175\",IF(Benchsheet!C235=1121580,\"VA1121580\",IF(Benchsheet!C235=1121570,\"VA1121570\",IF(Benchsheet!C235=1121045,\"VA1121045\",IF(Benchsheet!C235=1121655,\"VA1121655\",IF(Benchsheet!C235=1121503,\"VA1121503\",IF(Benchsheet!C235=1121043,\"VA1121043\",IF(Benchsheet!C235=1121900,\"VA1121900\",IF(Benchsheet!C235=1121845,\"VA1121845\",IF(Benchsheet!C235=1121655,\"VA1121655\",IF(Benchsheet!C235=1121900,\"VA1121900\",IF(Benchsheet!C235<1,\"\")))))))))))))))","v":""},{"$f":"IF(Benchsheet!A235>1,\"TC\",IF(Benchsheet!A235=FALSE,\"\"))","v":""},{"$f":"IF(J232=\"WL001\",\"MPN\",IF(Benchsheet!B235=FALSE,\"\",IF(J232=\"WL002\",\"MPN\",IF(J232=\"WL003\",\"MPN\",IF(J232=\"DS001\",\"TC\")))))","v":""},{"$f":"Benchsheet!E235","v":0},"",{"$f":"Benchsheet!B235","v":0},{"$f":"IF(J232=\"WL001\",\"RW001\",IF(Benchsheet!B235=FALSE,\"\",IF(J232=\"WL002\",\"RW002\",IF(J232=\"WL003\",\"RW003\",IF(J232=\"DS001\",\"TCR001\",IF(J232=\"DS001\",\"TCR01\"))))))","v":""},{"$f":"Benchsheet!D235","v":0},{"$f":"Benchsheet!G235","v":"00:00:00"},{"$f":"Benchsheet!H235","v":0},{"$f":"Benchsheet!I235","v":"00:00:00"},{"$f":"Benchsheet!F235","v":0},{"$f":"Benchsheet!P235","v":0},{"$f":"Benchsheet!O235","v":0}]
[{"$f":"IF(Benchsheet!A236>1,\"sample\",IF(Benchsheet!A236=FALSE,\"\"))","v":""},{"$f":"IF(Benchsheet!A236>1,\"STATE\",IF(Benchsheet!A236=FALSE,\"\"))","v":""},{"$f":"IF(Benchsheet!A236>1,\"00035\",IF(Benchsheet!A236=FALSE,\"\"))","v":""},{"$f":"Benchsheet!A236","v":0},{"$f":"IF(Benchsheet!C236=1121057,\"VA1121057\",IF(Benchsheet!C236=1121090,\"VA1121090\",IF(Benchsheet!C236=1121052,\"VA1121052\",IF(Benchsheet!C236=1121175,\"VA1121175\",IF(Benchsheet!C236=1121580,\"VA1121580\",IF(Benchsheet!C236=1121570,\"VA1121570\",IF(Benchsheet!C236=1121045,\"VA1121045\",IF(Benchsheet!C236=1121655,\"VA1121655\",IF(Benchsheet!C236=1121503,\"VA1121503\",IF(Benchsheet!C236=1121043,\"VA1121043\",IF(Benchsheet!C236=1121900,\"VA1121900\",IF(Benchsheet!C236=1121845,\"VA1121845\",IF(Benchsheet!C236=1121655,\"VA1121655\",IF(Benchsheet!C236=1121900,\"VA1121900\",IF(Benchsheet!C236<1,\"\")))))))))))))))","v":""},{"$f":"IF(Benchsheet!A236>1,\"TC\",IF(Benchsheet!A236=FALSE,\"\"))","v":""},{"$f":"IF(J233=\"WL001\",\"MPN\",IF(Benchsheet!B236=FALSE,\"\",IF(J233=\"WL002\",\"MPN\",IF(J233=\"WL003\",\"MPN\",IF(J233=\"DS001\",\"TC\")))))","v":""},{"$f":"Benchsheet!E236","v":0},"",{"$f":"Benchsheet!B236","v":0},{"$f":"IF(J233=\"WL001\",\"RW001\",IF(Benchsheet!B236=FALSE,\"\",IF(J233=\"WL002\",\"RW002\",IF(J233=\"WL003\",\"RW003\",IF(J233=\"DS001\",\"TCR001\",IF(J233=\"DS001\",\"TCR01\"))))))","v":""},{"$f":"Benchsheet!D236","v":0},{"$f":"Benchsheet!G236","v":"00:00:00"},{"$f":"Benchsheet!H236","v":0},{"$f":"Benchsheet!I236","v":"00:00:00"},{"$f":"Benchsheet!F236","v":0},{"$f":"Benchsheet!P236","v":0},{"$f":"Benchsheet!O236","v":0}]
[{"$f":"IF(Benchsheet!A237>1,\"sample\",IF(Benchsheet!A237=FALSE,\"\"))","v":""},{"$f":"IF(Benchsheet!A237>1,\"STATE\",IF(Benchsheet!A237=FALSE,\"\"))","v":""},{"$f":"IF(Benchsheet!A237>1,\"00035\",IF(Benchsheet!A237=FALSE,\"\"))","v":""},{"$f":"Benchsheet!A237","v":0},{"$f":"IF(Benchsheet!C237=1121057,\"VA1121057\",IF(Benchsheet!C237=1121090,\"VA1121090\",IF(Benchsheet!C237=1121052,\"VA1121052\",IF(Benchsheet!C237=1121175,\"VA1121175\",IF(Benchsheet!C237=1121580,\"VA1121580\",IF(Benchsheet!C237=1121570,\"VA1121570\",IF(Benchsheet!C237=1121045,\"VA1121045\",IF(Benchsheet!C237=1121655,\"VA1121655\",IF(Benchsheet!C237=1121503,\"VA1121503\",IF(Benchsheet!C237=1121043,\"VA1121043\",IF(Benchsheet!C237=1121900,\"VA1121900\",IF(Benchsheet!C237=1121845,\"VA1121845\",IF(Benchsheet!C237=1121655,\"VA1121655\",IF(Benchsheet!C237=1121900,\"VA1121900\",IF(Benchsheet!C237<1,\"\")))))))))))))))","v":""},{"$f":"IF(Benchsheet!A237>1,\"TC\",IF(Benchsheet!A237=FALSE,\"\"))","v":""},{"$f":"IF(J234=\"WL001\",\"MPN\",IF(Benchsheet!B237=FALSE,\"\",IF(J234=\"WL002\",\"MPN\",IF(J234=\"WL003\",\"MPN\",IF(J234=\"DS001\",\"TC\")))))","v":""},{"$f":"Benchsheet!E237","v":0},"",{"$f":"Benchsheet!B237","v":0},{"$f":"IF(J234=\"WL001\",\"RW001\",IF(Benchsheet!B237=FALSE,\"\",IF(J234=\"WL002\",\"RW002\",IF(J234=\"WL003\",\"RW003\",IF(J234=\"DS001\",\"TCR001\",IF(J234=\"DS001\",\"TCR01\"))))))","v":""},{"$f":"Benchsheet!D237","v":0},{"$f":"Benchsheet!G237","v":"00:00:00"},{"$f":"Benchsheet!H237","v":0},{"$f":"Benchsheet!I237","v":"00:00:00"},{"$f":"Benchsheet!F237","v":0},{"$f":"Benchsheet!P237","v":0},{"$f":"Benchsheet!O237","v":0}]
[{"$f":"IF(Benchsheet!A238>1,\"sample\",IF(Benchsheet!A238=FALSE,\"\"))","v":""},{"$f":"IF(Benchsheet!A238>1,\"STATE\",IF(Benchsheet!A238=FALSE,\"\"))","v":""},{"$f":"IF(Benchsheet!A238>1,\"00035\",IF(Benchsheet!A238=FALSE,\"\"))","v":""},{"$f":"Benchsheet!A238","v":0},{"$f":"IF(Benchsheet!C238=1121057,\"VA1121057\",IF(Benchsheet!C238=1121090,\"VA1121090\",IF(Benchsheet!C238=1121052,\"VA1121052\",IF(Benchsheet!C238=1121175,\"VA1121175\",IF(Benchsheet!C238=1121580,\"VA1121580\",IF(Benchsheet!C238=1121570,\"VA1121570\",IF(Benchsheet!C238=1121045,\"VA1121045\",IF(Benchsheet!C238=1121655,\"VA1121655\",IF(Benchsheet!C238=1121503,\"VA1121503\",IF(Benchsheet!C238=1121043,\"VA1121043\",IF(Benchsheet!C238=1121900,\"VA1121900\",IF(Benchsheet!C238=1121845,\"VA1121845\",IF(Benchsheet!C238=1121655,\"VA1121655\",IF(Benchsheet!C238=1121900,\"VA1121900\",IF(Benchsheet!C238<1,\"\")))))))))))))))","v":""},{"$f":"IF(Benchsheet!A238>1,\"TC\",IF(Benchsheet!A238=FALSE,\"\"))","v":""},{"$f":"IF(J235=\"WL001\",\"MPN\",IF(Benchsheet!B238=FALSE,\"\",IF(J235=\"WL002\",\"MPN\",IF(J235=\"WL003\",\"MPN\",IF(J235=\"DS001\",\"TC\")))))","v":""},{"$f":"Benchsheet!E238","v":0},"",{"$f":"Benchsheet!B238","v":0},{"$f":"IF(J235=\"WL001\",\"RW001\",IF(Benchsheet!B238=FALSE,\"\",IF(J235=\"WL002\",\"RW002\",IF(J235=\"WL003\",\"RW003\",IF(J235=\"DS001\",\"TCR001\",IF(J235=\"DS001\",\"TCR01\"))))))","v":""},{"$f":"Benchsheet!D238","v":0},{"$f":"Benchsheet!G238","v":"00:00:00"},{"$f":"Benchsheet!H238","v":0},{"$f":"Benchsheet!I238","v":"00:00:00"},{"$f":"Benchsheet!F238","v":0},{"$f":"Benchsheet!P238","v":0},{"$f":"Benchsheet!O238","v":0}]
[{"$f":"IF(Benchsheet!A239>1,\"sample\",IF(Benchsheet!A239=FALSE,\"\"))","v":""},{"$f":"IF(Benchsheet!A239>1,\"STATE\",IF(Benchsheet!A239=FALSE,\"\"))","v":""},{"$f":"IF(Benchsheet!A239>1,\"00035\",IF(Benchsheet!A239=FALSE,\"\"))","v":""},{"$f":"Benchsheet!A239","v":0},{"$f":"IF(Benchsheet!C239=1121057,\"VA1121057\",IF(Benchsheet!C239=1121090,\"VA1121090\",IF(Benchsheet!C239=1121052,\"VA1121052\",IF(Benchsheet!C239=1121175,\"VA1121175\",IF(Benchsheet!C239=1121580,\"VA1121580\",IF(Benchsheet!C239=1121570,\"VA1121570\",IF(Benchsheet!C239=1121045,\"VA1121045\",IF(Benchsheet!C239=1121655,\"VA1121655\",IF(Benchsheet!C239=1121503,\"VA1121503\",IF(Benchsheet!C239=1121043,\"VA1121043\",IF(Benchsheet!C239=1121900,\"VA1121900\",IF(Benchsheet!C239=1121845,\"VA1121845\",IF(Benchsheet!C239=1121655,\"VA1121655\",IF(Benchsheet!C239=1121900,\"VA1121900\",IF(Benchsheet!C239<1,\"\")))))))))))))))","v":""},{"$f":"IF(Benchsheet!A239>1,\"TC\",IF(Benchsheet!A239=FALSE,\"\"))","v":""},{"$f":"IF(J236=\"WL001\",\"MPN\",IF(Benchsheet!B239=FALSE,\"\",IF(J236=\"WL002\",\"MPN\",IF(J236=\"WL003\",\"MPN\",IF(J236=\"DS001\",\"TC\")))))","v":""},{"$f":"Benchsheet!E239","v":0},"",{"$f":"Benchsheet!B239","v":0},{"$f":"IF(J236=\"WL001\",\"RW001\",IF(Benchsheet!B239=FALSE,\"\",IF(J236=\"WL002\",\"RW002\",IF(J236=\"WL003\",\"RW003\",IF(J236=\"DS001\",\"TCR001\",IF(J236=\"DS001\",\"TCR01\"))))))","v":""},{"$f":"Benchsheet!D239","v":0},{"$f":"Benchsheet!G239","v":"00:00:00"},{"$f":"Benchsheet!H239","v":0},{"$f":"Benchsheet!I239","v":"00:00:00"},{"$f":"Benchsheet!F239","v":0},{"$f":"Benchsheet!P239","v":0},{"$f":"Benchsheet!O239","v":0}]
[{"$f":"IF(Benchsheet!A240>1,\"sample\",IF(Benchsheet!A240=FALSE,\"\"))","v":""},{"$f":"IF(Benchsheet!A240>1,\"STATE\",IF(Benchsheet!A240=FALSE,\"\"))","v":""},{"$f":"IF(Benchsheet!A240>1,\"00035\",IF(Benchsheet!A240=FALSE,\"\"))","v":""},{"$f":"Benchsheet!A240","v":0},{"$f":"IF(Benchsheet!C240=1121057,\"VA1121057\",IF(Benchsheet!C240=1121090,\"VA1121090\",IF(Benchsheet!C240=1121052,\"VA1121052\",IF(Benchsheet!C240=1121175,\"VA1121175\",IF(Benchsheet!C240=1121580,\"VA1121580\",IF(Benchsheet!C240=1121570,\"VA1121570\",IF(Benchsheet!C240=1121045,\"VA1121045\",IF(Benchsheet!C240=1121655,\"VA1121655\",IF(Benchsheet!C240=1121503,\"VA1121503\",IF(Benchsheet!C240=1121043,\"VA1121043\",IF(Benchsheet!C240=1121900,\"VA1121900\",IF(Benchsheet!C240=1121845,\"VA1121845\",IF(Benchsheet!C240=1121655,\"VA1121655\",IF(Benchsheet!C240=1121900,\"VA1121900\",IF(Benchsheet!C240<1,\"\")))))))))))))))","v":""},{"$f":"IF(Benchsheet!A240>1,\"TC\",IF(Benchsheet!A240=FALSE,\"\"))","v":""},{"$f":"IF(J237=\"WL001\",\"MPN\",IF(Benchsheet!B240=FALSE,\"\",IF(J237=\"WL002\",\"MPN\",IF(J237=\"WL003\",\"MPN\",IF(J237=\"DS001\",\"TC\")))))","v":""},{"$f":"Benchsheet!E240","v":0},"",{"$f":"Benchsheet!B240","v":0},{"$f":"IF(J237=\"WL001\",\"RW001\",IF(Benchsheet!B240=FALSE,\"\",IF(J237=\"WL002\",\"RW002\",IF(J237=\"WL003\",\"RW003\",IF(J237=\"DS001\",\"TCR001\",IF(J237=\"DS001\",\"TCR01\"))))))","v":""},{"$f":"Benchsheet!D240","v":0},{"$f":"Benchsheet!G240","v":"00:00:00"},{"$f":"Benchsheet!H240","v":0},{"$f":"Benchsheet!I240","v":"00:00:00"},{"$f":"Benchsheet!F240","v":0},{"$f":"Benchsheet!P240","v":0},{"$f":"Benchsheet!O240","v":0}]
[{"$f":"IF(Benchsheet!A241>1,\"sample\",IF(Benchsheet!A241=FALSE,\"\"))","v":""},{"$f":"IF(Benchsheet!A241>1,\"STATE\",IF(Benchsheet!A241=FALSE,\"\"))","v":""},{"$f":"IF(Benchsheet!A241>1,\"00035\",IF(Benchsheet!A241=FALSE,\"\"))","v":""},{"$f":"Benchsheet!A241","v":0},{"$f":"IF(Benchsheet!C241=1121057,\"VA1121057\",IF(Benchsheet!C241=1121090,\"VA1121090\",IF(Benchsheet!C241=1121052,\"VA1121052\",IF(Benchsheet!C241=1121175,\"VA1121175\",IF(Benchsheet!C241=1121580,\"VA1121580\",IF(Benchsheet!C241=1121570,\"VA1121570\",IF(Benchsheet!C241=1121045,\"VA1121045\",IF(Benchsheet!C241=1121655,\"VA1121655\",IF(Benchsheet!C241=1121503,\"VA1121503\",IF(Benchsheet!C241=1121043,\"VA1121043\",IF(Benchsheet!C241=1121900,\"VA1121900\",IF(Benchsheet!C241=1121845,\"VA1121845\",IF(Benchsheet!C241=1121655,\"VA1121655\",IF(Benchsheet!C241=1121900,\"VA1121900\",IF(Benchsheet!C241<1,\"\")))))))))))))))","v":""},{"$f":"IF(Benchsheet!A241>1,\"TC\",IF(Benchsheet!A241=FALSE,\"\"))","v":""},{"$f":"IF(J238=\"WL001\",\"MPN\",IF(Benchsheet!B241=FALSE,\"\",IF(J238=\"WL002\",\"MPN\",IF(J238=\"WL003\",\"MPN\",IF(J238=\"DS001\",\"TC\")))))","v":""},{"$f":"Benchsheet!E241","v":0},"",{"$f":"Benchsheet!B241","v":0},{"$f":"IF(J238=\"WL001\",\"RW001\",IF(Benchsheet!B241=FALSE,\"\",IF(J238=\"WL002\",\"RW002\",IF(J238=\"WL003\",\"RW003\",IF(J238=\"DS001\",\"TCR001\",IF(J238=\"DS001\",\"TCR01\"))))))","v":""},{"$f":"Benchsheet!D241","v":0},{"$f":"Benchsheet!G241","v":"00:00:00"},{"$f":"Benchsheet!H241","v":0},{"$f":"Benchsheet!I241","v":"00:00:00"},{"$f":"Benchsheet!F241","v":0},{"$f":"Benchsheet!P241","v":0},{"$f":"Benchsheet!O241","v":0}]
[{"$f":"IF(Benchsheet!A242>1,\"sample\",IF(Benchsheet!A242=FALSE,\"\"))","v":""},{"$f":"IF(Benchsheet!A242>1,\"STATE\",IF(Benchsheet!A242=FALSE,\"\"))","v":""},{"$f":"IF(Benchsheet!A242>1,\"00035\",IF(Benchsheet!A242=FALSE,\"\"))","v":""},{"$f":"Benchsheet!A242","v":0},{"$f":"IF(Benchsheet!C242=1121057,\"VA1121057\",IF(Benchsheet!C242=1121090,\"VA1121090\",IF(Benchsheet!C242=1121052,\"VA1121052\",IF(Benchsheet!C242=1121175,\"VA1121175\",IF(Benchsheet!C242=1121580,\"VA1121580\",IF(Benchsheet!C242=1121570,\"VA1121570\",IF(Benchsheet!C242=1121045,\"VA1121045\",IF(Benchsheet!C242=1121655,\"VA1121655\",IF(Benchsheet!C242=1121503,\"VA1121503\",IF(Benchsheet!C242=1121043,\"VA1121043\",IF(Benchsheet!C242=1121900,\"VA1121900\",IF(Benchsheet!C242=1121845,\"VA1121845\",IF(Benchsheet!C242=1121655,\"VA1121655\",IF(Benchsheet!C242=1121900,\"VA1121900\",IF(Benchsheet!C242<1,\"\")))))))))))))))","v":""},{"$f":"IF(Benchsheet!A242>1,\"TC\",IF(Benchsheet!A242=FALSE,\"\"))","v":""},{"$f":"IF(J239=\"WL001\",\"MPN\",IF(Benchsheet!B242=FALSE,\"\",IF(J239=\"WL002\",\"MPN\",IF(J239=\"WL003\",\"MPN\",IF(J239=\"DS001\",\"TC\")))))","v":""},{"$f":"Benchsheet!E242","v":0},"",{"$f":"Benchsheet!B242","v":0},{"$f":"IF(J239=\"WL001\",\"RW001\",IF(Benchsheet!B242=FALSE,\"\",IF(J239=\"WL002\",\"RW002\",IF(J239=\"WL003\",\"RW003\",IF(J239=\"DS001\",\"TCR001\",IF(J239=\"DS001\",\"TCR01\"))))))","v":""},{"$f":"Benchsheet!D242","v":0},{"$f":"Benchsheet!G242","v":"00:00:00"},{"$f":"Benchsheet!H242","v":0},{"$f":"Benchsheet!I242","v":"00:00:00"},{"$f":"Benchsheet!F242","v":0},{"$f":"Benchsheet!P242","v":0},{"$f":"Benchsheet!O242","v":0}]
[{"$f":"IF(Benchsheet!A243>1,\"sample\",IF(Benchsheet!A243=FALSE,\"\"))","v":""},{"$f":"IF(Benchsheet!A243>1,\"STATE\",IF(Benchsheet!A243=FALSE,\"\"))","v":""},{"$f":"IF(Benchsheet!A243>1,\"00035\",IF(Benchsheet!A243=FALSE,\"\"))","v":""},{"$f":"Benchsheet!A243","v":0},{"$f":"IF(Benchsheet!C243=1121057,\"VA1121057\",IF(Benchsheet!C243=1121090,\"VA1121090\",IF(Benchsheet!C243=1121052,\"VA1121052\",IF(Benchsheet!C243=1121175,\"VA1121175\",IF(Benchsheet!C243=1121580,\"VA1121580\",IF(Benchsheet!C243=1121570,\"VA1121570\",IF(Benchsheet!C243=1121045,\"VA1121045\",IF(Benchsheet!C243=1121655,\"VA1121655\",IF(Benchsheet!C243=1121503,\"VA1121503\",IF(Benchsheet!C243=1121043,\"VA1121043\",IF(Benchsheet!C243=1121900,\"VA1121900\",IF(Benchsheet!C243=1121845,\"VA1121845\",IF(Benchsheet!C243=1121655,\"VA1121655\",IF(Benchsheet!C243=1121900,\"VA1121900\",IF(Benchsheet!C243<1,\"\")))))))))))))))","v":""},{"$f":"IF(Benchsheet!A243>1,\"TC\",IF(Benchsheet!A243=FALSE,\"\"))","v":""},{"$f":"IF(J240=\"WL001\",\"MPN\",IF(Benchsheet!B243=FALSE,\"\",IF(J240=\"WL002\",\"MPN\",IF(J240=\"WL003\",\"MPN\",IF(J240=\"DS001\",\"TC\")))))","v":""},{"$f":"Benchsheet!E243","v":0},"",{"$f":"Benchsheet!B243","v":0},{"$f":"IF(J240=\"WL001\",\"RW001\",IF(Benchsheet!B243=FALSE,\"\",IF(J240=\"WL002\",\"RW002\",IF(J240=\"WL003\",\"RW003\",IF(J240=\"DS001\",\"TCR001\",IF(J240=\"DS001\",\"TCR01\"))))))","v":""},{"$f":"Benchsheet!D243","v":0},{"$f":"Benchsheet!G243","v":"00:00:00"},{"$f":"Benchsheet!H243","v":0},{"$f":"Benchsheet!I243","v":"00:00:00"},{"$f":"Benchsheet!F243","v":0},{"$f":"Benchsheet!P243","v":0},{"$f":"Benchsheet!O243","v":0}]
[{"$f":"IF(Benchsheet!A244>1,\"sample\",IF(Benchsheet!A244=FALSE,\"\"))","v":""},{"$f":"IF(Benchsheet!A244>1,\"STATE\",IF(Benchsheet!A244=FALSE,\"\"))","v":""},{"$f":"IF(Benchsheet!A244>1,\"00035\",IF(Benchsheet!A244=FALSE,\"\"))","v":""},{"$f":"Benchsheet!A244","v":0},{"$f":"IF(Benchsheet!C244=1121057,\"VA1121057\",IF(Benchsheet!C244=1121090,\"VA1121090\",IF(Benchsheet!C244=1121052,\"VA1121052\",IF(Benchsheet!C244=1121175,\"VA1121175\",IF(Benchsheet!C244=1121580,\"VA1121580\",IF(Benchsheet!C244=1121570,\"VA1121570\",IF(Benchsheet!C244=1121045,\"VA1121045\",IF(Benchsheet!C244=1121655,\"VA1121655\",IF(Benchsheet!C244=1121503,\"VA1121503\",IF(Benchsheet!C244=1121043,\"VA1121043\",IF(Benchsheet!C244=1121900,\"VA1121900\",IF(Benchsheet!C244=1121845,\"VA1121845\",IF(Benchsheet!C244=1121655,\"VA1121655\",IF(Benchsheet!C244=1121900,\"VA1121900\",IF(Benchsheet!C244<1,\"\")))))))))))))))","v":""},{"$f":"IF(Benchsheet!A244>1,\"TC\",IF(Benchsheet!A244=FALSE,\"\"))","v":""},{"$f":"IF(J241=\"WL001\",\"MPN\",IF(Benchsheet!B244=FALSE,\"\",IF(J241=\"WL002\",\"MPN\",IF(J241=\"WL003\",\"MPN\",IF(J241=\"DS001\",\"TC\")))))","v":""},{"$f":"Benchsheet!E244","v":0},"",{"$f":"Benchsheet!B244","v":0},{"$f":"IF(J241=\"WL001\",\"RW001\",IF(Benchsheet!B244=FALSE,\"\",IF(J241=\"WL002\",\"RW002\",IF(J241=\"WL003\",\"RW003\",IF(J241=\"DS001\",\"TCR001\",IF(J241=\"DS001\",\"TCR01\"))))))","v":""},{"$f":"Benchsheet!D244","v":0},{"$f":"Benchsheet!G244","v":"00:00:00"},{"$f":"Benchsheet!H244","v":0},{"$f":"Benchsheet!I244","v":"00:00:00"},{"$f":"Benchsheet!F244","v":0},{"$f":"Benchsheet!P244","v":0},{"$f":"Benchsheet!O244","v":0}]
[{"$f":"IF(Benchsheet!A245>1,\"sample\",IF(Benchsheet!A245=FALSE,\"\"))","v":""},{"$f":"IF(Benchsheet!A245>1,\"STATE\",IF(Benchsheet!A245=FALSE,\"\"))","v":""},{"$f":"IF(Benchsheet!A245>1,\"00035\",IF(Benchsheet!A245=FALSE,\"\"))","v":""},{"$f":"Benchsheet!A245","v":0},{"$f":"IF(Benchsheet!C245=1121057,\"VA1121057\",IF(Benchsheet!C245=1121090,\"VA1121090\",IF(Benchsheet!C245=1121052,\"VA1121052\",IF(Benchsheet!C245=1121175,\"VA1121175\",IF(Benchsheet!C245=1121580,\"VA1121580\",IF(Benchsheet!C245=1121570,\"VA1121570\",IF(Benchsheet!C245=1121045,\"VA1121045\",IF(Benchsheet!C245=1121655,\"VA1121655\",IF(Benchsheet!C245=1121503,\"VA1121503\",IF(Benchsheet!C245=1121043,\"VA1121043\",IF(Benchsheet!C245=1121900,\"VA1121900\",IF(Benchsheet!C245=1121845,\"VA1121845\",IF(Benchsheet!C245=1121655,\"VA1121655\",IF(Benchsheet!C245=1121900,\"VA1121900\",IF(Benchsheet!C245<1,\"\")))))))))))))))","v":""},{"$f":"IF(Benchsheet!A245>1,\"TC\",IF(Benchsheet!A245=FALSE,\"\"))","v":""},{"$f":"IF(J242=\"WL001\",\"MPN\",IF(Benchsheet!B245=FALSE,\"\",IF(J242=\"WL002\",\"MPN\",IF(J242=\"WL003\",\"MPN\",IF(J242=\"DS001\",\"TC\")))))","v":""},{"$f":"Benchsheet!E245","v":0},"",{"$f":"Benchsheet!B245","v":0},{"$f":"IF(J242=\"WL001\",\"RW001\",IF(Benchsheet!B245=FALSE,\"\",IF(J242=\"WL002\",\"RW002\",IF(J242=\"WL003\",\"RW003\",IF(J242=\"DS001\",\"TCR001\",IF(J242=\"DS001\",\"TCR01\"))))))","v":""},{"$f":"Benchsheet!D245","v":0},{"$f":"Benchsheet!G245","v":"00:00:00"},{"$f":"Benchsheet!H245","v":0},{"$f":"Benchsheet!I245","v":"00:00:00"},{"$f":"Benchsheet!F245","v":0},{"$f":"Benchsheet!P245","v":0},{"$f":"Benchsheet!O245","v":0}]
[{"$f":"IF(Benchsheet!A246>1,\"sample\",IF(Benchsheet!A246=FALSE,\"\"))","v":""},{"$f":"IF(Benchsheet!A246>1,\"STATE\",IF(Benchsheet!A246=FALSE,\"\"))","v":""},{"$f":"IF(Benchsheet!A246>1,\"00035\",IF(Benchsheet!A246=FALSE,\"\"))","v":""},{"$f":"Benchsheet!A246","v":0},{"$f":"IF(Benchsheet!C246=1121057,\"VA1121057\",IF(Benchsheet!C246=1121090,\"VA1121090\",IF(Benchsheet!C246=1121052,\"VA1121052\",IF(Benchsheet!C246=1121175,\"VA1121175\",IF(Benchsheet!C246=1121580,\"VA1121580\",IF(Benchsheet!C246=1121570,\"VA1121570\",IF(Benchsheet!C246=1121045,\"VA1121045\",IF(Benchsheet!C246=1121655,\"VA1121655\",IF(Benchsheet!C246=1121503,\"VA1121503\",IF(Benchsheet!C246=1121043,\"VA1121043\",IF(Benchsheet!C246=1121900,\"VA1121900\",IF(Benchsheet!C246=1121845,\"VA1121845\",IF(Benchsheet!C246=1121655,\"VA1121655\",IF(Benchsheet!C246=1121900,\"VA1121900\",IF(Benchsheet!C246<1,\"\")))))))))))))))","v":""},{"$f":"IF(Benchsheet!A246>1,\"TC\",IF(Benchsheet!A246=FALSE,\"\"))","v":""},{"$f":"IF(J243=\"WL001\",\"MPN\",IF(Benchsheet!B246=FALSE,\"\",IF(J243=\"WL002\",\"MPN\",IF(J243=\"WL003\",\"MPN\",IF(J243=\"DS001\",\"TC\")))))","v":""},{"$f":"Benchsheet!E246","v":0},"",{"$f":"Benchsheet!B246","v":0},{"$f":"IF(J243=\"WL001\",\"RW001\",IF(Benchsheet!B246=FALSE,\"\",IF(J243=\"WL002\",\"RW002\",IF(J243=\"WL003\",\"RW003\",IF(J243=\"DS001\",\"TCR001\",IF(J243=\"DS001\",\"TCR01\"))))))","v":""},{"$f":"Benchsheet!D246","v":0},{"$f":"Benchsheet!G246","v":"00:00:00"},{"$f":"Benchsheet!H246","v":0},{"$f":"Benchsheet!I246","v":"00:00:00"},{"$f":"Benchsheet!F246","v":0},{"$f":"Benchsheet!P246","v":0},{"$f":"Benchsheet!O246","v":0}]
[{"$f":"IF(Benchsheet!A247>1,\"sample\",IF(Benchsheet!A247=FALSE,\"\"))","v":""},{"$f":"IF(Benchsheet!A247>1,\"STATE\",IF(Benchsheet!A247=FALSE,\"\"))","v":""},{"$f":"IF(Benchsheet!A247>1,\"00035\",IF(Benchsheet!A247=FALSE,\"\"))","v":""},{"$f":"Benchsheet!A247","v":0},{"$f":"IF(Benchsheet!C247=1121057,\"VA1121057\",IF(Benchsheet!C247=1121090,\"VA1121090\",IF(Benchsheet!C247=1121052,\"VA1121052\",IF(Benchsheet!C247=1121175,\"VA1121175\",IF(Benchsheet!C247=1121580,\"VA1121580\",IF(Benchsheet!C247=1121570,\"VA1121570\",IF(Benchsheet!C247=1121045,\"VA1121045\",IF(Benchsheet!C247=1121655,\"VA1121655\",IF(Benchsheet!C247=1121503,\"VA1121503\",IF(Benchsheet!C247=1121043,\"VA1121043\",IF(Benchsheet!C247=1121900,\"VA1121900\",IF(Benchsheet!C247=1121845,\"VA1121845\",IF(Benchsheet!C247=1121655,\"VA1121655\",IF(Benchsheet!C247=1121900,\"VA1121900\",IF(Benchsheet!C247<1,\"\")))))))))))))))","v":""},{"$f":"IF(Benchsheet!A247>1,\"TC\",IF(Benchsheet!A247=FALSE,\"\"))","v":""},{"$f":"IF(J244=\"WL001\",\"MPN\",IF(Benchsheet!B247=FALSE,\"\",IF(J244=\"WL002\",\"MPN\",IF(J244=\"WL003\",\"MPN\",IF(J244=\"DS001\",\"TC\")))))","v":""},{"$f":"Benchsheet!E247","v":0},"",{"$f":"Benchsheet!B247","v":0},{"$f":"IF(J244=\"WL001\",\"RW001\",IF(Benchsheet!B247=FALSE,\"\",IF(J244=\"WL002\",\"RW002\",IF(J244=\"WL003\",\"RW003\",IF(J244=\"DS001\",\"TCR001\",IF(J244=\"DS001\",\"TCR01\"))))))","v":""},{"$f":"Benchsheet!D247","v":0},{"$f":"Benchsheet!G247","v":"00:00:00"},{"$f":"Benchsheet!H247","v":0},{"$f":"Benchsheet!I247","v":"00:00:00"},{"$f":"Benchsheet!F247","v":0},{"$f":"Benchsheet!P247","v":0},{"$f":"Benchsheet!O247","v":0}]
[{"$f":"IF(Benchsheet!A248>1,\"sample\",IF(Benchsheet!A248=FALSE,\"\"))","v":""},{"$f":"IF(Benchsheet!A248>1,\"STATE\",IF(Benchsheet!A248=FALSE,\"\"))","v":""},{"$f":"IF(Benchsheet!A248>1,\"00035\",IF(Benchsheet!A248=FALSE,\"\"))","v":""},{"$f":"Benchsheet!A248","v":0},{"$f":"IF(Benchsheet!C248=1121057,\"VA1121057\",IF(Benchsheet!C248=1121090,\"VA1121090\",IF(Benchsheet!C248=1121052,\"VA1121052\",IF(Benchsheet!C248=1121175,\"VA1121175\",IF(Benchsheet!C248=1121580,\"VA1121580\",IF(Benchsheet!C248=1121570,\"VA1121570\",IF(Benchsheet!C248=1121045,\"VA1121045\",IF(Benchsheet!C248=1121655,\"VA1121655\",IF(Benchsheet!C248=1121503,\"VA1121503\",IF(Benchsheet!C248=1121043,\"VA1121043\",IF(Benchsheet!C248=1121900,\"VA1121900\",IF(Benchsheet!C248=1121845,\"VA1121845\",IF(Benchsheet!C248=1121655,\"VA1121655\",IF(Benchsheet!C248=1121900,\"VA1121900\",IF(Benchsheet!C248<1,\"\")))))))))))))))","v":""},{"$f":"IF(Benchsheet!A248>1,\"TC\",IF(Benchsheet!A248=FALSE,\"\"))","v":""},{"$f":"IF(J245=\"WL001\",\"MPN\",IF(Benchsheet!B248=FALSE,\"\",IF(J245=\"WL002\",\"MPN\",IF(J245=\"WL003\",\"MPN\",IF(J245=\"DS001\",\"TC\")))))","v":""},{"$f":"Benchsheet!E248","v":0},"",{"$f":"Benchsheet!B248","v":0},{"$f":"IF(J245=\"WL001\",\"RW001\",IF(Benchsheet!B248=FALSE,\"\",IF(J245=\"WL002\",\"RW002\",IF(J245=\"WL003\",\"RW003\",IF(J245=\"DS001\",\"TCR001\",IF(J245=\"DS001\",\"TCR01\"))))))","v":""},{"$f":"Benchsheet!D248","v":0},{"$f":"Benchsheet!G248","v":"00:00:00"},{"$f":"Benchsheet!H248","v":0},{"$f":"Benchsheet!I248","v":"00:00:00"},{"$f":"Benchsheet!F248","v":0},{"$f":"Benchsheet!P248","v":0},{"$f":"Benchsheet!O248","v":0}]
[{"$f":"IF(Benchsheet!A249>1,\"sample\",IF(Benchsheet!A249=FALSE,\"\"))","v":""},{"$f":"IF(Benchsheet!A249>1,\"STATE\",IF(Benchsheet!A249=FALSE,\"\"))","v":""},{"$f":"IF(Benchsheet!A249>1,\"00035\",IF(Benchsheet!A249=FALSE,\"\"))","v":""},{"$f":"Benchsheet!A249","v":0},{"$f":"IF(Benchsheet!C249=1121057,\"VA1121057\",IF(Benchsheet!C249=1121090,\"VA1121090\",IF(Benchsheet!C249=1121052,\"VA1121052\",IF(Benchsheet!C249=1121175,\"VA1121175\",IF(Benchsheet!C249=1121580,\"VA1121580\",IF(Benchsheet!C249=1121570,\"VA1121570\",IF(Benchsheet!C249=1121045,\"VA1121045\",IF(Benchsheet!C249=1121655,\"VA1121655\",IF(Benchsheet!C249=1121503,\"VA1121503\",IF(Benchsheet!C249=1121043,\"VA1121043\",IF(Benchsheet!C249=1121900,\"VA1121900\",IF(Benchsheet!C249=1121845,\"VA1121845\",IF(Benchsheet!C249=1121655,\"VA1121655\",IF(Benchsheet!C249=1121900,\"VA1121900\",IF(Benchsheet!C249<1,\"\")))))))))))))))","v":""},{"$f":"IF(Benchsheet!A249>1,\"TC\",IF(Benchsheet!A249=FALSE,\"\"))","v":""},{"$f":"IF(J246=\"WL001\",\"MPN\",IF(Benchsheet!B249=FALSE,\"\",IF(J246=\"WL002\",\"MPN\",IF(J246=\"WL003\",\"MPN\",IF(J246=\"DS001\",\"TC\")))))","v":""},{"$f":"Benchsheet!E249","v":0},"",{"$f":"Benchsheet!B249","v":0},{"$f":"IF(J246=\"WL001\",\"RW001\",IF(Benchsheet!B249=FALSE,\"\",IF(J246=\"WL002\",\"RW002\",IF(J246=\"WL003\",\"RW003\",IF(J246=\"DS001\",\"TCR001\",IF(J246=\"DS001\",\"TCR01\"))))))","v":""},{"$f":"Benchsheet!D249","v":0},{"$f":"Benchsheet!G249","v":"00:00:00"},{"$f":"Benchsheet!H249","v":0},{"$f":"Benchsheet!I249","v":"00:00:00"},{"$f":"Benchsheet!F249","v":0},{"$f":"Benchsheet!P249","v":0},{"$f":"Benchsheet!O249","v":0}]
[{"$f":"IF(Benchsheet!A250>1,\"sample\",IF(Benchsheet!A250=FALSE,\"\"))","v":""},{"$f":"IF(Benchsheet!A250>1,\"STATE\",IF(Benchsheet!A250=FALSE,\"\"))","v":""},{"$f":"IF(Benchsheet!A250>1,\"00035\",IF(Benchsheet!A250=FALSE,\"\"))","v":""},{"$f":"Benchsheet!A250","v":0},{"$f":"IF(Benchsheet!C250=1121057,\"VA1121057\",IF(Benchsheet!C250=1121090,\"VA1121090\",IF(Benchsheet!C250=1121052,\"VA1121052\",IF(Benchsheet!C250=1121175,\"VA1121175\",IF(Benchsheet!C250=1121580,\"VA1121580\",IF(Benchsheet!C250=1121570,\"VA1121570\",IF(Benchsheet!C250=1121045,\"VA1121045\",IF(Benchsheet!C250=1121655,\"VA1121655\",IF(Benchsheet!C250=1121503,\"VA1121503\",IF(Benchsheet!C250=1121043,\"VA1121043\",IF(Benchsheet!C250=1121900,\"VA1121900\",IF(Benchsheet!C250=1121845,\"VA1121845\",IF(Benchsheet!C250=1121655,\"VA1121655\",IF(Benchsheet!C250=1121900,\"VA1121900\",IF(Benchsheet!C250<1,\"\")))))))))))))))","v":""},{"$f":"IF(Benchsheet!A250>1,\"TC\",IF(Benchsheet!A250=FALSE,\"\"))","v":""},{"$f":"IF(J247=\"WL001\",\"MPN\",IF(Benchsheet!B250=FALSE,\"\",IF(J247=\"WL002\",\"MPN\",IF(J247=\"WL003\",\"MPN\",IF(J247=\"DS001\",\"TC\")))))","v":""},{"$f":"Benchsheet!E250","v":0},"",{"$f":"Benchsheet!B250","v":0},{"$f":"IF(J247=\"WL001\",\"RW001\",IF(Benchsheet!B250=FALSE,\"\",IF(J247=\"WL002\",\"RW002\",IF(J247=\"WL003\",\"RW003\",IF(J247=\"DS001\",\"TCR001\",IF(J247=\"DS001\",\"TCR01\"))))))","v":""},{"$f":"Benchsheet!D250","v":0},{"$f":"Benchsheet!G250","v":"00:00:00"},{"$f":"Benchsheet!H250","v":0},{"$f":"Benchsheet!I250","v":"00:00:00"},{"$f":"Benchsheet!F250","v":0},{"$f":"Benchsheet!P250","v":0},{"$f":"Benchsheet!O250","v":0}]
[{"$f":"IF(Benchsheet!A251>1,\"sample\",IF(Benchsheet!A251=FALSE,\"\"))","v":""},{"$f":"IF(Benchsheet!A251>1,\"STATE\",IF(Benchsheet!A251=FALSE,\"\"))","v":""},{"$f":"IF(Benchsheet!A251>1,\"00035\",IF(Benchsheet!A251=FALSE,\"\"))","v":""},{"$f":"Benchsheet!A251","v":0},{"$f":"IF(Benchsheet!C251=1121057,\"VA1121057\",IF(Benchsheet!C251=1121090,\"VA1121090\",IF(Benchsheet!C251=1121052,\"VA1121052\",IF(Benchsheet!C251=1121175,\"VA1121175\",IF(Benchsheet!C251=1121580,\"VA1121580\",IF(Benchsheet!C251=1121570,\"VA1121570\",IF(Benchsheet!C251=1121045,\"VA1121045\",IF(Benchsheet!C251=1121655,\"VA1121655\",IF(Benchsheet!C251=1121503,\"VA1121503\",IF(Benchsheet!C251=1121043,\"VA1121043\",IF(Benchsheet!C251=1121900,\"VA1121900\",IF(Benchsheet!C251=1121845,\"VA1121845\",IF(Benchsheet!C251=1121655,\"VA1121655\",IF(Benchsheet!C251=1121900,\"VA1121900\",IF(Benchsheet!C251<1,\"\")))))))))))))))","v":""},{"$f":"IF(Benchsheet!A251>1,\"TC\",IF(Benchsheet!A251=FALSE,\"\"))","v":""},{"$f":"IF(J248=\"WL001\",\"MPN\",IF(Benchsheet!B251=FALSE,\"\",IF(J248=\"WL002\",\"MPN\",IF(J248=\"WL003\",\"MPN\",IF(J248=\"DS001\",\"TC\")))))","v":""},{"$f":"Benchsheet!E251","v":0},"",{"$f":"Benchsheet!B251","v":0},{"$f":"IF(J248=\"WL001\",\"RW001\",IF(Benchsheet!B251=FALSE,\"\",IF(J248=\"WL002\",\"RW002\",IF(J248=\"WL003\",\"RW003\",IF(J248=\"DS001\",\"TCR001\",IF(J248=\"DS001\",\"TCR01\"))))))","v":""},{"$f":"Benchsheet!D251","v":0},{"$f":"Benchsheet!G251","v":"00:00:00"},{"$f":"Benchsheet!H251","v":0},{"$f":"Benchsheet!I251","v":"00:00:00"},{"$f":"Benchsheet!F251","v":0},{"$f":"Benchsheet!P251","v":0},{"$f":"Benchsheet!O251","v":0}]
[{"$f":"IF(Benchsheet!A252>1,\"sample\",IF(Benchsheet!A252=FALSE,\"\"))","v":""},{"$f":"IF(Benchsheet!A252>1,\"STATE\",IF(Benchsheet!A252=FALSE,\"\"))","v":""},{"$f":"IF(Benchsheet!A252>1,\"00035\",IF(Benchsheet!A252=FALSE,\"\"))","v":""},{"$f":"Benchsheet!A252","v":0},{"$f":"IF(Benchsheet!C252=1121057,\"VA1121057\",IF(Benchsheet!C252=1121090,\"VA1121090\",IF(Benchsheet!C252=1121052,\"VA1121052\",IF(Benchsheet!C252=1121175,\"VA1121175\",IF(Benchsheet!C252=1121580,\"VA1121580\",IF(Benchsheet!C252=1121570,\"VA1121570\",IF(Benchsheet!C252=1121045,\"VA1121045\",IF(Benchsheet!C252=1121655,\"VA1121655\",IF(Benchsheet!C252=1121503,\"VA1121503\",IF(Benchsheet!C252=1121043,\"VA1121043\",IF(Benchsheet!C252=1121900,\"VA1121900\",IF(Benchsheet!C252=1121845,\"VA1121845\",IF(Benchsheet!C252=1121655,\"VA1121655\",IF(Benchsheet!C252=1121900,\"VA1121900\",IF(Benchsheet!C252<1,\"\")))))))))))))))","v":""},{"$f":"IF(Benchsheet!A252>1,\"TC\",IF(Benchsheet!A252=FALSE,\"\"))","v":""},{"$f":"IF(J249=\"WL001\",\"MPN\",IF(Benchsheet!B252=FALSE,\"\",IF(J249=\"WL002\",\"MPN\",IF(J249=\"WL003\",\"MPN\",IF(J249=\"DS001\",\"TC\")))))","v":""},{"$f":"Benchsheet!E252","v":0},"",{"$f":"Benchsheet!B252","v":0},{"$f":"IF(J249=\"WL001\",\"RW001\",IF(Benchsheet!B252=FALSE,\"\",IF(J249=\"WL002\",\"RW002\",IF(J249=\"WL003\",\"RW003\",IF(J249=\"DS001\",\"TCR001\",IF(J249=\"DS001\",\"TCR01\"))))))","v":""},{"$f":"Benchsheet!D252","v":0},{"$f":"Benchsheet!G252","v":"00:00:00"},{"$f":"Benchsheet!H252","v":0},{"$f":"Benchsheet!I252","v":"00:00:00"},{"$f":"Benchsheet!F252","v":0},{"$f":"Benchsheet!P252","v":0},{"$f":"Benchsheet!O252","v":0}]
[{"$f":"IF(Benchsheet!A253>1,\"sample\",IF(Benchsheet!A253=FALSE,\"\"))","v":""},{"$f":"IF(Benchsheet!A253>1,\"STATE\",IF(Benchsheet!A253=FALSE,\"\"))","v":""},{"$f":"IF(Benchsheet!A253>1,\"00035\",IF(Benchsheet!A253=FALSE,\"\"))","v":""},{"$f":"Benchsheet!A253","v":0},{"$f":"IF(Benchsheet!C253=1121057,\"VA1121057\",IF(Benchsheet!C253=1121090,\"VA1121090\",IF(Benchsheet!C253=1121052,\"VA1121052\",IF(Benchsheet!C253=1121175,\"VA1121175\",IF(Benchsheet!C253=1121580,\"VA1121580\",IF(Benchsheet!C253=1121570,\"VA1121570\",IF(Benchsheet!C253=1121045,\"VA1121045\",IF(Benchsheet!C253=1121655,\"VA1121655\",IF(Benchsheet!C253=1121503,\"VA1121503\",IF(Benchsheet!C253=1121043,\"VA1121043\",IF(Benchsheet!C253=1121900,\"VA1121900\",IF(Benchsheet!C253=1121845,\"VA1121845\",IF(Benchsheet!C253=1121655,\"VA1121655\",IF(Benchsheet!C253=1121900,\"VA1121900\",IF(Benchsheet!C253<1,\"\")))))))))))))))","v":""},{"$f":"IF(Benchsheet!A253>1,\"TC\",IF(Benchsheet!A253=FALSE,\"\"))","v":""},{"$f":"IF(J250=\"WL001\",\"MPN\",IF(Benchsheet!B253=FALSE,\"\",IF(J250=\"WL002\",\"MPN\",IF(J250=\"WL003\",\"MPN\",IF(J250=\"DS001\",\"TC\")))))","v":""},{"$f":"Benchsheet!E253","v":0},"",{"$f":"Benchsheet!B253","v":0},{"$f":"IF(J250=\"WL001\",\"RW001\",IF(Benchsheet!B253=FALSE,\"\",IF(J250=\"WL002\",\"RW002\",IF(J250=\"WL003\",\"RW003\",IF(J250=\"DS001\",\"TCR001\",IF(J250=\"DS001\",\"TCR01\"))))))","v":""},{"$f":"Benchsheet!D253","v":0},{"$f":"Benchsheet!G253","v":"00:00:00"},{"$f":"Benchsheet!H253","v":0},{"$f":"Benchsheet!I253","v":"00:00:00"},{"$f":"Benchsheet!F253","v":0},{"$f":"Benchsheet!P253","v":0},{"$f":"Benchsheet!O253","v":0}]
[{"$f":"IF(Benchsheet!A254>1,\"sample\",IF(Benchsheet!A254=FALSE,\"\"))","v":""},{"$f":"IF(Benchsheet!A254>1,\"STATE\",IF(Benchsheet!A254=FALSE,\"\"))","v":""},{"$f":"IF(Benchsheet!A254>1,\"00035\",IF(Benchsheet!A254=FALSE,\"\"))","v":""},{"$f":"Benchsheet!A254","v":0},{"$f":"IF(Benchsheet!C254=1121057,\"VA1121057\",IF(Benchsheet!C254=1121090,\"VA1121090\",IF(Benchsheet!C254=1121052,\"VA1121052\",IF(Benchsheet!C254=1121175,\"VA1121175\",IF(Benchsheet!C254=1121580,\"VA1121580\",IF(Benchsheet!C254=1121570,\"VA1121570\",IF(Benchsheet!C254=1121045,\"VA1121045\",IF(Benchsheet!C254=1121655,\"VA1121655\",IF(Benchsheet!C254=1121503,\"VA1121503\",IF(Benchsheet!C254=1121043,\"VA1121043\",IF(Benchsheet!C254=1121900,\"VA1121900\",IF(Benchsheet!C254=1121845,\"VA1121845\",IF(Benchsheet!C254=1121655,\"VA1121655\",IF(Benchsheet!C254=1121900,\"VA1121900\",IF(Benchsheet!C254<1,\"\")))))))))))))))","v":""},{"$f":"IF(Benchsheet!A254>1,\"TC\",IF(Benchsheet!A254=FALSE,\"\"))","v":""},{"$f":"IF(J251=\"WL001\",\"MPN\",IF(Benchsheet!B254=FALSE,\"\",IF(J251=\"WL002\",\"MPN\",IF(J251=\"WL003\",\"MPN\",IF(J251=\"DS001\",\"TC\")))))","v":""},{"$f":"Benchsheet!E254","v":0},"",{"$f":"Benchsheet!B254","v":0},{"$f":"IF(J251=\"WL001\",\"RW001\",IF(Benchsheet!B254=FALSE,\"\",IF(J251=\"WL002\",\"RW002\",IF(J251=\"WL003\",\"RW003\",IF(J251=\"DS001\",\"TCR001\",IF(J251=\"DS001\",\"TCR01\"))))))","v":""},{"$f":"Benchsheet!D254","v":0},{"$f":"Benchsheet!G254","v":"00:00:00"},{"$f":"Benchsheet!H254","v":0},{"$f":"Benchsheet!I254","v":"00:00:00"},{"$f":"Benchsheet!F254","v":0},{"$f":"Benchsheet!P254","v":0},{"$f":"Benchsheet!O254","v":0}]
[{"$f":"IF(Benchsheet!A255>1,\"sample\",IF(Benchsheet!A255=FALSE,\"\"))","v":""},{"$f":"IF(Benchsheet!A255>1,\"STATE\",IF(Benchsheet!A255=FALSE,\"\"))","v":""},{"$f":"IF(Benchsheet!A255>1,\"00035\",IF(Benchsheet!A255=FALSE,\"\"))","v":""},{"$f":"Benchsheet!A255","v":0},{"$f":"IF(Benchsheet!C255=1121057,\"VA1121057\",IF(Benchsheet!C255=1121090,\"VA1121090\",IF(Benchsheet!C255=1121052,\"VA1121052\",IF(Benchsheet!C255=1121175,\"VA1121175\",IF(Benchsheet!C255=1121580,\"VA1121580\",IF(Benchsheet!C255=1121570,\"VA1121570\",IF(Benchsheet!C255=1121045,\"VA1121045\",IF(Benchsheet!C255=1121655,\"VA1121655\",IF(Benchsheet!C255=1121503,\"VA1121503\",IF(Benchsheet!C255=1121043,\"VA1121043\",IF(Benchsheet!C255=1121900,\"VA1121900\",IF(Benchsheet!C255=1121845,\"VA1121845\",IF(Benchsheet!C255=1121655,\"VA1121655\",IF(Benchsheet!C255=1121900,\"VA1121900\",IF(Benchsheet!C255<1,\"\")))))))))))))))","v":""},{"$f":"IF(Benchsheet!A255>1,\"TC\",IF(Benchsheet!A255=FALSE,\"\"))","v":""},{"$f":"IF(J252=\"WL001\",\"MPN\",IF(Benchsheet!B255=FALSE,\"\",IF(J252=\"WL002\",\"MPN\",IF(J252=\"WL003\",\"MPN\",IF(J252=\"DS001\",\"TC\")))))","v":""},{"$f":"Benchsheet!E255","v":0},"",{"$f":"Benchsheet!B255","v":0},{"$f":"IF(J252=\"WL001\",\"RW001\",IF(Benchsheet!B255=FALSE,\"\",IF(J252=\"WL002\",\"RW002\",IF(J252=\"WL003\",\"RW003\",IF(J252=\"DS001\",\"TCR001\",IF(J252=\"DS001\",\"TCR01\"))))))","v":""},{"$f":"Benchsheet!D255","v":0},{"$f":"Benchsheet!G255","v":"00:00:00"},{"$f":"Benchsheet!H255","v":0},{"$f":"Benchsheet!I255","v":"00:00:00"},{"$f":"Benchsheet!F255","v":0},{"$f":"Benchsheet!P255","v":0},{"$f":"Benchsheet!O255","v":0}]
[{"$f":"IF(Benchsheet!A256>1,\"sample\",IF(Benchsheet!A256=FALSE,\"\"))","v":""},{"$f":"IF(Benchsheet!A256>1,\"STATE\",IF(Benchsheet!A256=FALSE,\"\"))","v":""},{"$f":"IF(Benchsheet!A256>1,\"00035\",IF(Benchsheet!A256=FALSE,\"\"))","v":""},{"$f":"Benchsheet!A256","v":0},{"$f":"IF(Benchsheet!C256=1121057,\"VA1121057\",IF(Benchsheet!C256=1121090,\"VA1121090\",IF(Benchsheet!C256=1121052,\"VA1121052\",IF(Benchsheet!C256=1121175,\"VA1121175\",IF(Benchsheet!C256=1121580,\"VA1121580\",IF(Benchsheet!C256=1121570,\"VA1121570\",IF(Benchsheet!C256=1121045,\"VA1121045\",IF(Benchsheet!C256=1121655,\"VA1121655\",IF(Benchsheet!C256=1121503,\"VA1121503\",IF(Benchsheet!C256=1121043,\"VA1121043\",IF(Benchsheet!C256=1121900,\"VA1121900\",IF(Benchsheet!C256=1121845,\"VA1121845\",IF(Benchsheet!C256=1121655,\"VA1121655\",IF(Benchsheet!C256=1121900,\"VA1121900\",IF(Benchsheet!C256<1,\"\")))))))))))))))","v":""},{"$f":"IF(Benchsheet!A256>1,\"TC\",IF(Benchsheet!A256=FALSE,\"\"))","v":""},{"$f":"IF(J253=\"WL001\",\"MPN\",IF(Benchsheet!B256=FALSE,\"\",IF(J253=\"WL002\",\"MPN\",IF(J253=\"WL003\",\"MPN\",IF(J253=\"DS001\",\"TC\")))))","v":""},{"$f":"Benchsheet!E256","v":0},"",{"$f":"Benchsheet!B256","v":0},{"$f":"IF(J253=\"WL001\",\"RW001\",IF(Benchsheet!B256=FALSE,\"\",IF(J253=\"WL002\",\"RW002\",IF(J253=\"WL003\",\"RW003\",IF(J253=\"DS001\",\"TCR001\",IF(J253=\"DS001\",\"TCR01\"))))))","v":""},{"$f":"Benchsheet!D256","v":0},{"$f":"Benchsheet!G256","v":"00:00:00"},{"$f":"Benchsheet!H256","v":0},{"$f":"Benchsheet!I256","v":"00:00:00"},{"$f":"Benchsheet!F256","v":0},{"$f":"Benchsheet!P256","v":0},{"$f":"Benchsheet!O256","v":0}]
[{"$f":"IF(Benchsheet!A257>1,\"sample\",IF(Benchsheet!A257=FALSE,\"\"))","v":""},{"$f":"IF(Benchsheet!A257>1,\"STATE\",IF(Benchsheet!A257=FALSE,\"\"))","v":""},{"$f":"IF(Benchsheet!A257>1,\"00035\",IF(Benchsheet!A257=FALSE,\"\"))","v":""},{"$f":"Benchsheet!A257","v":0},{"$f":"IF(Benchsheet!C257=1121057,\"VA1121057\",IF(Benchsheet!C257=1121090,\"VA1121090\",IF(Benchsheet!C257=1121052,\"VA1121052\",IF(Benchsheet!C257=1121175,\"VA1121175\",IF(Benchsheet!C257=1121580,\"VA1121580\",IF(Benchsheet!C257=1121570,\"VA1121570\",IF(Benchsheet!C257=1121045,\"VA1121045\",IF(Benchsheet!C257=1121655,\"VA1121655\",IF(Benchsheet!C257=1121503,\"VA1121503\",IF(Benchsheet!C257=1121043,\"VA1121043\",IF(Benchsheet!C257=1121900,\"VA1121900\",IF(Benchsheet!C257=1121845,\"VA1121845\",IF(Benchsheet!C257=1121655,\"VA1121655\",IF(Benchsheet!C257=1121900,\"VA1121900\",IF(Benchsheet!C257<1,\"\")))))))))))))))","v":""},{"$f":"IF(Benchsheet!A257>1,\"TC\",IF(Benchsheet!A257=FALSE,\"\"))","v":""},{"$f":"IF(J254=\"WL001\",\"MPN\",IF(Benchsheet!B257=FALSE,\"\",IF(J254=\"WL002\",\"MPN\",IF(J254=\"WL003\",\"MPN\",IF(J254=\"DS001\",\"TC\")))))","v":""},{"$f":"Benchsheet!E257","v":0},"",{"$f":"Benchsheet!B257","v":0},{"$f":"IF(J254=\"WL001\",\"RW001\",IF(Benchsheet!B257=FALSE,\"\",IF(J254=\"WL002\",\"RW002\",IF(J254=\"WL003\",\"RW003\",IF(J254=\"DS001\",\"TCR001\",IF(J254=\"DS001\",\"TCR01\"))))))","v":""},{"$f":"Benchsheet!D257","v":0},{"$f":"Benchsheet!G257","v":"00:00:00"},{"$f":"Benchsheet!H257","v":0},{"$f":"Benchsheet!I257","v":"00:00:00"},{"$f":"Benchsheet!F257","v":0},{"$f":"Benchsheet!P257","v":0},{"$f":"Benchsheet!O257","v":0}]
[{"$f":"IF(Benchsheet!A258>1,\"sample\",IF(Benchsheet!A258=FALSE,\"\"))","v":""},{"$f":"IF(Benchsheet!A258>1,\"STATE\",IF(Benchsheet!A258=FALSE,\"\"))","v":""},{"$f":"IF(Benchsheet!A258>1,\"00035\",IF(Benchsheet!A258=FALSE,\"\"))","v":""},{"$f":"Benchsheet!A258","v":0},{"$f":"IF(Benchsheet!C258=1121057,\"VA1121057\",IF(Benchsheet!C258=1121090,\"VA1121090\",IF(Benchsheet!C258=1121052,\"VA1121052\",IF(Benchsheet!C258=1121175,\"VA1121175\",IF(Benchsheet!C258=1121580,\"VA1121580\",IF(Benchsheet!C258=1121570,\"VA1121570\",IF(Benchsheet!C258=1121045,\"VA1121045\",IF(Benchsheet!C258=1121655,\"VA1121655\",IF(Benchsheet!C258=1121503,\"VA1121503\",IF(Benchsheet!C258=1121043,\"VA1121043\",IF(Benchsheet!C258=1121900,\"VA1121900\",IF(Benchsheet!C258=1121845,\"VA1121845\",IF(Benchsheet!C258=1121655,\"VA1121655\",IF(Benchsheet!C258=1121900,\"VA1121900\",IF(Benchsheet!C258<1,\"\")))))))))))))))","v":""},{"$f":"IF(Benchsheet!A258>1,\"TC\",IF(Benchsheet!A258=FALSE,\"\"))","v":""},{"$f":"IF(J255=\"WL001\",\"MPN\",IF(Benchsheet!B258=FALSE,\"\",IF(J255=\"WL002\",\"MPN\",IF(J255=\"WL003\",\"MPN\",IF(J255=\"DS001\",\"TC\")))))","v":""},{"$f":"Benchsheet!E258","v":0},"",{"$f":"Benchsheet!B258","v":0},{"$f":"IF(J255=\"WL001\",\"RW001\",IF(Benchsheet!B258=FALSE,\"\",IF(J255=\"WL002\",\"RW002\",IF(J255=\"WL003\",\"RW003\",IF(J255=\"DS001\",\"TCR001\",IF(J255=\"DS001\",\"TCR01\"))))))","v":""},{"$f":"Benchsheet!D258","v":0},{"$f":"Benchsheet!G258","v":"00:00:00"},{"$f":"Benchsheet!H258","v":0},{"$f":"Benchsheet!I258","v":"00:00:00"},{"$f":"Benchsheet!F258","v":0},{"$f":"Benchsheet!P258","v":0},{"$f":"Benchsheet!O258","v":0}]
[{"$f":"IF(Benchsheet!A259>1,\"sample\",IF(Benchsheet!A259=FALSE,\"\"))","v":""},{"$f":"IF(Benchsheet!A259>1,\"STATE\",IF(Benchsheet!A259=FALSE,\"\"))","v":""},{"$f":"IF(Benchsheet!A259>1,\"00035\",IF(Benchsheet!A259=FALSE,\"\"))","v":""},{"$f":"Benchsheet!A259","v":0},{"$f":"IF(Benchsheet!C259=1121057,\"VA1121057\",IF(Benchsheet!C259=1121090,\"VA1121090\",IF(Benchsheet!C259=1121052,\"VA1121052\",IF(Benchsheet!C259=1121175,\"VA1121175\",IF(Benchsheet!C259=1121580,\"VA1121580\",IF(Benchsheet!C259=1121570,\"VA1121570\",IF(Benchsheet!C259=1121045,\"VA1121045\",IF(Benchsheet!C259=1121655,\"VA1121655\",IF(Benchsheet!C259=1121503,\"VA1121503\",IF(Benchsheet!C259=1121043,\"VA1121043\",IF(Benchsheet!C259=1121900,\"VA1121900\",IF(Benchsheet!C259=1121845,\"VA1121845\",IF(Benchsheet!C259=1121655,\"VA1121655\",IF(Benchsheet!C259=1121900,\"VA1121900\",IF(Benchsheet!C259<1,\"\")))))))))))))))","v":""},{"$f":"IF(Benchsheet!A259>1,\"TC\",IF(Benchsheet!A259=FALSE,\"\"))","v":""},{"$f":"IF(J256=\"WL001\",\"MPN\",IF(Benchsheet!B259=FALSE,\"\",IF(J256=\"WL002\",\"MPN\",IF(J256=\"WL003\",\"MPN\",IF(J256=\"DS001\",\"TC\")))))","v":""},{"$f":"Benchsheet!E259","v":0},"",{"$f":"Benchsheet!B259","v":0},{"$f":"IF(J256=\"WL001\",\"RW001\",IF(Benchsheet!B259=FALSE,\"\",IF(J256=\"WL002\",\"RW002\",IF(J256=\"WL003\",\"RW003\",IF(J256=\"DS001\",\"TCR001\",IF(J256=\"DS001\",\"TCR01\"))))))","v":""},{"$f":"Benchsheet!D259","v":0},{"$f":"Benchsheet!G259","v":"00:00:00"},{"$f":"Benchsheet!H259","v":0},{"$f":"Benchsheet!I259","v":"00:00:00"},{"$f":"Benchsheet!F259","v":0},{"$f":"Benchsheet!P259","v":0},{"$f":"Benchsheet!O259","v":0}]
[{"$f":"IF(Benchsheet!A260>1,\"sample\",IF(Benchsheet!A260=FALSE,\"\"))","v":""},{"$f":"IF(Benchsheet!A260>1,\"STATE\",IF(Benchsheet!A260=FALSE,\"\"))","v":""},{"$f":"IF(Benchsheet!A260>1,\"00035\",IF(Benchsheet!A260=FALSE,\"\"))","v":""},{"$f":"Benchsheet!A260","v":0},{"$f":"IF(Benchsheet!C260=1121057,\"VA1121057\",IF(Benchsheet!C260=1121090,\"VA1121090\",IF(Benchsheet!C260=1121052,\"VA1121052\",IF(Benchsheet!C260=1121175,\"VA1121175\",IF(Benchsheet!C260=1121580,\"VA1121580\",IF(Benchsheet!C260=1121570,\"VA1121570\",IF(Benchsheet!C260=1121045,\"VA1121045\",IF(Benchsheet!C260=1121655,\"VA1121655\",IF(Benchsheet!C260=1121503,\"VA1121503\",IF(Benchsheet!C260=1121043,\"VA1121043\",IF(Benchsheet!C260=1121900,\"VA1121900\",IF(Benchsheet!C260=1121845,\"VA1121845\",IF(Benchsheet!C260=1121655,\"VA1121655\",IF(Benchsheet!C260=1121900,\"VA1121900\",IF(Benchsheet!C260<1,\"\")))))))))))))))","v":""},{"$f":"IF(Benchsheet!A260>1,\"TC\",IF(Benchsheet!A260=FALSE,\"\"))","v":""},{"$f":"IF(J257=\"WL001\",\"MPN\",IF(Benchsheet!B260=FALSE,\"\",IF(J257=\"WL002\",\"MPN\",IF(J257=\"WL003\",\"MPN\",IF(J257=\"DS001\",\"TC\")))))","v":""},{"$f":"Benchsheet!E260","v":0},"",{"$f":"Benchsheet!B260","v":0},{"$f":"IF(J257=\"WL001\",\"RW001\",IF(Benchsheet!B260=FALSE,\"\",IF(J257=\"WL002\",\"RW002\",IF(J257=\"WL003\",\"RW003\",IF(J257=\"DS001\",\"TCR001\",IF(J257=\"DS001\",\"TCR01\"))))))","v":""},{"$f":"Benchsheet!D260","v":0},{"$f":"Benchsheet!G260","v":"00:00:00"},{"$f":"Benchsheet!H260","v":0},{"$f":"Benchsheet!I260","v":"00:00:00"},{"$f":"Benchsheet!F260","v":0},{"$f":"Benchsheet!P260","v":0},{"$f":"Benchsheet!O260","v":0}]
[{"$f":"IF(Benchsheet!A261>1,\"sample\",IF(Benchsheet!A261=FALSE,\"\"))","v":""},{"$f":"IF(Benchsheet!A261>1,\"STATE\",IF(Benchsheet!A261=FALSE,\"\"))","v":""},{"$f":"IF(Benchsheet!A261>1,\"00035\",IF(Benchsheet!A261=FALSE,\"\"))","v":""},{"$f":"Benchsheet!A261","v":0},{"$f":"IF(Benchsheet!C261=1121057,\"VA1121057\",IF(Benchsheet!C261=1121090,\"VA1121090\",IF(Benchsheet!C261=1121052,\"VA1121052\",IF(Benchsheet!C261=1121175,\"VA1121175\",IF(Benchsheet!C261=1121580,\"VA1121580\",IF(Benchsheet!C261=1121570,\"VA1121570\",IF(Benchsheet!C261=1121045,\"VA1121045\",IF(Benchsheet!C261=1121655,\"VA1121655\",IF(Benchsheet!C261=1121503,\"VA1121503\",IF(Benchsheet!C261=1121043,\"VA1121043\",IF(Benchsheet!C261=1121900,\"VA1121900\",IF(Benchsheet!C261=1121845,\"VA1121845\",IF(Benchsheet!C261=1121655,\"VA1121655\",IF(Benchsheet!C261=1121900,\"VA1121900\",IF(Benchsheet!C261<1,\"\")))))))))))))))","v":""},{"$f":"IF(Benchsheet!A261>1,\"TC\",IF(Benchsheet!A261=FALSE,\"\"))","v":""},{"$f":"IF(J258=\"WL001\",\"MPN\",IF(Benchsheet!B261=FALSE,\"\",IF(J258=\"WL002\",\"MPN\",IF(J258=\"WL003\",\"MPN\",IF(J258=\"DS001\",\"TC\")))))","v":""},{"$f":"Benchsheet!E261","v":0},"",{"$f":"Benchsheet!B261","v":0},{"$f":"IF(J258=\"WL001\",\"RW001\",IF(Benchsheet!B261=FALSE,\"\",IF(J258=\"WL002\",\"RW002\",IF(J258=\"WL003\",\"RW003\",IF(J258=\"DS001\",\"TCR001\",IF(J258=\"DS001\",\"TCR01\"))))))","v":""},{"$f":"Benchsheet!D261","v":0},{"$f":"Benchsheet!G261","v":"00:00:00"},{"$f":"Benchsheet!H261","v":0},{"$f":"Benchsheet!I261","v":"00:00:00"},{"$f":"Benchsheet!F261","v":0},{"$f":"Benchsheet!P261","v":0},{"$f":"Benchsheet!O261","v":0}]
[{"$f":"IF(Benchsheet!A262>1,\"sample\",IF(Benchsheet!A262=FALSE,\"\"))","v":""},{"$f":"IF(Benchsheet!A262>1,\"STATE\",IF(Benchsheet!A262=FALSE,\"\"))","v":""},{"$f":"IF(Benchsheet!A262>1,\"00035\",IF(Benchsheet!A262=FALSE,\"\"))","v":""},{"$f":"Benchsheet!A262","v":0},{"$f":"IF(Benchsheet!C262=1121057,\"VA1121057\",IF(Benchsheet!C262=1121090,\"VA1121090\",IF(Benchsheet!C262=1121052,\"VA1121052\",IF(Benchsheet!C262=1121175,\"VA1121175\",IF(Benchsheet!C262=1121580,\"VA1121580\",IF(Benchsheet!C262=1121570,\"VA1121570\",IF(Benchsheet!C262=1121045,\"VA1121045\",IF(Benchsheet!C262=1121655,\"VA1121655\",IF(Benchsheet!C262=1121503,\"VA1121503\",IF(Benchsheet!C262=1121043,\"VA1121043\",IF(Benchsheet!C262=1121900,\"VA1121900\",IF(Benchsheet!C262=1121845,\"VA1121845\",IF(Benchsheet!C262=1121655,\"VA1121655\",IF(Benchsheet!C262=1121900,\"VA1121900\",IF(Benchsheet!C262<1,\"\")))))))))))))))","v":""},{"$f":"IF(Benchsheet!A262>1,\"TC\",IF(Benchsheet!A262=FALSE,\"\"))","v":""},{"$f":"IF(J259=\"WL001\",\"MPN\",IF(Benchsheet!B262=FALSE,\"\",IF(J259=\"WL002\",\"MPN\",IF(J259=\"WL003\",\"MPN\",IF(J259=\"DS001\",\"TC\")))))","v":""},{"$f":"Benchsheet!E262","v":0},{"$f":"IF(H259=\"RT\",\"Y\",IF(H259=\"SP\",\"N\",IF(H259=\"RP\",\"Y\",IF(H259=\"GE\",\"Y\",\"\"))))","v":""},{"$f":"Benchsheet!B262","v":0},{"$f":"IF(J259=\"WL001\",\"RW001\",IF(Benchsheet!B262=FALSE,\"\",IF(J259=\"WL002\",\"RW002\",IF(J259=\"WL003\",\"RW003\",IF(J259=\"DS001\",\"TCR001\",IF(J259=\"DS001\",\"TCR01\"))))))","v":""},{"$f":"Benchsheet!D262","v":0},{"$f":"Benchsheet!G262","v":"00:00:00"},{"$f":"Benchsheet!H262","v":0},{"$f":"Benchsheet!I262","v":"00:00:00"},{"$f":"Benchsheet!F262","v":0},{"$f":"Benchsheet!P262","v":0},{"$f":"Benchsheet!O262","v":0}]
[{"$f":"IF(Benchsheet!A263>1,\"sample\",IF(Benchsheet!A263=FALSE,\"\"))","v":""},{"$f":"IF(Benchsheet!A263>1,\"STATE\",IF(Benchsheet!A263=FALSE,\"\"))","v":""},{"$f":"IF(Benchsheet!A263>1,\"00035\",IF(Benchsheet!A263=FALSE,\"\"))","v":""},{"$f":"Benchsheet!A263","v":0},{"$f":"IF(Benchsheet!C263=1121057,\"VA1121057\",IF(Benchsheet!C263=1121090,\"VA1121090\",IF(Benchsheet!C263=1121052,\"VA1121052\",IF(Benchsheet!C263=1121175,\"VA1121175\",IF(Benchsheet!C263=1121580,\"VA1121580\",IF(Benchsheet!C263=1121570,\"VA1121570\",IF(Benchsheet!C263=1121045,\"VA1121045\",IF(Benchsheet!C263=1121655,\"VA1121655\",IF(Benchsheet!C263=1121503,\"VA1121503\",IF(Benchsheet!C263=1121043,\"VA1121043\",IF(Benchsheet!C263=1121900,\"VA1121900\",IF(Benchsheet!C263=1121845,\"VA1121845\",IF(Benchsheet!C263=1121655,\"VA1121655\",IF(Benchsheet!C263=1121900,\"VA1121900\",IF(Benchsheet!C263<1,\"\")))))))))))))))","v":""},{"$f":"IF(Benchsheet!A263>1,\"TC\",IF(Benchsheet!A263=FALSE,\"\"))","v":""},{"$f":"IF(J260=\"WL001\",\"MPN\",IF(Benchsheet!B263=FALSE,\"\",IF(J260=\"WL002\",\"MPN\",IF(J260=\"WL003\",\"MPN\",IF(J260=\"DS001\",\"TC\")))))","v":""},{"$f":"Benchsheet!E263","v":0},"",{"$f":"Benchsheet!B263","v":0},{"$f":"IF(J260=\"WL001\",\"RW001\",IF(Benchsheet!B263=FALSE,\"\",IF(J260=\"WL002\",\"RW002\",IF(J260=\"WL003\",\"RW003\",IF(J260=\"DS001\",\"TCR001\",IF(J260=\"DS001\",\"TCR01\"))))))","v":""},{"$f":"Benchsheet!D263","v":0},{"$f":"Benchsheet!G263","v":"00:00:00"},{"$f":"Benchsheet!H263","v":0},{"$f":"Benchsheet!I263","v":"00:00:00"},{"$f":"Benchsheet!F263","v":0},{"$f":"Benchsheet!P263","v":0},{"$f":"Benchsheet!O263","v":0}]
[{"$f":"IF(Benchsheet!A264>1,\"sample\",IF(Benchsheet!A264=FALSE,\"\"))","v":""},{"$f":"IF(Benchsheet!A264>1,\"STATE\",IF(Benchsheet!A264=FALSE,\"\"))","v":""},{"$f":"IF(Benchsheet!A264>1,\"00035\",IF(Benchsheet!A264=FALSE,\"\"))","v":""},{"$f":"Benchsheet!A264","v":0},{"$f":"IF(Benchsheet!C264=1121057,\"VA1121057\",IF(Benchsheet!C264=1121090,\"VA1121090\",IF(Benchsheet!C264=1121052,\"VA1121052\",IF(Benchsheet!C264=1121175,\"VA1121175\",IF(Benchsheet!C264=1121580,\"VA1121580\",IF(Benchsheet!C264=1121570,\"VA1121570\",IF(Benchsheet!C264=1121045,\"VA1121045\",IF(Benchsheet!C264=1121655,\"VA1121655\",IF(Benchsheet!C264=1121503,\"VA1121503\",IF(Benchsheet!C264=1121043,\"VA1121043\",IF(Benchsheet!C264=1121900,\"VA1121900\",IF(Benchsheet!C264=1121845,\"VA1121845\",IF(Benchsheet!C264=1121655,\"VA1121655\",IF(Benchsheet!C264=1121900,\"VA1121900\",IF(Benchsheet!C264<1,\"\")))))))))))))))","v":""},{"$f":"IF(Benchsheet!A264>1,\"TC\",IF(Benchsheet!A264=FALSE,\"\"))","v":""},{"$f":"IF(J261=\"WL001\",\"MPN\",IF(Benchsheet!B264=FALSE,\"\",IF(J261=\"WL002\",\"MPN\",IF(J261=\"WL003\",\"MPN\",IF(J261=\"DS001\",\"TC\")))))","v":""},{"$f":"Benchsheet!E264","v":0},"",{"$f":"Benchsheet!B264","v":0},{"$f":"IF(J261=\"WL001\",\"RW001\",IF(Benchsheet!B264=FALSE,\"\",IF(J261=\"WL002\",\"RW002\",IF(J261=\"WL003\",\"RW003\",IF(J261=\"DS001\",\"TCR001\",IF(J261=\"DS001\",\"TCR01\"))))))","v":""},{"$f":"Benchsheet!D264","v":0},{"$f":"Benchsheet!G264","v":"00:00:00"},{"$f":"Benchsheet!H264","v":0},{"$f":"Benchsheet!I264","v":"00:00:00"},{"$f":"Benchsheet!F264","v":0},{"$f":"Benchsheet!P264","v":0},{"$f":"Benchsheet!O264","v":0}]
[{"$f":"IF(Benchsheet!A265>1,\"sample\",IF(Benchsheet!A265=FALSE,\"\"))","v":""},{"$f":"IF(Benchsheet!A265>1,\"STATE\",IF(Benchsheet!A265=FALSE,\"\"))","v":""},{"$f":"IF(Benchsheet!A265>1,\"00035\",IF(Benchsheet!A265=FALSE,\"\"))","v":""},{"$f":"Benchsheet!A265","v":0},{"$f":"IF(Benchsheet!C265=1121057,\"VA1121057\",IF(Benchsheet!C265=1121090,\"VA1121090\",IF(Benchsheet!C265=1121052,\"VA1121052\",IF(Benchsheet!C265=1121175,\"VA1121175\",IF(Benchsheet!C265=1121580,\"VA1121580\",IF(Benchsheet!C265=1121570,\"VA1121570\",IF(Benchsheet!C265=1121045,\"VA1121045\",IF(Benchsheet!C265=1121655,\"VA1121655\",IF(Benchsheet!C265=1121503,\"VA1121503\",IF(Benchsheet!C265=1121043,\"VA1121043\",IF(Benchsheet!C265=1121900,\"VA1121900\",IF(Benchsheet!C265=1121845,\"VA1121845\",IF(Benchsheet!C265=1121655,\"VA1121655\",IF(Benchsheet!C265=1121900,\"VA1121900\",IF(Benchsheet!C265<1,\"\")))))))))))))))","v":""},{"$f":"IF(Benchsheet!A265>1,\"TC\",IF(Benchsheet!A265=FALSE,\"\"))","v":""},{"$f":"IF(J262=\"WL001\",\"MPN\",IF(Benchsheet!B265=FALSE,\"\",IF(J262=\"WL002\",\"MPN\",IF(J262=\"WL003\",\"MPN\",IF(J262=\"DS001\",\"TC\")))))","v":""},{"$f":"Benchsheet!E265","v":0},"",{"$f":"Benchsheet!B265","v":0},{"$f":"IF(J262=\"WL001\",\"RW001\",IF(Benchsheet!B265=FALSE,\"\",IF(J262=\"WL002\",\"RW002\",IF(J262=\"WL003\",\"RW003\",IF(J262=\"DS001\",\"TCR001\",IF(J262=\"DS001\",\"TCR01\"))))))","v":""},{"$f":"Benchsheet!D265","v":0},{"$f":"Benchsheet!G265","v":"00:00:00"},{"$f":"Benchsheet!H265","v":0},{"$f":"Benchsheet!I265","v":"00:00:00"},{"$f":"Benchsheet!F265","v":0},{"$f":"Benchsheet!P265","v":0},{"$f":"Benchsheet!O265","v":0}]
[{"$f":"IF(Benchsheet!A266>1,\"sample\",IF(Benchsheet!A266=FALSE,\"\"))","v":""},{"$f":"IF(Benchsheet!A266>1,\"STATE\",IF(Benchsheet!A266=FALSE,\"\"))","v":""},{"$f":"IF(Benchsheet!A266>1,\"00035\",IF(Benchsheet!A266=FALSE,\"\"))","v":""},{"$f":"Benchsheet!A266","v":0},{"$f":"IF(Benchsheet!C266=1121057,\"VA1121057\",IF(Benchsheet!C266=1121090,\"VA1121090\",IF(Benchsheet!C266=1121052,\"VA1121052\",IF(Benchsheet!C266=1121175,\"VA1121175\",IF(Benchsheet!C266=1121580,\"VA1121580\",IF(Benchsheet!C266=1121570,\"VA1121570\",IF(Benchsheet!C266=1121045,\"VA1121045\",IF(Benchsheet!C266=1121655,\"VA1121655\",IF(Benchsheet!C266=1121503,\"VA1121503\",IF(Benchsheet!C266=1121043,\"VA1121043\",IF(Benchsheet!C266=1121900,\"VA1121900\",IF(Benchsheet!C266=1121845,\"VA1121845\",IF(Benchsheet!C266=1121655,\"VA1121655\",IF(Benchsheet!C266=1121900,\"VA1121900\",IF(Benchsheet!C266<1,\"\")))))))))))))))","v":""},{"$f":"IF(Benchsheet!A266>1,\"TC\",IF(Benchsheet!A266=FALSE,\"\"))","v":""},{"$f":"IF(J263=\"WL001\",\"MPN\",IF(Benchsheet!B266=FALSE,\"\",IF(J263=\"WL002\",\"MPN\",IF(J263=\"WL003\",\"MPN\",IF(J263=\"DS001\",\"TC\")))))","v":""},{"$f":"Benchsheet!E266","v":0},"",{"$f":"Benchsheet!B266","v":0},{"$f":"IF(J263=\"WL001\",\"RW001\",IF(Benchsheet!B266=FALSE,\"\",IF(J263=\"WL002\",\"RW002\",IF(J263=\"WL003\",\"RW003\",IF(J263=\"DS001\",\"TCR001\",IF(J263=\"DS001\",\"TCR01\"))))))","v":""},{"$f":"Benchsheet!D266","v":0},{"$f":"Benchsheet!G266","v":"00:00:00"},{"$f":"Benchsheet!H266","v":0},{"$f":"Benchsheet!I266","v":"00:00:00"},{"$f":"Benchsheet!F266","v":0},{"$f":"Benchsheet!P266","v":0},{"$f":"Benchsheet!O266","v":0}]
[{"$f":"IF(Benchsheet!A267>1,\"sample\",IF(Benchsheet!A267=FALSE,\"\"))","v":""},{"$f":"IF(Benchsheet!A267>1,\"STATE\",IF(Benchsheet!A267=FALSE,\"\"))","v":""},{"$f":"IF(Benchsheet!A267>1,\"00035\",IF(Benchsheet!A267=FALSE,\"\"))","v":""},{"$f":"Benchsheet!A267","v":0},{"$f":"IF(Benchsheet!C267=1121057,\"VA1121057\",IF(Benchsheet!C267=1121090,\"VA1121090\",IF(Benchsheet!C267=1121052,\"VA1121052\",IF(Benchsheet!C267=1121175,\"VA1121175\",IF(Benchsheet!C267=1121580,\"VA1121580\",IF(Benchsheet!C267=1121570,\"VA1121570\",IF(Benchsheet!C267=1121045,\"VA1121045\",IF(Benchsheet!C267=1121655,\"VA1121655\",IF(Benchsheet!C267=1121503,\"VA1121503\",IF(Benchsheet!C267=1121043,\"VA1121043\",IF(Benchsheet!C267=1121900,\"VA1121900\",IF(Benchsheet!C267=1121845,\"VA1121845\",IF(Benchsheet!C267=1121655,\"VA1121655\",IF(Benchsheet!C267=1121900,\"VA1121900\",IF(Benchsheet!C267<1,\"\")))))))))))))))","v":""},{"$f":"IF(Benchsheet!A267>1,\"TC\",IF(Benchsheet!A267=FALSE,\"\"))","v":""},{"$f":"IF(J264=\"WL001\",\"MPN\",IF(Benchsheet!B267=FALSE,\"\",IF(J264=\"WL002\",\"MPN\",IF(J264=\"WL003\",\"MPN\",IF(J264=\"DS001\",\"TC\")))))","v":""},{"$f":"Benchsheet!E267","v":0},"",{"$f":"Benchsheet!B267","v":0},{"$f":"IF(J264=\"WL001\",\"RW001\",IF(Benchsheet!B267=FALSE,\"\",IF(J264=\"WL002\",\"RW002\",IF(J264=\"WL003\",\"RW003\",IF(J264=\"DS001\",\"TCR001\",IF(J264=\"DS001\",\"TCR01\"))))))","v":""},{"$f":"Benchsheet!D267","v":0},{"$f":"Benchsheet!G267","v":"00:00:00"},{"$f":"Benchsheet!H267","v":0},{"$f":"Benchsheet!I267","v":"00:00:00"},{"$f":"Benchsheet!F267","v":0},{"$f":"Benchsheet!P267","v":0},{"$f":"Benchsheet!O267","v":0}]
[{"$f":"IF(Benchsheet!A268>1,\"sample\",IF(Benchsheet!A268=FALSE,\"\"))","v":""},{"$f":"IF(Benchsheet!A268>1,\"STATE\",IF(Benchsheet!A268=FALSE,\"\"))","v":""},{"$f":"IF(Benchsheet!A268>1,\"00035\",IF(Benchsheet!A268=FALSE,\"\"))","v":""},{"$f":"Benchsheet!A268","v":0},{"$f":"IF(Benchsheet!C268=1121057,\"VA1121057\",IF(Benchsheet!C268=1121090,\"VA1121090\",IF(Benchsheet!C268=1121052,\"VA1121052\",IF(Benchsheet!C268=1121175,\"VA1121175\",IF(Benchsheet!C268=1121580,\"VA1121580\",IF(Benchsheet!C268=1121570,\"VA1121570\",IF(Benchsheet!C268=1121045,\"VA1121045\",IF(Benchsheet!C268=1121655,\"VA1121655\",IF(Benchsheet!C268=1121503,\"VA1121503\",IF(Benchsheet!C268=1121043,\"VA1121043\",IF(Benchsheet!C268=1121900,\"VA1121900\",IF(Benchsheet!C268=1121845,\"VA1121845\",IF(Benchsheet!C268=1121655,\"VA1121655\",IF(Benchsheet!C268=1121900,\"VA1121900\",IF(Benchsheet!C268<1,\"\")))))))))))))))","v":""},{"$f":"IF(Benchsheet!A268>1,\"TC\",IF(Benchsheet!A268=FALSE,\"\"))","v":""},{"$f":"IF(J265=\"WL001\",\"MPN\",IF(Benchsheet!B268=FALSE,\"\",IF(J265=\"WL002\",\"MPN\",IF(J265=\"WL003\",\"MPN\",IF(J265=\"DS001\",\"TC\")))))","v":""},{"$f":"Benchsheet!E268","v":0},"",{"$f":"Benchsheet!B268","v":0},{"$f":"IF(J265=\"WL001\",\"RW001\",IF(Benchsheet!B268=FALSE,\"\",IF(J265=\"WL002\",\"RW002\",IF(J265=\"WL003\",\"RW003\",IF(J265=\"DS001\",\"TCR001\",IF(J265=\"DS001\",\"TCR01\"))))))","v":""},{"$f":"Benchsheet!D268","v":0},{"$f":"Benchsheet!G268","v":"00:00:00"},{"$f":"Benchsheet!H268","v":0},{"$f":"Benchsheet!I268","v":"00:00:00"},{"$f":"Benchsheet!F268","v":0},{"$f":"Benchsheet!P268","v":0},{"$f":"Benchsheet!O268","v":0}]
[{"$f":"IF(Benchsheet!A269>1,\"sample\",IF(Benchsheet!A269=FALSE,\"\"))","v":""},{"$f":"IF(Benchsheet!A269>1,\"STATE\",IF(Benchsheet!A269=FALSE,\"\"))","v":""},{"$f":"IF(Benchsheet!A269>1,\"00035\",IF(Benchsheet!A269=FALSE,\"\"))","v":""},{"$f":"Benchsheet!A269","v":0},{"$f":"IF(Benchsheet!C269=1121057,\"VA1121057\",IF(Benchsheet!C269=1121090,\"VA1121090\",IF(Benchsheet!C269=1121052,\"VA1121052\",IF(Benchsheet!C269=1121175,\"VA1121175\",IF(Benchsheet!C269=1121580,\"VA1121580\",IF(Benchsheet!C269=1121570,\"VA1121570\",IF(Benchsheet!C269=1121045,\"VA1121045\",IF(Benchsheet!C269=1121655,\"VA1121655\",IF(Benchsheet!C269=1121503,\"VA1121503\",IF(Benchsheet!C269=1121043,\"VA1121043\",IF(Benchsheet!C269=1121900,\"VA1121900\",IF(Benchsheet!C269=1121845,\"VA1121845\",IF(Benchsheet!C269=1121655,\"VA1121655\",IF(Benchsheet!C269=1121900,\"VA1121900\",IF(Benchsheet!C269<1,\"\")))))))))))))))","v":""},{"$f":"IF(Benchsheet!A269>1,\"TC\",IF(Benchsheet!A269=FALSE,\"\"))","v":""},{"$f":"IF(J266=\"WL001\",\"MPN\",IF(Benchsheet!B269=FALSE,\"\",IF(J266=\"WL002\",\"MPN\",IF(J266=\"WL003\",\"MPN\",IF(J266=\"DS001\",\"TC\")))))","v":""},{"$f":"Benchsheet!E269","v":0},"",{"$f":"Benchsheet!B269","v":0},{"$f":"IF(J266=\"WL001\",\"RW001\",IF(Benchsheet!B269=FALSE,\"\",IF(J266=\"WL002\",\"RW002\",IF(J266=\"WL003\",\"RW003\",IF(J266=\"DS001\",\"TCR001\",IF(J266=\"DS001\",\"TCR01\"))))))","v":""},{"$f":"Benchsheet!D269","v":0},{"$f":"Benchsheet!G269","v":"00:00:00"},{"$f":"Benchsheet!H269","v":0},{"$f":"Benchsheet!I269","v":"00:00:00"},{"$f":"Benchsheet!F269","v":0},{"$f":"Benchsheet!P269","v":0},{"$f":"Benchsheet!O269","v":0}]
[{"$f":"IF(Benchsheet!A270>1,\"sample\",IF(Benchsheet!A270=FALSE,\"\"))","v":""},{"$f":"IF(Benchsheet!A270>1,\"STATE\",IF(Benchsheet!A270=FALSE,\"\"))","v":""},{"$f":"IF(Benchsheet!A270>1,\"00035\",IF(Benchsheet!A270=FALSE,\"\"))","v":""},{"$f":"Benchsheet!A270","v":0},{"$f":"IF(Benchsheet!C270=1121057,\"VA1121057\",IF(Benchsheet!C270=1121090,\"VA1121090\",IF(Benchsheet!C270=1121052,\"VA1121052\",IF(Benchsheet!C270=1121175,\"VA1121175\",IF(Benchsheet!C270=1121580,\"VA1121580\",IF(Benchsheet!C270=1121570,\"VA1121570\",IF(Benchsheet!C270=1121045,\"VA1121045\",IF(Benchsheet!C270=1121655,\"VA1121655\",IF(Benchsheet!C270=1121503,\"VA1121503\",IF(Benchsheet!C270=1121043,\"VA1121043\",IF(Benchsheet!C270=1121900,\"VA1121900\",IF(Benchsheet!C270=1121845,\"VA1121845\",IF(Benchsheet!C270=1121655,\"VA1121655\",IF(Benchsheet!C270=1121900,\"VA1121900\",IF(Benchsheet!C270<1,\"\")))))))))))))))","v":""},{"$f":"IF(Benchsheet!A270>1,\"TC\",IF(Benchsheet!A270=FALSE,\"\"))","v":""},{"$f":"IF(J267=\"WL001\",\"MPN\",IF(Benchsheet!B270=FALSE,\"\",IF(J267=\"WL002\",\"MPN\",IF(J267=\"WL003\",\"MPN\",IF(J267=\"DS001\",\"TC\")))))","v":""},{"$f":"Benchsheet!E270","v":0},"",{"$f":"Benchsheet!B270","v":0},{"$f":"IF(J267=\"WL001\",\"RW001\",IF(Benchsheet!B270=FALSE,\"\",IF(J267=\"WL002\",\"RW002\",IF(J267=\"WL003\",\"RW003\",IF(J267=\"DS001\",\"TCR001\",IF(J267=\"DS001\",\"TCR01\"))))))","v":""},{"$f":"Benchsheet!D270","v":0},{"$f":"Benchsheet!G270","v":"00:00:00"},{"$f":"Benchsheet!H270","v":0},{"$f":"Benchsheet!I270","v":"00:00:00"},{"$f":"Benchsheet!F270","v":0},{"$f":"Benchsheet!P270","v":0},{"$f":"Benchsheet!O270","v":0}]
[{"$f":"IF(Benchsheet!A271>1,\"sample\",IF(Benchsheet!A271=FALSE,\"\"))","v":""},{"$f":"IF(Benchsheet!A271>1,\"STATE\",IF(Benchsheet!A271=FALSE,\"\"))","v":""},{"$f":"IF(Benchsheet!A271>1,\"00035\",IF(Benchsheet!A271=FALSE,\"\"))","v":""},{"$f":"Benchsheet!A271","v":0},{"$f":"IF(Benchsheet!C271=1121057,\"VA1121057\",IF(Benchsheet!C271=1121090,\"VA1121090\",IF(Benchsheet!C271=1121052,\"VA1121052\",IF(Benchsheet!C271=1121175,\"VA1121175\",IF(Benchsheet!C271=1121580,\"VA1121580\",IF(Benchsheet!C271=1121570,\"VA1121570\",IF(Benchsheet!C271=1121045,\"VA1121045\",IF(Benchsheet!C271=1121655,\"VA1121655\",IF(Benchsheet!C271=1121503,\"VA1121503\",IF(Benchsheet!C271=1121043,\"VA1121043\",IF(Benchsheet!C271=1121900,\"VA1121900\",IF(Benchsheet!C271=1121845,\"VA1121845\",IF(Benchsheet!C271=1121655,\"VA1121655\",IF(Benchsheet!C271=1121900,\"VA1121900\",IF(Benchsheet!C271<1,\"\")))))))))))))))","v":""},{"$f":"IF(Benchsheet!A271>1,\"TC\",IF(Benchsheet!A271=FALSE,\"\"))","v":""},{"$f":"IF(J268=\"WL001\",\"MPN\",IF(Benchsheet!B271=FALSE,\"\",IF(J268=\"WL002\",\"MPN\",IF(J268=\"WL003\",\"MPN\",IF(J268=\"DS001\",\"TC\")))))","v":""},{"$f":"Benchsheet!E271","v":0},"",{"$f":"Benchsheet!B271","v":0},{"$f":"IF(J268=\"WL001\",\"RW001\",IF(Benchsheet!B271=FALSE,\"\",IF(J268=\"WL002\",\"RW002\",IF(J268=\"WL003\",\"RW003\",IF(J268=\"DS001\",\"TCR001\",IF(J268=\"DS001\",\"TCR01\"))))))","v":""},{"$f":"Benchsheet!D271","v":0},{"$f":"Benchsheet!G271","v":"00:00:00"},{"$f":"Benchsheet!H271","v":0},{"$f":"Benchsheet!I271","v":"00:00:00"},{"$f":"Benchsheet!F271","v":0},{"$f":"Benchsheet!P271","v":0},{"$f":"Benchsheet!O271","v":0}]
[{"$f":"IF(Benchsheet!A272>1,\"sample\",IF(Benchsheet!A272=FALSE,\"\"))","v":""},{"$f":"IF(Benchsheet!A272>1,\"STATE\",IF(Benchsheet!A272=FALSE,\"\"))","v":""},{"$f":"IF(Benchsheet!A272>1,\"00035\",IF(Benchsheet!A272=FALSE,\"\"))","v":""},{"$f":"Benchsheet!A272","v":0},{"$f":"IF(Benchsheet!C272=1121057,\"VA1121057\",IF(Benchsheet!C272=1121090,\"VA1121090\",IF(Benchsheet!C272=1121052,\"VA1121052\",IF(Benchsheet!C272=1121175,\"VA1121175\",IF(Benchsheet!C272=1121580,\"VA1121580\",IF(Benchsheet!C272=1121570,\"VA1121570\",IF(Benchsheet!C272=1121045,\"VA1121045\",IF(Benchsheet!C272=1121655,\"VA1121655\",IF(Benchsheet!C272=1121503,\"VA1121503\",IF(Benchsheet!C272=1121043,\"VA1121043\",IF(Benchsheet!C272=1121900,\"VA1121900\",IF(Benchsheet!C272=1121845,\"VA1121845\",IF(Benchsheet!C272=1121655,\"VA1121655\",IF(Benchsheet!C272=1121900,\"VA1121900\",IF(Benchsheet!C272<1,\"\")))))))))))))))","v":""},{"$f":"IF(Benchsheet!A272>1,\"TC\",IF(Benchsheet!A272=FALSE,\"\"))","v":""},{"$f":"IF(J269=\"WL001\",\"MPN\",IF(Benchsheet!B272=FALSE,\"\",IF(J269=\"WL002\",\"MPN\",IF(J269=\"WL003\",\"MPN\",IF(J269=\"DS001\",\"TC\")))))","v":""},{"$f":"Benchsheet!E272","v":0},"",{"$f":"Benchsheet!B272","v":0},{"$f":"IF(J269=\"WL001\",\"RW001\",IF(Benchsheet!B272=FALSE,\"\",IF(J269=\"WL002\",\"RW002\",IF(J269=\"WL003\",\"RW003\",IF(J269=\"DS001\",\"TCR001\",IF(J269=\"DS001\",\"TCR01\"))))))","v":""},{"$f":"Benchsheet!D272","v":0},{"$f":"Benchsheet!G272","v":"00:00:00"},{"$f":"Benchsheet!H272","v":0},{"$f":"Benchsheet!I272","v":"00:00:00"},{"$f":"Benchsheet!F272","v":0},{"$f":"Benchsheet!P272","v":0},{"$f":"Benchsheet!O272","v":0}]
[{"$f":"IF(Benchsheet!A273>1,\"sample\",IF(Benchsheet!A273=FALSE,\"\"))","v":""},{"$f":"IF(Benchsheet!A273>1,\"STATE\",IF(Benchsheet!A273=FALSE,\"\"))","v":""},{"$f":"IF(Benchsheet!A273>1,\"00035\",IF(Benchsheet!A273=FALSE,\"\"))","v":""},{"$f":"Benchsheet!A273","v":0},{"$f":"IF(Benchsheet!C273=1121057,\"VA1121057\",IF(Benchsheet!C273=1121090,\"VA1121090\",IF(Benchsheet!C273=1121052,\"VA1121052\",IF(Benchsheet!C273=1121175,\"VA1121175\",IF(Benchsheet!C273=1121580,\"VA1121580\",IF(Benchsheet!C273=1121570,\"VA1121570\",IF(Benchsheet!C273=1121045,\"VA1121045\",IF(Benchsheet!C273=1121655,\"VA1121655\",IF(Benchsheet!C273=1121503,\"VA1121503\",IF(Benchsheet!C273=1121043,\"VA1121043\",IF(Benchsheet!C273=1121900,\"VA1121900\",IF(Benchsheet!C273=1121845,\"VA1121845\",IF(Benchsheet!C273=1121655,\"VA1121655\",IF(Benchsheet!C273=1121900,\"VA1121900\",IF(Benchsheet!C273<1,\"\")))))))))))))))","v":""},{"$f":"IF(Benchsheet!A273>1,\"TC\",IF(Benchsheet!A273=FALSE,\"\"))","v":""},{"$f":"IF(J270=\"WL001\",\"MPN\",IF(Benchsheet!B273=FALSE,\"\",IF(J270=\"WL002\",\"MPN\",IF(J270=\"WL003\",\"MPN\",IF(J270=\"DS001\",\"TC\")))))","v":""},{"$f":"Benchsheet!E273","v":0},"",{"$f":"Benchsheet!B273","v":0},{"$f":"IF(J270=\"WL001\",\"RW001\",IF(Benchsheet!B273=FALSE,\"\",IF(J270=\"WL002\",\"RW002\",IF(J270=\"WL003\",\"RW003\",IF(J270=\"DS001\",\"TCR001\",IF(J270=\"DS001\",\"TCR01\"))))))","v":""},{"$f":"Benchsheet!D273","v":0},{"$f":"Benchsheet!G273","v":"00:00:00"},{"$f":"Benchsheet!H273","v":0},{"$f":"Benchsheet!I273","v":"00:00:00"},{"$f":"Benchsheet!F273","v":0},{"$f":"Benchsheet!P273","v":0},{"$f":"Benchsheet!O273","v":0}]
[{"$f":"IF(Benchsheet!A274>1,\"sample\",IF(Benchsheet!A274=FALSE,\"\"))","v":""},{"$f":"IF(Benchsheet!A274>1,\"STATE\",IF(Benchsheet!A274=FALSE,\"\"))","v":""},{"$f":"IF(Benchsheet!A274>1,\"00035\",IF(Benchsheet!A274=FALSE,\"\"))","v":""},{"$f":"Benchsheet!A274","v":0},{"$f":"IF(Benchsheet!C274=1121057,\"VA1121057\",IF(Benchsheet!C274=1121090,\"VA1121090\",IF(Benchsheet!C274=1121052,\"VA1121052\",IF(Benchsheet!C274=1121175,\"VA1121175\",IF(Benchsheet!C274=1121580,\"VA1121580\",IF(Benchsheet!C274=1121570,\"VA1121570\",IF(Benchsheet!C274=1121045,\"VA1121045\",IF(Benchsheet!C274=1121655,\"VA1121655\",IF(Benchsheet!C274=1121503,\"VA1121503\",IF(Benchsheet!C274=1121043,\"VA1121043\",IF(Benchsheet!C274=1121900,\"VA1121900\",IF(Benchsheet!C274=1121845,\"VA1121845\",IF(Benchsheet!C274=1121655,\"VA1121655\",IF(Benchsheet!C274=1121900,\"VA1121900\",IF(Benchsheet!C274<1,\"\")))))))))))))))","v":""},{"$f":"IF(Benchsheet!A274>1,\"TC\",IF(Benchsheet!A274=FALSE,\"\"))","v":""},{"$f":"IF(J271=\"WL001\",\"MPN\",IF(Benchsheet!B274=FALSE,\"\",IF(J271=\"WL002\",\"MPN\",IF(J271=\"WL003\",\"MPN\",IF(J271=\"DS001\",\"TC\")))))","v":""},{"$f":"Benchsheet!E274","v":0},"",{"$f":"Benchsheet!B274","v":0},{"$f":"IF(J271=\"WL001\",\"RW001\",IF(Benchsheet!B274=FALSE,\"\",IF(J271=\"WL002\",\"RW002\",IF(J271=\"WL003\",\"RW003\",IF(J271=\"DS001\",\"TCR001\",IF(J271=\"DS001\",\"TCR01\"))))))","v":""},{"$f":"Benchsheet!D274","v":0},{"$f":"Benchsheet!G274","v":"00:00:00"},{"$f":"Benchsheet!H274","v":0},{"$f":"Benchsheet!I274","v":"00:00:00"},{"$f":"Benchsheet!F274","v":0},{"$f":"Benchsheet!P274","v":0},{"$f":"Benchsheet!O274","v":0}]
[{"$f":"IF(Benchsheet!A275>1,\"sample\",IF(Benchsheet!A275=FALSE,\"\"))","v":""},{"$f":"IF(Benchsheet!A275>1,\"STATE\",IF(Benchsheet!A275=FALSE,\"\"))","v":""},{"$f":"IF(Benchsheet!A275>1,\"00035\",IF(Benchsheet!A275=FALSE,\"\"))","v":""},{"$f":"Benchsheet!A275","v":0},{"$f":"IF(Benchsheet!C275=1121057,\"VA1121057\",IF(Benchsheet!C275=1121090,\"VA1121090\",IF(Benchsheet!C275=1121052,\"VA1121052\",IF(Benchsheet!C275=1121175,\"VA1121175\",IF(Benchsheet!C275=1121580,\"VA1121580\",IF(Benchsheet!C275=1121570,\"VA1121570\",IF(Benchsheet!C275=1121045,\"VA1121045\",IF(Benchsheet!C275=1121655,\"VA1121655\",IF(Benchsheet!C275=1121503,\"VA1121503\",IF(Benchsheet!C275=1121043,\"VA1121043\",IF(Benchsheet!C275=1121900,\"VA1121900\",IF(Benchsheet!C275=1121845,\"VA1121845\",IF(Benchsheet!C275=1121655,\"VA1121655\",IF(Benchsheet!C275=1121900,\"VA1121900\",IF(Benchsheet!C275<1,\"\")))))))))))))))","v":""},{"$f":"IF(Benchsheet!A275>1,\"TC\",IF(Benchsheet!A275=FALSE,\"\"))","v":""},{"$f":"IF(J272=\"WL001\",\"MPN\",IF(Benchsheet!B275=FALSE,\"\",IF(J272=\"WL002\",\"MPN\",IF(J272=\"WL003\",\"MPN\",IF(J272=\"DS001\",\"TC\")))))","v":""},{"$f":"Benchsheet!E275","v":0},"",{"$f":"Benchsheet!B275","v":0},{"$f":"IF(J272=\"WL001\",\"RW001\",IF(Benchsheet!B275=FALSE,\"\",IF(J272=\"WL002\",\"RW002\",IF(J272=\"WL003\",\"RW003\",IF(J272=\"DS001\",\"TCR001\",IF(J272=\"DS001\",\"TCR01\"))))))","v":""},{"$f":"Benchsheet!D275","v":0},{"$f":"Benchsheet!G275","v":"00:00:00"},{"$f":"Benchsheet!H275","v":0},{"$f":"Benchsheet!I275","v":"00:00:00"},{"$f":"Benchsheet!F275","v":0},{"$f":"Benchsheet!P275","v":0},{"$f":"Benchsheet!O275","v":0}]
[{"$f":"IF(Benchsheet!A276>1,\"sample\",IF(Benchsheet!A276=FALSE,\"\"))","v":""},{"$f":"IF(Benchsheet!A276>1,\"STATE\",IF(Benchsheet!A276=FALSE,\"\"))","v":""},{"$f":"IF(Benchsheet!A276>1,\"00035\",IF(Benchsheet!A276=FALSE,\"\"))","v":""},{"$f":"Benchsheet!A276","v":0},{"$f":"IF(Benchsheet!C276=1121057,\"VA1121057\",IF(Benchsheet!C276=1121090,\"VA1121090\",IF(Benchsheet!C276=1121052,\"VA1121052\",IF(Benchsheet!C276=1121175,\"VA1121175\",IF(Benchsheet!C276=1121580,\"VA1121580\",IF(Benchsheet!C276=1121570,\"VA1121570\",IF(Benchsheet!C276=1121045,\"VA1121045\",IF(Benchsheet!C276=1121655,\"VA1121655\",IF(Benchsheet!C276=1121503,\"VA1121503\",IF(Benchsheet!C276=1121043,\"VA1121043\",IF(Benchsheet!C276=1121900,\"VA1121900\",IF(Benchsheet!C276=1121845,\"VA1121845\",IF(Benchsheet!C276=1121655,\"VA1121655\",IF(Benchsheet!C276=1121900,\"VA1121900\",IF(Benchsheet!C276<1,\"\")))))))))))))))","v":""},{"$f":"IF(Benchsheet!A276>1,\"TC\",IF(Benchsheet!A276=FALSE,\"\"))","v":""},{"$f":"IF(J273=\"WL001\",\"MPN\",IF(Benchsheet!B276=FALSE,\"\",IF(J273=\"WL002\",\"MPN\",IF(J273=\"WL003\",\"MPN\",IF(J273=\"DS001\",\"TC\")))))","v":""},{"$f":"Benchsheet!E276","v":0},"",{"$f":"Benchsheet!B276","v":0},{"$f":"IF(J273=\"WL001\",\"RW001\",IF(Benchsheet!B276=FALSE,\"\",IF(J273=\"WL002\",\"RW002\",IF(J273=\"WL003\",\"RW003\",IF(J273=\"DS001\",\"TCR001\",IF(J273=\"DS001\",\"TCR01\"))))))","v":""},{"$f":"Benchsheet!D276","v":0},{"$f":"Benchsheet!G276","v":"00:00:00"},{"$f":"Benchsheet!H276","v":0},{"$f":"Benchsheet!I276","v":"00:00:00"},{"$f":"Benchsheet!F276","v":0},{"$f":"Benchsheet!P276","v":0},{"$f":"Benchsheet!O276","v":0}]
[{"$f":"IF(Benchsheet!A277>1,\"sample\",IF(Benchsheet!A277=FALSE,\"\"))","v":""},{"$f":"IF(Benchsheet!A277>1,\"STATE\",IF(Benchsheet!A277=FALSE,\"\"))","v":""},{"$f":"IF(Benchsheet!A277>1,\"00035\",IF(Benchsheet!A277=FALSE,\"\"))","v":""},{"$f":"Benchsheet!A277","v":0},{"$f":"IF(Benchsheet!C277=1121057,\"VA1121057\",IF(Benchsheet!C277=1121090,\"VA1121090\",IF(Benchsheet!C277=1121052,\"VA1121052\",IF(Benchsheet!C277=1121175,\"VA1121175\",IF(Benchsheet!C277=1121580,\"VA1121580\",IF(Benchsheet!C277=1121570,\"VA1121570\",IF(Benchsheet!C277=1121045,\"VA1121045\",IF(Benchsheet!C277=1121655,\"VA1121655\",IF(Benchsheet!C277=1121503,\"VA1121503\",IF(Benchsheet!C277=1121043,\"VA1121043\",IF(Benchsheet!C277=1121900,\"VA1121900\",IF(Benchsheet!C277=1121845,\"VA1121845\",IF(Benchsheet!C277=1121655,\"VA1121655\",IF(Benchsheet!C277=1121900,\"VA1121900\",IF(Benchsheet!C277<1,\"\")))))))))))))))","v":""},{"$f":"IF(Benchsheet!A277>1,\"TC\",IF(Benchsheet!A277=FALSE,\"\"))","v":""},{"$f":"IF(J274=\"WL001\",\"MPN\",IF(Benchsheet!B277=FALSE,\"\",IF(J274=\"WL002\",\"MPN\",IF(J274=\"WL003\",\"MPN\",IF(J274=\"DS001\",\"TC\")))))","v":""},{"$f":"Benchsheet!E277","v":0},"",{"$f":"Benchsheet!B277","v":0},{"$f":"IF(J274=\"WL001\",\"RW001\",IF(Benchsheet!B277=FALSE,\"\",IF(J274=\"WL002\",\"RW002\",IF(J274=\"WL003\",\"RW003\",IF(J274=\"DS001\",\"TCR001\",IF(J274=\"DS001\",\"TCR01\"))))))","v":""},{"$f":"Benchsheet!D277","v":0},{"$f":"Benchsheet!G277","v":"00:00:00"},{"$f":"Benchsheet!H277","v":0},{"$f":"Benchsheet!I277","v":"00:00:00"},{"$f":"Benchsheet!F277","v":0},{"$f":"Benchsheet!P277","v":0},{"$f":"Benchsheet!O277","v":0}]
[{"$f":"IF(Benchsheet!A278>1,\"sample\",IF(Benchsheet!A278=FALSE,\"\"))","v":""},{"$f":"IF(Benchsheet!A278>1,\"STATE\",IF(Benchsheet!A278=FALSE,\"\"))","v":""},{"$f":"IF(Benchsheet!A278>1,\"00035\",IF(Benchsheet!A278=FALSE,\"\"))","v":""},{"$f":"Benchsheet!A278","v":0},{"$f":"IF(Benchsheet!C278=1121057,\"VA1121057\",IF(Benchsheet!C278=1121090,\"VA1121090\",IF(Benchsheet!C278=1121052,\"VA1121052\",IF(Benchsheet!C278=1121175,\"VA1121175\",IF(Benchsheet!C278=1121580,\"VA1121580\",IF(Benchsheet!C278=1121570,\"VA1121570\",IF(Benchsheet!C278=1121045,\"VA1121045\",IF(Benchsheet!C278=1121655,\"VA1121655\",IF(Benchsheet!C278=1121503,\"VA1121503\",IF(Benchsheet!C278=1121043,\"VA1121043\",IF(Benchsheet!C278=1121900,\"VA1121900\",IF(Benchsheet!C278=1121845,\"VA1121845\",IF(Benchsheet!C278=1121655,\"VA1121655\",IF(Benchsheet!C278=1121900,\"VA1121900\",IF(Benchsheet!C278<1,\"\")))))))))))))))","v":""},{"$f":"IF(Benchsheet!A278>1,\"TC\",IF(Benchsheet!A278=FALSE,\"\"))","v":""},{"$f":"IF(J275=\"WL001\",\"MPN\",IF(Benchsheet!B278=FALSE,\"\",IF(J275=\"WL002\",\"MPN\",IF(J275=\"WL003\",\"MPN\",IF(J275=\"DS001\",\"TC\")))))","v":""},{"$f":"Benchsheet!E278","v":0},"",{"$f":"Benchsheet!B278","v":0},{"$f":"IF(J275=\"WL001\",\"RW001\",IF(Benchsheet!B278=FALSE,\"\",IF(J275=\"WL002\",\"RW002\",IF(J275=\"WL003\",\"RW003\",IF(J275=\"DS001\",\"TCR001\",IF(J275=\"DS001\",\"TCR01\"))))))","v":""},{"$f":"Benchsheet!D278","v":0},{"$f":"Benchsheet!G278","v":"00:00:00"},{"$f":"Benchsheet!H278","v":0},{"$f":"Benchsheet!I278","v":"00:00:00"},{"$f":"Benchsheet!F278","v":0},{"$f":"Benchsheet!P278","v":0},{"$f":"Benchsheet!O278","v":0}]
[{"$f":"IF(Benchsheet!A279>1,\"sample\",IF(Benchsheet!A279=FALSE,\"\"))","v":""},{"$f":"IF(Benchsheet!A279>1,\"STATE\",IF(Benchsheet!A279=FALSE,\"\"))","v":""},{"$f":"IF(Benchsheet!A279>1,\"00035\",IF(Benchsheet!A279=FALSE,\"\"))","v":""},{"$f":"Benchsheet!A279","v":0},{"$f":"IF(Benchsheet!C279=1121057,\"VA1121057\",IF(Benchsheet!C279=1121090,\"VA1121090\",IF(Benchsheet!C279=1121052,\"VA1121052\",IF(Benchsheet!C279=1121175,\"VA1121175\",IF(Benchsheet!C279=1121580,\"VA1121580\",IF(Benchsheet!C279=1121570,\"VA1121570\",IF(Benchsheet!C279=1121045,\"VA1121045\",IF(Benchsheet!C279=1121655,\"VA1121655\",IF(Benchsheet!C279=1121503,\"VA1121503\",IF(Benchsheet!C279=1121043,\"VA1121043\",IF(Benchsheet!C279=1121900,\"VA1121900\",IF(Benchsheet!C279=1121845,\"VA1121845\",IF(Benchsheet!C279=1121655,\"VA1121655\",IF(Benchsheet!C279=1121900,\"VA1121900\",IF(Benchsheet!C279<1,\"\")))))))))))))))","v":""},{"$f":"IF(Benchsheet!A279>1,\"TC\",IF(Benchsheet!A279=FALSE,\"\"))","v":""},{"$f":"IF(J276=\"WL001\",\"MPN\",IF(Benchsheet!B279=FALSE,\"\",IF(J276=\"WL002\",\"MPN\",IF(J276=\"WL003\",\"MPN\",IF(J276=\"DS001\",\"TC\")))))","v":""},{"$f":"Benchsheet!E279","v":0},"",{"$f":"Benchsheet!B279","v":0},{"$f":"IF(J276=\"WL001\",\"RW001\",IF(Benchsheet!B279=FALSE,\"\",IF(J276=\"WL002\",\"RW002\",IF(J276=\"WL003\",\"RW003\",IF(J276=\"DS001\",\"TCR001\",IF(J276=\"DS001\",\"TCR01\"))))))","v":""},{"$f":"Benchsheet!D279","v":0},{"$f":"Benchsheet!G279","v":"00:00:00"},{"$f":"Benchsheet!H279","v":0},{"$f":"Benchsheet!I279","v":"00:00:00"},{"$f":"Benchsheet!F279","v":0},{"$f":"Benchsheet!P279","v":0},{"$f":"Benchsheet!O279","v":0}]
[{"$f":"IF(Benchsheet!A280>1,\"sample\",IF(Benchsheet!A280=FALSE,\"\"))","v":""},{"$f":"IF(Benchsheet!A280>1,\"STATE\",IF(Benchsheet!A280=FALSE,\"\"))","v":""},{"$f":"IF(Benchsheet!A280>1,\"00035\",IF(Benchsheet!A280=FALSE,\"\"))","v":""},{"$f":"Benchsheet!A280","v":0},{"$f":"IF(Benchsheet!C280=1121057,\"VA1121057\",IF(Benchsheet!C280=1121090,\"VA1121090\",IF(Benchsheet!C280=1121052,\"VA1121052\",IF(Benchsheet!C280=1121175,\"VA1121175\",IF(Benchsheet!C280=1121580,\"VA1121580\",IF(Benchsheet!C280=1121570,\"VA1121570\",IF(Benchsheet!C280=1121045,\"VA1121045\",IF(Benchsheet!C280=1121655,\"VA1121655\",IF(Benchsheet!C280=1121503,\"VA1121503\",IF(Benchsheet!C280=1121043,\"VA1121043\",IF(Benchsheet!C280=1121900,\"VA1121900\",IF(Benchsheet!C280=1121845,\"VA1121845\",IF(Benchsheet!C280=1121655,\"VA1121655\",IF(Benchsheet!C280=1121900,\"VA1121900\",IF(Benchsheet!C280<1,\"\")))))))))))))))","v":""},{"$f":"IF(Benchsheet!A280>1,\"TC\",IF(Benchsheet!A280=FALSE,\"\"))","v":""},{"$f":"IF(J277=\"WL001\",\"MPN\",IF(Benchsheet!B280=FALSE,\"\",IF(J277=\"WL002\",\"MPN\",IF(J277=\"WL003\",\"MPN\",IF(J277=\"DS001\",\"TC\")))))","v":""},{"$f":"Benchsheet!E280","v":0},"",{"$f":"Benchsheet!B280","v":0},{"$f":"IF(J277=\"WL001\",\"RW001\",IF(Benchsheet!B280=FALSE,\"\",IF(J277=\"WL002\",\"RW002\",IF(J277=\"WL003\",\"RW003\",IF(J277=\"DS001\",\"TCR001\",IF(J277=\"DS001\",\"TCR01\"))))))","v":""},{"$f":"Benchsheet!D280","v":0},{"$f":"Benchsheet!G280","v":"00:00:00"},{"$f":"Benchsheet!H280","v":0},{"$f":"Benchsheet!I280","v":"00:00:00"},{"$f":"Benchsheet!F280","v":0},{"$f":"Benchsheet!P280","v":0},{"$f":"Benchsheet!O280","v":0}]
[{"$f":"IF(Benchsheet!A281>1,\"sample\",IF(Benchsheet!A281=FALSE,\"\"))","v":""},{"$f":"IF(Benchsheet!A281>1,\"STATE\",IF(Benchsheet!A281=FALSE,\"\"))","v":""},{"$f":"IF(Benchsheet!A281>1,\"00035\",IF(Benchsheet!A281=FALSE,\"\"))","v":""},{"$f":"Benchsheet!A281","v":0},{"$f":"IF(Benchsheet!C281=1121057,\"VA1121057\",IF(Benchsheet!C281=1121090,\"VA1121090\",IF(Benchsheet!C281=1121052,\"VA1121052\",IF(Benchsheet!C281=1121175,\"VA1121175\",IF(Benchsheet!C281=1121580,\"VA1121580\",IF(Benchsheet!C281=1121570,\"VA1121570\",IF(Benchsheet!C281=1121045,\"VA1121045\",IF(Benchsheet!C281=1121655,\"VA1121655\",IF(Benchsheet!C281=1121503,\"VA1121503\",IF(Benchsheet!C281=1121043,\"VA1121043\",IF(Benchsheet!C281=1121900,\"VA1121900\",IF(Benchsheet!C281=1121845,\"VA1121845\",IF(Benchsheet!C281=1121655,\"VA1121655\",IF(Benchsheet!C281=1121900,\"VA1121900\",IF(Benchsheet!C281<1,\"\")))))))))))))))","v":""},{"$f":"IF(Benchsheet!A281>1,\"TC\",IF(Benchsheet!A281=FALSE,\"\"))","v":""},{"$f":"IF(J278=\"WL001\",\"MPN\",IF(Benchsheet!B281=FALSE,\"\",IF(J278=\"WL002\",\"MPN\",IF(J278=\"WL003\",\"MPN\",IF(J278=\"DS001\",\"TC\")))))","v":""},{"$f":"Benchsheet!E281","v":0},"",{"$f":"Benchsheet!B281","v":0},{"$f":"IF(J278=\"WL001\",\"RW001\",IF(Benchsheet!B281=FALSE,\"\",IF(J278=\"WL002\",\"RW002\",IF(J278=\"WL003\",\"RW003\",IF(J278=\"DS001\",\"TCR001\",IF(J278=\"DS001\",\"TCR01\"))))))","v":""},{"$f":"Benchsheet!D281","v":0},{"$f":"Benchsheet!G281","v":"00:00:00"},{"$f":"Benchsheet!H281","v":0},{"$f":"Benchsheet!I281","v":"00:00:00"},{"$f":"Benchsheet!F281","v":0},{"$f":"Benchsheet!P281","v":0},{"$f":"Benchsheet!O281","v":0}]
[{"$f":"IF(Benchsheet!A282>1,\"sample\",IF(Benchsheet!A282=FALSE,\"\"))","v":""},{"$f":"IF(Benchsheet!A282>1,\"STATE\",IF(Benchsheet!A282=FALSE,\"\"))","v":""},{"$f":"IF(Benchsheet!A282>1,\"00035\",IF(Benchsheet!A282=FALSE,\"\"))","v":""},{"$f":"Benchsheet!A282","v":0},{"$f":"IF(Benchsheet!C282=1121057,\"VA1121057\",IF(Benchsheet!C282=1121090,\"VA1121090\",IF(Benchsheet!C282=1121052,\"VA1121052\",IF(Benchsheet!C282=1121175,\"VA1121175\",IF(Benchsheet!C282=1121580,\"VA1121580\",IF(Benchsheet!C282=1121570,\"VA1121570\",IF(Benchsheet!C282=1121045,\"VA1121045\",IF(Benchsheet!C282=1121655,\"VA1121655\",IF(Benchsheet!C282=1121503,\"VA1121503\",IF(Benchsheet!C282=1121043,\"VA1121043\",IF(Benchsheet!C282=1121900,\"VA1121900\",IF(Benchsheet!C282=1121845,\"VA1121845\",IF(Benchsheet!C282=1121655,\"VA1121655\",IF(Benchsheet!C282=1121900,\"VA1121900\",IF(Benchsheet!C282<1,\"\")))))))))))))))","v":""},{"$f":"IF(Benchsheet!A282>1,\"TC\",IF(Benchsheet!A282=FALSE,\"\"))","v":""},{"$f":"IF(J279=\"WL001\",\"MPN\",IF(Benchsheet!B282=FALSE,\"\",IF(J279=\"WL002\",\"MPN\",IF(J279=\"WL003\",\"MPN\",IF(J279=\"DS001\",\"TC\")))))","v":""},{"$f":"Benchsheet!E282","v":0},"",{"$f":"Benchsheet!B282","v":0},{"$f":"IF(J279=\"WL001\",\"RW001\",IF(Benchsheet!B282=FALSE,\"\",IF(J279=\"WL002\",\"RW002\",IF(J279=\"WL003\",\"RW003\",IF(J279=\"DS001\",\"TCR001\",IF(J279=\"DS001\",\"TCR01\"))))))","v":""},{"$f":"Benchsheet!D282","v":0},{"$f":"Benchsheet!G282","v":"00:00:00"},{"$f":"Benchsheet!H282","v":0},{"$f":"Benchsheet!I282","v":"00:00:00"},{"$f":"Benchsheet!F282","v":0},{"$f":"Benchsheet!P282","v":0},{"$f":"Benchsheet!O282","v":0}]
[{"$f":"IF(Benchsheet!A283>1,\"sample\",IF(Benchsheet!A283=FALSE,\"\"))","v":""},{"$f":"IF(Benchsheet!A283>1,\"STATE\",IF(Benchsheet!A283=FALSE,\"\"))","v":""},{"$f":"IF(Benchsheet!A283>1,\"00035\",IF(Benchsheet!A283=FALSE,\"\"))","v":""},{"$f":"Benchsheet!A283","v":0},{"$f":"IF(Benchsheet!C283=1121057,\"VA1121057\",IF(Benchsheet!C283=1121090,\"VA1121090\",IF(Benchsheet!C283=1121052,\"VA1121052\",IF(Benchsheet!C283=1121175,\"VA1121175\",IF(Benchsheet!C283=1121580,\"VA1121580\",IF(Benchsheet!C283=1121570,\"VA1121570\",IF(Benchsheet!C283=1121045,\"VA1121045\",IF(Benchsheet!C283=1121655,\"VA1121655\",IF(Benchsheet!C283=1121503,\"VA1121503\",IF(Benchsheet!C283=1121043,\"VA1121043\",IF(Benchsheet!C283=1121900,\"VA1121900\",IF(Benchsheet!C283=1121845,\"VA1121845\",IF(Benchsheet!C283=1121655,\"VA1121655\",IF(Benchsheet!C283=1121900,\"VA1121900\",IF(Benchsheet!C283<1,\"\")))))))))))))))","v":""},{"$f":"IF(Benchsheet!A283>1,\"TC\",IF(Benchsheet!A283=FALSE,\"\"))","v":""},{"$f":"IF(J280=\"WL001\",\"MPN\",IF(Benchsheet!B283=FALSE,\"\",IF(J280=\"WL002\",\"MPN\",IF(J280=\"WL003\",\"MPN\",IF(J280=\"DS001\",\"TC\")))))","v":""},{"$f":"Benchsheet!E283","v":0},"",{"$f":"Benchsheet!B283","v":0},{"$f":"IF(J280=\"WL001\",\"RW001\",IF(Benchsheet!B283=FALSE,\"\",IF(J280=\"WL002\",\"RW002\",IF(J280=\"WL003\",\"RW003\",IF(J280=\"DS001\",\"TCR001\",IF(J280=\"DS001\",\"TCR01\"))))))","v":""},{"$f":"Benchsheet!D283","v":0},{"$f":"Benchsheet!G283","v":"00:00:00"},{"$f":"Benchsheet!H283","v":0},{"$f":"Benchsheet!I283","v":"00:00:00"},{"$f":"Benchsheet!F283","v":0},{"$f":"Benchsheet!P283","v":0},{"$f":"Benchsheet!O283","v":0}]
[{"$f":"IF(Benchsheet!A284>1,\"sample\",IF(Benchsheet!A284=FALSE,\"\"))","v":""},{"$f":"IF(Benchsheet!A284>1,\"STATE\",IF(Benchsheet!A284=FALSE,\"\"))","v":""},{"$f":"IF(Benchsheet!A284>1,\"00035\",IF(Benchsheet!A284=FALSE,\"\"))","v":""},{"$f":"Benchsheet!A284","v":0},{"$f":"IF(Benchsheet!C284=1121057,\"VA1121057\",IF(Benchsheet!C284=1121090,\"VA1121090\",IF(Benchsheet!C284=1121052,\"VA1121052\",IF(Benchsheet!C284=1121175,\"VA1121175\",IF(Benchsheet!C284=1121580,\"VA1121580\",IF(Benchsheet!C284=1121570,\"VA1121570\",IF(Benchsheet!C284=1121045,\"VA1121045\",IF(Benchsheet!C284=1121655,\"VA1121655\",IF(Benchsheet!C284=1121503,\"VA1121503\",IF(Benchsheet!C284=1121043,\"VA1121043\",IF(Benchsheet!C284=1121900,\"VA1121900\",IF(Benchsheet!C284=1121845,\"VA1121845\",IF(Benchsheet!C284=1121655,\"VA1121655\",IF(Benchsheet!C284=1121900,\"VA1121900\",IF(Benchsheet!C284<1,\"\")))))))))))))))","v":""},{"$f":"IF(Benchsheet!A284>1,\"TC\",IF(Benchsheet!A284=FALSE,\"\"))","v":""},{"$f":"IF(J281=\"WL001\",\"MPN\",IF(Benchsheet!B284=FALSE,\"\",IF(J281=\"WL002\",\"MPN\",IF(J281=\"WL003\",\"MPN\",IF(J281=\"DS001\",\"TC\")))))","v":""},{"$f":"Benchsheet!E284","v":0},"",{"$f":"Benchsheet!B284","v":0},{"$f":"IF(J281=\"WL001\",\"RW001\",IF(Benchsheet!B284=FALSE,\"\",IF(J281=\"WL002\",\"RW002\",IF(J281=\"WL003\",\"RW003\",IF(J281=\"DS001\",\"TCR001\",IF(J281=\"DS001\",\"TCR01\"))))))","v":""},{"$f":"Benchsheet!D284","v":0},{"$f":"Benchsheet!G284","v":"00:00:00"},{"$f":"Benchsheet!H284","v":0},{"$f":"Benchsheet!I284","v":"00:00:00"},{"$f":"Benchsheet!F284","v":0},{"$f":"Benchsheet!P284","v":0},{"$f":"Benchsheet!O284","v":0}]
[{"$f":"IF(Benchsheet!A285>1,\"sample\",IF(Benchsheet!A285=FALSE,\"\"))","v":""},{"$f":"IF(Benchsheet!A285>1,\"STATE\",IF(Benchsheet!A285=FALSE,\"\"))","v":""},{"$f":"IF(Benchsheet!A285>1,\"00035\",IF(Benchsheet!A285=FALSE,\"\"))","v":""},{"$f":"Benchsheet!A285","v":0},{"$f":"IF(Benchsheet!C285=1121057,\"VA1121057\",IF(Benchsheet!C285=1121090,\"VA1121090\",IF(Benchsheet!C285=1121052,\"VA1121052\",IF(Benchsheet!C285=1121175,\"VA1121175\",IF(Benchsheet!C285=1121580,\"VA1121580\",IF(Benchsheet!C285=1121570,\"VA1121570\",IF(Benchsheet!C285=1121045,\"VA1121045\",IF(Benchsheet!C285=1121655,\"VA1121655\",IF(Benchsheet!C285=1121503,\"VA1121503\",IF(Benchsheet!C285=1121043,\"VA1121043\",IF(Benchsheet!C285=1121900,\"VA1121900\",IF(Benchsheet!C285=1121845,\"VA1121845\",IF(Benchsheet!C285=1121655,\"VA1121655\",IF(Benchsheet!C285=1121900,\"VA1121900\",IF(Benchsheet!C285<1,\"\")))))))))))))))","v":""},{"$f":"IF(Benchsheet!A285>1,\"TC\",IF(Benchsheet!A285=FALSE,\"\"))","v":""},{"$f":"IF(J282=\"WL001\",\"MPN\",IF(Benchsheet!B285=FALSE,\"\",IF(J282=\"WL002\",\"MPN\",IF(J282=\"WL003\",\"MPN\",IF(J282=\"DS001\",\"TC\")))))","v":""},{"$f":"Benchsheet!E285","v":0},"",{"$f":"Benchsheet!B285","v":0},{"$f":"IF(J282=\"WL001\",\"RW001\",IF(Benchsheet!B285=FALSE,\"\",IF(J282=\"WL002\",\"RW002\",IF(J282=\"WL003\",\"RW003\",IF(J282=\"DS001\",\"TCR001\",IF(J282=\"DS001\",\"TCR01\"))))))","v":""},{"$f":"Benchsheet!D285","v":0},{"$f":"Benchsheet!G285","v":"00:00:00"},{"$f":"Benchsheet!H285","v":0},{"$f":"Benchsheet!I285","v":"00:00:00"},{"$f":"Benchsheet!F285","v":0},{"$f":"Benchsheet!P285","v":0},{"$f":"Benchsheet!O285","v":0}]
[{"$f":"IF(Benchsheet!A286>1,\"sample\",IF(Benchsheet!A286=FALSE,\"\"))","v":""},{"$f":"IF(Benchsheet!A286>1,\"STATE\",IF(Benchsheet!A286=FALSE,\"\"))","v":""},{"$f":"IF(Benchsheet!A286>1,\"00035\",IF(Benchsheet!A286=FALSE,\"\"))","v":""},{"$f":"Benchsheet!A286","v":0},{"$f":"IF(Benchsheet!C286=1121057,\"VA1121057\",IF(Benchsheet!C286=1121090,\"VA1121090\",IF(Benchsheet!C286=1121052,\"VA1121052\",IF(Benchsheet!C286=1121175,\"VA1121175\",IF(Benchsheet!C286=1121580,\"VA1121580\",IF(Benchsheet!C286=1121570,\"VA1121570\",IF(Benchsheet!C286=1121045,\"VA1121045\",IF(Benchsheet!C286=1121655,\"VA1121655\",IF(Benchsheet!C286=1121503,\"VA1121503\",IF(Benchsheet!C286=1121043,\"VA1121043\",IF(Benchsheet!C286=1121900,\"VA1121900\",IF(Benchsheet!C286=1121845,\"VA1121845\",IF(Benchsheet!C286=1121655,\"VA1121655\",IF(Benchsheet!C286=1121900,\"VA1121900\",IF(Benchsheet!C286<1,\"\")))))))))))))))","v":""},{"$f":"IF(Benchsheet!A286>1,\"TC\",IF(Benchsheet!A286=FALSE,\"\"))","v":""},{"$f":"IF(J283=\"WL001\",\"MPN\",IF(Benchsheet!B286=FALSE,\"\",IF(J283=\"WL002\",\"MPN\",IF(J283=\"WL003\",\"MPN\",IF(J283=\"DS001\",\"TC\")))))","v":""},{"$f":"Benchsheet!E286","v":0},"",{"$f":"Benchsheet!B286","v":0},{"$f":"IF(J283=\"WL001\",\"RW001\",IF(Benchsheet!B286=FALSE,\"\",IF(J283=\"WL002\",\"RW002\",IF(J283=\"WL003\",\"RW003\",IF(J283=\"DS001\",\"TCR001\",IF(J283=\"DS001\",\"TCR01\"))))))","v":""},{"$f":"Benchsheet!D286","v":0},{"$f":"Benchsheet!G286","v":"00:00:00"},{"$f":"Benchsheet!H286","v":0},{"$f":"Benchsheet!I286","v":"00:00:00"},{"$f":"Benchsheet!F286","v":0},{"$f":"Benchsheet!P286","v":0},{"$f":"Benchsheet!O286","v":0}]
[{"$f":"IF(Benchsheet!A287>1,\"sample\",IF(Benchsheet!A287=FALSE,\"\"))","v":""},{"$f":"IF(Benchsheet!A287>1,\"STATE\",IF(Benchsheet!A287=FALSE,\"\"))","v":""},{"$f":"IF(Benchsheet!A287>1,\"00035\",IF(Benchsheet!A287=FALSE,\"\"))","v":""},{"$f":"Benchsheet!A287","v":0},{"$f":"IF(Benchsheet!C287=1121057,\"VA1121057\",IF(Benchsheet!C287=1121090,\"VA1121090\",IF(Benchsheet!C287=1121052,\"VA1121052\",IF(Benchsheet!C287=1121175,\"VA1121175\",IF(Benchsheet!C287=1121580,\"VA1121580\",IF(Benchsheet!C287=1121570,\"VA1121570\",IF(Benchsheet!C287=1121045,\"VA1121045\",IF(Benchsheet!C287=1121655,\"VA1121655\",IF(Benchsheet!C287=1121503,\"VA1121503\",IF(Benchsheet!C287=1121043,\"VA1121043\",IF(Benchsheet!C287=1121900,\"VA1121900\",IF(Benchsheet!C287=1121845,\"VA1121845\",IF(Benchsheet!C287=1121655,\"VA1121655\",IF(Benchsheet!C287=1121900,\"VA1121900\",IF(Benchsheet!C287<1,\"\")))))))))))))))","v":""},{"$f":"IF(Benchsheet!A287>1,\"TC\",IF(Benchsheet!A287=FALSE,\"\"))","v":""},{"$f":"IF(J284=\"WL001\",\"MPN\",IF(Benchsheet!B287=FALSE,\"\",IF(J284=\"WL002\",\"MPN\",IF(J284=\"WL003\",\"MPN\",IF(J284=\"DS001\",\"TC\")))))","v":""},{"$f":"Benchsheet!E287","v":0},"",{"$f":"Benchsheet!B287","v":0},{"$f":"IF(J284=\"WL001\",\"RW001\",IF(Benchsheet!B287=FALSE,\"\",IF(J284=\"WL002\",\"RW002\",IF(J284=\"WL003\",\"RW003\",IF(J284=\"DS001\",\"TCR001\",IF(J284=\"DS001\",\"TCR01\"))))))","v":""},{"$f":"Benchsheet!D287","v":0},{"$f":"Benchsheet!G287","v":"00:00:00"},{"$f":"Benchsheet!H287","v":0},{"$f":"Benchsheet!I287","v":"00:00:00"},{"$f":"Benchsheet!F287","v":0},{"$f":"Benchsheet!P287","v":0},{"$f":"Benchsheet!O287","v":0}]
[{"$f":"IF(Benchsheet!A288>1,\"sample\",IF(Benchsheet!A288=FALSE,\"\"))","v":""},{"$f":"IF(Benchsheet!A288>1,\"STATE\",IF(Benchsheet!A288=FALSE,\"\"))","v":""},{"$f":"IF(Benchsheet!A288>1,\"00035\",IF(Benchsheet!A288=FALSE,\"\"))","v":""},{"$f":"Benchsheet!A288","v":0},{"$f":"IF(Benchsheet!C288=1121057,\"VA1121057\",IF(Benchsheet!C288=1121090,\"VA1121090\",IF(Benchsheet!C288=1121052,\"VA1121052\",IF(Benchsheet!C288=1121175,\"VA1121175\",IF(Benchsheet!C288=1121580,\"VA1121580\",IF(Benchsheet!C288=1121570,\"VA1121570\",IF(Benchsheet!C288=1121045,\"VA1121045\",IF(Benchsheet!C288=1121655,\"VA1121655\",IF(Benchsheet!C288=1121503,\"VA1121503\",IF(Benchsheet!C288=1121043,\"VA1121043\",IF(Benchsheet!C288=1121900,\"VA1121900\",IF(Benchsheet!C288=1121845,\"VA1121845\",IF(Benchsheet!C288=1121655,\"VA1121655\",IF(Benchsheet!C288=1121900,\"VA1121900\",IF(Benchsheet!C288<1,\"\")))))))))))))))","v":""},{"$f":"IF(Benchsheet!A288>1,\"TC\",IF(Benchsheet!A288=FALSE,\"\"))","v":""},{"$f":"IF(J285=\"WL001\",\"MPN\",IF(Benchsheet!B288=FALSE,\"\",IF(J285=\"WL002\",\"MPN\",IF(J285=\"WL003\",\"MPN\",IF(J285=\"DS001\",\"TC\")))))","v":""},{"$f":"Benchsheet!E288","v":0},"",{"$f":"Benchsheet!B288","v":0},{"$f":"IF(J285=\"WL001\",\"RW001\",IF(Benchsheet!B288=FALSE,\"\",IF(J285=\"WL002\",\"RW002\",IF(J285=\"WL003\",\"RW003\",IF(J285=\"DS001\",\"TCR001\",IF(J285=\"DS001\",\"TCR01\"))))))","v":""},{"$f":"Benchsheet!D288","v":0},{"$f":"Benchsheet!G288","v":"00:00:00"},{"$f":"Benchsheet!H288","v":0},{"$f":"Benchsheet!I288","v":"00:00:00"},{"$f":"Benchsheet!F288","v":0},{"$f":"Benchsheet!P288","v":0},{"$f":"Benchsheet!O288","v":0}]
[{"$f":"IF(Benchsheet!A289>1,\"sample\",IF(Benchsheet!A289=FALSE,\"\"))","v":""},{"$f":"IF(Benchsheet!A289>1,\"STATE\",IF(Benchsheet!A289=FALSE,\"\"))","v":""},{"$f":"IF(Benchsheet!A289>1,\"00035\",IF(Benchsheet!A289=FALSE,\"\"))","v":""},{"$f":"Benchsheet!A289","v":0},{"$f":"IF(Benchsheet!C289=1121057,\"VA1121057\",IF(Benchsheet!C289=1121090,\"VA1121090\",IF(Benchsheet!C289=1121052,\"VA1121052\",IF(Benchsheet!C289=1121175,\"VA1121175\",IF(Benchsheet!C289=1121580,\"VA1121580\",IF(Benchsheet!C289=1121570,\"VA1121570\",IF(Benchsheet!C289=1121045,\"VA1121045\",IF(Benchsheet!C289=1121655,\"VA1121655\",IF(Benchsheet!C289=1121503,\"VA1121503\",IF(Benchsheet!C289=1121043,\"VA1121043\",IF(Benchsheet!C289=1121900,\"VA1121900\",IF(Benchsheet!C289=1121845,\"VA1121845\",IF(Benchsheet!C289=1121655,\"VA1121655\",IF(Benchsheet!C289=1121900,\"VA1121900\",IF(Benchsheet!C289<1,\"\")))))))))))))))","v":""},{"$f":"IF(Benchsheet!A289>1,\"TC\",IF(Benchsheet!A289=FALSE,\"\"))","v":""},{"$f":"IF(J286=\"WL001\",\"MPN\",IF(Benchsheet!B289=FALSE,\"\",IF(J286=\"WL002\",\"MPN\",IF(J286=\"WL003\",\"MPN\",IF(J286=\"DS001\",\"TC\")))))","v":""},{"$f":"Benchsheet!E289","v":0},"",{"$f":"Benchsheet!B289","v":0},{"$f":"IF(J286=\"WL001\",\"RW001\",IF(Benchsheet!B289=FALSE,\"\",IF(J286=\"WL002\",\"RW002\",IF(J286=\"WL003\",\"RW003\",IF(J286=\"DS001\",\"TCR001\",IF(J286=\"DS001\",\"TCR01\"))))))","v":""},{"$f":"Benchsheet!D289","v":0},{"$f":"Benchsheet!G289","v":"00:00:00"},{"$f":"Benchsheet!H289","v":0},{"$f":"Benchsheet!I289","v":"00:00:00"},{"$f":"Benchsheet!F289","v":0},{"$f":"Benchsheet!P289","v":0},{"$f":"Benchsheet!O289","v":0}]
[{"$f":"IF(Benchsheet!A290>1,\"sample\",IF(Benchsheet!A290=FALSE,\"\"))","v":""},{"$f":"IF(Benchsheet!A290>1,\"STATE\",IF(Benchsheet!A290=FALSE,\"\"))","v":""},{"$f":"IF(Benchsheet!A290>1,\"00035\",IF(Benchsheet!A290=FALSE,\"\"))","v":""},{"$f":"Benchsheet!A290","v":0},{"$f":"IF(Benchsheet!C290=1121057,\"VA1121057\",IF(Benchsheet!C290=1121090,\"VA1121090\",IF(Benchsheet!C290=1121052,\"VA1121052\",IF(Benchsheet!C290=1121175,\"VA1121175\",IF(Benchsheet!C290=1121580,\"VA1121580\",IF(Benchsheet!C290=1121570,\"VA1121570\",IF(Benchsheet!C290=1121045,\"VA1121045\",IF(Benchsheet!C290=1121655,\"VA1121655\",IF(Benchsheet!C290=1121503,\"VA1121503\",IF(Benchsheet!C290=1121043,\"VA1121043\",IF(Benchsheet!C290=1121900,\"VA1121900\",IF(Benchsheet!C290=1121845,\"VA1121845\",IF(Benchsheet!C290=1121655,\"VA1121655\",IF(Benchsheet!C290=1121900,\"VA1121900\",IF(Benchsheet!C290<1,\"\")))))))))))))))","v":""},{"$f":"IF(Benchsheet!A290>1,\"TC\",IF(Benchsheet!A290=FALSE,\"\"))","v":""},{"$f":"IF(J287=\"WL001\",\"MPN\",IF(Benchsheet!B290=FALSE,\"\",IF(J287=\"WL002\",\"MPN\",IF(J287=\"WL003\",\"MPN\",IF(J287=\"DS001\",\"TC\")))))","v":""},{"$f":"Benchsheet!E290","v":0},"",{"$f":"Benchsheet!B290","v":0},{"$f":"IF(J287=\"WL001\",\"RW001\",IF(Benchsheet!B290=FALSE,\"\",IF(J287=\"WL002\",\"RW002\",IF(J287=\"WL003\",\"RW003\",IF(J287=\"DS001\",\"TCR001\",IF(J287=\"DS001\",\"TCR01\"))))))","v":""},{"$f":"Benchsheet!D290","v":0},{"$f":"Benchsheet!G290","v":"00:00:00"},{"$f":"Benchsheet!H290","v":0},{"$f":"Benchsheet!I290","v":"00:00:00"},{"$f":"Benchsheet!F290","v":0},{"$f":"Benchsheet!P290","v":0},{"$f":"Benchsheet!O290","v":0}]
[{"$f":"IF(Benchsheet!A291>1,\"sample\",IF(Benchsheet!A291=FALSE,\"\"))","v":""},{"$f":"IF(Benchsheet!A291>1,\"STATE\",IF(Benchsheet!A291=FALSE,\"\"))","v":""},{"$f":"IF(Benchsheet!A291>1,\"00035\",IF(Benchsheet!A291=FALSE,\"\"))","v":""},{"$f":"Benchsheet!A291","v":0},{"$f":"IF(Benchsheet!C291=1121057,\"VA1121057\",IF(Benchsheet!C291=1121090,\"VA1121090\",IF(Benchsheet!C291=1121052,\"VA1121052\",IF(Benchsheet!C291=1121175,\"VA1121175\",IF(Benchsheet!C291=1121580,\"VA1121580\",IF(Benchsheet!C291=1121570,\"VA1121570\",IF(Benchsheet!C291=1121045,\"VA1121045\",IF(Benchsheet!C291=1121655,\"VA1121655\",IF(Benchsheet!C291=1121503,\"VA1121503\",IF(Benchsheet!C291=1121043,\"VA1121043\",IF(Benchsheet!C291=1121900,\"VA1121900\",IF(Benchsheet!C291=1121845,\"VA1121845\",IF(Benchsheet!C291=1121655,\"VA1121655\",IF(Benchsheet!C291=1121900,\"VA1121900\",IF(Benchsheet!C291<1,\"\")))))))))))))))","v":""},{"$f":"IF(Benchsheet!A291>1,\"TC\",IF(Benchsheet!A291=FALSE,\"\"))","v":""},{"$f":"IF(J288=\"WL001\",\"MPN\",IF(Benchsheet!B291=FALSE,\"\",IF(J288=\"WL002\",\"MPN\",IF(J288=\"WL003\",\"MPN\",IF(J288=\"DS001\",\"TC\")))))","v":""},{"$f":"Benchsheet!E291","v":0},"",{"$f":"Benchsheet!B291","v":0},{"$f":"IF(J288=\"WL001\",\"RW001\",IF(Benchsheet!B291=FALSE,\"\",IF(J288=\"WL002\",\"RW002\",IF(J288=\"WL003\",\"RW003\",IF(J288=\"DS001\",\"TCR001\",IF(J288=\"DS001\",\"TCR01\"))))))","v":""},{"$f":"Benchsheet!D291","v":0},{"$f":"Benchsheet!G291","v":"00:00:00"},{"$f":"Benchsheet!H291","v":0},{"$f":"Benchsheet!I291","v":"00:00:00"},{"$f":"Benchsheet!F291","v":0},{"$f":"Benchsheet!P291","v":0},{"$f":"Benchsheet!O291","v":0}]
[{"$f":"IF(Benchsheet!A292>1,\"sample\",IF(Benchsheet!A292=FALSE,\"\"))","v":""},{"$f":"IF(Benchsheet!A292>1,\"STATE\",IF(Benchsheet!A292=FALSE,\"\"))","v":""},{"$f":"IF(Benchsheet!A292>1,\"00035\",IF(Benchsheet!A292=FALSE,\"\"))","v":""},{"$f":"Benchsheet!A292","v":0},{"$f":"IF(Benchsheet!C292=1121057,\"VA1121057\",IF(Benchsheet!C292=1121090,\"VA1121090\",IF(Benchsheet!C292=1121052,\"VA1121052\",IF(Benchsheet!C292=1121175,\"VA1121175\",IF(Benchsheet!C292=1121580,\"VA1121580\",IF(Benchsheet!C292=1121570,\"VA1121570\",IF(Benchsheet!C292=1121045,\"VA1121045\",IF(Benchsheet!C292=1121655,\"VA1121655\",IF(Benchsheet!C292=1121503,\"VA1121503\",IF(Benchsheet!C292=1121043,\"VA1121043\",IF(Benchsheet!C292=1121900,\"VA1121900\",IF(Benchsheet!C292=1121845,\"VA1121845\",IF(Benchsheet!C292=1121655,\"VA1121655\",IF(Benchsheet!C292=1121900,\"VA1121900\",IF(Benchsheet!C292<1,\"\")))))))))))))))","v":""},{"$f":"IF(Benchsheet!A292>1,\"TC\",IF(Benchsheet!A292=FALSE,\"\"))","v":""},{"$f":"IF(J289=\"WL001\",\"MPN\",IF(Benchsheet!B292=FALSE,\"\",IF(J289=\"WL002\",\"MPN\",IF(J289=\"WL003\",\"MPN\",IF(J289=\"DS001\",\"TC\")))))","v":""},{"$f":"Benchsheet!E292","v":0},"",{"$f":"Benchsheet!B292","v":0},{"$f":"IF(J289=\"WL001\",\"RW001\",IF(Benchsheet!B292=FALSE,\"\",IF(J289=\"WL002\",\"RW002\",IF(J289=\"WL003\",\"RW003\",IF(J289=\"DS001\",\"TCR001\",IF(J289=\"DS001\",\"TCR01\"))))))","v":""},{"$f":"Benchsheet!D292","v":0},{"$f":"Benchsheet!G292","v":"00:00:00"},{"$f":"Benchsheet!H292","v":0},{"$f":"Benchsheet!I292","v":"00:00:00"},{"$f":"Benchsheet!F292","v":0},{"$f":"Benchsheet!P292","v":0},{"$f":"Benchsheet!O292","v":0}]
[{"$f":"IF(Benchsheet!A293>1,\"sample\",IF(Benchsheet!A293=FALSE,\"\"))","v":""},{"$f":"IF(Benchsheet!A293>1,\"STATE\",IF(Benchsheet!A293=FALSE,\"\"))","v":""},{"$f":"IF(Benchsheet!A293>1,\"00035\",IF(Benchsheet!A293=FALSE,\"\"))","v":""},{"$f":"Benchsheet!A293","v":0},{"$f":"IF(Benchsheet!C293=1121057,\"VA1121057\",IF(Benchsheet!C293=1121090,\"VA1121090\",IF(Benchsheet!C293=1121052,\"VA1121052\",IF(Benchsheet!C293=1121175,\"VA1121175\",IF(Benchsheet!C293=1121580,\"VA1121580\",IF(Benchsheet!C293=1121570,\"VA1121570\",IF(Benchsheet!C293=1121045,\"VA1121045\",IF(Benchsheet!C293=1121655,\"VA1121655\",IF(Benchsheet!C293=1121503,\"VA1121503\",IF(Benchsheet!C293=1121043,\"VA1121043\",IF(Benchsheet!C293=1121900,\"VA1121900\",IF(Benchsheet!C293=1121845,\"VA1121845\",IF(Benchsheet!C293=1121655,\"VA1121655\",IF(Benchsheet!C293=1121900,\"VA1121900\",IF(Benchsheet!C293<1,\"\")))))))))))))))","v":""},{"$f":"IF(Benchsheet!A293>1,\"TC\",IF(Benchsheet!A293=FALSE,\"\"))","v":""},{"$f":"IF(J290=\"WL001\",\"MPN\",IF(Benchsheet!B293=FALSE,\"\",IF(J290=\"WL002\",\"MPN\",IF(J290=\"WL003\",\"MPN\",IF(J290=\"DS001\",\"TC\")))))","v":""},{"$f":"Benchsheet!E293","v":0},"",{"$f":"Benchsheet!B293","v":0},{"$f":"IF(J290=\"WL001\",\"RW001\",IF(Benchsheet!B293=FALSE,\"\",IF(J290=\"WL002\",\"RW002\",IF(J290=\"WL003\",\"RW003\",IF(J290=\"DS001\",\"TCR001\",IF(J290=\"DS001\",\"TCR01\"))))))","v":""},{"$f":"Benchsheet!D293","v":0},{"$f":"Benchsheet!G293","v":"00:00:00"},{"$f":"Benchsheet!H293","v":0},{"$f":"Benchsheet!I293","v":"00:00:00"},{"$f":"Benchsheet!F293","v":0},{"$f":"Benchsheet!P293","v":0},{"$f":"Benchsheet!O293","v":0}]

{"sheet":"result total","index":4,"n_rows":577,"n_cols":19,"rows_kept":577,"cut":false,"hidden":false,"merged":[]}
["Structure Set Name","Certifying Agency","Lab ID","Sample ID","PWSID","Analyte Code","Std_Meth","State Notification Date","Data Quality","Microbe Presence Indicator (TC or MPN ONLY)","Count (MPN ONLY)","Count Volume (MPN ONLY)","Count Type (MPN ONLY)","Less Than Indicator (GE or PB ONLY)","Less Than Code (GE or PB ONLY)","Detection Level (GE or PB ONLY)","Detection Unit Measure (GE or PB ONLY)","Concentration (GE or PB ONLY)","Concentration Unit Measure (GE or PB ONLY)"]
[{"$f":"IF(Benchsheet!A5>1,\"result\",\"\")","v":"result"},{"$f":"IF(Benchsheet!A5>1,\"STATE\",\"\")","v":"STATE"},{"$f":"IF(Benchsheet!A5>1,\"00035\",\"\")","v":"00035"},{"$f":"Benchsheet!A5","v":"1511P1"},{"$f":"IF(Benchsheet!C5=1121057,\"VA1121057\",IF(Benchsheet!C5=1121090,\"VA1121090\",IF(Benchsheet!C5=1121052,\"VA1121052\",IF(Benchsheet!C5=1121175,\"VA1121175\",IF(Benchsheet!C5=1121580,\"VA1121580\",IF(Benchsheet!C5=1121570,\"VA1121570\",IF(Benchsheet!C5=1121045,\"VA1121045\",IF(Benchsheet!C5=1121655,\"VA1121655\",IF(Benchsheet!C5=1121503,\"VA1121503\",IF(Benchsheet!C5=1121043,\"VA1121043\",IF(Benchsheet!C5=1121900,\"VA1121900\",IF(Benchsheet!C5=1121845,\"VA1121845\",IF(Benchsheet!C5=1121655,\"VA1121655\",IF(Benchsheet!C5=1121900,\"VA1121900\",IF(Benchsheet!C5<1,\"\")))))))))))))))","v":"VA1121057"},{"$f":"IF(WORKSHEET!B2=\"MPN\",\"3000\",IF(WORKSHEET!B2=\"TC\",\"3100\",\"\"))","v":"3100"},{"$f":"IF(Benchsheet!A5>1,\"SM 9223B\",\"\")","v":"SM 9223B"},{"$f":"Benchsheet!U5","v":"00:00:00"},{"$f":"IF(Benchsheet!J5>1,\"A\",\"\")","v":"A"},{"$f":"Benchsheet!L5","v":"A"},{"$f":"IF(WORKSHEET!A2=\"-1\",\"\",IF(WORKSHEET!A2=0,\"0\",WORKSHEET!A2))","v":""},{"$f":"IF(M2=\"MPN\",\"100ML\",\"\")","v":""},{"$f":"IF(WORKSHEET!B2=\"MPN\",\"MPN\",\"\")","v":""}]
[{"$f":"IF(Benchsheet!A5>1,\"result\",\"\")","v":"result"},{"$f":"IF(Benchsheet!A5>1,\"STATE\",\"\")","v":"STATE"},{"$f":"IF(Benchsheet!A5>1,\"00035\",\"\")","v":"00035"},{"$f":"Benchsheet!A5","v":"1511P1"},{"$f":"IF(Benchsheet!C5=1121057,\"VA1121057\",IF(Benchsheet!C5=1121090,\"VA1121090\",IF(Benchsheet!C5=1121052,\"VA1121052\",IF(Benchsheet!C5=1121175,\"VA1121175\",IF(Benchsheet!C5=1121580,\"VA1121580\",IF(Benchsheet!C5=1121570,\"VA1121570\",IF(Benchsheet!C5=1121045,\"VA1121045\",IF(Benchsheet!C5=1121655,\"VA1121655\",IF(Benchsheet!C5=1121503,\"VA1121503\",IF(Benchsheet!C5=1121043,\"VA1121043\",IF(Benchsheet!C5=1121900,\"VA1121900\",IF(Benchsheet!C5=1121845,\"VA1121845\",IF(Benchsheet!C5=1121655,\"VA1121655\",IF(Benchsheet!C5=1121900,\"VA1121900\",IF(Benchsheet!C5<1,\"\")))))))))))))))","v":"VA1121057"},{"$f":"WORKSHEET!C2","v":3014},{"$f":"IF(Benchsheet!A5>1,\"SM 9223B\",\"\")","v":"SM 9223B"},{"$f":"Benchsheet!U5","v":"00:00:00"},{"$f":"IF(Benchsheet!J5>1,\"A\",\"\")","v":"A"},{"$f":"Benchsheet!M5","v":"A"},{"$f":"IF(WORKSHEET!A2=\"-1\",\"\",IF(WORKSHEET!A2=0,\"0\",WORKSHEET!A2))","v":""},{"$f":"IF(M3=\"MPN\",\"100ML\",\"\")","v":""},{"$f":"IF(WORKSHEET!B2=\"MPN\",\"MPN\",\"\")","v":""}]
[{"$f":"IF(Benchsheet!A6>1,\"result\",\"\")","v":"result"},{"$f":"IF(Benchsheet!A6>1,\"STATE\",\"\")","v":"STATE"},{"$f":"IF(Benchsheet!A6>1,\"00035\",\"\")","v":"00035"},{"$f":"Benchsheet!A6","v":"1511P2"},{"$f":"IF(Benchsheet!C6=1121057,\"VA1121057\",IF(Benchsheet!C6=1121090,\"VA1121090\",IF(Benchsheet!C6=1121052,\"VA1121052\",IF(Benchsheet!C6=1121175,\"VA1121175\",IF(Benchsheet!C6=1121580,\"VA1121580\",IF(Benchsheet!C6=1121570,\"VA1121570\",IF(Benchsheet!C6=1121045,\"VA1121045\",IF(Benchsheet!C6=1121655,\"VA1121655\",IF(Benchsheet!C6=1121503,\"VA1121503\",IF(Benchsheet!C6=1121043,\"VA1121043\",IF(Benchsheet!C6=1121900,\"VA1121900\",IF(Benchsheet!C6=1121845,\"VA1121845\",IF(Benchsheet!C6=1121655,\"VA1121655\",IF(Benchsheet!C6=1121900,\"VA1121900\",IF(Benchsheet!C6<1,\"\")))))))))))))))","v":"VA1121057"},{"$f":"IF(WORKSHEET!B3=\"MPN\",\"3000\",IF(WORKSHEET!B3=\"TC\",\"3100\",\"\"))","v":"3100"},{"$f":"IF(Benchsheet!A6>1,\"SM 9223B\",\"\")","v":"SM 9223B"},{"$f":"Benchsheet!U6","v":"00:00:00"},{"$f":"IF(Benchsheet!J6>1,\"A\",\"\")","v":"A"},{"$f":"Benchsheet!L6","v":"A"},{"$f":"IF(WORKSHEET!A3=\"-1\",\"\",IF(WORKSHEET!A3=0,\"0\",WORKSHEET!A3))","v":""},"",{"$f":"IF(WORKSHEET!B3=\"MPN\",\"MPN\",\"\")","v":""}]
[{"$f":"IF(Benchsheet!A6>1,\"result\",\"\")","v":"result"},{"$f":"IF(Benchsheet!A6>1,\"STATE\",\"\")","v":"STATE"},{"$f":"IF(Benchsheet!A6>1,\"00035\",\"\")","v":"00035"},{"$f":"Benchsheet!A6","v":"1511P2"},{"$f":"IF(Benchsheet!C6=1121057,\"VA1121057\",IF(Benchsheet!C6=1121090,\"VA1121090\",IF(Benchsheet!C6=1121052,\"VA1121052\",IF(Benchsheet!C6=1121175,\"VA1121175\",IF(Benchsheet!C6=1121580,\"VA1121580\",IF(Benchsheet!C6=1121570,\"VA1121570\",IF(Benchsheet!C6=1121045,\"VA1121045\",IF(Benchsheet!C6=1121655,\"VA1121655\",IF(Benchsheet!C6=1121503,\"VA1121503\",IF(Benchsheet!C6=1121043,\"VA1121043\",IF(Benchsheet!C6=1121900,\"VA1121900\",IF(Benchsheet!C6=1121845,\"VA1121845\",IF(Benchsheet!C6=1121655,\"VA1121655\",IF(Benchsheet!C6=1121900,\"VA1121900\",IF(Benchsheet!C6<1,\"\")))))))))))))))","v":"VA1121057"},{"$f":"WORKSHEET!C3","v":3014},{"$f":"IF(Benchsheet!A6>1,\"SM 9223B\",\"\")","v":"SM 9223B"},{"$f":"Benchsheet!U6","v":"00:00:00"},{"$f":"IF(Benchsheet!J6>1,\"A\",\"\")","v":"A"},{"$f":"Benchsheet!M6","v":"A"},{"$f":"IF(WORKSHEET!A3=\"-1\",\"\",IF(WORKSHEET!A3=0,\"0\",WORKSHEET!A3))","v":""},"",{"$f":"IF(WORKSHEET!B3=\"MPN\",\"MPN\",\"\")","v":""}]
[{"$f":"IF(Benchsheet!A7>1,\"result\",\"\")","v":"result"},{"$f":"IF(Benchsheet!A7>1,\"STATE\",\"\")","v":"STATE"},{"$f":"IF(Benchsheet!A7>1,\"00035\",\"\")","v":"00035"},{"$f":"Benchsheet!A7","v":"1511C1"},{"$f":"IF(Benchsheet!C7=1121057,\"VA1121057\",IF(Benchsheet!C7=1121090,\"VA1121090\",IF(Benchsheet!C7=1121052,\"VA1121052\",IF(Benchsheet!C7=1121175,\"VA1121175\",IF(Benchsheet!C7=1121580,\"VA1121580\",IF(Benchsheet!C7=1121570,\"VA1121570\",IF(Benchsheet!C7=1121045,\"VA1121045\",IF(Benchsheet!C7=1121655,\"VA1121655\",IF(Benchsheet!C7=1121503,\"VA1121503\",IF(Benchsheet!C7=1121043,\"VA1121043\",IF(Benchsheet!C7=1121900,\"VA1121900\",IF(Benchsheet!C7=1121845,\"VA1121845\",IF(Benchsheet!C7=1121655,\"VA1121655\",IF(Benchsheet!C7=1121900,\"VA1121900\",IF(Benchsheet!C7<1,\"\")))))))))))))))","v":"VA1121090"},{"$f":"IF(WORKSHEET!B4=\"MPN\",\"3000\",IF(WORKSHEET!B4=\"TC\",\"3100\",\"\"))","v":"3100"},{"$f":"IF(Benchsheet!A7>1,\"SM 9223B\",\"\")","v":"SM 9223B"},{"$f":"Benchsheet!U7","v":"00:00:00"},{"$f":"IF(Benchsheet!J7>1,\"A\",\"\")","v":"A"},{"$f":"Benchsheet!L7","v":"A"},{"$f":"IF(WORKSHEET!A4=\"-1\",\"\",IF(WORKSHEET!A4=0,\"0\",WORKSHEET!A4))","v":""},"",{"$f":"IF(WORKSHEET!B4=\"MPN\",\"MPN\",\"\")","v":""}]
[{"$f":"IF(Benchsheet!A7>1,\"result\",\"\")","v":"result"},{"$f":"IF(Benchsheet!A7>1,\"STATE\",\"\")","v":"STATE"},{"$f":"IF(Benchsheet!A7>1,\"00035\",\"\")","v":"00035"},{"$f":"Benchsheet!A7","v":"1511C1"},{"$f":"IF(Benchsheet!C7=1121057,\"VA1121057\",IF(Benchsheet!C7=1121090,\"VA1121090\",IF(Benchsheet!C7=1121052,\"VA1121052\",IF(Benchsheet!C7=1121175,\"VA1121175\",IF(Benchsheet!C7=1121580,\"VA1121580\",IF(Benchsheet!C7=1121570,\"VA1121570\",IF(Benchsheet!C7=1121045,\"VA1121045\",IF(Benchsheet!C7=1121655,\"VA1121655\",IF(Benchsheet!C7=1121503,\"VA1121503\",IF(Benchsheet!C7=1121043,\"VA1121043\",IF(Benchsheet!C7=1121900,\"VA1121900\",IF(Benchsheet!C7=1121845,\"VA1121845\",IF(Benchsheet!C7=1121655,\"VA1121655\",IF(Benchsheet!C7=1121900,\"VA1121900\",IF(Benchsheet!C7<1,\"\")))))))))))))))","v":"VA1121090"},{"$f":"WORKSHEET!C4","v":3014},{"$f":"IF(Benchsheet!A7>1,\"SM 9223B\",\"\")","v":"SM 9223B"},{"$f":"Benchsheet!U7","v":"00:00:00"},{"$f":"IF(Benchsheet!J7>1,\"A\",\"\")","v":"A"},{"$f":"Benchsheet!M7","v":"A"},{"$f":"IF(WORKSHEET!A4=\"-1\",\"\",IF(WORKSHEET!A4=0,\"0\",WORKSHEET!A4))","v":""},"",{"$f":"IF(WORKSHEET!B4=\"MPN\",\"MPN\",\"\")","v":""}]
[{"$f":"IF(Benchsheet!A8>1,\"result\",\"\")","v":"result"},{"$f":"IF(Benchsheet!A8>1,\"STATE\",\"\")","v":"STATE"},{"$f":"IF(Benchsheet!A8>1,\"00035\",\"\")","v":"00035"},{"$f":"Benchsheet!A8","v":"1511C2"},{"$f":"IF(Benchsheet!C8=1121057,\"VA1121057\",IF(Benchsheet!C8=1121090,\"VA1121090\",IF(Benchsheet!C8=1121052,\"VA1121052\",IF(Benchsheet!C8=1121175,\"VA1121175\",IF(Benchsheet!C8=1121580,\"VA1121580\",IF(Benchsheet!C8=1121570,\"VA1121570\",IF(Benchsheet!C8=1121045,\"VA1121045\",IF(Benchsheet!C8=1121655,\"VA1121655\",IF(Benchsheet!C8=1121503,\"VA1121503\",IF(Benchsheet!C8=1121043,\"VA1121043\",IF(Benchsheet!C8=1121900,\"VA1121900\",IF(Benchsheet!C8=1121845,\"VA1121845\",IF(Benchsheet!C8=1121655,\"VA1121655\",IF(Benchsheet!C8=1121900,\"VA1121900\",IF(Benchsheet!C8<1,\"\")))))))))))))))","v":"VA1121090"},{"$f":"IF(WORKSHEET!B5=\"MPN\",\"3000\",IF(WORKSHEET!B5=\"TC\",\"3100\",\"\"))","v":"3100"},{"$f":"IF(Benchsheet!A8>1,\"SM 9223B\",\"\")","v":"SM 9223B"},{"$f":"Benchsheet!U8","v":"00:00:00"},{"$f":"IF(Benchsheet!J8>1,\"A\",\"\")","v":"A"},{"$f":"Benchsheet!L8","v":"A"},{"$f":"IF(WORKSHEET!A5=\"-1\",\"\",IF(WORKSHEET!A5=0,\"0\",WORKSHEET!A5))","v":""},"",{"$f":"IF(WORKSHEET!B5=\"MPN\",\"MPN\",\"\")","v":""}]
[{"$f":"IF(Benchsheet!A8>1,\"result\",\"\")","v":"result"},{"$f":"IF(Benchsheet!A8>1,\"STATE\",\"\")","v":"STATE"},{"$f":"IF(Benchsheet!A8>1,\"00035\",\"\")","v":"00035"},{"$f":"Benchsheet!A8","v":"1511C2"},{"$f":"IF(Benchsheet!C8=1121057,\"VA1121057\",IF(Benchsheet!C8=1121090,\"VA1121090\",IF(Benchsheet!C8=1121052,\"VA1121052\",IF(Benchsheet!C8=1121175,\"VA1121175\",IF(Benchsheet!C8=1121580,\"VA1121580\",IF(Benchsheet!C8=1121570,\"VA1121570\",IF(Benchsheet!C8=1121045,\"VA1121045\",IF(Benchsheet!C8=1121655,\"VA1121655\",IF(Benchsheet!C8=1121503,\"VA1121503\",IF(Benchsheet!C8=1121043,\"VA1121043\",IF(Benchsheet!C8=1121900,\"VA1121900\",IF(Benchsheet!C8=1121845,\"VA1121845\",IF(Benchsheet!C8=1121655,\"VA1121655\",IF(Benchsheet!C8=1121900,\"VA1121900\",IF(Benchsheet!C8<1,\"\")))))))))))))))","v":"VA1121090"},{"$f":"WORKSHEET!C5","v":3014},{"$f":"IF(Benchsheet!A8>1,\"SM 9223B\",\"\")","v":"SM 9223B"},{"$f":"Benchsheet!U8","v":"00:00:00"},{"$f":"IF(Benchsheet!J8>1,\"A\",\"\")","v":"A"},{"$f":"Benchsheet!M8","v":"A"},{"$f":"IF(WORKSHEET!A5=\"-1\",\"\",IF(WORKSHEET!A5=0,\"0\",WORKSHEET!A5))","v":""},"",{"$f":"IF(WORKSHEET!B5=\"MPN\",\"MPN\",\"\")","v":""}]
[{"$f":"IF(Benchsheet!A9>1,\"result\",\"\")","v":"result"},{"$f":"IF(Benchsheet!A9>1,\"STATE\",\"\")","v":"STATE"},{"$f":"IF(Benchsheet!A9>1,\"00035\",\"\")","v":"00035"},{"$f":"Benchsheet!A9","v":"1511C3"},{"$f":"IF(Benchsheet!C9=1121057,\"VA1121057\",IF(Benchsheet!C9=1121090,\"VA1121090\",IF(Benchsheet!C9=1121052,\"VA1121052\",IF(Benchsheet!C9=1121175,\"VA1121175\",IF(Benchsheet!C9=1121580,\"VA1121580\",IF(Benchsheet!C9=1121570,\"VA1121570\",IF(Benchsheet!C9=1121045,\"VA1121045\",IF(Benchsheet!C9=1121655,\"VA1121655\",IF(Benchsheet!C9=1121503,\"VA1121503\",IF(Benchsheet!C9=1121043,\"VA1121043\",IF(Benchsheet!C9=1121900,\"VA1121900\",IF(Benchsheet!C9=1121845,\"VA1121845\",IF(Benchsheet!C9=1121655,\"VA1121655\",IF(Benchsheet!C9=1121900,\"VA1121900\",IF(Benchsheet!C9<1,\"\")))))))))))))))","v":"VA1121090"},{"$f":"IF(WORKSHEET!B6=\"MPN\",\"3000\",IF(WORKSHEET!B6=\"TC\",\"3100\",\"\"))","v":"3100"},{"$f":"IF(Benchsheet!A9>1,\"SM 9223B\",\"\")","v":"SM 9223B"},{"$f":"Benchsheet!U9","v":"00:00:00"},{"$f":"IF(Benchsheet!J9>1,\"A\",\"\")","v":"A"},{"$f":"Benchsheet!L9","v":"A"},{"$f":"IF(WORKSHEET!A6=\"-1\",\"\",IF(WORKSHEET!A6=0,\"0\",WORKSHEET!A6))","v":""},"",{"$f":"IF(WORKSHEET!B6=\"MPN\",\"MPN\",\"\")","v":""}]
[{"$f":"IF(Benchsheet!A9>1,\"result\",\"\")","v":"result"},{"$f":"IF(Benchsheet!A9>1,\"STATE\",\"\")","v":"STATE"},{"$f":"IF(Benchsheet!A9>1,\"00035\",\"\")","v":"00035"},{"$f":"Benchsheet!A9","v":"1511C3"},{"$f":"IF(Benchsheet!C9=1121057,\"VA1121057\",IF(Benchsheet!C9=1121090,\"VA1121090\",IF(Benchsheet!C9=1121052,\"VA1121052\",IF(Benchsheet!C9=1121175,\"VA1121175\",IF(Benchsheet!C9=1121580,\"VA1121580\",IF(Benchsheet!C9=1121570,\"VA1121570\",IF(Benchsheet!C9=1121045,\"VA1121045\",IF(Benchsheet!C9=1121655,\"VA1121655\",IF(Benchsheet!C9=1121503,\"VA1121503\",IF(Benchsheet!C9=1121043,\"VA1121043\",IF(Benchsheet!C9=1121900,\"VA1121900\",IF(Benchsheet!C9=1121845,\"VA1121845\",IF(Benchsheet!C9=1121655,\"VA1121655\",IF(Benchsheet!C9=1121900,\"VA1121900\",IF(Benchsheet!C9<1,\"\")))))))))))))))","v":"VA1121090"},{"$f":"WORKSHEET!C6","v":3014},{"$f":"IF(Benchsheet!A9>1,\"SM 9223B\",\"\")","v":"SM 9223B"},{"$f":"Benchsheet!U9","v":"00:00:00"},{"$f":"IF(Benchsheet!J9>1,\"A\",\"\")","v":"A"},{"$f":"Benchsheet!M9","v":"A"},{"$f":"IF(WORKSHEET!A6=\"-1\",\"\",IF(WORKSHEET!A6=0,\"0\",WORKSHEET!A6))","v":""},"",{"$f":"IF(WORKSHEET!B6=\"MPN\",\"MPN\",\"\")","v":""}]
[{"$f":"IF(Benchsheet!A10>1,\"result\",\"\")","v":"result"},{"$f":"IF(Benchsheet!A10>1,\"STATE\",\"\")","v":"STATE"},{"$f":"IF(Benchsheet!A10>1,\"00035\",\"\")","v":"00035"},{"$f":"Benchsheet!A10","v":"1511C4"},{"$f":"IF(Benchsheet!C10=1121057,\"VA1121057\",IF(Benchsheet!C10=1121090,\"VA1121090\",IF(Benchsheet!C10=1121052,\"VA1121052\",IF(Benchsheet!C10=1121175,\"VA1121175\",IF(Benchsheet!C10=1121580,\"VA1121580\",IF(Benchsheet!C10=1121570,\"VA1121570\",IF(Benchsheet!C10=1121045,\"VA1121045\",IF(Benchsheet!C10=1121655,\"VA1121655\",IF(Benchsheet!C10=1121503,\"VA1121503\",IF(Benchsheet!C10=1121043,\"VA1121043\",IF(Benchsheet!C10=1121900,\"VA1121900\",IF(Benchsheet!C10=1121845,\"VA1121845\",IF(Benchsheet!C10=1121655,\"VA1121655\",IF(Benchsheet!C10=1121900,\"VA1121900\",IF(Benchsheet!C10<1,\"\")))))))))))))))","v":"VA1121090"},{"$f":"IF(WORKSHEET!B7=\"MPN\",\"3000\",IF(WORKSHEET!B7=\"TC\",\"3100\",\"\"))","v":"3100"},{"$f":"IF(Benchsheet!A10>1,\"SM 9223B\",\"\")","v":"SM 9223B"},{"$f":"Benchsheet!U10","v":"00:00:00"},{"$f":"IF(Benchsheet!J10>1,\"A\",\"\")","v":"A"},{"$f":"Benchsheet!L10","v":"A"},{"$f":"IF(WORKSHEET!A7=\"-1\",\"\",IF(WORKSHEET!A7=0,\"0\",WORKSHEET!A7))","v":""},"",{"$f":"IF(WORKSHEET!B7=\"MPN\",\"MPN\",\"\")","v":""}]
[{"$f":"IF(Benchsheet!A10>1,\"result\",\"\")","v":"result"},{"$f":"IF(Benchsheet!A10>1,\"STATE\",\"\")","v":"STATE"},{"$f":"IF(Benchsheet!A10>1,\"00035\",\"\")","v":"00035"},{"$f":"Benchsheet!A10","v":"1511C4"},{"$f":"IF(Benchsheet!C10=1121057,\"VA1121057\",IF(Benchsheet!C10=1121090,\"VA1121090\",IF(Benchsheet!C10=1121052,\"VA1121052\",IF(Benchsheet!C10=1121175,\"VA1121175\",IF(Benchsheet!C10=1121580,\"VA1121580\",IF(Benchsheet!C10=1121570,\"VA1121570\",IF(Benchsheet!C10=1121045,\"VA1121045\",IF(Benchsheet!C10=1121655,\"VA1121655\",IF(Benchsheet!C10=1121503,\"VA1121503\",IF(Benchsheet!C10=1121043,\"VA1121043\",IF(Benchsheet!C10=1121900,\"VA1121900\",IF(Benchsheet!C10=1121845,\"VA1121845\",IF(Benchsheet!C10=1121655,\"VA1121655\",IF(Benchsheet!C10=1121900,\"VA1121900\",IF(Benchsheet!C10<1,\"\")))))))))))))))","v":"VA1121090"},{"$f":"WORKSHEET!C7","v":3014},{"$f":"IF(Benchsheet!A10>1,\"SM 9223B\",\"\")","v":"SM 9223B"},{"$f":"Benchsheet!U10","v":"00:00:00"},{"$f":"IF(Benchsheet!J10>1,\"A\",\"\")","v":"A"},{"$f":"Benchsheet!M10","v":"A"},{"$f":"IF(WORKSHEET!A7=\"-1\",\"\",IF(WORKSHEET!A7=0,\"0\",WORKSHEET!A7))","v":""},"",{"$f":"IF(WORKSHEET!B7=\"MPN\",\"MPN\",\"\")","v":""}]
[{"$f":"IF(Benchsheet!A11>1,\"result\",\"\")","v":"result"},{"$f":"IF(Benchsheet!A11>1,\"STATE\",\"\")","v":"STATE"},{"$f":"IF(Benchsheet!A11>1,\"00035\",\"\")","v":"00035"},{"$f":"Benchsheet!A11","v":"1511C5"},{"$f":"IF(Benchsheet!C11=1121057,\"VA1121057\",IF(Benchsheet!C11=1121090,\"VA1121090\",IF(Benchsheet!C11=1121052,\"VA1121052\",IF(Benchsheet!C11=1121175,\"VA1121175\",IF(Benchsheet!C11=1121580,\"VA1121580\",IF(Benchsheet!C11=1121570,\"VA1121570\",IF(Benchsheet!C11=1121045,\"VA1121045\",IF(Benchsheet!C11=1121655,\"VA1121655\",IF(Benchsheet!C11=1121503,\"VA1121503\",IF(Benchsheet!C11=1121043,\"VA1121043\",IF(Benchsheet!C11=1121900,\"VA1121900\",IF(Benchsheet!C11=1121845,\"VA1121845\",IF(Benchsheet!C11=1121655,\"VA1121655\",IF(Benchsheet!C11=1121900,\"VA1121900\",IF(Benchsheet!C11<1,\"\")))))))))))))))","v":"VA1121090"},{"$f":"IF(WORKSHEET!B8=\"MPN\",\"3000\",IF(WORKSHEET!B8=\"TC\",\"3100\",\"\"))","v":"3100"},{"$f":"IF(Benchsheet!A11>1,\"SM 9223B\",\"\")","v":"SM 9223B"},{"$f":"Benchsheet!U11","v":"00:00:00"},{"$f":"IF(Benchsheet!J11>1,\"A\",\"\")","v":"A"},{"$f":"Benchsheet!L11","v":"A"},{"$f":"IF(WORKSHEET!A8=\"-1\",\"\",IF(WORKSHEET!A8=0,\"0\",WORKSHEET!A8))","v":""},"",{"$f":"IF(WORKSHEET!B8=\"MPN\",\"MPN\",\"\")","v":""}]
[{"$f":"IF(Benchsheet!A11>1,\"result\",\"\")","v":"result"},{"$f":"IF(Benchsheet!A11>1,\"STATE\",\"\")","v":"STATE"},{"$f":"IF(Benchsheet!A11>1,\"00035\",\"\")","v":"00035"},{"$f":"Benchsheet!A11","v":"1511C5"},{"$f":"IF(Benchsheet!C11=1121057,\"VA1121057\",IF(Benchsheet!C11=1121090,\"VA1121090\",IF(Benchsheet!C11=1121052,\"VA1121052\",IF(Benchsheet!C11=1121175,\"VA1121175\",IF(Benchsheet!C11=1121580,\"VA1121580\",IF(Benchsheet!C11=1121570,\"VA1121570\",IF(Benchsheet!C11=1121045,\"VA1121045\",IF(Benchsheet!C11=1121655,\"VA1121655\",IF(Benchsheet!C11=1121503,\"VA1121503\",IF(Benchsheet!C11=1121043,\"VA1121043\",IF(Benchsheet!C11=1121900,\"VA1121900\",IF(Benchsheet!C11=1121845,\"VA1121845\",IF(Benchsheet!C11=1121655,\"VA1121655\",IF(Benchsheet!C11=1121900,\"VA1121900\",IF(Benchsheet!C11<1,\"\")))))))))))))))","v":"VA1121090"},{"$f":"WORKSHEET!C8","v":3014},{"$f":"IF(Benchsheet!A11>1,\"SM 9223B\",\"\")","v":"SM 9223B"},{"$f":"Benchsheet!U11","v":"00:00:00"},{"$f":"IF(Benchsheet!J11>1,\"A\",\"\")","v":"A"},{"$f":"Benchsheet!M11","v":"A"},{"$f":"IF(WORKSHEET!A8=\"-1\",\"\",IF(WORKSHEET!A8=0,\"0\",WORKSHEET!A8))","v":""},"",{"$f":"IF(WORKSHEET!B8=\"MPN\",\"MPN\",\"\")","v":""}]
[{"$f":"IF(Benchsheet!A12>1,\"result\",\"\")","v":"result"},{"$f":"IF(Benchsheet!A12>1,\"STATE\",\"\")","v":"STATE"},{"$f":"IF(Benchsheet!A12>1,\"00035\",\"\")","v":"00035"},{"$f":"Benchsheet!A12","v":"1511C6"},{"$f":"IF(Benchsheet!C12=1121057,\"VA1121057\",IF(Benchsheet!C12=1121090,\"VA1121090\",IF(Benchsheet!C12=1121052,\"VA1121052\",IF(Benchsheet!C12=1121175,\"VA1121175\",IF(Benchsheet!C12=1121580,\"VA1121580\",IF(Benchsheet!C12=1121570,\"VA1121570\",IF(Benchsheet!C12=1121045,\"VA1121045\",IF(Benchsheet!C12=1121655,\"VA1121655\",IF(Benchsheet!C12=1121503,\"VA1121503\",IF(Benchsheet!C12=1121043,\"VA1121043\",IF(Benchsheet!C12=1121900,\"VA1121900\",IF(Benchsheet!C12=1121845,\"VA1121845\",IF(Benchsheet!C12=1121655,\"VA1121655\",IF(Benchsheet!C12=1121900,\"VA1121900\",IF(Benchsheet!C12<1,\"\")))))))))))))))","v":"VA1121090"},{"$f":"IF(WORKSHEET!B9=\"MPN\",\"3000\",IF(WORKSHEET!B9=\"TC\",\"3100\",\"\"))","v":"3100"},{"$f":"IF(Benchsheet!A12>1,\"SM 9223B\",\"\")","v":"SM 9223B"},{"$f":"Benchsheet!U12","v":"00:00:00"},{"$f":"IF(Benchsheet!J12>1,\"A\",\"\")","v":"A"},{"$f":"Benchsheet!L12","v":"A"},{"$f":"IF(WORKSHEET!A9=\"-1\",\"\",IF(WORKSHEET!A9=0,\"0\",WORKSHEET!A9))","v":""},"",{"$f":"IF(WORKSHEET!B9=\"MPN\",\"MPN\",\"\")","v":""}]
[{"$f":"IF(Benchsheet!A12>1,\"result\",\"\")","v":"result"},{"$f":"IF(Benchsheet!A12>1,\"STATE\",\"\")","v":"STATE"},{"$f":"IF(Benchsheet!A12>1,\"00035\",\"\")","v":"00035"},{"$f":"Benchsheet!A12","v":"1511C6"},{"$f":"IF(Benchsheet!C12=1121057,\"VA1121057\",IF(Benchsheet!C12=1121090,\"VA1121090\",IF(Benchsheet!C12=1121052,\"VA1121052\",IF(Benchsheet!C12=1121175,\"VA1121175\",IF(Benchsheet!C12=1121580,\"VA1121580\",IF(Benchsheet!C12=1121570,\"VA1121570\",IF(Benchsheet!C12=1121045,\"VA1121045\",IF(Benchsheet!C12=1121655,\"VA1121655\",IF(Benchsheet!C12=1121503,\"VA1121503\",IF(Benchsheet!C12=1121043,\"VA1121043\",IF(Benchsheet!C12=1121900,\"VA1121900\",IF(Benchsheet!C12=1121845,\"VA1121845\",IF(Benchsheet!C12=1121655,\"VA1121655\",IF(Benchsheet!C12=1121900,\"VA1121900\",IF(Benchsheet!C12<1,\"\")))))))))))))))","v":"VA1121090"},{"$f":"WORKSHEET!C9","v":3014},{"$f":"IF(Benchsheet!A12>1,\"SM 9223B\",\"\")","v":"SM 9223B"},{"$f":"Benchsheet!U12","v":"00:00:00"},{"$f":"IF(Benchsheet!J12>1,\"A\",\"\")","v":"A"},{"$f":"Benchsheet!M12","v":"A"},{"$f":"IF(WORKSHEET!A9=\"-1\",\"\",IF(WORKSHEET!A9=0,\"0\",WORKSHEET!A9))","v":""},"",{"$f":"IF(WORKSHEET!B9=\"MPN\",\"MPN\",\"\")","v":""}]
[{"$f":"IF(Benchsheet!A13>1,\"result\",\"\")","v":"result"},{"$f":"IF(Benchsheet!A13>1,\"STATE\",\"\")","v":"STATE"},{"$f":"IF(Benchsheet!A13>1,\"00035\",\"\")","v":"00035"},{"$f":"Benchsheet!A13","v":"1511C7"},{"$f":"IF(Benchsheet!C13=1121057,\"VA1121057\",IF(Benchsheet!C13=1121090,\"VA1121090\",IF(Benchsheet!C13=1121052,\"VA1121052\",IF(Benchsheet!C13=1121175,\"VA1121175\",IF(Benchsheet!C13=1121580,\"VA1121580\",IF(Benchsheet!C13=1121570,\"VA1121570\",IF(Benchsheet!C13=1121045,\"VA1121045\",IF(Benchsheet!C13=1121655,\"VA1121655\",IF(Benchsheet!C13=1121503,\"VA1121503\",IF(Benchsheet!C13=1121043,\"VA1121043\",IF(Benchsheet!C13=1121900,\"VA1121900\",IF(Benchsheet!C13=1121845,\"VA1121845\",IF(Benchsheet!C13=1121655,\"VA1121655\",IF(Benchsheet!C13=1121900,\"VA1121900\",IF(Benchsheet!C13<1,\"\")))))))))))))))","v":"VA1121090"},{"$f":"IF(WORKSHEET!B10=\"MPN\",\"3000\",IF(WORKSHEET!B10=\"TC\",\"3100\",\"\"))","v":"3100"},{"$f":"IF(Benchsheet!A13>1,\"SM 9223B\",\"\")","v":"SM 9223B"},{"$f":"Benchsheet!U13","v":"00:00:00"},{"$f":"IF(Benchsheet!J13>1,\"A\",\"\")","v":"A"},{"$f":"Benchsheet!L13","v":"A"},{"$f":"IF(WORKSHEET!A10=\"-1\",\"\",IF(WORKSHEET!A10=0,\"0\",WORKSHEET!A10))","v":""},"",{"$f":"IF(WORKSHEET!B10=\"MPN\",\"MPN\",\"\")","v":""}]
[{"$f":"IF(Benchsheet!A13>1,\"result\",\"\")","v":"result"},{"$f":"IF(Benchsheet!A13>1,\"STATE\",\"\")","v":"STATE"},{"$f":"IF(Benchsheet!A13>1,\"00035\",\"\")","v":"00035"},{"$f":"Benchsheet!A13","v":"1511C7"},{"$f":"IF(Benchsheet!C13=1121057,\"VA1121057\",IF(Benchsheet!C13=1121090,\"VA1121090\",IF(Benchsheet!C13=1121052,\"VA1121052\",IF(Benchsheet!C13=1121175,\"VA1121175\",IF(Benchsheet!C13=1121580,\"VA1121580\",IF(Benchsheet!C13=1121570,\"VA1121570\",IF(Benchsheet!C13=1121045,\"VA1121045\",IF(Benchsheet!C13=1121655,\"VA1121655\",IF(Benchsheet!C13=1121503,\"VA1121503\",IF(Benchsheet!C13=1121043,\"VA1121043\",IF(Benchsheet!C13=1121900,\"VA1121900\",IF(Benchsheet!C13=1121845,\"VA1121845\",IF(Benchsheet!C13=1121655,\"VA1121655\",IF(Benchsheet!C13=1121900,\"VA1121900\",IF(Benchsheet!C13<1,\"\")))))))))))))))","v":"VA1121090"},{"$f":"WORKSHEET!C10","v":3014},{"$f":"IF(Benchsheet!A13>1,\"SM 9223B\",\"\")","v":"SM 9223B"},{"$f":"Benchsheet!U13","v":"00:00:00"},{"$f":"IF(Benchsheet!J13>1,\"A\",\"\")","v":"A"},{"$f":"Benchsheet!M13","v":"A"},{"$f":"IF(WORKSHEET!A10=\"-1\",\"\",IF(WORKSHEET!A10=0,\"0\",WORKSHEET!A10))","v":""},"",{"$f":"IF(WORKSHEET!B10=\"MPN\",\"MPN\",\"\")","v":""}]
[{"$f":"IF(Benchsheet!A14>1,\"result\",\"\")","v":"result"},{"$f":"IF(Benchsheet!A14>1,\"STATE\",\"\")","v":"STATE"},{"$f":"IF(Benchsheet!A14>1,\"00035\",\"\")","v":"00035"},{"$f":"Benchsheet!A14","v":"1511C8"},{"$f":"IF(Benchsheet!C14=1121057,\"VA1121057\",IF(Benchsheet!C14=1121090,\"VA1121090\",IF(Benchsheet!C14=1121052,\"VA1121052\",IF(Benchsheet!C14=1121175,\"VA1121175\",IF(Benchsheet!C14=1121580,\"VA1121580\",IF(Benchsheet!C14=1121570,\"VA1121570\",IF(Benchsheet!C14=1121045,\"VA1121045\",IF(Benchsheet!C14=1121655,\"VA1121655\",IF(Benchsheet!C14=1121503,\"VA1121503\",IF(Benchsheet!C14=1121043,\"VA1121043\",IF(Benchsheet!C14=1121900,\"VA1121900\",IF(Benchsheet!C14=1121845,\"VA1121845\",IF(Benchsheet!C14=1121655,\"VA1121655\",IF(Benchsheet!C14=1121900,\"VA1121900\",IF(Benchsheet!C14<1,\"\")))))))))))))))","v":"VA1121090"},{"$f":"IF(WORKSHEET!B11=\"MPN\",\"3000\",IF(WORKSHEET!B11=\"TC\",\"3100\",\"\"))","v":"3100"},{"$f":"IF(Benchsheet!A14>1,\"SM 9223B\",\"\")","v":"SM 9223B"},{"$f":"Benchsheet!U14","v":"00:00:00"},{"$f":"IF(Benchsheet!J14>1,\"A\",\"\")","v":"A"},{"$f":"Benchsheet!L14","v":"A"},{"$f":"IF(WORKSHEET!A11=\"-1\",\"\",IF(WORKSHEET!A11=0,\"0\",WORKSHEET!A11))","v":""},"",{"$f":"IF(WORKSHEET!B11=\"MPN\",\"MPN\",\"\")","v":""}]
[{"$f":"IF(Benchsheet!A14>1,\"result\",\"\")","v":"result"},{"$f":"IF(Benchsheet!A14>1,\"STATE\",\"\")","v":"STATE"},{"$f":"IF(Benchsheet!A14>1,\"00035\",\"\")","v":"00035"},{"$f":"Benchsheet!A14","v":"1511C8"},{"$f":"IF(Benchsheet!C14=1121057,\"VA1121057\",IF(Benchsheet!C14=1121090,\"VA1121090\",IF(Benchsheet!C14=1121052,\"VA1121052\",IF(Benchsheet!C14=1121175,\"VA1121175\",IF(Benchsheet!C14=1121580,\"VA1121580\",IF(Benchsheet!C14=1121570,\"VA1121570\",IF(Benchsheet!C14=1121045,\"VA1121045\",IF(Benchsheet!C14=1121655,\"VA1121655\",IF(Benchsheet!C14=1121503,\"VA1121503\",IF(Benchsheet!C14=1121043,\"VA1121043\",IF(Benchsheet!C14=1121900,\"VA1121900\",IF(Benchsheet!C14=1121845,\"VA1121845\",IF(Benchsheet!C14=1121655,\"VA1121655\",IF(Benchsheet!C14=1121900,\"VA1121900\",IF(Benchsheet!C14<1,\"\")))))))))))))))","v":"VA1121090"},{"$f":"WORKSHEET!C11","v":3014},{"$f":"IF(Benchsheet!A14>1,\"SM 9223B\",\"\")","v":"SM 9223B"},{"$f":"Benchsheet!U14","v":"00:00:00"},{"$f":"IF(Benchsheet!J14>1,\"A\",\"\")","v":"A"},{"$f":"Benchsheet!M14","v":"A"},{"$f":"IF(WORKSHEET!A11=\"-1\",\"\",IF(WORKSHEET!A11=0,\"0\",WORKSHEET!A11))","v":""},"",{"$f":"IF(WORKSHEET!B11=\"MPN\",\"MPN\",\"\")","v":""}]
[{"$f":"IF(Benchsheet!A15>1,\"result\",\"\")","v":"result"},{"$f":"IF(Benchsheet!A15>1,\"STATE\",\"\")","v":"STATE"},{"$f":"IF(Benchsheet!A15>1,\"00035\",\"\")","v":"00035"},{"$f":"Benchsheet!A15","v":"1511C9"},{"$f":"IF(Benchsheet!C15=1121057,\"VA1121057\",IF(Benchsheet!C15=1121090,\"VA1121090\",IF(Benchsheet!C15=1121052,\"VA1121052\",IF(Benchsheet!C15=1121175,\"VA1121175\",IF(Benchsheet!C15=1121580,\"VA1121580\",IF(Benchsheet!C15=1121570,\"VA1121570\",IF(Benchsheet!C15=1121045,\"VA1121045\",IF(Benchsheet!C15=1121655,\"VA1121655\",IF(Benchsheet!C15=1121503,\"VA1121503\",IF(Benchsheet!C15=1121043,\"VA1121043\",IF(Benchsheet!C15=1121900,\"VA1121900\",IF(Benchsheet!C15=1121845,\"VA1121845\",IF(Benchsheet!C15=1121655,\"VA1121655\",IF(Benchsheet!C15=1121900,\"VA1121900\",IF(Benchsheet!C15<1,\"\")))))))))))))))","v":"VA1121090"},{"$f":"IF(WORKSHEET!B12=\"MPN\",\"3000\",IF(WORKSHEET!B12=\"TC\",\"3100\",\"\"))","v":"3100"},{"$f":"IF(Benchsheet!A15>1,\"SM 9223B\",\"\")","v":"SM 9223B"},{"$f":"Benchsheet!U15","v":"00:00:00"},{"$f":"IF(Benchsheet!J15>1,\"A\",\"\")","v":"A"},{"$f":"Benchsheet!L15","v":"A"},{"$f":"IF(WORKSHEET!A12=\"-1\",\"\",IF(WORKSHEET!A12=0,\"0\",WORKSHEET!A12))","v":""},"",{"$f":"IF(WORKSHEET!B12=\"MPN\",\"MPN\",\"\")","v":""}]
[{"$f":"IF(Benchsheet!A15>1,\"result\",\"\")","v":"result"},{"$f":"IF(Benchsheet!A15>1,\"STATE\",\"\")","v":"STATE"},{"$f":"IF(Benchsheet!A15>1,\"00035\",\"\")","v":"00035"},{"$f":"Benchsheet!A15","v":"1511C9"},{"$f":"IF(Benchsheet!C15=1121057,\"VA1121057\",IF(Benchsheet!C15=1121090,\"VA1121090\",IF(Benchsheet!C15=1121052,\"VA1121052\",IF(Benchsheet!C15=1121175,\"VA1121175\",IF(Benchsheet!C15=1121580,\"VA1121580\",IF(Benchsheet!C15=1121570,\"VA1121570\",IF(Benchsheet!C15=1121045,\"VA1121045\",IF(Benchsheet!C15=1121655,\"VA1121655\",IF(Benchsheet!C15=1121503,\"VA1121503\",IF(Benchsheet!C15=1121043,\"VA1121043\",IF(Benchsheet!C15=1121900,\"VA1121900\",IF(Benchsheet!C15=1121845,\"VA1121845\",IF(Benchsheet!C15=1121655,\"VA1121655\",IF(Benchsheet!C15=1121900,\"VA1121900\",IF(Benchsheet!C15<1,\"\")))))))))))))))","v":"VA1121090"},{"$f":"WORKSHEET!C12","v":3014},{"$f":"IF(Benchsheet!A15>1,\"SM 9223B\",\"\")","v":"SM 9223B"},{"$f":"Benchsheet!U15","v":"00:00:00"},{"$f":"IF(Benchsheet!J15>1,\"A\",\"\")","v":"A"},{"$f":"Benchsheet!M15","v":"A"},{"$f":"IF(WORKSHEET!A12=\"-1\",\"\",IF(WORKSHEET!A12=0,\"0\",WORKSHEET!A12))","v":""},"",{"$f":"IF(WORKSHEET!B12=\"MPN\",\"MPN\",\"\")","v":""}]
[{"$f":"IF(Benchsheet!A16>1,\"result\",\"\")","v":"result"},{"$f":"IF(Benchsheet!A16>1,\"STATE\",\"\")","v":"STATE"},{"$f":"IF(Benchsheet!A16>1,\"00035\",\"\")","v":"00035"},{"$f":"Benchsheet!A16","v":"1511P3"},{"$f":"IF(Benchsheet!C16=1121057,\"VA1121057\",IF(Benchsheet!C16=1121090,\"VA1121090\",IF(Benchsheet!C16=1121052,\"VA1121052\",IF(Benchsheet!C16=1121175,\"VA1121175\",IF(Benchsheet!C16=1121580,\"VA1121580\",IF(Benchsheet!C16=1121570,\"VA1121570\",IF(Benchsheet!C16=1121045,\"VA1121045\",IF(Benchsheet!C16=1121655,\"VA1121655\",IF(Benchsheet!C16=1121503,\"VA1121503\",IF(Benchsheet!C16=1121043,\"VA1121043\",IF(Benchsheet!C16=1121900,\"VA1121900\",IF(Benchsheet!C16=1121845,\"VA1121845\",IF(Benchsheet!C16=1121655,\"VA1121655\",IF(Benchsheet!C16=1121900,\"VA1121900\",IF(Benchsheet!C16<1,\"\")))))))))))))))","v":"VA1121057"},{"$f":"IF(WORKSHEET!B13=\"MPN\",\"3000\",IF(WORKSHEET!B13=\"TC\",\"3100\",\"\"))","v":"3100"},{"$f":"IF(Benchsheet!A16>1,\"SM 9223B\",\"\")","v":"SM 9223B"},{"$f":"Benchsheet!U16","v":"00:00:00"},{"$f":"IF(Benchsheet!J16>1,\"A\",\"\")","v":"A"},{"$f":"Benchsheet!L16","v":"A"},{"$f":"IF(WORKSHEET!A13=\"-1\",\"\",IF(WORKSHEET!A13=0,\"0\",WORKSHEET!A13))","v":""},"",{"$f":"IF(WORKSHEET!B13=\"MPN\",\"MPN\",\"\")","v":""}]
[{"$f":"IF(Benchsheet!A16>1,\"result\",\"\")","v":"result"},{"$f":"IF(Benchsheet!A16>1,\"STATE\",\"\")","v":"STATE"},{"$f":"IF(Benchsheet!A16>1,\"00035\",\"\")","v":"00035"},{"$f":"Benchsheet!A16","v":"1511P3"},{"$f":"IF(Benchsheet!C16=1121057,\"VA1121057\",IF(Benchsheet!C16=1121090,\"VA1121090\",IF(Benchsheet!C16=1121052,\"VA1121052\",IF(Benchsheet!C16=1121175,\"VA1121175\",IF(Benchsheet!C16=1121580,\"VA1121580\",IF(Benchsheet!C16=1121570,\"VA1121570\",IF(Benchsheet!C16=1121045,\"VA1121045\",IF(Benchsheet!C16=1121655,\"VA1121655\",IF(Benchsheet!C16=1121503,\"VA1121503\",IF(Benchsheet!C16=1121043,\"VA1121043\",IF(Benchsheet!C16=1121900,\"VA1121900\",IF(Benchsheet!C16=1121845,\"VA1121845\",IF(Benchsheet!C16=1121655,\"VA1121655\",IF(Benchsheet!C16=1121900,\"VA1121900\",IF(Benchsheet!C16<1,\"\")))))))))))))))","v":"VA1121057"},{"$f":"WORKSHEET!C13","v":3014},{"$f":"IF(Benchsheet!A16>1,\"SM 9223B\",\"\")","v":"SM 9223B"},{"$f":"Benchsheet!U16","v":"00:00:00"},{"$f":"IF(Benchsheet!J16>1,\"A\",\"\")","v":"A"},{"$f":"Benchsheet!M16","v":"A"},{"$f":"IF(WORKSHEET!A13=\"-1\",\"\",IF(WORKSHEET!A13=0,\"0\",WORKSHEET!A13))","v":""},"",{"$f":"IF(WORKSHEET!B13=\"MPN\",\"MPN\",\"\")","v":""}]
[{"$f":"IF(Benchsheet!A17>1,\"result\",\"\")","v":"result"},{"$f":"IF(Benchsheet!A17>1,\"STATE\",\"\")","v":"STATE"},{"$f":"IF(Benchsheet!A17>1,\"00035\",\"\")","v":"00035"},{"$f":"Benchsheet!A17","v":"1511P4"},{"$f":"IF(Benchsheet!C17=1121057,\"VA1121057\",IF(Benchsheet!C17=1121090,\"VA1121090\",IF(Benchsheet!C17=1121052,\"VA1121052\",IF(Benchsheet!C17=1121175,\"VA1121175\",IF(Benchsheet!C17=1121580,\"VA1121580\",IF(Benchsheet!C17=1121570,\"VA1121570\",IF(Benchsheet!C17=1121045,\"VA1121045\",IF(Benchsheet!C17=1121655,\"VA1121655\",IF(Benchsheet!C17=1121503,\"VA1121503\",IF(Benchsheet!C17=1121043,\"VA1121043\",IF(Benchsheet!C17=1121900,\"VA1121900\",IF(Benchsheet!C17=1121845,\"VA1121845\",IF(Benchsheet!C17=1121655,\"VA1121655\",IF(Benchsheet!C17=1121900,\"VA1121900\",IF(Benchsheet!C17<1,\"\")))))))))))))))","v":"VA1121057"},{"$f":"IF(WORKSHEET!B14=\"MPN\",\"3000\",IF(WORKSHEET!B14=\"TC\",\"3100\",\"\"))","v":"3100"},{"$f":"IF(Benchsheet!A17>1,\"SM 9223B\",\"\")","v":"SM 9223B"},{"$f":"Benchsheet!U17","v":"00:00:00"},{"$f":"IF(Benchsheet!J17>1,\"A\",\"\")","v":"A"},{"$f":"Benchsheet!L17","v":"A"},{"$f":"IF(WORKSHEET!A14=\"-1\",\"\",IF(WORKSHEET!A14=0,\"0\",WORKSHEET!A14))","v":""},"",{"$f":"IF(WORKSHEET!B14=\"MPN\",\"MPN\",\"\")","v":""}]
[{"$f":"IF(Benchsheet!A17>1,\"result\",\"\")","v":"result"},{"$f":"IF(Benchsheet!A17>1,\"STATE\",\"\")","v":"STATE"},{"$f":"IF(Benchsheet!A17>1,\"00035\",\"\")","v":"00035"},{"$f":"Benchsheet!A17","v":"1511P4"},{"$f":"IF(Benchsheet!C17=1121057,\"VA1121057\",IF(Benchsheet!C17=1121090,\"VA1121090\",IF(Benchsheet!C17=1121052,\"VA1121052\",IF(Benchsheet!C17=1121175,\"VA1121175\",IF(Benchsheet!C17=1121580,\"VA1121580\",IF(Benchsheet!C17=1121570,\"VA1121570\",IF(Benchsheet!C17=1121045,\"VA1121045\",IF(Benchsheet!C17=1121655,\"VA1121655\",IF(Benchsheet!C17=1121503,\"VA1121503\",IF(Benchsheet!C17=1121043,\"VA1121043\",IF(Benchsheet!C17=1121900,\"VA1121900\",IF(Benchsheet!C17=1121845,\"VA1121845\",IF(Benchsheet!C17=1121655,\"VA1121655\",IF(Benchsheet!C17=1121900,\"VA1121900\",IF(Benchsheet!C17<1,\"\")))))))))))))))","v":"VA1121057"},{"$f":"WORKSHEET!C14","v":3014},{"$f":"IF(Benchsheet!A17>1,\"SM 9223B\",\"\")","v":"SM 9223B"},{"$f":"Benchsheet!U17","v":"00:00:00"},{"$f":"IF(Benchsheet!J17>1,\"A\",\"\")","v":"A"},{"$f":"Benchsheet!M17","v":"A"},{"$f":"IF(WORKSHEET!A14=\"-1\",\"\",IF(WORKSHEET!A14=0,\"0\",WORKSHEET!A14))","v":""},"",{"$f":"IF(WORKSHEET!B14=\"MPN\",\"MPN\",\"\")","v":""}]
[{"$f":"IF(Benchsheet!A18>1,\"result\",\"\")","v":"result"},{"$f":"IF(Benchsheet!A18>1,\"STATE\",\"\")","v":"STATE"},{"$f":"IF(Benchsheet!A18>1,\"00035\",\"\")","v":"00035"},{"$f":"Benchsheet!A18","v":"1511P5"},{"$f":"IF(Benchsheet!C18=1121057,\"VA1121057\",IF(Benchsheet!C18=1121090,\"VA1121090\",IF(Benchsheet!C18=1121052,\"VA1121052\",IF(Benchsheet!C18=1121175,\"VA1121175\",IF(Benchsheet!C18=1121580,\"VA1121580\",IF(Benchsheet!C18=1121570,\"VA1121570\",IF(Benchsheet!C18=1121045,\"VA1121045\",IF(Benchsheet!C18=1121655,\"VA1121655\",IF(Benchsheet!C18=1121503,\"VA1121503\",IF(Benchsheet!C18=1121043,\"VA1121043\",IF(Benchsheet!C18=1121900,\"VA1121900\",IF(Benchsheet!C18=1121845,\"VA1121845\",IF(Benchsheet!C18=1121655,\"VA1121655\",IF(Benchsheet!C18=1121900,\"VA1121900\",IF(Benchsheet!C18<1,\"\")))))))))))))))","v":"VA1121057"},{"$f":"IF(WORKSHEET!B15=\"MPN\",\"3000\",IF(WORKSHEET!B15=\"TC\",\"3100\",\"\"))","v":"3100"},{"$f":"IF(Benchsheet!A18>1,\"SM 9223B\",\"\")","v":"SM 9223B"},{"$f":"Benchsheet!U18","v":"00:00:00"},{"$f":"IF(Benchsheet!J18>1,\"A\",\"\")","v":"A"},{"$f":"Benchsheet!L18","v":"A"},{"$f":"IF(WORKSHEET!A15=\"-1\",\"\",IF(WORKSHEET!A15=0,\"0\",WORKSHEET!A15))","v":""},"",{"$f":"IF(WORKSHEET!B15=\"MPN\",\"MPN\",\"\")","v":""}]
[{"$f":"IF(Benchsheet!A18>1,\"result\",\"\")","v":"result"},{"$f":"IF(Benchsheet!A18>1,\"STATE\",\"\")","v":"STATE"},{"$f":"IF(Benchsheet!A18>1,\"00035\",\"\")","v":"00035"},{"$f":"Benchsheet!A18","v":"1511P5"},{"$f":"IF(Benchsheet!C18=1121057,\"VA1121057\",IF(Benchsheet!C18=1121090,\"VA1121090\",IF(Benchsheet!C18=1121052,\"VA1121052\",IF(Benchsheet!C18=1121175,\"VA1121175\",IF(Benchsheet!C18=1121580,\"VA1121580\",IF(Benchsheet!C18=1121570,\"VA1121570\",IF(Benchsheet!C18=1121045,\"VA1121045\",IF(Benchsheet!C18=1121655,\"VA1121655\",IF(Benchsheet!C18=1121503,\"VA1121503\",IF(Benchsheet!C18=1121043,\"VA1121043\",IF(Benchsheet!C18=1121900,\"VA1121900\",IF(Benchsheet!C18=1121845,\"VA1121845\",IF(Benchsheet!C18=1121655,\"VA1121655\",IF(Benchsheet!C18=1121900,\"VA1121900\",IF(Benchsheet!C18<1,\"\")))))))))))))))","v":"VA1121057"},{"$f":"WORKSHEET!C15","v":3014},{"$f":"IF(Benchsheet!A18>1,\"SM 9223B\",\"\")","v":"SM 9223B"},{"$f":"Benchsheet!U18","v":"00:00:00"},{"$f":"IF(Benchsheet!J18>1,\"A\",\"\")","v":"A"},{"$f":"Benchsheet!M18","v":"A"},{"$f":"IF(WORKSHEET!A15=\"-1\",\"\",IF(WORKSHEET!A15=0,\"0\",WORKSHEET!A15))","v":""},"",{"$f":"IF(WORKSHEET!B15=\"MPN\",\"MPN\",\"\")","v":""}]
[{"$f":"IF(Benchsheet!A19>1,\"result\",\"\")","v":"result"},{"$f":"IF(Benchsheet!A19>1,\"STATE\",\"\")","v":"STATE"},{"$f":"IF(Benchsheet!A19>1,\"00035\",\"\")","v":"00035"},{"$f":"Benchsheet!A19","v":"1511B1"},{"$f":"IF(Benchsheet!C19=1121057,\"VA1121057\",IF(Benchsheet!C19=1121090,\"VA1121090\",IF(Benchsheet!C19=1121052,\"VA1121052\",IF(Benchsheet!C19=1121175,\"VA1121175\",IF(Benchsheet!C19=1121580,\"VA1121580\",IF(Benchsheet!C19=1121570,\"VA1121570\",IF(Benchsheet!C19=1121045,\"VA1121045\",IF(Benchsheet!C19=1121655,\"VA1121655\",IF(Benchsheet!C19=1121503,\"VA1121503\",IF(Benchsheet!C19=1121043,\"VA1121043\",IF(Benchsheet!C19=1121900,\"VA1121900\",IF(Benchsheet!C19=1121845,\"VA1121845\",IF(Benchsheet!C19=1121655,\"VA1121655\",IF(Benchsheet!C19=1121900,\"VA1121900\",IF(Benchsheet!C19<1,\"\")))))))))))))))","v":"VA1121052"},{"$f":"IF(WORKSHEET!B16=\"MPN\",\"3000\",IF(WORKSHEET!B16=\"TC\",\"3100\",\"\"))","v":"3100"},{"$f":"IF(Benchsheet!A19>1,\"SM 9223B\",\"\")","v":"SM 9223B"},{"$f":"Benchsheet!U19","v":"00:00:00"},{"$f":"IF(Benchsheet!J19>1,\"A\",\"\")","v":"A"},{"$f":"Benchsheet!L19","v":"A"},{"$f":"IF(WORKSHEET!A16=\"-1\",\"\",IF(WORKSHEET!A16=0,\"0\",WORKSHEET!A16))","v":""},"",{"$f":"IF(WORKSHEET!B16=\"MPN\",\"MPN\",\"\")","v":""}]
[{"$f":"IF(Benchsheet!A19>1,\"result\",\"\")","v":"result"},{"$f":"IF(Benchsheet!A19>1,\"STATE\",\"\")","v":"STATE"},{"$f":"IF(Benchsheet!A19>1,\"00035\",\"\")","v":"00035"},{"$f":"Benchsheet!A19","v":"1511B1"},{"$f":"IF(Benchsheet!C19=1121057,\"VA1121057\",IF(Benchsheet!C19=1121090,\"VA1121090\",IF(Benchsheet!C19=1121052,\"VA1121052\",IF(Benchsheet!C19=1121175,\"VA1121175\",IF(Benchsheet!C19=1121580,\"VA1121580\",IF(Benchsheet!C19=1121570,\"VA1121570\",IF(Benchsheet!C19=1121045,\"VA1121045\",IF(Benchsheet!C19=1121655,\"VA1121655\",IF(Benchsheet!C19=1121503,\"VA1121503\",IF(Benchsheet!C19=1121043,\"VA1121043\",IF(Benchsheet!C19=1121900,\"VA1121900\",IF(Benchsheet!C19=1121845,\"VA1121845\",IF(Benchsheet!C19=1121655,\"VA1121655\",IF(Benchsheet!C19=1121900,\"VA1121900\",IF(Benchsheet!C19<1,\"\")))))))))))))))","v":"VA1121052"},{"$f":"WORKSHEET!C16","v":3014},{"$f":"IF(Benchsheet!A19>1,\"SM 9223B\",\"\")","v":"SM 9223B"},{"$f":"Benchsheet!U19","v":"00:00:00"},{"$f":"IF(Benchsheet!J19>1,\"A\",\"\")","v":"A"},{"$f":"Benchsheet!M19","v":"A"},{"$f":"IF(WORKSHEET!A16=\"-1\",\"\",IF(WORKSHEET!A16=0,\"0\",WORKSHEET!A16))","v":""},"",{"$f":"IF(WORKSHEET!B16=\"MPN\",\"MPN\",\"\")","v":""}]
[{"$f":"IF(Benchsheet!A20>1,\"result\",\"\")","v":"result"},{"$f":"IF(Benchsheet!A20>1,\"STATE\",\"\")","v":"STATE"},{"$f":"IF(Benchsheet!A20>1,\"00035\",\"\")","v":"00035"},{"$f":"Benchsheet!A20","v":"1511B2"},{"$f":"IF(Benchsheet!C20=1121057,\"VA1121057\",IF(Benchsheet!C20=1121090,\"VA1121090\",IF(Benchsheet!C20=1121052,\"VA1121052\",IF(Benchsheet!C20=1121175,\"VA1121175\",IF(Benchsheet!C20=1121580,\"VA1121580\",IF(Benchsheet!C20=1121570,\"VA1121570\",IF(Benchsheet!C20=1121045,\"VA1121045\",IF(Benchsheet!C20=1121655,\"VA1121655\",IF(Benchsheet!C20=1121503,\"VA1121503\",IF(Benchsheet!C20=1121043,\"VA1121043\",IF(Benchsheet!C20=1121900,\"VA1121900\",IF(Benchsheet!C20=1121845,\"VA1121845\",IF(Benchsheet!C20=1121655,\"VA1121655\",IF(Benchsheet!C20=1121900,\"VA1121900\",IF(Benchsheet!C20<1,\"\")))))))))))))))","v":"VA1121052"},{"$f":"IF(WORKSHEET!B17=\"MPN\",\"3000\",IF(WORKSHEET!B17=\"TC\",\"3100\",\"\"))","v":"3100"},{"$f":"IF(Benchsheet!A20>1,\"SM 9223B\",\"\")","v":"SM 9223B"},{"$f":"Benchsheet!U20","v":"00:00:00"},{"$f":"IF(Benchsheet!J20>1,\"A\",\"\")","v":"A"},{"$f":"Benchsheet!L20","v":"A"},{"$f":"IF(WORKSHEET!A17=\"-1\",\"\",IF(WORKSHEET!A17=0,\"0\",WORKSHEET!A17))","v":""},"",{"$f":"IF(WORKSHEET!B17=\"MPN\",\"MPN\",\"\")","v":""}]
[{"$f":"IF(Benchsheet!A20>1,\"result\",\"\")","v":"result"},{"$f":"IF(Benchsheet!A20>1,\"STATE\",\"\")","v":"STATE"},{"$f":"IF(Benchsheet!A20>1,\"00035\",\"\")","v":"00035"},{"$f":"Benchsheet!A20","v":"1511B2"},{"$f":"IF(Benchsheet!C20=1121057,\"VA1121057\",IF(Benchsheet!C20=1121090,\"VA1121090\",IF(Benchsheet!C20=1121052,\"VA1121052\",IF(Benchsheet!C20=1121175,\"VA1121175\",IF(Benchsheet!C20=1121580,\"VA1121580\",IF(Benchsheet!C20=1121570,\"VA1121570\",IF(Benchsheet!C20=1121045,\"VA1121045\",IF(Benchsheet!C20=1121655,\"VA1121655\",IF(Benchsheet!C20=1121503,\"VA1121503\",IF(Benchsheet!C20=1121043,\"VA1121043\",IF(Benchsheet!C20=1121900,\"VA1121900\",IF(Benchsheet!C20=1121845,\"VA1121845\",IF(Benchsheet!C20=1121655,\"VA1121655\",IF(Benchsheet!C20=1121900,\"VA1121900\",IF(Benchsheet!C20<1,\"\")))))))))))))))","v":"VA1121052"},{"$f":"WORKSHEET!C17","v":3014},{"$f":"IF(Benchsheet!A20>1,\"SM 9223B\",\"\")","v":"SM 9223B"},{"$f":"Benchsheet!U20","v":"00:00:00"},{"$f":"IF(Benchsheet!J20>1,\"A\",\"\")","v":"A"},{"$f":"Benchsheet!M20","v":"A"},{"$f":"IF(WORKSHEET!A17=\"-1\",\"\",IF(WORKSHEET!A17=0,\"0\",WORKSHEET!A17))","v":""},"",{"$f":"IF(WORKSHEET!B17=\"MPN\",\"MPN\",\"\")","v":""}]
[{"$f":"IF(Benchsheet!A21>1,\"result\",\"\")","v":"result"},{"$f":"IF(Benchsheet!A21>1,\"STATE\",\"\")","v":"STATE"},{"$f":"IF(Benchsheet!A21>1,\"00035\",\"\")","v":"00035"},{"$f":"Benchsheet!A21","v":"1511B3"},{"$f":"IF(Benchsheet!C21=1121057,\"VA1121057\",IF(Benchsheet!C21=1121090,\"VA1121090\",IF(Benchsheet!C21=1121052,\"VA1121052\",IF(Benchsheet!C21=1121175,\"VA1121175\",IF(Benchsheet!C21=1121580,\"VA1121580\",IF(Benchsheet!C21=1121570,\"VA1121570\",IF(Benchsheet!C21=1121045,\"VA1121045\",IF(Benchsheet!C21=1121655,\"VA1121655\",IF(Benchsheet!C21=1121503,\"VA1121503\",IF(Benchsheet!C21=1121043,\"VA1121043\",IF(Benchsheet!C21=1121900,\"VA1121900\",IF(Benchsheet!C21=1121845,\"VA1121845\",IF(Benchsheet!C21=1121655,\"VA1121655\",IF(Benchsheet!C21=1121900,\"VA1121900\",IF(Benchsheet!C21<1,\"\")))))))))))))))","v":"VA1121052"},{"$f":"IF(WORKSHEET!B18=\"MPN\",\"3000\",IF(WORKSHEET!B18=\"TC\",\"3100\",\"\"))","v":"3100"},{"$f":"IF(Benchsheet!A21>1,\"SM 9223B\",\"\")","v":"SM 9223B"},{"$f":"Benchsheet!U21","v":"00:00:00"},{"$f":"IF(Benchsheet!J21>1,\"A\",\"\")","v":"A"},{"$f":"Benchsheet!L21","v":"A"},{"$f":"IF(WORKSHEET!A18=\"-1\",\"\",IF(WORKSHEET!A18=0,\"0\",WORKSHEET!A18))","v":""},"",{"$f":"IF(WORKSHEET!B18=\"MPN\",\"MPN\",\"\")","v":""}]
[{"$f":"IF(Benchsheet!A21>1,\"result\",\"\")","v":"result"},{"$f":"IF(Benchsheet!A21>1,\"STATE\",\"\")","v":"STATE"},{"$f":"IF(Benchsheet!A21>1,\"00035\",\"\")","v":"00035"},{"$f":"Benchsheet!A21","v":"1511B3"},{"$f":"IF(Benchsheet!C21=1121057,\"VA1121057\",IF(Benchsheet!C21=1121090,\"VA1121090\",IF(Benchsheet!C21=1121052,\"VA1121052\",IF(Benchsheet!C21=1121175,\"VA1121175\",IF(Benchsheet!C21=1121580,\"VA1121580\",IF(Benchsheet!C21=1121570,\"VA1121570\",IF(Benchsheet!C21=1121045,\"VA1121045\",IF(Benchsheet!C21=1121655,\"VA1121655\",IF(Benchsheet!C21=1121503,\"VA1121503\",IF(Benchsheet!C21=1121043,\"VA1121043\",IF(Benchsheet!C21=1121900,\"VA1121900\",IF(Benchsheet!C21=1121845,\"VA1121845\",IF(Benchsheet!C21=1121655,\"VA1121655\",IF(Benchsheet!C21=1121900,\"VA1121900\",IF(Benchsheet!C21<1,\"\")))))))))))))))","v":"VA1121052"},{"$f":"WORKSHEET!C18","v":3014},{"$f":"IF(Benchsheet!A21>1,\"SM 9223B\",\"\")","v":"SM 9223B"},{"$f":"Benchsheet!U21","v":"00:00:00"},{"$f":"IF(Benchsheet!J21>1,\"A\",\"\")","v":"A"},{"$f":"Benchsheet!M21","v":"A"},{"$f":"IF(WORKSHEET!A18=\"-1\",\"\",IF(WORKSHEET!A18=0,\"0\",WORKSHEET!A18))","v":""},"",{"$f":"IF(WORKSHEET!B18=\"MPN\",\"MPN\",\"\")","v":""}]
[{"$f":"IF(Benchsheet!A22>1,\"result\",\"\")","v":"result"},{"$f":"IF(Benchsheet!A22>1,\"STATE\",\"\")","v":"STATE"},{"$f":"IF(Benchsheet!A22>1,\"00035\",\"\")","v":"00035"},{"$f":"Benchsheet!A22","v":"1511B4"},{"$f":"IF(Benchsheet!C22=1121057,\"VA1121057\",IF(Benchsheet!C22=1121090,\"VA1121090\",IF(Benchsheet!C22=1121052,\"VA1121052\",IF(Benchsheet!C22=1121175,\"VA1121175\",IF(Benchsheet!C22=1121580,\"VA1121580\",IF(Benchsheet!C22=1121570,\"VA1121570\",IF(Benchsheet!C22=1121045,\"VA1121045\",IF(Benchsheet!C22=1121655,\"VA1121655\",IF(Benchsheet!C22=1121503,\"VA1121503\",IF(Benchsheet!C22=1121043,\"VA1121043\",IF(Benchsheet!C22=1121900,\"VA1121900\",IF(Benchsheet!C22=1121845,\"VA1121845\",IF(Benchsheet!C22=1121655,\"VA1121655\",IF(Benchsheet!C22=1121900,\"VA1121900\",IF(Benchsheet!C22<1,\"\")))))))))))))))","v":"VA1121052"},{"$f":"IF(WORKSHEET!B19=\"MPN\",\"3000\",IF(WORKSHEET!B19=\"TC\",\"3100\",\"\"))","v":"3100"},{"$f":"IF(Benchsheet!A22>1,\"SM 9223B\",\"\")","v":"SM 9223B"},{"$f":"Benchsheet!U22","v":"00:00:00"},{"$f":"IF(Benchsheet!J22>1,\"A\",\"\")","v":"A"},{"$f":"Benchsheet!L22","v":"A"},{"$f":"IF(WORKSHEET!A19=\"-1\",\"\",IF(WORKSHEET!A19=0,\"0\",WORKSHEET!A19))","v":""},"",{"$f":"IF(WORKSHEET!B19=\"MPN\",\"MPN\",\"\")","v":""}]
[{"$f":"IF(Benchsheet!A22>1,\"result\",\"\")","v":"result"},{"$f":"IF(Benchsheet!A22>1,\"STATE\",\"\")","v":"STATE"},{"$f":"IF(Benchsheet!A22>1,\"00035\",\"\")","v":"00035"},{"$f":"Benchsheet!A22","v":"1511B4"},{"$f":"IF(Benchsheet!C22=1121057,\"VA1121057\",IF(Benchsheet!C22=1121090,\"VA1121090\",IF(Benchsheet!C22=1121052,\"VA1121052\",IF(Benchsheet!C22=1121175,\"VA1121175\",IF(Benchsheet!C22=1121580,\"VA1121580\",IF(Benchsheet!C22=1121570,\"VA1121570\",IF(Benchsheet!C22=1121045,\"VA1121045\",IF(Benchsheet!C22=1121655,\"VA1121655\",IF(Benchsheet!C22=1121503,\"VA1121503\",IF(Benchsheet!C22=1121043,\"VA1121043\",IF(Benchsheet!C22=1121900,\"VA1121900\",IF(Benchsheet!C22=1121845,\"VA1121845\",IF(Benchsheet!C22=1121655,\"VA1121655\",IF(Benchsheet!C22=1121900,\"VA1121900\",IF(Benchsheet!C22<1,\"\")))))))))))))))","v":"VA1121052"},{"$f":"WORKSHEET!C19","v":3014},{"$f":"IF(Benchsheet!A22>1,\"SM 9223B\",\"\")","v":"SM 9223B"},{"$f":"Benchsheet!U22","v":"00:00:00"},{"$f":"IF(Benchsheet!J22>1,\"A\",\"\")","v":"A"},{"$f":"Benchsheet!M22","v":"A"},{"$f":"IF(WORKSHEET!A19=\"-1\",\"\",IF(WORKSHEET!A19=0,\"0\",WORKSHEET!A19))","v":""},"",{"$f":"IF(WORKSHEET!B19=\"MPN\",\"MPN\",\"\")","v":""}]
[{"$f":"IF(Benchsheet!A23>1,\"result\",\"\")","v":"result"},{"$f":"IF(Benchsheet!A23>1,\"STATE\",\"\")","v":"STATE"},{"$f":"IF(Benchsheet!A23>1,\"00035\",\"\")","v":"00035"},{"$f":"Benchsheet!A23","v":"1511B5"},{"$f":"IF(Benchsheet!C23=1121057,\"VA1121057\",IF(Benchsheet!C23=1121090,\"VA1121090\",IF(Benchsheet!C23=1121052,\"VA1121052\",IF(Benchsheet!C23=1121175,\"VA1121175\",IF(Benchsheet!C23=1121580,\"VA1121580\",IF(Benchsheet!C23=1121570,\"VA1121570\",IF(Benchsheet!C23=1121045,\"VA1121045\",IF(Benchsheet!C23=1121655,\"VA1121655\",IF(Benchsheet!C23=1121503,\"VA1121503\",IF(Benchsheet!C23=1121043,\"VA1121043\",IF(Benchsheet!C23=1121900,\"VA1121900\",IF(Benchsheet!C23=1121845,\"VA1121845\",IF(Benchsheet!C23=1121655,\"VA1121655\",IF(Benchsheet!C23=1121900,\"VA1121900\",IF(Benchsheet!C23<1,\"\")))))))))))))))","v":"VA1121052"},{"$f":"IF(WORKSHEET!B20=\"MPN\",\"3000\",IF(WORKSHEET!B20=\"TC\",\"3100\",\"\"))","v":"3100"},{"$f":"IF(Benchsheet!A23>1,\"SM 9223B\",\"\")","v":"SM 9223B"},{"$f":"Benchsheet!U23","v":"00:00:00"},{"$f":"IF(Benchsheet!J23>1,\"A\",\"\")","v":"A"},{"$f":"Benchsheet!L23","v":"A"},{"$f":"IF(WORKSHEET!A20=\"-1\",\"\",IF(WORKSHEET!A20=0,\"0\",WORKSHEET!A20))","v":""},"",{"$f":"IF(WORKSHEET!B20=\"MPN\",\"MPN\",\"\")","v":""}]
[{"$f":"IF(Benchsheet!A23>1,\"result\",\"\")","v":"result"},{"$f":"IF(Benchsheet!A23>1,\"STATE\",\"\")","v":"STATE"},{"$f":"IF(Benchsheet!A23>1,\"00035\",\"\")","v":"00035"},{"$f":"Benchsheet!A23","v":"1511B5"},{"$f":"IF(Benchsheet!C23=1121057,\"VA1121057\",IF(Benchsheet!C23=1121090,\"VA1121090\",IF(Benchsheet!C23=1121052,\"VA1121052\",IF(Benchsheet!C23=1121175,\"VA1121175\",IF(Benchsheet!C23=1121580,\"VA1121580\",IF(Benchsheet!C23=1121570,\"VA1121570\",IF(Benchsheet!C23=1121045,\"VA1121045\",IF(Benchsheet!C23=1121655,\"VA1121655\",IF(Benchsheet!C23=1121503,\"VA1121503\",IF(Benchsheet!C23=1121043,\"VA1121043\",IF(Benchsheet!C23=1121900,\"VA1121900\",IF(Benchsheet!C23=1121845,\"VA1121845\",IF(Benchsheet!C23=1121655,\"VA1121655\",IF(Benchsheet!C23=1121900,\"VA1121900\",IF(Benchsheet!C23<1,\"\")))))))))))))))","v":"VA1121052"},{"$f":"WORKSHEET!C20","v":3014},{"$f":"IF(Benchsheet!A23>1,\"SM 9223B\",\"\")","v":"SM 9223B"},{"$f":"Benchsheet!U23","v":"00:00:00"},{"$f":"IF(Benchsheet!J23>1,\"A\",\"\")","v":"A"},{"$f":"Benchsheet!M23","v":"A"},{"$f":"IF(WORKSHEET!A20=\"-1\",\"\",IF(WORKSHEET!A20=0,\"0\",WORKSHEET!A20))","v":""},"",{"$f":"IF(WORKSHEET!B20=\"MPN\",\"MPN\",\"\")","v":""}]
[{"$f":"IF(Benchsheet!A24>1,\"result\",\"\")","v":"result"},{"$f":"IF(Benchsheet!A24>1,\"STATE\",\"\")","v":"STATE"},{"$f":"IF(Benchsheet!A24>1,\"00035\",\"\")","v":"00035"},{"$f":"Benchsheet!A24","v":"1511B6"},{"$f":"IF(Benchsheet!C24=1121057,\"VA1121057\",IF(Benchsheet!C24=1121090,\"VA1121090\",IF(Benchsheet!C24=1121052,\"VA1121052\",IF(Benchsheet!C24=1121175,\"VA1121175\",IF(Benchsheet!C24=1121580,\"VA1121580\",IF(Benchsheet!C24=1121570,\"VA1121570\",IF(Benchsheet!C24=1121045,\"VA1121045\",IF(Benchsheet!C24=1121655,\"VA1121655\",IF(Benchsheet!C24=1121503,\"VA1121503\",IF(Benchsheet!C24=1121043,\"VA1121043\",IF(Benchsheet!C24=1121900,\"VA1121900\",IF(Benchsheet!C24=1121845,\"VA1121845\",IF(Benchsheet!C24=1121655,\"VA1121655\",IF(Benchsheet!C24=1121900,\"VA1121900\",IF(Benchsheet!C24<1,\"\")))))))))))))))","v":"VA1121052"},{"$f":"IF(WORKSHEET!B21=\"MPN\",\"3000\",IF(WORKSHEET!B21=\"TC\",\"3100\",\"\"))","v":"3100"},{"$f":"IF(Benchsheet!A24>1,\"SM 9223B\",\"\")","v":"SM 9223B"},{"$f":"Benchsheet!U24","v":"00:00:00"},{"$f":"IF(Benchsheet!J24>1,\"A\",\"\")","v":"A"},{"$f":"Benchsheet!L24","v":"A"},{"$f":"IF(WORKSHEET!A21=\"-1\",\"\",IF(WORKSHEET!A21=0,\"0\",WORKSHEET!A21))","v":""},"",{"$f":"IF(WORKSHEET!B21=\"MPN\",\"MPN\",\"\")","v":""}]
[{"$f":"IF(Benchsheet!A24>1,\"result\",\"\")","v":"result"},{"$f":"IF(Benchsheet!A24>1,\"STATE\",\"\")","v":"STATE"},{"$f":"IF(Benchsheet!A24>1,\"00035\",\"\")","v":"00035"},{"$f":"Benchsheet!A24","v":"1511B6"},{"$f":"IF(Benchsheet!C24=1121057,\"VA1121057\",IF(Benchsheet!C24=1121090,\"VA1121090\",IF(Benchsheet!C24=1121052,\"VA1121052\",IF(Benchsheet!C24=1121175,\"VA1121175\",IF(Benchsheet!C24=1121580,\"VA1121580\",IF(Benchsheet!C24=1121570,\"VA1121570\",IF(Benchsheet!C24=1121045,\"VA1121045\",IF(Benchsheet!C24=1121655,\"VA1121655\",IF(Benchsheet!C24=1121503,\"VA1121503\",IF(Benchsheet!C24=1121043,\"VA1121043\",IF(Benchsheet!C24=1121900,\"VA1121900\",IF(Benchsheet!C24=1121845,\"VA1121845\",IF(Benchsheet!C24=1121655,\"VA1121655\",IF(Benchsheet!C24=1121900,\"VA1121900\",IF(Benchsheet!C24<1,\"\")))))))))))))))","v":"VA1121052"},{"$f":"WORKSHEET!C21","v":3014},{"$f":"IF(Benchsheet!A24>1,\"SM 9223B\",\"\")","v":"SM 9223B"},{"$f":"Benchsheet!U24","v":"00:00:00"},{"$f":"IF(Benchsheet!J24>1,\"A\",\"\")","v":"A"},{"$f":"Benchsheet!M24","v":"A"},{"$f":"IF(WORKSHEET!A21=\"-1\",\"\",IF(WORKSHEET!A21=0,\"0\",WORKSHEET!A21))","v":""},"",{"$f":"IF(WORKSHEET!B21=\"MPN\",\"MPN\",\"\")","v":""}]
[{"$f":"IF(Benchsheet!A25>1,\"result\",\"\")","v":"result"},{"$f":"IF(Benchsheet!A25>1,\"STATE\",\"\")","v":"STATE"},{"$f":"IF(Benchsheet!A25>1,\"00035\",\"\")","v":"00035"},{"$f":"Benchsheet!A25","v":"1511B7"},{"$f":"IF(Benchsheet!C25=1121057,\"VA1121057\",IF(Benchsheet!C25=1121090,\"VA1121090\",IF(Benchsheet!C25=1121052,\"VA1121052\",IF(Benchsheet!C25=1121175,\"VA1121175\",IF(Benchsheet!C25=1121580,\"VA1121580\",IF(Benchsheet!C25=1121570,\"VA1121570\",IF(Benchsheet!C25=1121045,\"VA1121045\",IF(Benchsheet!C25=1121655,\"VA1121655\",IF(Benchsheet!C25=1121503,\"VA1121503\",IF(Benchsheet!C25=1121043,\"VA1121043\",IF(Benchsheet!C25=1121900,\"VA1121900\",IF(Benchsheet!C25=1121845,\"VA1121845\",IF(Benchsheet!C25=1121655,\"VA1121655\",IF(Benchsheet!C25=1121900,\"VA1121900\",IF(Benchsheet!C25<1,\"\")))))))))))))))","v":"VA1121052"},{"$f":"IF(WORKSHEET!B22=\"MPN\",\"3000\",IF(WORKSHEET!B22=\"TC\",\"3100\",\"\"))","v":"3100"},{"$f":"IF(Benchsheet!A25>1,\"SM 9223B\",\"\")","v":"SM 9223B"},{"$f":"Benchsheet!U25","v":"00:00:00"},{"$f":"IF(Benchsheet!J25>1,\"A\",\"\")","v":"A"},{"$f":"Benchsheet!L25","v":"A"},{"$f":"IF(WORKSHEET!A22=\"-1\",\"\",IF(WORKSHEET!A22=0,\"0\",WORKSHEET!A22))","v":""},"",{"$f":"IF(WORKSHEET!B22=\"MPN\",\"MPN\",\"\")","v":""}]
[{"$f":"IF(Benchsheet!A25>1,\"result\",\"\")","v":"result"},{"$f":"IF(Benchsheet!A25>1,\"STATE\",\"\")","v":"STATE"},{"$f":"IF(Benchsheet!A25>1,\"00035\",\"\")","v":"00035"},{"$f":"Benchsheet!A25","v":"1511B7"},{"$f":"IF(Benchsheet!C25=1121057,\"VA1121057\",IF(Benchsheet!C25=1121090,\"VA1121090\",IF(Benchsheet!C25=1121052,\"VA1121052\",IF(Benchsheet!C25=1121175,\"VA1121175\",IF(Benchsheet!C25=1121580,\"VA1121580\",IF(Benchsheet!C25=1121570,\"VA1121570\",IF(Benchsheet!C25=1121045,\"VA1121045\",IF(Benchsheet!C25=1121655,\"VA1121655\",IF(Benchsheet!C25=1121503,\"VA1121503\",IF(Benchsheet!C25=1121043,\"VA1121043\",IF(Benchsheet!C25=1121900,\"VA1121900\",IF(Benchsheet!C25=1121845,\"VA1121845\",IF(Benchsheet!C25=1121655,\"VA1121655\",IF(Benchsheet!C25=1121900,\"VA1121900\",IF(Benchsheet!C25<1,\"\")))))))))))))))","v":"VA1121052"},{"$f":"WORKSHEET!C22","v":3014},{"$f":"IF(Benchsheet!A25>1,\"SM 9223B\",\"\")","v":"SM 9223B"},{"$f":"Benchsheet!U25","v":"00:00:00"},{"$f":"IF(Benchsheet!J25>1,\"A\",\"\")","v":"A"},{"$f":"Benchsheet!M25","v":"A"},{"$f":"IF(WORKSHEET!A22=\"-1\",\"\",IF(WORKSHEET!A22=0,\"0\",WORKSHEET!A22))","v":""},"",{"$f":"IF(WORKSHEET!B22=\"MPN\",\"MPN\",\"\")","v":""}]
[{"$f":"IF(Benchsheet!A26>1,\"result\",\"\")","v":"result"},{"$f":"IF(Benchsheet!A26>1,\"STATE\",\"\")","v":"STATE"},{"$f":"IF(Benchsheet!A26>1,\"00035\",\"\")","v":"00035"},{"$f":"Benchsheet!A26","v":"1511B8"},{"$f":"IF(Benchsheet!C26=1121057,\"VA1121057\",IF(Benchsheet!C26=1121090,\"VA1121090\",IF(Benchsheet!C26=1121052,\"VA1121052\",IF(Benchsheet!C26=1121175,\"VA1121175\",IF(Benchsheet!C26=1121580,\"VA1121580\",IF(Benchsheet!C26=1121570,\"VA1121570\",IF(Benchsheet!C26=1121045,\"VA1121045\",IF(Benchsheet!C26=1121655,\"VA1121655\",IF(Benchsheet!C26=1121503,\"VA1121503\",IF(Benchsheet!C26=1121043,\"VA1121043\",IF(Benchsheet!C26=1121900,\"VA1121900\",IF(Benchsheet!C26=1121845,\"VA1121845\",IF(Benchsheet!C26=1121655,\"VA1121655\",IF(Benchsheet!C26=1121900,\"VA1121900\",IF(Benchsheet!C26<1,\"\")))))))))))))))","v":"VA1121052"},{"$f":"IF(WORKSHEET!B23=\"MPN\",\"3000\",IF(WORKSHEET!B23=\"TC\",\"3100\",\"\"))","v":"3100"},{"$f":"IF(Benchsheet!A26>1,\"SM 9223B\",\"\")","v":"SM 9223B"},{"$f":"Benchsheet!U26","v":"00:00:00"},{"$f":"IF(Benchsheet!J26>1,\"A\",\"\")","v":"A"},{"$f":"Benchsheet!L26","v":"A"},{"$f":"IF(WORKSHEET!A23=\"-1\",\"\",IF(WORKSHEET!A23=0,\"0\",WORKSHEET!A23))","v":""},"",{"$f":"IF(WORKSHEET!B23=\"MPN\",\"MPN\",\"\")","v":""}]
[{"$f":"IF(Benchsheet!A26>1,\"result\",\"\")","v":"result"},{"$f":"IF(Benchsheet!A26>1,\"STATE\",\"\")","v":"STATE"},{"$f":"IF(Benchsheet!A26>1,\"00035\",\"\")","v":"00035"},{"$f":"Benchsheet!A26","v":"1511B8"},{"$f":"IF(Benchsheet!C26=1121057,\"VA1121057\",IF(Benchsheet!C26=1121090,\"VA1121090\",IF(Benchsheet!C26=1121052,\"VA1121052\",IF(Benchsheet!C26=1121175,\"VA1121175\",IF(Benchsheet!C26=1121580,\"VA1121580\",IF(Benchsheet!C26=1121570,\"VA1121570\",IF(Benchsheet!C26=1121045,\"VA1121045\",IF(Benchsheet!C26=1121655,\"VA1121655\",IF(Benchsheet!C26=1121503,\"VA1121503\",IF(Benchsheet!C26=1121043,\"VA1121043\",IF(Benchsheet!C26=1121900,\"VA1121900\",IF(Benchsheet!C26=1121845,\"VA1121845\",IF(Benchsheet!C26=1121655,\"VA1121655\",IF(Benchsheet!C26=1121900,\"VA1121900\",IF(Benchsheet!C26<1,\"\")))))))))))))))","v":"VA1121052"},{"$f":"WORKSHEET!C23","v":3014},{"$f":"IF(Benchsheet!A26>1,\"SM 9223B\",\"\")","v":"SM 9223B"},{"$f":"Benchsheet!U26","v":"00:00:00"},{"$f":"IF(Benchsheet!J26>1,\"A\",\"\")","v":"A"},{"$f":"Benchsheet!M26","v":"A"},{"$f":"IF(WORKSHEET!A23=\"-1\",\"\",IF(WORKSHEET!A23=0,\"0\",WORKSHEET!A23))","v":""},"",{"$f":"IF(WORKSHEET!B23=\"MPN\",\"MPN\",\"\")","v":""}]
[{"$f":"IF(Benchsheet!A27>1,\"result\",\"\")","v":"result"},{"$f":"IF(Benchsheet!A27>1,\"STATE\",\"\")","v":"STATE"},{"$f":"IF(Benchsheet!A27>1,\"00035\",\"\")","v":"00035"},{"$f":"Benchsheet!A27","v":"1511B9"},{"$f":"IF(Benchsheet!C27=1121057,\"VA1121057\",IF(Benchsheet!C27=1121090,\"VA1121090\",IF(Benchsheet!C27=1121052,\"VA1121052\",IF(Benchsheet!C27=1121175,\"VA1121175\",IF(Benchsheet!C27=1121580,\"VA1121580\",IF(Benchsheet!C27=1121570,\"VA1121570\",IF(Benchsheet!C27=1121045,\"VA1121045\",IF(Benchsheet!C27=1121655,\"VA1121655\",IF(Benchsheet!C27=1121503,\"VA1121503\",IF(Benchsheet!C27=1121043,\"VA1121043\",IF(Benchsheet!C27=1121900,\"VA1121900\",IF(Benchsheet!C27=1121845,\"VA1121845\",IF(Benchsheet!C27=1121655,\"VA1121655\",IF(Benchsheet!C27=1121900,\"VA1121900\",IF(Benchsheet!C27<1,\"\")))))))))))))))","v":"VA1121052"},{"$f":"IF(WORKSHEET!B24=\"MPN\",\"3000\",IF(WORKSHEET!B24=\"TC\",\"3100\",\"\"))","v":"3100"},{"$f":"IF(Benchsheet!A27>1,\"SM 9223B\",\"\")","v":"SM 9223B"},{"$f":"Benchsheet!U27","v":"00:00:00"},{"$f":"IF(Benchsheet!J27>1,\"A\",\"\")","v":"A"},{"$f":"Benchsheet!L27","v":"A"},{"$f":"IF(WORKSHEET!A24=\"-1\",\"\",IF(WORKSHEET!A24=0,\"0\",WORKSHEET!A24))","v":""},"",{"$f":"IF(WORKSHEET!B24=\"MPN\",\"MPN\",\"\")","v":""}]
[{"$f":"IF(Benchsheet!A27>1,\"result\",\"\")","v":"result"},{"$f":"IF(Benchsheet!A27>1,\"STATE\",\"\")","v":"STATE"},{"$f":"IF(Benchsheet!A27>1,\"00035\",\"\")","v":"00035"},{"$f":"Benchsheet!A27","v":"1511B9"},{"$f":"IF(Benchsheet!C27=1121057,\"VA1121057\",IF(Benchsheet!C27=1121090,\"VA1121090\",IF(Benchsheet!C27=1121052,\"VA1121052\",IF(Benchsheet!C27=1121175,\"VA1121175\",IF(Benchsheet!C27=1121580,\"VA1121580\",IF(Benchsheet!C27=1121570,\"VA1121570\",IF(Benchsheet!C27=1121045,\"VA1121045\",IF(Benchsheet!C27=1121655,\"VA1121655\",IF(Benchsheet!C27=1121503,\"VA1121503\",IF(Benchsheet!C27=1121043,\"VA1121043\",IF(Benchsheet!C27=1121900,\"VA1121900\",IF(Benchsheet!C27=1121845,\"VA1121845\",IF(Benchsheet!C27=1121655,\"VA1121655\",IF(Benchsheet!C27=1121900,\"VA1121900\",IF(Benchsheet!C27<1,\"\")))))))))))))))","v":"VA1121052"},{"$f":"WORKSHEET!C24","v":3014},{"$f":"IF(Benchsheet!A27>1,\"SM 9223B\",\"\")","v":"SM 9223B"},{"$f":"Benchsheet!U27","v":"00:00:00"},{"$f":"IF(Benchsheet!J27>1,\"A\",\"\")","v":"A"},{"$f":"Benchsheet!M27","v":"A"},{"$f":"IF(WORKSHEET!A24=\"-1\",\"\",IF(WORKSHEET!A24=0,\"0\",WORKSHEET!A24))","v":""},"",{"$f":"IF(WORKSHEET!B24=\"MPN\",\"MPN\",\"\")","v":""}]
[{"$f":"IF(Benchsheet!A28>1,\"result\",\"\")","v":"result"},{"$f":"IF(Benchsheet!A28>1,\"STATE\",\"\")","v":"STATE"},{"$f":"IF(Benchsheet!A28>1,\"00035\",\"\")","v":"00035"},{"$f":"Benchsheet!A28","v":"1511B10"},{"$f":"IF(Benchsheet!C28=1121057,\"VA1121057\",IF(Benchsheet!C28=1121090,\"VA1121090\",IF(Benchsheet!C28=1121052,\"VA1121052\",IF(Benchsheet!C28=1121175,\"VA1121175\",IF(Benchsheet!C28=1121580,\"VA1121580\",IF(Benchsheet!C28=1121570,\"VA1121570\",IF(Benchsheet!C28=1121045,\"VA1121045\",IF(Benchsheet!C28=1121655,\"VA1121655\",IF(Benchsheet!C28=1121503,\"VA1121503\",IF(Benchsheet!C28=1121043,\"VA1121043\",IF(Benchsheet!C28=1121900,\"VA1121900\",IF(Benchsheet!C28=1121845,\"VA1121845\",IF(Benchsheet!C28=1121655,\"VA1121655\",IF(Benchsheet!C28=1121900,\"VA1121900\",IF(Benchsheet!C28<1,\"\")))))))))))))))","v":"VA1121052"},{"$f":"IF(WORKSHEET!B25=\"MPN\",\"3000\",IF(WORKSHEET!B25=\"TC\",\"3100\",\"\"))","v":"3100"},{"$f":"IF(Benchsheet!A28>1,\"SM 9223B\",\"\")","v":"SM 9223B"},{"$f":"Benchsheet!U28","v":"00:00:00"},{"$f":"IF(Benchsheet!J28>1,\"A\",\"\")","v":"A"},{"$f":"Benchsheet!L28","v":"A"},{"$f":"IF(WORKSHEET!A25=\"-1\",\"\",IF(WORKSHEET!A25=0,\"0\",WORKSHEET!A25))","v":""},"",{"$f":"IF(WORKSHEET!B25=\"MPN\",\"MPN\",\"\")","v":""}]
[{"$f":"IF(Benchsheet!A28>1,\"result\",\"\")","v":"result"},{"$f":"IF(Benchsheet!A28>1,\"STATE\",\"\")","v":"STATE"},{"$f":"IF(Benchsheet!A28>1,\"00035\",\"\")","v":"00035"},{"$f":"Benchsheet!A28","v":"1511B10"},{"$f":"IF(Benchsheet!C28=1121057,\"VA1121057\",IF(Benchsheet!C28=1121090,\"VA1121090\",IF(Benchsheet!C28=1121052,\"VA1121052\",IF(Benchsheet!C28=1121175,\"VA1121175\",IF(Benchsheet!C28=1121580,\"VA1121580\",IF(Benchsheet!C28=1121570,\"VA1121570\",IF(Benchsheet!C28=1121045,\"VA1121045\",IF(Benchsheet!C28=1121655,\"VA1121655\",IF(Benchsheet!C28=1121503,\"VA1121503\",IF(Benchsheet!C28=1121043,\"VA1121043\",IF(Benchsheet!C28=1121900,\"VA1121900\",IF(Benchsheet!C28=1121845,\"VA1121845\",IF(Benchsheet!C28=1121655,\"VA1121655\",IF(Benchsheet!C28=1121900,\"VA1121900\",IF(Benchsheet!C28<1,\"\")))))))))))))))","v":"VA1121052"},{"$f":"WORKSHEET!C25","v":3014},{"$f":"IF(Benchsheet!A28>1,\"SM 9223B\",\"\")","v":"SM 9223B"},{"$f":"Benchsheet!U28","v":"00:00:00"},{"$f":"IF(Benchsheet!J28>1,\"A\",\"\")","v":"A"},{"$f":"Benchsheet!M28","v":"A"},{"$f":"IF(WORKSHEET!A25=\"-1\",\"\",IF(WORKSHEET!A25=0,\"0\",WORKSHEET!A25))","v":""},"",{"$f":"IF(WORKSHEET!B25=\"MPN\",\"MPN\",\"\")","v":""}]
[{"$f":"IF(Benchsheet!A29>1,\"result\",\"\")","v":"result"},{"$f":"IF(Benchsheet!A29>1,\"STATE\",\"\")","v":"STATE"},{"$f":"IF(Benchsheet!A29>1,\"00035\",\"\")","v":"00035"},{"$f":"Benchsheet!A29","v":"1511B11"},{"$f":"IF(Benchsheet!C29=1121057,\"VA1121057\",IF(Benchsheet!C29=1121090,\"VA1121090\",IF(Benchsheet!C29=1121052,\"VA1121052\",IF(Benchsheet!C29=1121175,\"VA1121175\",IF(Benchsheet!C29=1121580,\"VA1121580\",IF(Benchsheet!C29=1121570,\"VA1121570\",IF(Benchsheet!C29=1121045,\"VA1121045\",IF(Benchsheet!C29=1121655,\"VA1121655\",IF(Benchsheet!C29=1121503,\"VA1121503\",IF(Benchsheet!C29=1121043,\"VA1121043\",IF(Benchsheet!C29=1121900,\"VA1121900\",IF(Benchsheet!C29=1121845,\"VA1121845\",IF(Benchsheet!C29=1121655,\"VA1121655\",IF(Benchsheet!C29=1121900,\"VA1121900\",IF(Benchsheet!C29<1,\"\")))))))))))))))","v":"VA1121052"},null,{"$f":"IF(Benchsheet!A29>1,\"SM 9223B\",\"\")","v":"SM 9223B"},{"$f":"Benchsheet!U29","v":"00:00:00"},{"$f":"IF(Benchsheet!J29>1,\"A\",\"\")","v":"A"},{"$f":"Benchsheet!L29","v":"A"},{"$f":"IF(WORKSHEET!A25=\"-1\",\"\",IF(WORKSHEET!A25=0,\"0\",WORKSHEET!A25))","v":""},"",{"$f":"IF(WORKSHEET!B26=\"MPN\",\"MPN\",\"\")","v":""}]
[{"$f":"IF(Benchsheet!A29>1,\"result\",\"\")","v":"result"},{"$f":"IF(Benchsheet!A29>1,\"STATE\",\"\")","v":"STATE"},{"$f":"IF(Benchsheet!A29>1,\"00035\",\"\")","v":"00035"},{"$f":"Benchsheet!A29","v":"1511B11"},{"$f":"IF(Benchsheet!C29=1121057,\"VA1121057\",IF(Benchsheet!C29=1121090,\"VA1121090\",IF(Benchsheet!C29=1121052,\"VA1121052\",IF(Benchsheet!C29=1121175,\"VA1121175\",IF(Benchsheet!C29=1121580,\"VA1121580\",IF(Benchsheet!C29=1121570,\"VA1121570\",IF(Benchsheet!C29=1121045,\"VA1121045\",IF(Benchsheet!C29=1121655,\"VA1121655\",IF(Benchsheet!C29=1121503,\"VA1121503\",IF(Benchsheet!C29=1121043,\"VA1121043\",IF(Benchsheet!C29=1121900,\"VA1121900\",IF(Benchsheet!C29=1121845,\"VA1121845\",IF(Benchsheet!C29=1121655,\"VA1121655\",IF(Benchsheet!C29=1121900,\"VA1121900\",IF(Benchsheet!C29<1,\"\")))))))))))))))","v":"VA1121052"},{"$f":"WORKSHEET!C26","v":3014},{"$f":"IF(Benchsheet!A29>1,\"SM 9223B\",\"\")","v":"SM 9223B"},{"$f":"Benchsheet!U29","v":"00:00:00"},{"$f":"IF(Benchsheet!J29>1,\"A\",\"\")","v":"A"},{"$f":"Benchsheet!M29","v":"A"},{"$f":"IF(WORKSHEET!A26=\"-1\",\"\",IF(WORKSHEET!A26=0,\"0\",WORKSHEET!A26))","v":""},"",{"$f":"IF(WORKSHEET!B26=\"MPN\",\"MPN\",\"\")","v":""}]
[{"$f":"IF(Benchsheet!A30>1,\"result\",\"\")","v":"result"},{"$f":"IF(Benchsheet!A30>1,\"STATE\",\"\")","v":"STATE"},{"$f":"IF(Benchsheet!A30>1,\"00035\",\"\")","v":"00035"},{"$f":"Benchsheet!A30","v":"1511B12"},{"$f":"IF(Benchsheet!C30=1121057,\"VA1121057\",IF(Benchsheet!C30=1121090,\"VA1121090\",IF(Benchsheet!C30=1121052,\"VA1121052\",IF(Benchsheet!C30=1121175,\"VA1121175\",IF(Benchsheet!C30=1121580,\"VA1121580\",IF(Benchsheet!C30=1121570,\"VA1121570\",IF(Benchsheet!C30=1121045,\"VA1121045\",IF(Benchsheet!C30=1121655,\"VA1121655\",IF(Benchsheet!C30=1121503,\"VA1121503\",IF(Benchsheet!C30=1121043,\"VA1121043\",IF(Benchsheet!C30=1121900,\"VA1121900\",IF(Benchsheet!C30=1121845,\"VA1121845\",IF(Benchsheet!C30=1121655,\"VA1121655\",IF(Benchsheet!C30=1121900,\"VA1121900\",IF(Benchsheet!C30<1,\"\")))))))))))))))","v":"VA1121052"},{"$f":"IF(WORKSHEET!B27=\"MPN\",\"3000\",IF(WORKSHEET!B27=\"TC\",\"3100\",\"\"))","v":"3100"},{"$f":"IF(Benchsheet!A30>1,\"SM 9223B\",\"\")","v":"SM 9223B"},{"$f":"Benchsheet!U30","v":"00:00:00"},{"$f":"IF(Benchsheet!J30>1,\"A\",\"\")","v":"A"},{"$f":"Benchsheet!L30","v":"A"},{"$f":"IF(WORKSHEET!A26=\"-1\",\"\",IF(WORKSHEET!A26=0,\"0\",WORKSHEET!A26))","v":""},"",{"$f":"IF(WORKSHEET!B27=\"MPN\",\"MPN\",\"\")","v":""}]
[{"$f":"IF(Benchsheet!A30>1,\"result\",\"\")","v":"result"},{"$f":"IF(Benchsheet!A30>1,\"STATE\",\"\")","v":"STATE"},{"$f":"IF(Benchsheet!A30>1,\"00035\",\"\")","v":"00035"},{"$f":"Benchsheet!A30","v":"1511B12"},{"$f":"IF(Benchsheet!C30=1121057,\"VA1121057\",IF(Benchsheet!C30=1121090,\"VA1121090\",IF(Benchsheet!C30=1121052,\"VA1121052\",IF(Benchsheet!C30=1121175,\"VA1121175\",IF(Benchsheet!C30=1121580,\"VA1121580\",IF(Benchsheet!C30=1121570,\"VA1121570\",IF(Benchsheet!C30=1121045,\"VA1121045\",IF(Benchsheet!C30=1121655,\"VA1121655\",IF(Benchsheet!C30=1121503,\"VA1121503\",IF(Benchsheet!C30=1121043,\"VA1121043\",IF(Benchsheet!C30=1121900,\"VA1121900\",IF(Benchsheet!C30=1121845,\"VA1121845\",IF(Benchsheet!C30=1121655,\"VA1121655\",IF(Benchsheet!C30=1121900,\"VA1121900\",IF(Benchsheet!C30<1,\"\")))))))))))))))","v":"VA1121052"},{"$f":"WORKSHEET!C27","v":3014},{"$f":"IF(Benchsheet!A30>1,\"SM 9223B\",\"\")","v":"SM 9223B"},{"$f":"Benchsheet!U30","v":"00:00:00"},{"$f":"IF(Benchsheet!J30>1,\"A\",\"\")","v":"A"},{"$f":"Benchsheet!M30","v":"A"},{"$f":"IF(WORKSHEET!A27=\"-1\",\"\",IF(WORKSHEET!A27=0,\"0\",WORKSHEET!A27))","v":""},"",{"$f":"IF(WORKSHEET!B27=\"MPN\",\"MPN\",\"\")","v":""}]
[{"$f":"IF(Benchsheet!A31>1,\"result\",\"\")","v":"result"},{"$f":"IF(Benchsheet!A31>1,\"STATE\",\"\")","v":"STATE"},{"$f":"IF(Benchsheet!A31>1,\"00035\",\"\")","v":"00035"},{"$f":"Benchsheet!A31","v":"1511B13"},{"$f":"IF(Benchsheet!C31=1121057,\"VA1121057\",IF(Benchsheet!C31=1121090,\"VA1121090\",IF(Benchsheet!C31=1121052,\"VA1121052\",IF(Benchsheet!C31=1121175,\"VA1121175\",IF(Benchsheet!C31=1121580,\"VA1121580\",IF(Benchsheet!C31=1121570,\"VA1121570\",IF(Benchsheet!C31=1121045,\"VA1121045\",IF(Benchsheet!C31=1121655,\"VA1121655\",IF(Benchsheet!C31=1121503,\"VA1121503\",IF(Benchsheet!C31=1121043,\"VA1121043\",IF(Benchsheet!C31=1121900,\"VA1121900\",IF(Benchsheet!C31=1121845,\"VA1121845\",IF(Benchsheet!C31=1121655,\"VA1121655\",IF(Benchsheet!C31=1121900,\"VA1121900\",IF(Benchsheet!C31<1,\"\")))))))))))))))","v":"VA1121052"},{"$f":"IF(WORKSHEET!B28=\"MPN\",\"3000\",IF(WORKSHEET!B28=\"TC\",\"3100\",\"\"))","v":"3100"},{"$f":"IF(Benchsheet!A31>1,\"SM 9223B\",\"\")","v":"SM 9223B"},{"$f":"Benchsheet!U31","v":"00:00:00"},{"$f":"IF(Benchsheet!J31>1,\"A\",\"\")","v":"A"},{"$f":"Benchsheet!L31","v":"A"},{"$f":"IF(WORKSHEET!A27=\"-1\",\"\",IF(WORKSHEET!A27=0,\"0\",WORKSHEET!A27))","v":""},"",{"$f":"IF(WORKSHEET!B28=\"MPN\",\"MPN\",\"\")","v":""}]
[{"$f":"IF(Benchsheet!A31>1,\"result\",\"\")","v":"result"},{"$f":"IF(Benchsheet!A31>1,\"STATE\",\"\")","v":"STATE"},{"$f":"IF(Benchsheet!A31>1,\"00035\",\"\")","v":"00035"},{"$f":"Benchsheet!A31","v":"1511B13"},{"$f":"IF(Benchsheet!C31=1121057,\"VA1121057\",IF(Benchsheet!C31=1121090,\"VA1121090\",IF(Benchsheet!C31=1121052,\"VA1121052\",IF(Benchsheet!C31=1121175,\"VA1121175\",IF(Benchsheet!C31=1121580,\"VA1121580\",IF(Benchsheet!C31=1121570,\"VA1121570\",IF(Benchsheet!C31=1121045,\"VA1121045\",IF(Benchsheet!C31=1121655,\"VA1121655\",IF(Benchsheet!C31=1121503,\"VA1121503\",IF(Benchsheet!C31=1121043,\"VA1121043\",IF(Benchsheet!C31=1121900,\"VA1121900\",IF(Benchsheet!C31=1121845,\"VA1121845\",IF(Benchsheet!C31=1121655,\"VA1121655\",IF(Benchsheet!C31=1121900,\"VA1121900\",IF(Benchsheet!C31<1,\"\")))))))))))))))","v":"VA1121052"},{"$f":"WORKSHEET!C28","v":3014},{"$f":"IF(Benchsheet!A31>1,\"SM 9223B\",\"\")","v":"SM 9223B"},{"$f":"Benchsheet!U31","v":"00:00:00"},{"$f":"IF(Benchsheet!J31>1,\"A\",\"\")","v":"A"},{"$f":"Benchsheet!M31","v":"A"},{"$f":"IF(WORKSHEET!A28=\"-1\",\"\",IF(WORKSHEET!A28=0,\"0\",WORKSHEET!A28))","v":""},"",{"$f":"IF(WORKSHEET!B28=\"MPN\",\"MPN\",\"\")","v":""}]
[{"$f":"IF(Benchsheet!A32>1,\"result\",\"\")","v":"result"},{"$f":"IF(Benchsheet!A32>1,\"STATE\",\"\")","v":"STATE"},{"$f":"IF(Benchsheet!A32>1,\"00035\",\"\")","v":"00035"},{"$f":"Benchsheet!A32","v":"1511B14"},{"$f":"IF(Benchsheet!C32=1121057,\"VA1121057\",IF(Benchsheet!C32=1121090,\"VA1121090\",IF(Benchsheet!C32=1121052,\"VA1121052\",IF(Benchsheet!C32=1121175,\"VA1121175\",IF(Benchsheet!C32=1121580,\"VA1121580\",IF(Benchsheet!C32=1121570,\"VA1121570\",IF(Benchsheet!C32=1121045,\"VA1121045\",IF(Benchsheet!C32=1121655,\"VA1121655\",IF(Benchsheet!C32=1121503,\"VA1121503\",IF(Benchsheet!C32=1121043,\"VA1121043\",IF(Benchsheet!C32=1121900,\"VA1121900\",IF(Benchsheet!C32=1121845,\"VA1121845\",IF(Benchsheet!C32=1121655,\"VA1121655\",IF(Benchsheet!C32=1121900,\"VA1121900\",IF(Benchsheet!C32<1,\"\")))))))))))))))","v":"VA1121052"},{"$f":"IF(WORKSHEET!B29=\"MPN\",\"3000\",IF(WORKSHEET!B29=\"TC\",\"3100\",\"\"))","v":"3100"},{"$f":"IF(Benchsheet!A32>1,\"SM 9223B\",\"\")","v":"SM 9223B"},{"$f":"Benchsheet!U32","v":"00:00:00"},{"$f":"IF(Benchsheet!J32>1,\"A\",\"\")","v":"A"},{"$f":"Benchsheet!L32","v":"A"},{"$f":"IF(WORKSHEET!A28=\"-1\",\"\",IF(WORKSHEET!A28=0,\"0\",WORKSHEET!A28))","v":""},"",{"$f":"IF(WORKSHEET!B29=\"MPN\",\"MPN\",\"\")","v":""}]
[{"$f":"IF(Benchsheet!A32>1,\"result\",\"\")","v":"result"},{"$f":"IF(Benchsheet!A32>1,\"STATE\",\"\")","v":"STATE"},{"$f":"IF(Benchsheet!A32>1,\"00035\",\"\")","v":"00035"},{"$f":"Benchsheet!A32","v":"1511B14"},{"$f":"IF(Benchsheet!C32=1121057,\"VA1121057\",IF(Benchsheet!C32=1121090,\"VA1121090\",IF(Benchsheet!C32=1121052,\"VA1121052\",IF(Benchsheet!C32=1121175,\"VA1121175\",IF(Benchsheet!C32=1121580,\"VA1121580\",IF(Benchsheet!C32=1121570,\"VA1121570\",IF(Benchsheet!C32=1121045,\"VA1121045\",IF(Benchsheet!C32=1121655,\"VA1121655\",IF(Benchsheet!C32=1121503,\"VA1121503\",IF(Benchsheet!C32=1121043,\"VA1121043\",IF(Benchsheet!C32=1121900,\"VA1121900\",IF(Benchsheet!C32=1121845,\"VA1121845\",IF(Benchsheet!C32=1121655,\"VA1121655\",IF(Benchsheet!C32=1121900,\"VA1121900\",IF(Benchsheet!C32<1,\"\")))))))))))))))","v":"VA1121052"},{"$f":"WORKSHEET!C29","v":3014},{"$f":"IF(Benchsheet!A32>1,\"SM 9223B\",\"\")","v":"SM 9223B"},{"$f":"Benchsheet!U32","v":"00:00:00"},{"$f":"IF(Benchsheet!J32>1,\"A\",\"\")","v":"A"},{"$f":"Benchsheet!M32","v":"A"},{"$f":"IF(WORKSHEET!A29=\"-1\",\"\",IF(WORKSHEET!A29=0,\"0\",WORKSHEET!A29))","v":""},"",{"$f":"IF(WORKSHEET!B29=\"MPN\",\"MPN\",\"\")","v":""}]
[{"$f":"IF(Benchsheet!A33>1,\"result\",\"\")","v":"result"},{"$f":"IF(Benchsheet!A33>1,\"STATE\",\"\")","v":"STATE"},{"$f":"IF(Benchsheet!A33>1,\"00035\",\"\")","v":"00035"},{"$f":"Benchsheet!A33","v":"1511S67"},{"$f":"IF(Benchsheet!C33=1121057,\"VA1121057\",IF(Benchsheet!C33=1121090,\"VA1121090\",IF(Benchsheet!C33=1121052,\"VA1121052\",IF(Benchsheet!C33=1121175,\"VA1121175\",IF(Benchsheet!C33=1121580,\"VA1121580\",IF(Benchsheet!C33=1121570,\"VA1121570\",IF(Benchsheet!C33=1121045,\"VA1121045\",IF(Benchsheet!C33=1121655,\"VA1121655\",IF(Benchsheet!C33=1121503,\"VA1121503\",IF(Benchsheet!C33=1121043,\"VA1121043\",IF(Benchsheet!C33=1121900,\"VA1121900\",IF(Benchsheet!C33=1121845,\"VA1121845\",IF(Benchsheet!C33=1121655,\"VA1121655\",IF(Benchsheet!C33=1121900,\"VA1121900\",IF(Benchsheet!C33<1,\"\")))))))))))))))","v":false},{"$f":"IF(WORKSHEET!B30=\"MPN\",\"3000\",IF(WORKSHEET!B30=\"TC\",\"3100\",\"\"))","v":"3100"},{"$f":"IF(Benchsheet!A33>1,\"SM 9223B\",\"\")","v":"SM 9223B"},{"$f":"Benchsheet!U33","v":"00:00:00"},{"$f":"IF(Benchsheet!J33>1,\"A\",\"\")","v":"A"},{"$f":"Benchsheet!L33","v":"A"},{"$f":"IF(WORKSHEET!A29=\"-1\",\"\",IF(WORKSHEET!A29=0,\"0\",WORKSHEET!A29))","v":""},"",{"$f":"IF(WORKSHEET!B30=\"MPN\",\"MPN\",\"\")","v":""}]
[{"$f":"IF(Benchsheet!A33>1,\"result\",\"\")","v":"result"},{"$f":"IF(Benchsheet!A33>1,\"STATE\",\"\")","v":"STATE"},{"$f":"IF(Benchsheet!A33>1,\"00035\",\"\")","v":"00035"},{"$f":"Benchsheet!A33","v":"1511S67"},{"$f":"IF(Benchsheet!C33=1121057,\"VA1121057\",IF(Benchsheet!C33=1121090,\"VA1121090\",IF(Benchsheet!C33=1121052,\"VA1121052\",IF(Benchsheet!C33=1121175,\"VA1121175\",IF(Benchsheet!C33=1121580,\"VA1121580\",IF(Benchsheet!C33=1121570,\"VA1121570\",IF(Benchsheet!C33=1121045,\"VA1121045\",IF(Benchsheet!C33=1121655,\"VA1121655\",IF(Benchsheet!C33=1121503,\"VA1121503\",IF(Benchsheet!C33=1121043,\"VA1121043\",IF(Benchsheet!C33=1121900,\"VA1121900\",IF(Benchsheet!C33=1121845,\"VA1121845\",IF(Benchsheet!C33=1121655,\"VA1121655\",IF(Benchsheet!C33=1121900,\"VA1121900\",IF(Benchsheet!C33<1,\"\")))))))))))))))","v":false},{"$f":"WORKSHEET!C30","v":3014},{"$f":"IF(Benchsheet!A33>1,\"SM 9223B\",\"\")","v":"SM 9223B"},{"$f":"Benchsheet!U33","v":"00:00:00"},{"$f":"IF(Benchsheet!J33>1,\"A\",\"\")","v":"A"},{"$f":"Benchsheet!M33","v":"A"},{"$f":"IF(WORKSHEET!A30=\"-1\",\"\",IF(WORKSHEET!A30=0,\"0\",WORKSHEET!A30))","v":""},"",{"$f":"IF(WORKSHEET!B30=\"MPN\",\"MPN\",\"\")","v":""}]
[{"$f":"IF(Benchsheet!A34>1,\"result\",\"\")","v":"result"},{"$f":"IF(Benchsheet!A34>1,\"STATE\",\"\")","v":"STATE"},{"$f":"IF(Benchsheet!A34>1,\"00035\",\"\")","v":"00035"},{"$f":"Benchsheet!A34","v":"1511M18"},{"$f":"IF(Benchsheet!C34=1121057,\"VA1121057\",IF(Benchsheet!C34=1121090,\"VA1121090\",IF(Benchsheet!C34=1121052,\"VA1121052\",IF(Benchsheet!C34=1121175,\"VA1121175\",IF(Benchsheet!C34=1121580,\"VA1121580\",IF(Benchsheet!C34=1121570,\"VA1121570\",IF(Benchsheet!C34=1121045,\"VA1121045\",IF(Benchsheet!C34=1121655,\"VA1121655\",IF(Benchsheet!C34=1121503,\"VA1121503\",IF(Benchsheet!C34=1121043,\"VA1121043\",IF(Benchsheet!C34=1121900,\"VA1121900\",IF(Benchsheet!C34=1121845,\"VA1121845\",IF(Benchsheet!C34=1121655,\"VA1121655\",IF(Benchsheet!C34=1121900,\"VA1121900\",IF(Benchsheet!C34<1,\"\")))))))))))))))","v":"VA1121175"},{"$f":"IF(WORKSHEET!B31=\"MPN\",\"3000\",IF(WORKSHEET!B31=\"TC\",\"3100\",\"\"))","v":"3100"},{"$f":"IF(Benchsheet!A34>1,\"SM 9223B\",\"\")","v":"SM 9223B"},{"$f":"Benchsheet!U34","v":"00:00:00"},{"$f":"IF(Benchsheet!J34>1,\"A\",\"\")","v":"A"},{"$f":"Benchsheet!L34","v":"A"},{"$f":"IF(WORKSHEET!A30=\"-1\",\"\",IF(WORKSHEET!A30=0,\"0\",WORKSHEET!A30))","v":""},"",{"$f":"IF(WORKSHEET!B31=\"MPN\",\"MPN\",\"\")","v":""}]
[{"$f":"IF(Benchsheet!A34>1,\"result\",\"\")","v":"result"},{"$f":"IF(Benchsheet!A34>1,\"STATE\",\"\")","v":"STATE"},{"$f":"IF(Benchsheet!A34>1,\"00035\",\"\")","v":"00035"},{"$f":"Benchsheet!A34","v":"1511M18"},{"$f":"IF(Benchsheet!C34=1121057,\"VA1121057\",IF(Benchsheet!C34=1121090,\"VA1121090\",IF(Benchsheet!C34=1121052,\"VA1121052\",IF(Benchsheet!C34=1121175,\"VA1121175\",IF(Benchsheet!C34=1121580,\"VA1121580\",IF(Benchsheet!C34=1121570,\"VA1121570\",IF(Benchsheet!C34=1121045,\"VA1121045\",IF(Benchsheet!C34=1121655,\"VA1121655\",IF(Benchsheet!C34=1121503,\"VA1121503\",IF(Benchsheet!C34=1121043,\"VA1121043\",IF(Benchsheet!C34=1121900,\"VA1121900\",IF(Benchsheet!C34=1121845,\"VA1121845\",IF(Benchsheet!C34=1121655,\"VA1121655\",IF(Benchsheet!C34=1121900,\"VA1121900\",IF(Benchsheet!C34<1,\"\")))))))))))))))","v":"VA1121175"},{"$f":"WORKSHEET!C31","v":3014},{"$f":"IF(Benchsheet!A34>1,\"SM 9223B\",\"\")","v":"SM 9223B"},{"$f":"Benchsheet!U34","v":"00:00:00"},{"$f":"IF(Benchsheet!J34>1,\"A\",\"\")","v":"A"},{"$f":"Benchsheet!M34","v":"A"},{"$f":"IF(WORKSHEET!A31=\"-1\",\"\",IF(WORKSHEET!A31=0,\"0\",WORKSHEET!A31))","v":""},"",{"$f":"IF(WORKSHEET!B31=\"MPN\",\"MPN\",\"\")","v":""}]
[{"$f":"IF(Benchsheet!A35>1,\"result\",\"\")","v":"result"},{"$f":"IF(Benchsheet!A35>1,\"STATE\",\"\")","v":"STATE"},{"$f":"IF(Benchsheet!A35>1,\"00035\",\"\")","v":"00035"},{"$f":"Benchsheet!A35","v":"1511M19"},{"$f":"IF(Benchsheet!C35=1121057,\"VA1121057\",IF(Benchsheet!C35=1121090,\"VA1121090\",IF(Benchsheet!C35=1121052,\"VA1121052\",IF(Benchsheet!C35=1121175,\"VA1121175\",IF(Benchsheet!C35=1121580,\"VA1121580\",IF(Benchsheet!C35=1121570,\"VA1121570\",IF(Benchsheet!C35=1121045,\"VA1121045\",IF(Benchsheet!C35=1121655,\"VA1121655\",IF(Benchsheet!C35=1121503,\"VA1121503\",IF(Benchsheet!C35=1121043,\"VA1121043\",IF(Benchsheet!C35=1121900,\"VA1121900\",IF(Benchsheet!C35=1121845,\"VA1121845\",IF(Benchsheet!C35=1121655,\"VA1121655\",IF(Benchsheet!C35=1121900,\"VA1121900\",IF(Benchsheet!C35<1,\"\")))))))))))))))","v":"VA1121175"},{"$f":"IF(WORKSHEET!B32=\"MPN\",\"3000\",IF(WORKSHEET!B32=\"TC\",\"3100\",\"\"))","v":"3100"},{"$f":"IF(Benchsheet!A35>1,\"SM 9223B\",\"\")","v":"SM 9223B"},{"$f":"Benchsheet!U35","v":"00:00:00"},{"$f":"IF(Benchsheet!J35>1,\"A\",\"\")","v":"A"},{"$f":"Benchsheet!L35","v":"A"},{"$f":"IF(WORKSHEET!A31=\"-1\",\"\",IF(WORKSHEET!A31=0,\"0\",WORKSHEET!A31))","v":""},"",{"$f":"IF(WORKSHEET!B32=\"MPN\",\"MPN\",\"\")","v":""}]
[{"$f":"IF(Benchsheet!A35>1,\"result\",\"\")","v":"result"},{"$f":"IF(Benchsheet!A35>1,\"STATE\",\"\")","v":"STATE"},{"$f":"IF(Benchsheet!A35>1,\"00035\",\"\")","v":"00035"},{"$f":"Benchsheet!A35","v":"1511M19"},{"$f":"IF(Benchsheet!C35=1121057,\"VA1121057\",IF(Benchsheet!C35=1121090,\"VA1121090\",IF(Benchsheet!C35=1121052,\"VA1121052\",IF(Benchsheet!C35=1121175,\"VA1121175\",IF(Benchsheet!C35=1121580,\"VA1121580\",IF(Benchsheet!C35=1121570,\"VA1121570\",IF(Benchsheet!C35=1121045,\"VA1121045\",IF(Benchsheet!C35=1121655,\"VA1121655\",IF(Benchsheet!C35=1121503,\"VA1121503\",IF(Benchsheet!C35=1121043,\"VA1121043\",IF(Benchsheet!C35=1121900,\"VA1121900\",IF(Benchsheet!C35=1121845,\"VA1121845\",IF(Benchsheet!C35=1121655,\"VA1121655\",IF(Benchsheet!C35=1121900,\"VA1121900\",IF(Benchsheet!C35<1,\"\")))))))))))))))","v":"VA1121175"},{"$f":"WORKSHEET!C32","v":3014},{"$f":"IF(Benchsheet!A35>1,\"SM 9223B\",\"\")","v":"SM 9223B"},{"$f":"Benchsheet!U35","v":"00:00:00"},{"$f":"IF(Benchsheet!J35>1,\"A\",\"\")","v":"A"},{"$f":"Benchsheet!M35","v":"A"},{"$f":"IF(WORKSHEET!A32=\"-1\",\"\",IF(WORKSHEET!A32=0,\"0\",WORKSHEET!A32))","v":""},"",{"$f":"IF(WORKSHEET!B32=\"MPN\",\"MPN\",\"\")","v":""}]
[{"$f":"IF(Benchsheet!A36>1,\"result\",\"\")","v":"result"},{"$f":"IF(Benchsheet!A36>1,\"STATE\",\"\")","v":"STATE"},{"$f":"IF(Benchsheet!A36>1,\"00035\",\"\")","v":"00035"},{"$f":"Benchsheet!A36","v":"1511M20"},{"$f":"IF(Benchsheet!C36=1121057,\"VA1121057\",IF(Benchsheet!C36=1121090,\"VA1121090\",IF(Benchsheet!C36=1121052,\"VA1121052\",IF(Benchsheet!C36=1121175,\"VA1121175\",IF(Benchsheet!C36=1121580,\"VA1121580\",IF(Benchsheet!C36=1121570,\"VA1121570\",IF(Benchsheet!C36=1121045,\"VA1121045\",IF(Benchsheet!C36=1121655,\"VA1121655\",IF(Benchsheet!C36=1121503,\"VA1121503\",IF(Benchsheet!C36=1121043,\"VA1121043\",IF(Benchsheet!C36=1121900,\"VA1121900\",IF(Benchsheet!C36=1121845,\"VA1121845\",IF(Benchsheet!C36=1121655,\"VA1121655\",IF(Benchsheet!C36=1121900,\"VA1121900\",IF(Benchsheet!C36<1,\"\")))))))))))))))","v":"VA1121580"},{"$f":"IF(WORKSHEET!B33=\"MPN\",\"3000\",IF(WORKSHEET!B33=\"TC\",\"3100\",\"\"))","v":"3100"},{"$f":"IF(Benchsheet!A36>1,\"SM 9223B\",\"\")","v":"SM 9223B"},{"$f":"Benchsheet!U36","v":"00:00:00"},{"$f":"IF(Benchsheet!J36>1,\"A\",\"\")","v":"A"},{"$f":"Benchsheet!L36","v":"A"},{"$f":"IF(WORKSHEET!A32=\"-1\",\"\",IF(WORKSHEET!A32=0,\"0\",WORKSHEET!A32))","v":""},"",{"$f":"IF(WORKSHEET!B33=\"MPN\",\"MPN\",\"\")","v":""}]
[{"$f":"IF(Benchsheet!A36>1,\"result\",\"\")","v":"result"},{"$f":"IF(Benchsheet!A36>1,\"STATE\",\"\")","v":"STATE"},{"$f":"IF(Benchsheet!A36>1,\"00035\",\"\")","v":"00035"},{"$f":"Benchsheet!A36","v":"1511M20"},{"$f":"IF(Benchsheet!C36=1121057,\"VA1121057\",IF(Benchsheet!C36=1121090,\"VA1121090\",IF(Benchsheet!C36=1121052,\"VA1121052\",IF(Benchsheet!C36=1121175,\"VA1121175\",IF(Benchsheet!C36=1121580,\"VA1121580\",IF(Benchsheet!C36=1121570,\"VA1121570\",IF(Benchsheet!C36=1121045,\"VA1121045\",IF(Benchsheet!C36=1121655,\"VA1121655\",IF(Benchsheet!C36=1121503,\"VA1121503\",IF(Benchsheet!C36=1121043,\"VA1121043\",IF(Benchsheet!C36=1121900,\"VA1121900\",IF(Benchsheet!C36=1121845,\"VA1121845\",IF(Benchsheet!C36=1121655,\"VA1121655\",IF(Benchsheet!C36=1121900,\"VA1121900\",IF(Benchsheet!C36<1,\"\")))))))))))))))","v":"VA1121580"},{"$f":"WORKSHEET!C33","v":3014},{"$f":"IF(Benchsheet!A36>1,\"SM 9223B\",\"\")","v":"SM 9223B"},{"$f":"Benchsheet!U36","v":"00:00:00"},{"$f":"IF(Benchsheet!J36>1,\"A\",\"\")","v":"A"},{"$f":"Benchsheet!M36","v":"A"},{"$f":"IF(WORKSHEET!A33=\"-1\",\"\",IF(WORKSHEET!A33=0,\"0\",WORKSHEET!A33))","v":""},"",{"$f":"IF(WORKSHEET!B33=\"MPN\",\"MPN\",\"\")","v":""}]
[{"$f":"IF(Benchsheet!A37>1,\"result\",\"\")","v":"result"},{"$f":"IF(Benchsheet!A37>1,\"STATE\",\"\")","v":"STATE"},{"$f":"IF(Benchsheet!A37>1,\"00035\",\"\")","v":"00035"},{"$f":"Benchsheet!A37","v":"1511M21"},{"$f":"IF(Benchsheet!C37=1121057,\"VA1121057\",IF(Benchsheet!C37=1121090,\"VA1121090\",IF(Benchsheet!C37=1121052,\"VA1121052\",IF(Benchsheet!C37=1121175,\"VA1121175\",IF(Benchsheet!C37=1121580,\"VA1121580\",IF(Benchsheet!C37=1121570,\"VA1121570\",IF(Benchsheet!C37=1121045,\"VA1121045\",IF(Benchsheet!C37=1121655,\"VA1121655\",IF(Benchsheet!C37=1121503,\"VA1121503\",IF(Benchsheet!C37=1121043,\"VA1121043\",IF(Benchsheet!C37=1121900,\"VA1121900\",IF(Benchsheet!C37=1121845,\"VA1121845\",IF(Benchsheet!C37=1121655,\"VA1121655\",IF(Benchsheet!C37=1121900,\"VA1121900\",IF(Benchsheet!C37<1,\"\")))))))))))))))","v":"VA1121570"},{"$f":"IF(WORKSHEET!B34=\"MPN\",\"3000\",IF(WORKSHEET!B34=\"TC\",\"3100\",\"\"))","v":"3100"},{"$f":"IF(Benchsheet!A37>1,\"SM 9223B\",\"\")","v":"SM 9223B"},{"$f":"Benchsheet!U37","v":"00:00:00"},{"$f":"IF(Benchsheet!J37>1,\"A\",\"\")","v":"A"},{"$f":"Benchsheet!L37","v":"A"},{"$f":"IF(WORKSHEET!A33=\"-1\",\"\",IF(WORKSHEET!A33=0,\"0\",WORKSHEET!A33))","v":""},"",{"$f":"IF(WORKSHEET!B34=\"MPN\",\"MPN\",\"\")","v":""}]
[{"$f":"IF(Benchsheet!A37>1,\"result\",\"\")","v":"result"},{"$f":"IF(Benchsheet!A37>1,\"STATE\",\"\")","v":"STATE"},{"$f":"IF(Benchsheet!A37>1,\"00035\",\"\")","v":"00035"},{"$f":"Benchsheet!A37","v":"1511M21"},{"$f":"IF(Benchsheet!C37=1121057,\"VA1121057\",IF(Benchsheet!C37=1121090,\"VA1121090\",IF(Benchsheet!C37=1121052,\"VA1121052\",IF(Benchsheet!C37=1121175,\"VA1121175\",IF(Benchsheet!C37=1121580,\"VA1121580\",IF(Benchsheet!C37=1121570,\"VA1121570\",IF(Benchsheet!C37=1121045,\"VA1121045\",IF(Benchsheet!C37=1121655,\"VA1121655\",IF(Benchsheet!C37=1121503,\"VA1121503\",IF(Benchsheet!C37=1121043,\"VA1121043\",IF(Benchsheet!C37=1121900,\"VA1121900\",IF(Benchsheet!C37=1121845,\"VA1121845\",IF(Benchsheet!C37=1121655,\"VA1121655\",IF(Benchsheet!C37=1121900,\"VA1121900\",IF(Benchsheet!C37<1,\"\")))))))))))))))","v":"VA1121570"},{"$f":"WORKSHEET!C34","v":3014},{"$f":"IF(Benchsheet!A37>1,\"SM 9223B\",\"\")","v":"SM 9223B"},{"$f":"Benchsheet!U37","v":"00:00:00"},{"$f":"IF(Benchsheet!J37>1,\"A\",\"\")","v":"A"},{"$f":"Benchsheet!M37","v":"A"},{"$f":"IF(WORKSHEET!A34=\"-1\",\"\",IF(WORKSHEET!A34=0,\"0\",WORKSHEET!A34))","v":""},{"$f":"IF(M67=\"MPN\",\"100ML\",\"\")","v":""},{"$f":"IF(WORKSHEET!B34=\"MPN\",\"MPN\",\"\")","v":""}]
[{"$f":"IF(Benchsheet!A38>1,\"result\",\"\")","v":"result"},{"$f":"IF(Benchsheet!A38>1,\"STATE\",\"\")","v":"STATE"},{"$f":"IF(Benchsheet!A38>1,\"00035\",\"\")","v":"00035"},{"$f":"Benchsheet!A38","v":"1511M22"},{"$f":"IF(Benchsheet!C38=1121057,\"VA1121057\",IF(Benchsheet!C38=1121090,\"VA1121090\",IF(Benchsheet!C38=1121052,\"VA1121052\",IF(Benchsheet!C38=1121175,\"VA1121175\",IF(Benchsheet!C38=1121580,\"VA1121580\",IF(Benchsheet!C38=1121570,\"VA1121570\",IF(Benchsheet!C38=1121045,\"VA1121045\",IF(Benchsheet!C38=1121655,\"VA1121655\",IF(Benchsheet!C38=1121503,\"VA1121503\",IF(Benchsheet!C38=1121043,\"VA1121043\",IF(Benchsheet!C38=1121900,\"VA1121900\",IF(Benchsheet!C38=1121845,\"VA1121845\",IF(Benchsheet!C38=1121655,\"VA1121655\",IF(Benchsheet!C38=1121900,\"VA1121900\",IF(Benchsheet!C38<1,\"\")))))))))))))))","v":"VA1121045"},{"$f":"IF(WORKSHEET!B35=\"MPN\",\"3000\",IF(WORKSHEET!B35=\"TC\",\"3100\",\"\"))","v":"3100"},{"$f":"IF(Benchsheet!A38>1,\"SM 9223B\",\"\")","v":"SM 9223B"},{"$f":"Benchsheet!U38","v":"00:00:00"},{"$f":"IF(Benchsheet!J38>1,\"A\",\"\")","v":"A"},{"$f":"Benchsheet!L38","v":"A"},{"$f":"IF(WORKSHEET!A34=\"-1\",\"\",IF(WORKSHEET!A34=0,\"0\",WORKSHEET!A34))","v":""},"",{"$f":"IF(WORKSHEET!B35=\"MPN\",\"MPN\",\"\")","v":""}]
[{"$f":"IF(Benchsheet!A38>1,\"result\",\"\")","v":"result"},{"$f":"IF(Benchsheet!A38>1,\"STATE\",\"\")","v":"STATE"},{"$f":"IF(Benchsheet!A38>1,\"00035\",\"\")","v":"00035"},{"$f":"Benchsheet!A38","v":"1511M22"},{"$f":"IF(Benchsheet!C38=1121057,\"VA1121057\",IF(Benchsheet!C38=1121090,\"VA1121090\",IF(Benchsheet!C38=1121052,\"VA1121052\",IF(Benchsheet!C38=1121175,\"VA1121175\",IF(Benchsheet!C38=1121580,\"VA1121580\",IF(Benchsheet!C38=1121570,\"VA1121570\",IF(Benchsheet!C38=1121045,\"VA1121045\",IF(Benchsheet!C38=1121655,\"VA1121655\",IF(Benchsheet!C38=1121503,\"VA1121503\",IF(Benchsheet!C38=1121043,\"VA1121043\",IF(Benchsheet!C38=1121900,\"VA1121900\",IF(Benchsheet!C38=1121845,\"VA1121845\",IF(Benchsheet!C38=1121655,\"VA1121655\",IF(Benchsheet!C38=1121900,\"VA1121900\",IF(Benchsheet!C38<1,\"\")))))))))))))))","v":"VA1121045"},{"$f":"WORKSHEET!C35","v":3014},{"$f":"IF(Benchsheet!A38>1,\"SM 9223B\",\"\")","v":"SM 9223B"},{"$f":"Benchsheet!U38","v":"00:00:00"},{"$f":"IF(Benchsheet!J38>1,\"A\",\"\")","v":"A"},{"$f":"Benchsheet!M38","v":"A"},{"$f":"IF(WORKSHEET!A35=\"-1\",\"\",IF(WORKSHEET!A35=0,\"0\",WORKSHEET!A35))","v":""},"",{"$f":"IF(WORKSHEET!B35=\"MPN\",\"MPN\",\"\")","v":""}]
[{"$f":"IF(Benchsheet!A39>1,\"result\",\"\")","v":"result"},{"$f":"IF(Benchsheet!A39>1,\"STATE\",\"\")","v":"STATE"},{"$f":"IF(Benchsheet!A39>1,\"00035\",\"\")","v":"00035"},{"$f":"Benchsheet!A39","v":"1511M23"},{"$f":"IF(Benchsheet!C39=1121057,\"VA1121057\",IF(Benchsheet!C39=1121090,\"VA1121090\",IF(Benchsheet!C39=1121052,\"VA1121052\",IF(Benchsheet!C39=1121175,\"VA1121175\",IF(Benchsheet!C39=1121580,\"VA1121580\",IF(Benchsheet!C39=1121570,\"VA1121570\",IF(Benchsheet!C39=1121045,\"VA1121045\",IF(Benchsheet!C39=1121655,\"VA1121655\",IF(Benchsheet!C39=1121503,\"VA1121503\",IF(Benchsheet!C39=1121043,\"VA1121043\",IF(Benchsheet!C39=1121900,\"VA1121900\",IF(Benchsheet!C39=1121845,\"VA1121845\",IF(Benchsheet!C39=1121655,\"VA1121655\",IF(Benchsheet!C39=1121900,\"VA1121900\",IF(Benchsheet!C39<1,\"\")))))))))))))))","v":"VA1121655"},{"$f":"IF(WORKSHEET!B36=\"MPN\",\"3000\",IF(WORKSHEET!B36=\"TC\",\"3100\",\"\"))","v":"3100"},{"$f":"IF(Benchsheet!A39>1,\"SM 9223B\",\"\")","v":"SM 9223B"},{"$f":"Benchsheet!U39","v":"00:00:00"},{"$f":"IF(Benchsheet!J39>1,\"A\",\"\")","v":"A"},{"$f":"Benchsheet!L39","v":"A"},{"$f":"IF(WORKSHEET!A35=\"-1\",\"\",IF(WORKSHEET!A35=0,\"0\",WORKSHEET!A35))","v":""},"",{"$f":"IF(WORKSHEET!B36=\"MPN\",\"MPN\",\"\")","v":""}]
[{"$f":"IF(Benchsheet!A39>1,\"result\",\"\")","v":"result"},{"$f":"IF(Benchsheet!A39>1,\"STATE\",\"\")","v":"STATE"},{"$f":"IF(Benchsheet!A39>1,\"00035\",\"\")","v":"00035"},{"$f":"Benchsheet!A39","v":"1511M23"},{"$f":"IF(Benchsheet!C39=1121057,\"VA1121057\",IF(Benchsheet!C39=1121090,\"VA1121090\",IF(Benchsheet!C39=1121052,\"VA1121052\",IF(Benchsheet!C39=1121175,\"VA1121175\",IF(Benchsheet!C39=1121580,\"VA1121580\",IF(Benchsheet!C39=1121570,\"VA1121570\",IF(Benchsheet!C39=1121045,\"VA1121045\",IF(Benchsheet!C39=1121655,\"VA1121655\",IF(Benchsheet!C39=1121503,\"VA1121503\",IF(Benchsheet!C39=1121043,\"VA1121043\",IF(Benchsheet!C39=1121900,\"VA1121900\",IF(Benchsheet!C39=1121845,\"VA1121845\",IF(Benchsheet!C39=1121655,\"VA1121655\",IF(Benchsheet!C39=1121900,\"VA1121900\",IF(Benchsheet!C39<1,\"\")))))))))))))))","v":"VA1121655"},{"$f":"WORKSHEET!C36","v":3014},{"$f":"IF(Benchsheet!A39>1,\"SM 9223B\",\"\")","v":"SM 9223B"},{"$f":"Benchsheet!U39","v":"00:00:00"},{"$f":"IF(Benchsheet!J39>1,\"A\",\"\")","v":"A"},{"$f":"Benchsheet!M39","v":"A"},{"$f":"IF(WORKSHEET!A36=\"-1\",\"\",IF(WORKSHEET!A36=0,\"0\",WORKSHEET!A36))","v":""},"",{"$f":"IF(WORKSHEET!B36=\"MPN\",\"MPN\",\"\")","v":""}]
[{"$f":"IF(Benchsheet!A40>1,\"result\",\"\")","v":"result"},{"$f":"IF(Benchsheet!A40>1,\"STATE\",\"\")","v":"STATE"},{"$f":"IF(Benchsheet!A40>1,\"00035\",\"\")","v":"00035"},{"$f":"Benchsheet!A40","v":"1511P6"},{"$f":"IF(Benchsheet!C40=1121057,\"VA1121057\",IF(Benchsheet!C40=1121090,\"VA1121090\",IF(Benchsheet!C40=1121052,\"VA1121052\",IF(Benchsheet!C40=1121175,\"VA1121175\",IF(Benchsheet!C40=1121580,\"VA1121580\",IF(Benchsheet!C40=1121570,\"VA1121570\",IF(Benchsheet!C40=1121045,\"VA1121045\",IF(Benchsheet!C40=1121655,\"VA1121655\",IF(Benchsheet!C40=1121503,\"VA1121503\",IF(Benchsheet!C40=1121043,\"VA1121043\",IF(Benchsheet!C40=1121900,\"VA1121900\",IF(Benchsheet!C40=1121845,\"VA1121845\",IF(Benchsheet!C40=1121655,\"VA1121655\",IF(Benchsheet!C40=1121900,\"VA1121900\",IF(Benchsheet!C40<1,\"\")))))))))))))))","v":"VA1121057"},{"$f":"IF(WORKSHEET!B37=\"MPN\",\"3000\",IF(WORKSHEET!B37=\"TC\",\"3100\",\"\"))","v":"3100"},{"$f":"IF(Benchsheet!A40>1,\"SM 9223B\",\"\")","v":"SM 9223B"},{"$f":"Benchsheet!U40","v":"00:00:00"},{"$f":"IF(Benchsheet!J40>1,\"A\",\"\")","v":"A"},{"$f":"Benchsheet!L40","v":"A"},{"$f":"IF(WORKSHEET!A36=\"-1\",\"\",IF(WORKSHEET!A36=0,\"0\",WORKSHEET!A36))","v":""},"",{"$f":"IF(WORKSHEET!B37=\"MPN\",\"MPN\",\"\")","v":""}]
[{"$f":"IF(Benchsheet!A40>1,\"result\",\"\")","v":"result"},{"$f":"IF(Benchsheet!A40>1,\"STATE\",\"\")","v":"STATE"},{"$f":"IF(Benchsheet!A40>1,\"00035\",\"\")","v":"00035"},{"$f":"Benchsheet!A40","v":"1511P6"},{"$f":"IF(Benchsheet!C40=1121057,\"VA1121057\",IF(Benchsheet!C40=1121090,\"VA1121090\",IF(Benchsheet!C40=1121052,\"VA1121052\",IF(Benchsheet!C40=1121175,\"VA1121175\",IF(Benchsheet!C40=1121580,\"VA1121580\",IF(Benchsheet!C40=1121570,\"VA1121570\",IF(Benchsheet!C40=1121045,\"VA1121045\",IF(Benchsheet!C40=1121655,\"VA1121655\",IF(Benchsheet!C40=1121503,\"VA1121503\",IF(Benchsheet!C40=1121043,\"VA1121043\",IF(Benchsheet!C40=1121900,\"VA1121900\",IF(Benchsheet!C40=1121845,\"VA1121845\",IF(Benchsheet!C40=1121655,\"VA1121655\",IF(Benchsheet!C40=1121900,\"VA1121900\",IF(Benchsheet!C40<1,\"\")))))))))))))))","v":"VA1121057"},{"$f":"WORKSHEET!C37","v":3014},{"$f":"IF(Benchsheet!A40>1,\"SM 9223B\",\"\")","v":"SM 9223B"},{"$f":"Benchsheet!U40","v":"00:00:00"},{"$f":"IF(Benchsheet!J40>1,\"A\",\"\")","v":"A"},{"$f":"Benchsheet!M40","v":"A"},{"$f":"IF(WORKSHEET!A37=\"-1\",\"\",IF(WORKSHEET!A37=0,\"0\",WORKSHEET!A37))","v":""},"",{"$f":"IF(WORKSHEET!B37=\"MPN\",\"MPN\",\"\")","v":""}]
[{"$f":"IF(Benchsheet!A41>1,\"result\",\"\")","v":"result"},{"$f":"IF(Benchsheet!A41>1,\"STATE\",\"\")","v":"STATE"},{"$f":"IF(Benchsheet!A41>1,\"00035\",\"\")","v":"00035"},{"$f":"Benchsheet!A41","v":"1511P7"},{"$f":"IF(Benchsheet!C41=1121057,\"VA1121057\",IF(Benchsheet!C41=1121090,\"VA1121090\",IF(Benchsheet!C41=1121052,\"VA1121052\",IF(Benchsheet!C41=1121175,\"VA1121175\",IF(Benchsheet!C41=1121580,\"VA1121580\",IF(Benchsheet!C41=1121570,\"VA1121570\",IF(Benchsheet!C41=1121045,\"VA1121045\",IF(Benchsheet!C41=1121655,\"VA1121655\",IF(Benchsheet!C41=1121503,\"VA1121503\",IF(Benchsheet!C41=1121043,\"VA1121043\",IF(Benchsheet!C41=1121900,\"VA1121900\",IF(Benchsheet!C41=1121845,\"VA1121845\",IF(Benchsheet!C41=1121655,\"VA1121655\",IF(Benchsheet!C41=1121900,\"VA1121900\",IF(Benchsheet!C41<1,\"\")))))))))))))))","v":"VA1121057"},{"$f":"IF(WORKSHEET!B38=\"MPN\",\"3000\",IF(WORKSHEET!B38=\"TC\",\"3100\",\"\"))","v":"3100"},{"$f":"IF(Benchsheet!A41>1,\"SM 9223B\",\"\")","v":"SM 9223B"},{"$f":"Benchsheet!U41","v":"00:00:00"},{"$f":"IF(Benchsheet!J41>1,\"A\",\"\")","v":"A"},{"$f":"Benchsheet!L41","v":"A"},{"$f":"IF(WORKSHEET!A37=\"-1\",\"\",IF(WORKSHEET!A37=0,\"0\",WORKSHEET!A37))","v":""},"",{"$f":"IF(WORKSHEET!B38=\"MPN\",\"MPN\",\"\")","v":""}]
[{"$f":"IF(Benchsheet!A41>1,\"result\",\"\")","v":"result"},{"$f":"IF(Benchsheet!A41>1,\"STATE\",\"\")","v":"STATE"},{"$f":"IF(Benchsheet!A41>1,\"00035\",\"\")","v":"00035"},{"$f":"Benchsheet!A41","v":"1511P7"},{"$f":"IF(Benchsheet!C41=1121057,\"VA1121057\",IF(Benchsheet!C41=1121090,\"VA1121090\",IF(Benchsheet!C41=1121052,\"VA1121052\",IF(Benchsheet!C41=1121175,\"VA1121175\",IF(Benchsheet!C41=1121580,\"VA1121580\",IF(Benchsheet!C41=1121570,\"VA1121570\",IF(Benchsheet!C41=1121045,\"VA1121045\",IF(Benchsheet!C41=1121655,\"VA1121655\",IF(Benchsheet!C41=1121503,\"VA1121503\",IF(Benchsheet!C41=1121043,\"VA1121043\",IF(Benchsheet!C41=1121900,\"VA1121900\",IF(Benchsheet!C41=1121845,\"VA1121845\",IF(Benchsheet!C41=1121655,\"VA1121655\",IF(Benchsheet!C41=1121900,\"VA1121900\",IF(Benchsheet!C41<1,\"\")))))))))))))))","v":"VA1121057"},{"$f":"WORKSHEET!C38","v":3014},{"$f":"IF(Benchsheet!A41>1,\"SM 9223B\",\"\")","v":"SM 9223B"},{"$f":"Benchsheet!U41","v":"00:00:00"},{"$f":"IF(Benchsheet!J41>1,\"A\",\"\")","v":"A"},{"$f":"Benchsheet!M41","v":"A"},{"$f":"IF(WORKSHEET!A38=\"-1\",\"\",IF(WORKSHEET!A38=0,\"0\",WORKSHEET!A38))","v":""},"",{"$f":"IF(WORKSHEET!B38=\"MPN\",\"MPN\",\"\")","v":""}]
[{"$f":"IF(Benchsheet!A42>1,\"result\",\"\")","v":"result"},{"$f":"IF(Benchsheet!A42>1,\"STATE\",\"\")","v":"STATE"},{"$f":"IF(Benchsheet!A42>1,\"00035\",\"\")","v":"00035"},{"$f":"Benchsheet!A42","v":"1511S68"},{"$f":"IF(Benchsheet!C42=1121057,\"VA1121057\",IF(Benchsheet!C42=1121090,\"VA1121090\",IF(Benchsheet!C42=1121052,\"VA1121052\",IF(Benchsheet!C42=1121175,\"VA1121175\",IF(Benchsheet!C42=1121580,\"VA1121580\",IF(Benchsheet!C42=1121570,\"VA1121570\",IF(Benchsheet!C42=1121045,\"VA1121045\",IF(Benchsheet!C42=1121655,\"VA1121655\",IF(Benchsheet!C42=1121503,\"VA1121503\",IF(Benchsheet!C42=1121043,\"VA1121043\",IF(Benchsheet!C42=1121900,\"VA1121900\",IF(Benchsheet!C42=1121845,\"VA1121845\",IF(Benchsheet!C42=1121655,\"VA1121655\",IF(Benchsheet!C42=1121900,\"VA1121900\",IF(Benchsheet!C42<1,\"\")))))))))))))))","v":false},{"$f":"IF(WORKSHEET!B39=\"MPN\",\"3000\",IF(WORKSHEET!B39=\"TC\",\"3100\",\"\"))","v":"3100"},{"$f":"IF(Benchsheet!A42>1,\"SM 9223B\",\"\")","v":"SM 9223B"},{"$f":"Benchsheet!U42","v":"00:00:00"},{"$f":"IF(Benchsheet!J42>1,\"A\",\"\")","v":"A"},{"$f":"Benchsheet!L42","v":"A"},{"$f":"IF(WORKSHEET!A38=\"-1\",\"\",IF(WORKSHEET!A38=0,\"0\",WORKSHEET!A38))","v":""},"",{"$f":"IF(WORKSHEET!B39=\"MPN\",\"MPN\",\"\")","v":""}]
[{"$f":"IF(Benchsheet!A42>1,\"result\",\"\")","v":"result"},{"$f":"IF(Benchsheet!A42>1,\"STATE\",\"\")","v":"STATE"},{"$f":"IF(Benchsheet!A42>1,\"00035\",\"\")","v":"00035"},{"$f":"Benchsheet!A42","v":"1511S68"},{"$f":"IF(Benchsheet!C42=1121057,\"VA1121057\",IF(Benchsheet!C42=1121090,\"VA1121090\",IF(Benchsheet!C42=1121052,\"VA1121052\",IF(Benchsheet!C42=1121175,\"VA1121175\",IF(Benchsheet!C42=1121580,\"VA1121580\",IF(Benchsheet!C42=1121570,\"VA1121570\",IF(Benchsheet!C42=1121045,\"VA1121045\",IF(Benchsheet!C42=1121655,\"VA1121655\",IF(Benchsheet!C42=1121503,\"VA1121503\",IF(Benchsheet!C42=1121043,\"VA1121043\",IF(Benchsheet!C42=1121900,\"VA1121900\",IF(Benchsheet!C42=1121845,\"VA1121845\",IF(Benchsheet!C42=1121655,\"VA1121655\",IF(Benchsheet!C42=1121900,\"VA1121900\",IF(Benchsheet!C42<1,\"\")))))))))))))))","v":false},{"$f":"WORKSHEET!C39","v":3014},{"$f":"IF(Benchsheet!A42>1,\"SM 9223B\",\"\")","v":"SM 9223B"},{"$f":"Benchsheet!U42","v":"00:00:00"},{"$f":"IF(Benchsheet!J42>1,\"A\",\"\")","v":"A"},{"$f":"Benchsheet!M42","v":"A"},{"$f":"IF(WORKSHEET!A39=\"-1\",\"\",IF(WORKSHEET!A39=0,\"0\",WORKSHEET!A39))","v":""},"",{"$f":"IF(WORKSHEET!B39=\"MPN\",\"MPN\",\"\")","v":""}]
[{"$f":"IF(Benchsheet!A43>1,\"result\",\"\")","v":"result"},{"$f":"IF(Benchsheet!A43>1,\"STATE\",\"\")","v":"STATE"},{"$f":"IF(Benchsheet!A43>1,\"00035\",\"\")","v":"00035"},{"$f":"Benchsheet!A43","v":"1511C10"},{"$f":"IF(Benchsheet!C43=1121057,\"VA1121057\",IF(Benchsheet!C43=1121090,\"VA1121090\",IF(Benchsheet!C43=1121052,\"VA1121052\",IF(Benchsheet!C43=1121175,\"VA1121175\",IF(Benchsheet!C43=1121580,\"VA1121580\",IF(Benchsheet!C43=1121570,\"VA1121570\",IF(Benchsheet!C43=1121045,\"VA1121045\",IF(Benchsheet!C43=1121655,\"VA1121655\",IF(Benchsheet!C43=1121503,\"VA1121503\",IF(Benchsheet!C43=1121043,\"VA1121043\",IF(Benchsheet!C43=1121900,\"VA1121900\",IF(Benchsheet!C43=1121845,\"VA1121845\",IF(Benchsheet!C43=1121655,\"VA1121655\",IF(Benchsheet!C43=1121900,\"VA1121900\",IF(Benchsheet!C43<1,\"\")))))))))))))))","v":"VA1121090"},{"$f":"IF(WORKSHEET!B40=\"MPN\",\"3000\",IF(WORKSHEET!B40=\"TC\",\"3100\",\"\"))","v":"3100"},{"$f":"IF(Benchsheet!A43>1,\"SM 9223B\",\"\")","v":"SM 9223B"},{"$f":"Benchsheet!U43","v":"00:00:00"},{"$f":"IF(Benchsheet!J43>1,\"A\",\"\")","v":"A"},{"$f":"Benchsheet!L43","v":"A"},{"$f":"IF(WORKSHEET!A39=\"-1\",\"\",IF(WORKSHEET!A39=0,\"0\",WORKSHEET!A39))","v":""},"",{"$f":"IF(WORKSHEET!B40=\"MPN\",\"MPN\",\"\")","v":""}]
[{"$f":"IF(Benchsheet!A43>1,\"result\",\"\")","v":"result"},{"$f":"IF(Benchsheet!A43>1,\"STATE\",\"\")","v":"STATE"},{"$f":"IF(Benchsheet!A43>1,\"00035\",\"\")","v":"00035"},{"$f":"Benchsheet!A43","v":"1511C10"},{"$f":"IF(Benchsheet!C43=1121057,\"VA1121057\",IF(Benchsheet!C43=1121090,\"VA1121090\",IF(Benchsheet!C43=1121052,\"VA1121052\",IF(Benchsheet!C43=1121175,\"VA1121175\",IF(Benchsheet!C43=1121580,\"VA1121580\",IF(Benchsheet!C43=1121570,\"VA1121570\",IF(Benchsheet!C43=1121045,\"VA1121045\",IF(Benchsheet!C43=1121655,\"VA1121655\",IF(Benchsheet!C43=1121503,\"VA1121503\",IF(Benchsheet!C43=1121043,\"VA1121043\",IF(Benchsheet!C43=1121900,\"VA1121900\",IF(Benchsheet!C43=1121845,\"VA1121845\",IF(Benchsheet!C43=1121655,\"VA1121655\",IF(Benchsheet!C43=1121900,\"VA1121900\",IF(Benchsheet!C43<1,\"\")))))))))))))))","v":"VA1121090"},{"$f":"WORKSHEET!C40","v":3014},{"$f":"IF(Benchsheet!A43>1,\"SM 9223B\",\"\")","v":"SM 9223B"},{"$f":"Benchsheet!U43","v":"00:00:00"},{"$f":"IF(Benchsheet!J43>1,\"A\",\"\")","v":"A"},{"$f":"Benchsheet!M43","v":"A"},{"$f":"IF(WORKSHEET!A40=\"-1\",\"\",IF(WORKSHEET!A40=0,\"0\",WORKSHEET!A40))","v":""},"",{"$f":"IF(WORKSHEET!B40=\"MPN\",\"MPN\",\"\")","v":""}]
[{"$f":"IF(Benchsheet!A44>1,\"result\",\"\")","v":"result"},{"$f":"IF(Benchsheet!A44>1,\"STATE\",\"\")","v":"STATE"},{"$f":"IF(Benchsheet!A44>1,\"00035\",\"\")","v":"00035"},{"$f":"Benchsheet!A44","v":"1511C11"},{"$f":"IF(Benchsheet!C44=1121057,\"VA1121057\",IF(Benchsheet!C44=1121090,\"VA1121090\",IF(Benchsheet!C44=1121052,\"VA1121052\",IF(Benchsheet!C44=1121175,\"VA1121175\",IF(Benchsheet!C44=1121580,\"VA1121580\",IF(Benchsheet!C44=1121570,\"VA1121570\",IF(Benchsheet!C44=1121045,\"VA1121045\",IF(Benchsheet!C44=1121655,\"VA1121655\",IF(Benchsheet!C44=1121503,\"VA1121503\",IF(Benchsheet!C44=1121043,\"VA1121043\",IF(Benchsheet!C44=1121900,\"VA1121900\",IF(Benchsheet!C44=1121845,\"VA1121845\",IF(Benchsheet!C44=1121655,\"VA1121655\",IF(Benchsheet!C44=1121900,\"VA1121900\",IF(Benchsheet!C44<1,\"\")))))))))))))))","v":"VA1121090"},{"$f":"IF(WORKSHEET!B41=\"MPN\",\"3000\",IF(WORKSHEET!B41=\"TC\",\"3100\",\"\"))","v":"3100"},{"$f":"IF(Benchsheet!A44>1,\"SM 9223B\",\"\")","v":"SM 9223B"},{"$f":"Benchsheet!U44","v":"00:00:00"},{"$f":"IF(Benchsheet!J44>1,\"A\",\"\")","v":"A"},{"$f":"Benchsheet!L44","v":"A"},{"$f":"IF(WORKSHEET!A40=\"-1\",\"\",IF(WORKSHEET!A40=0,\"0\",WORKSHEET!A40))","v":""},"",{"$f":"IF(WORKSHEET!B41=\"MPN\",\"MPN\",\"\")","v":""}]
[{"$f":"IF(Benchsheet!A44>1,\"result\",\"\")","v":"result"},{"$f":"IF(Benchsheet!A44>1,\"STATE\",\"\")","v":"STATE"},{"$f":"IF(Benchsheet!A44>1,\"00035\",\"\")","v":"00035"},{"$f":"Benchsheet!A44","v":"1511C11"},{"$f":"IF(Benchsheet!C44=1121057,\"VA1121057\",IF(Benchsheet!C44=1121090,\"VA1121090\",IF(Benchsheet!C44=1121052,\"VA1121052\",IF(Benchsheet!C44=1121175,\"VA1121175\",IF(Benchsheet!C44=1121580,\"VA1121580\",IF(Benchsheet!C44=1121570,\"VA1121570\",IF(Benchsheet!C44=1121045,\"VA1121045\",IF(Benchsheet!C44=1121655,\"VA1121655\",IF(Benchsheet!C44=1121503,\"VA1121503\",IF(Benchsheet!C44=1121043,\"VA1121043\",IF(Benchsheet!C44=1121900,\"VA1121900\",IF(Benchsheet!C44=1121845,\"VA1121845\",IF(Benchsheet!C44=1121655,\"VA1121655\",IF(Benchsheet!C44=1121900,\"VA1121900\",IF(Benchsheet!C44<1,\"\")))))))))))))))","v":"VA1121090"},{"$f":"WORKSHEET!C41","v":3014},{"$f":"IF(Benchsheet!A44>1,\"SM 9223B\",\"\")","v":"SM 9223B"},{"$f":"Benchsheet!U44","v":"00:00:00"},{"$f":"IF(Benchsheet!J44>1,\"A\",\"\")","v":"A"},{"$f":"Benchsheet!M44","v":"A"},{"$f":"IF(WORKSHEET!A41=\"-1\",\"\",IF(WORKSHEET!A41=0,\"0\",WORKSHEET!A41))","v":""},"",{"$f":"IF(WORKSHEET!B41=\"MPN\",\"MPN\",\"\")","v":""}]
[{"$f":"IF(Benchsheet!A45>1,\"result\",\"\")","v":"result"},{"$f":"IF(Benchsheet!A45>1,\"STATE\",\"\")","v":"STATE"},{"$f":"IF(Benchsheet!A45>1,\"00035\",\"\")","v":"00035"},{"$f":"Benchsheet!A45","v":"1511C12"},{"$f":"IF(Benchsheet!C45=1121057,\"VA1121057\",IF(Benchsheet!C45=1121090,\"VA1121090\",IF(Benchsheet!C45=1121052,\"VA1121052\",IF(Benchsheet!C45=1121175,\"VA1121175\",IF(Benchsheet!C45=1121580,\"VA1121580\",IF(Benchsheet!C45=1121570,\"VA1121570\",IF(Benchsheet!C45=1121045,\"VA1121045\",IF(Benchsheet!C45=1121655,\"VA1121655\",IF(Benchsheet!C45=1121503,\"VA1121503\",IF(Benchsheet!C45=1121043,\"VA1121043\",IF(Benchsheet!C45=1121900,\"VA1121900\",IF(Benchsheet!C45=1121845,\"VA1121845\",IF(Benchsheet!C45=1121655,\"VA1121655\",IF(Benchsheet!C45=1121900,\"VA1121900\",IF(Benchsheet!C45<1,\"\")))))))))))))))","v":"VA1121090"},{"$f":"IF(WORKSHEET!B42=\"MPN\",\"3000\",IF(WORKSHEET!B42=\"TC\",\"3100\",\"\"))","v":"3100"},{"$f":"IF(Benchsheet!A45>1,\"SM 9223B\",\"\")","v":"SM 9223B"},{"$f":"Benchsheet!U45","v":"00:00:00"},{"$f":"IF(Benchsheet!J45>1,\"A\",\"\")","v":"A"},{"$f":"Benchsheet!L45","v":"A"},{"$f":"IF(WORKSHEET!A41=\"-1\",\"\",IF(WORKSHEET!A41=0,\"0\",WORKSHEET!A41))","v":""},"",{"$f":"IF(WORKSHEET!B42=\"MPN\",\"MPN\",\"\")","v":""}]
[{"$f":"IF(Benchsheet!A45>1,\"result\",\"\")","v":"result"},{"$f":"IF(Benchsheet!A45>1,\"STATE\",\"\")","v":"STATE"},{"$f":"IF(Benchsheet!A45>1,\"00035\",\"\")","v":"00035"},{"$f":"Benchsheet!A45","v":"1511C12"},{"$f":"IF(Benchsheet!C45=1121057,\"VA1121057\",IF(Benchsheet!C45=1121090,\"VA1121090\",IF(Benchsheet!C45=1121052,\"VA1121052\",IF(Benchsheet!C45=1121175,\"VA1121175\",IF(Benchsheet!C45=1121580,\"VA1121580\",IF(Benchsheet!C45=1121570,\"VA1121570\",IF(Benchsheet!C45=1121045,\"VA1121045\",IF(Benchsheet!C45=1121655,\"VA1121655\",IF(Benchsheet!C45=1121503,\"VA1121503\",IF(Benchsheet!C45=1121043,\"VA1121043\",IF(Benchsheet!C45=1121900,\"VA1121900\",IF(Benchsheet!C45=1121845,\"VA1121845\",IF(Benchsheet!C45=1121655,\"VA1121655\",IF(Benchsheet!C45=1121900,\"VA1121900\",IF(Benchsheet!C45<1,\"\")))))))))))))))","v":"VA1121090"},{"$f":"WORKSHEET!C42","v":3014},{"$f":"IF(Benchsheet!A45>1,\"SM 9223B\",\"\")","v":"SM 9223B"},{"$f":"Benchsheet!U45","v":"00:00:00"},{"$f":"IF(Benchsheet!J45>1,\"A\",\"\")","v":"A"},{"$f":"Benchsheet!M45","v":"A"},{"$f":"IF(WORKSHEET!A42=\"-1\",\"\",IF(WORKSHEET!A42=0,\"0\",WORKSHEET!A42))","v":""},"",{"$f":"IF(WORKSHEET!B42=\"MPN\",\"MPN\",\"\")","v":""}]
[{"$f":"IF(Benchsheet!A46>1,\"result\",\"\")","v":"result"},{"$f":"IF(Benchsheet!A46>1,\"STATE\",\"\")","v":"STATE"},{"$f":"IF(Benchsheet!A46>1,\"00035\",\"\")","v":"00035"},{"$f":"Benchsheet!A46","v":"1511C13"},{"$f":"IF(Benchsheet!C46=1121057,\"VA1121057\",IF(Benchsheet!C46=1121090,\"VA1121090\",IF(Benchsheet!C46=1121052,\"VA1121052\",IF(Benchsheet!C46=1121175,\"VA1121175\",IF(Benchsheet!C46=1121580,\"VA1121580\",IF(Benchsheet!C46=1121570,\"VA1121570\",IF(Benchsheet!C46=1121045,\"VA1121045\",IF(Benchsheet!C46=1121655,\"VA1121655\",IF(Benchsheet!C46=1121503,\"VA1121503\",IF(Benchsheet!C46=1121043,\"VA1121043\",IF(Benchsheet!C46=1121900,\"VA1121900\",IF(Benchsheet!C46=1121845,\"VA1121845\",IF(Benchsheet!C46=1121655,\"VA1121655\",IF(Benchsheet!C46=1121900,\"VA1121900\",IF(Benchsheet!C46<1,\"\")))))))))))))))","v":"VA1121090"},{"$f":"IF(WORKSHEET!B43=\"MPN\",\"3000\",IF(WORKSHEET!B43=\"TC\",\"3100\",\"\"))","v":"3100"},{"$f":"IF(Benchsheet!A46>1,\"SM 9223B\",\"\")","v":"SM 9223B"},{"$f":"Benchsheet!U46","v":"00:00:00"},{"$f":"IF(Benchsheet!J46>1,\"A\",\"\")","v":"A"},{"$f":"Benchsheet!L46","v":"A"},{"$f":"IF(WORKSHEET!A42=\"-1\",\"\",IF(WORKSHEET!A42=0,\"0\",WORKSHEET!A42))","v":""},"",{"$f":"IF(WORKSHEET!B43=\"MPN\",\"MPN\",\"\")","v":""}]
[{"$f":"IF(Benchsheet!A46>1,\"result\",\"\")","v":"result"},{"$f":"IF(Benchsheet!A46>1,\"STATE\",\"\")","v":"STATE"},{"$f":"IF(Benchsheet!A46>1,\"00035\",\"\")","v":"00035"},{"$f":"Benchsheet!A46","v":"1511C13"},{"$f":"IF(Benchsheet!C46=1121057,\"VA1121057\",IF(Benchsheet!C46=1121090,\"VA1121090\",IF(Benchsheet!C46=1121052,\"VA1121052\",IF(Benchsheet!C46=1121175,\"VA1121175\",IF(Benchsheet!C46=1121580,\"VA1121580\",IF(Benchsheet!C46=1121570,\"VA1121570\",IF(Benchsheet!C46=1121045,\"VA1121045\",IF(Benchsheet!C46=1121655,\"VA1121655\",IF(Benchsheet!C46=1121503,\"VA1121503\",IF(Benchsheet!C46=1121043,\"VA1121043\",IF(Benchsheet!C46=1121900,\"VA1121900\",IF(Benchsheet!C46=1121845,\"VA1121845\",IF(Benchsheet!C46=1121655,\"VA1121655\",IF(Benchsheet!C46=1121900,\"VA1121900\",IF(Benchsheet!C46<1,\"\")))))))))))))))","v":"VA1121090"},{"$f":"WORKSHEET!C43","v":3014},{"$f":"IF(Benchsheet!A46>1,\"SM 9223B\",\"\")","v":"SM 9223B"},{"$f":"Benchsheet!U46","v":"00:00:00"},{"$f":"IF(Benchsheet!J46>1,\"A\",\"\")","v":"A"},{"$f":"Benchsheet!M46","v":"A"},{"$f":"IF(WORKSHEET!A43=\"-1\",\"\",IF(WORKSHEET!A43=0,\"0\",WORKSHEET!A43))","v":""},"",{"$f":"IF(WORKSHEET!B43=\"MPN\",\"MPN\",\"\")","v":""}]
[{"$f":"IF(Benchsheet!A47>1,\"result\",\"\")","v":"result"},{"$f":"IF(Benchsheet!A47>1,\"STATE\",\"\")","v":"STATE"},{"$f":"IF(Benchsheet!A47>1,\"00035\",\"\")","v":"00035"},{"$f":"Benchsheet!A47","v":"1511C14"},{"$f":"IF(Benchsheet!C47=1121057,\"VA1121057\",IF(Benchsheet!C47=1121090,\"VA1121090\",IF(Benchsheet!C47=1121052,\"VA1121052\",IF(Benchsheet!C47=1121175,\"VA1121175\",IF(Benchsheet!C47=1121580,\"VA1121580\",IF(Benchsheet!C47=1121570,\"VA1121570\",IF(Benchsheet!C47=1121045,\"VA1121045\",IF(Benchsheet!C47=1121655,\"VA1121655\",IF(Benchsheet!C47=1121503,\"VA1121503\",IF(Benchsheet!C47=1121043,\"VA1121043\",IF(Benchsheet!C47=1121900,\"VA1121900\",IF(Benchsheet!C47=1121845,\"VA1121845\",IF(Benchsheet!C47=1121655,\"VA1121655\",IF(Benchsheet!C47=1121900,\"VA1121900\",IF(Benchsheet!C47<1,\"\")))))))))))))))","v":"VA1121090"},{"$f":"IF(WORKSHEET!B44=\"MPN\",\"3000\",IF(WORKSHEET!B44=\"TC\",\"3100\",\"\"))","v":"3100"},{"$f":"IF(Benchsheet!A47>1,\"SM 9223B\",\"\")","v":"SM 9223B"},{"$f":"Benchsheet!U47","v":"00:00:00"},{"$f":"IF(Benchsheet!J47>1,\"A\",\"\")","v":"A"},{"$f":"Benchsheet!L47","v":"A"},{"$f":"IF(WORKSHEET!A43=\"-1\",\"\",IF(WORKSHEET!A43=0,\"0\",WORKSHEET!A43))","v":""},"",{"$f":"IF(WORKSHEET!B44=\"MPN\",\"MPN\",\"\")","v":""}]
[{"$f":"IF(Benchsheet!A47>1,\"result\",\"\")","v":"result"},{"$f":"IF(Benchsheet!A47>1,\"STATE\",\"\")","v":"STATE"},{"$f":"IF(Benchsheet!A47>1,\"00035\",\"\")","v":"00035"},{"$f":"Benchsheet!A47","v":"1511C14"},{"$f":"IF(Benchsheet!C47=1121057,\"VA1121057\",IF(Benchsheet!C47=1121090,\"VA1121090\",IF(Benchsheet!C47=1121052,\"VA1121052\",IF(Benchsheet!C47=1121175,\"VA1121175\",IF(Benchsheet!C47=1121580,\"VA1121580\",IF(Benchsheet!C47=1121570,\"VA1121570\",IF(Benchsheet!C47=1121045,\"VA1121045\",IF(Benchsheet!C47=1121655,\"VA1121655\",IF(Benchsheet!C47=1121503,\"VA1121503\",IF(Benchsheet!C47=1121043,\"VA1121043\",IF(Benchsheet!C47=1121900,\"VA1121900\",IF(Benchsheet!C47=1121845,\"VA1121845\",IF(Benchsheet!C47=1121655,\"VA1121655\",IF(Benchsheet!C47=1121900,\"VA1121900\",IF(Benchsheet!C47<1,\"\")))))))))))))))","v":"VA1121090"},{"$f":"WORKSHEET!C44","v":3014},{"$f":"IF(Benchsheet!A47>1,\"SM 9223B\",\"\")","v":"SM 9223B"},{"$f":"Benchsheet!U47","v":"00:00:00"},{"$f":"IF(Benchsheet!J47>1,\"A\",\"\")","v":"A"},{"$f":"Benchsheet!M47","v":"A"},{"$f":"IF(WORKSHEET!A44=\"-1\",\"\",IF(WORKSHEET!A44=0,\"0\",WORKSHEET!A44))","v":""},"",{"$f":"IF(WORKSHEET!B44=\"MPN\",\"MPN\",\"\")","v":""}]
[{"$f":"IF(Benchsheet!A48>1,\"result\",\"\")","v":"result"},{"$f":"IF(Benchsheet!A48>1,\"STATE\",\"\")","v":"STATE"},{"$f":"IF(Benchsheet!A48>1,\"00035\",\"\")","v":"00035"},{"$f":"Benchsheet!A48","v":"1511C15"},{"$f":"IF(Benchsheet!C48=1121057,\"VA1121057\",IF(Benchsheet!C48=1121090,\"VA1121090\",IF(Benchsheet!C48=1121052,\"VA1121052\",IF(Benchsheet!C48=1121175,\"VA1121175\",IF(Benchsheet!C48=1121580,\"VA1121580\",IF(Benchsheet!C48=1121570,\"VA1121570\",IF(Benchsheet!C48=1121045,\"VA1121045\",IF(Benchsheet!C48=1121655,\"VA1121655\",IF(Benchsheet!C48=1121503,\"VA1121503\",IF(Benchsheet!C48=1121043,\"VA1121043\",IF(Benchsheet!C48=1121900,\"VA1121900\",IF(Benchsheet!C48=1121845,\"VA1121845\",IF(Benchsheet!C48=1121655,\"VA1121655\",IF(Benchsheet!C48=1121900,\"VA1121900\",IF(Benchsheet!C48<1,\"\")))))))))))))))","v":"VA1121090"},{"$f":"IF(WORKSHEET!B45=\"MPN\",\"3000\",IF(WORKSHEET!B45=\"TC\",\"3100\",\"\"))","v":"3100"},{"$f":"IF(Benchsheet!A48>1,\"SM 9223B\",\"\")","v":"SM 9223B"},{"$f":"Benchsheet!U48","v":"00:00:00"},{"$f":"IF(Benchsheet!J48>1,\"A\",\"\")","v":"A"},{"$f":"Benchsheet!L48","v":"A"},{"$f":"IF(WORKSHEET!A44=\"-1\",\"\",IF(WORKSHEET!A44=0,\"0\",WORKSHEET!A44))","v":""},"",{"$f":"IF(WORKSHEET!B45=\"MPN\",\"MPN\",\"\")","v":""}]
[{"$f":"IF(Benchsheet!A48>1,\"result\",\"\")","v":"result"},{"$f":"IF(Benchsheet!A48>1,\"STATE\",\"\")","v":"STATE"},{"$f":"IF(Benchsheet!A48>1,\"00035\",\"\")","v":"00035"},{"$f":"Benchsheet!A48","v":"1511C15"},{"$f":"IF(Benchsheet!C48=1121057,\"VA1121057\",IF(Benchsheet!C48=1121090,\"VA1121090\",IF(Benchsheet!C48=1121052,\"VA1121052\",IF(Benchsheet!C48=1121175,\"VA1121175\",IF(Benchsheet!C48=1121580,\"VA1121580\",IF(Benchsheet!C48=1121570,\"VA1121570\",IF(Benchsheet!C48=1121045,\"VA1121045\",IF(Benchsheet!C48=1121655,\"VA1121655\",IF(Benchsheet!C48=1121503,\"VA1121503\",IF(Benchsheet!C48=1121043,\"VA1121043\",IF(Benchsheet!C48=1121900,\"VA1121900\",IF(Benchsheet!C48=1121845,\"VA1121845\",IF(Benchsheet!C48=1121655,\"VA1121655\",IF(Benchsheet!C48=1121900,\"VA1121900\",IF(Benchsheet!C48<1,\"\")))))))))))))))","v":"VA1121090"},{"$f":"WORKSHEET!C45","v":3014},{"$f":"IF(Benchsheet!A48>1,\"SM 9223B\",\"\")","v":"SM 9223B"},{"$f":"Benchsheet!U48","v":"00:00:00"},{"$f":"IF(Benchsheet!J48>1,\"A\",\"\")","v":"A"},{"$f":"Benchsheet!M48","v":"A"},{"$f":"IF(WORKSHEET!A45=\"-1\",\"\",IF(WORKSHEET!A45=0,\"0\",WORKSHEET!A45))","v":""},"",{"$f":"IF(WORKSHEET!B45=\"MPN\",\"MPN\",\"\")","v":""}]
[{"$f":"IF(Benchsheet!A49>1,\"result\",\"\")","v":"result"},{"$f":"IF(Benchsheet!A49>1,\"STATE\",\"\")","v":"STATE"},{"$f":"IF(Benchsheet!A49>1,\"00035\",\"\")","v":"00035"},{"$f":"Benchsheet!A49","v":"1511C16"},{"$f":"IF(Benchsheet!C49=1121057,\"VA1121057\",IF(Benchsheet!C49=1121090,\"VA1121090\",IF(Benchsheet!C49=1121052,\"VA1121052\",IF(Benchsheet!C49=1121175,\"VA1121175\",IF(Benchsheet!C49=1121580,\"VA1121580\",IF(Benchsheet!C49=1121570,\"VA1121570\",IF(Benchsheet!C49=1121045,\"VA1121045\",IF(Benchsheet!C49=1121655,\"VA1121655\",IF(Benchsheet!C49=1121503,\"VA1121503\",IF(Benchsheet!C49=1121043,\"VA1121043\",IF(Benchsheet!C49=1121900,\"VA1121900\",IF(Benchsheet!C49=1121845,\"VA1121845\",IF(Benchsheet!C49=1121655,\"VA1121655\",IF(Benchsheet!C49=1121900,\"VA1121900\",IF(Benchsheet!C49<1,\"\")))))))))))))))","v":"VA1121090"},{"$f":"IF(WORKSHEET!B46=\"MPN\",\"3000\",IF(WORKSHEET!B46=\"TC\",\"3100\",\"\"))","v":"3100"},{"$f":"IF(Benchsheet!A49>1,\"SM 9223B\",\"\")","v":"SM 9223B"},{"$f":"Benchsheet!U49","v":"00:00:00"},{"$f":"IF(Benchsheet!J49>1,\"A\",\"\")","v":"A"},{"$f":"Benchsheet!L49","v":"A"},{"$f":"IF(WORKSHEET!A45=\"-1\",\"\",IF(WORKSHEET!A45=0,\"0\",WORKSHEET!A45))","v":""},"",{"$f":"IF(WORKSHEET!B46=\"MPN\",\"MPN\",\"\")","v":""}]
[{"$f":"IF(Benchsheet!A49>1,\"result\",\"\")","v":"result"},{"$f":"IF(Benchsheet!A49>1,\"STATE\",\"\")","v":"STATE"},{"$f":"IF(Benchsheet!A49>1,\"00035\",\"\")","v":"00035"},{"$f":"Benchsheet!A49","v":"1511C16"},{"$f":"IF(Benchsheet!C49=1121057,\"VA1121057\",IF(Benchsheet!C49=1121090,\"VA1121090\",IF(Benchsheet!C49=1121052,\"VA1121052\",IF(Benchsheet!C49=1121175,\"VA1121175\",IF(Benchsheet!C49=1121580,\"VA1121580\",IF(Benchsheet!C49=1121570,\"VA1121570\",IF(Benchsheet!C49=1121045,\"VA1121045\",IF(Benchsheet!C49=1121655,\"VA1121655\",IF(Benchsheet!C49=1121503,\"VA1121503\",IF(Benchsheet!C49=1121043,\"VA1121043\",IF(Benchsheet!C49=1121900,\"VA1121900\",IF(Benchsheet!C49=1121845,\"VA1121845\",IF(Benchsheet!C49=1121655,\"VA1121655\",IF(Benchsheet!C49=1121900,\"VA1121900\",IF(Benchsheet!C49<1,\"\")))))))))))))))","v":"VA1121090"},{"$f":"WORKSHEET!C46","v":3014},{"$f":"IF(Benchsheet!A49>1,\"SM 9223B\",\"\")","v":"SM 9223B"},{"$f":"Benchsheet!U49","v":"00:00:00"},{"$f":"IF(Benchsheet!J49>1,\"A\",\"\")","v":"A"},{"$f":"Benchsheet!M49","v":"A"},{"$f":"IF(WORKSHEET!A46=\"-1\",\"\",IF(WORKSHEET!A46=0,\"0\",WORKSHEET!A46))","v":""},"",{"$f":"IF(WORKSHEET!B46=\"MPN\",\"MPN\",\"\")","v":""}]
[{"$f":"IF(Benchsheet!A50>1,\"result\",\"\")","v":"result"},{"$f":"IF(Benchsheet!A50>1,\"STATE\",\"\")","v":"STATE"},{"$f":"IF(Benchsheet!A50>1,\"00035\",\"\")","v":"00035"},{"$f":"Benchsheet!A50","v":"1511C17"},{"$f":"IF(Benchsheet!C50=1121057,\"VA1121057\",IF(Benchsheet!C50=1121090,\"VA1121090\",IF(Benchsheet!C50=1121052,\"VA1121052\",IF(Benchsheet!C50=1121175,\"VA1121175\",IF(Benchsheet!C50=1121580,\"VA1121580\",IF(Benchsheet!C50=1121570,\"VA1121570\",IF(Benchsheet!C50=1121045,\"VA1121045\",IF(Benchsheet!C50=1121655,\"VA1121655\",IF(Benchsheet!C50=1121503,\"VA1121503\",IF(Benchsheet!C50=1121043,\"VA1121043\",IF(Benchsheet!C50=1121900,\"VA1121900\",IF(Benchsheet!C50=1121845,\"VA1121845\",IF(Benchsheet!C50=1121655,\"VA1121655\",IF(Benchsheet!C50=1121900,\"VA1121900\",IF(Benchsheet!C50<1,\"\")))))))))))))))","v":"VA1121090"},{"$f":"IF(WORKSHEET!B47=\"MPN\",\"3000\",IF(WORKSHEET!B47=\"TC\",\"3100\",\"\"))","v":"3100"},{"$f":"IF(Benchsheet!A50>1,\"SM 9223B\",\"\")","v":"SM 9223B"},{"$f":"Benchsheet!U50","v":"00:00:00"},{"$f":"IF(Benchsheet!J50>1,\"A\",\"\")","v":"A"},{"$f":"Benchsheet!L50","v":"A"},{"$f":"IF(WORKSHEET!A46=\"-1\",\"\",IF(WORKSHEET!A46=0,\"0\",WORKSHEET!A46))","v":""},"",{"$f":"IF(WORKSHEET!B47=\"MPN\",\"MPN\",\"\")","v":""}]
[{"$f":"IF(Benchsheet!A50>1,\"result\",\"\")","v":"result"},{"$f":"IF(Benchsheet!A50>1,\"STATE\",\"\")","v":"STATE"},{"$f":"IF(Benchsheet!A50>1,\"00035\",\"\")","v":"00035"},{"$f":"Benchsheet!A50","v":"1511C17"},{"$f":"IF(Benchsheet!C50=1121057,\"VA1121057\",IF(Benchsheet!C50=1121090,\"VA1121090\",IF(Benchsheet!C50=1121052,\"VA1121052\",IF(Benchsheet!C50=1121175,\"VA1121175\",IF(Benchsheet!C50=1121580,\"VA1121580\",IF(Benchsheet!C50=1121570,\"VA1121570\",IF(Benchsheet!C50=1121045,\"VA1121045\",IF(Benchsheet!C50=1121655,\"VA1121655\",IF(Benchsheet!C50=1121503,\"VA1121503\",IF(Benchsheet!C50=1121043,\"VA1121043\",IF(Benchsheet!C50=1121900,\"VA1121900\",IF(Benchsheet!C50=1121845,\"VA1121845\",IF(Benchsheet!C50=1121655,\"VA1121655\",IF(Benchsheet!C50=1121900,\"VA1121900\",IF(Benchsheet!C50<1,\"\")))))))))))))))","v":"VA1121090"},{"$f":"WORKSHEET!C47","v":3014},{"$f":"IF(Benchsheet!A50>1,\"SM 9223B\",\"\")","v":"SM 9223B"},{"$f":"Benchsheet!U50","v":"00:00:00"},{"$f":"IF(Benchsheet!J50>1,\"A\",\"\")","v":"A"},{"$f":"Benchsheet!M50","v":"A"},{"$f":"IF(WORKSHEET!A47=\"-1\",\"\",IF(WORKSHEET!A47=0,\"0\",WORKSHEET!A47))","v":""},"",{"$f":"IF(WORKSHEET!B47=\"MPN\",\"MPN\",\"\")","v":""}]
[{"$f":"IF(Benchsheet!A51>1,\"result\",\"\")","v":"result"},{"$f":"IF(Benchsheet!A51>1,\"STATE\",\"\")","v":"STATE"},{"$f":"IF(Benchsheet!A51>1,\"00035\",\"\")","v":"00035"},{"$f":"Benchsheet!A51","v":"1511P8 "},{"$f":"IF(Benchsheet!C51=1121057,\"VA1121057\",IF(Benchsheet!C51=1121090,\"VA1121090\",IF(Benchsheet!C51=1121052,\"VA1121052\",IF(Benchsheet!C51=1121175,\"VA1121175\",IF(Benchsheet!C51=1121580,\"VA1121580\",IF(Benchsheet!C51=1121570,\"VA1121570\",IF(Benchsheet!C51=1121045,\"VA1121045\",IF(Benchsheet!C51=1121655,\"VA1121655\",IF(Benchsheet!C51=1121503,\"VA1121503\",IF(Benchsheet!C51=1121043,\"VA1121043\",IF(Benchsheet!C51=1121900,\"VA1121900\",IF(Benchsheet!C51=1121845,\"VA1121845\",IF(Benchsheet!C51=1121655,\"VA1121655\",IF(Benchsheet!C51=1121900,\"VA1121900\",IF(Benchsheet!C51<1,\"\")))))))))))))))","v":"VA1121057"},{"$f":"IF(WORKSHEET!B48=\"MPN\",\"3000\",IF(WORKSHEET!B48=\"TC\",\"3100\",\"\"))","v":"3100"},{"$f":"IF(Benchsheet!A51>1,\"SM 9223B\",\"\")","v":"SM 9223B"},{"$f":"Benchsheet!U51","v":"00:00:00"},{"$f":"IF(Benchsheet!J51>1,\"A\",\"\")","v":"A"},{"$f":"Benchsheet!L51","v":"A"},{"$f":"IF(WORKSHEET!A47=\"-1\",\"\",IF(WORKSHEET!A47=0,\"0\",WORKSHEET!A47))","v":""},"",{"$f":"IF(WORKSHEET!B48=\"MPN\",\"MPN\",\"\")","v":""}]
[{"$f":"IF(Benchsheet!A51>1,\"result\",\"\")","v":"result"},{"$f":"IF(Benchsheet!A51>1,\"STATE\",\"\")","v":"STATE"},{"$f":"IF(Benchsheet!A51>1,\"00035\",\"\")","v":"00035"},{"$f":"Benchsheet!A51","v":"1511P8 "},{"$f":"IF(Benchsheet!C51=1121057,\"VA1121057\",IF(Benchsheet!C51=1121090,\"VA1121090\",IF(Benchsheet!C51=1121052,\"VA1121052\",IF(Benchsheet!C51=1121175,\"VA1121175\",IF(Benchsheet!C51=1121580,\"VA1121580\",IF(Benchsheet!C51=1121570,\"VA1121570\",IF(Benchsheet!C51=1121045,\"VA1121045\",IF(Benchsheet!C51=1121655,\"VA1121655\",IF(Benchsheet!C51=1121503,\"VA1121503\",IF(Benchsheet!C51=1121043,\"VA1121043\",IF(Benchsheet!C51=1121900,\"VA1121900\",IF(Benchsheet!C51=1121845,\"VA1121845\",IF(Benchsheet!C51=1121655,\"VA1121655\",IF(Benchsheet!C51=1121900,\"VA1121900\",IF(Benchsheet!C51<1,\"\")))))))))))))))","v":"VA1121057"},{"$f":"WORKSHEET!C48","v":3014},{"$f":"IF(Benchsheet!A51>1,\"SM 9223B\",\"\")","v":"SM 9223B"},{"$f":"Benchsheet!U51","v":"00:00:00"},{"$f":"IF(Benchsheet!J51>1,\"A\",\"\")","v":"A"},{"$f":"Benchsheet!M51","v":"A"},{"$f":"IF(WORKSHEET!A48=\"-1\",\"\",IF(WORKSHEET!A48=0,\"0\",WORKSHEET!A48))","v":""},"",{"$f":"IF(WORKSHEET!B48=\"MPN\",\"MPN\",\"\")","v":""}]
[{"$f":"IF(Benchsheet!A52>1,\"result\",\"\")","v":"result"},{"$f":"IF(Benchsheet!A52>1,\"STATE\",\"\")","v":"STATE"},{"$f":"IF(Benchsheet!A52>1,\"00035\",\"\")","v":"00035"},{"$f":"Benchsheet!A52","v":"1511P9"},{"$f":"IF(Benchsheet!C52=1121057,\"VA1121057\",IF(Benchsheet!C52=1121090,\"VA1121090\",IF(Benchsheet!C52=1121052,\"VA1121052\",IF(Benchsheet!C52=1121175,\"VA1121175\",IF(Benchsheet!C52=1121580,\"VA1121580\",IF(Benchsheet!C52=1121570,\"VA1121570\",IF(Benchsheet!C52=1121045,\"VA1121045\",IF(Benchsheet!C52=1121655,\"VA1121655\",IF(Benchsheet!C52=1121503,\"VA1121503\",IF(Benchsheet!C52=1121043,\"VA1121043\",IF(Benchsheet!C52=1121900,\"VA1121900\",IF(Benchsheet!C52=1121845,\"VA1121845\",IF(Benchsheet!C52=1121655,\"VA1121655\",IF(Benchsheet!C52=1121900,\"VA1121900\",IF(Benchsheet!C52<1,\"\")))))))))))))))","v":"VA1121057"},{"$f":"IF(WORKSHEET!B49=\"MPN\",\"3000\",IF(WORKSHEET!B49=\"TC\",\"3100\",\"\"))","v":"3100"},{"$f":"IF(Benchsheet!A52>1,\"SM 9223B\",\"\")","v":"SM 9223B"},{"$f":"Benchsheet!U52","v":"00:00:00"},{"$f":"IF(Benchsheet!J52>1,\"A\",\"\")","v":"A"},{"$f":"Benchsheet!L52","v":"A"},{"$f":"IF(WORKSHEET!A48=\"-1\",\"\",IF(WORKSHEET!A48=0,\"0\",WORKSHEET!A48))","v":""},"",{"$f":"IF(WORKSHEET!B49=\"MPN\",\"MPN\",\"\")","v":""}]
[{"$f":"IF(Benchsheet!A52>1,\"result\",\"\")","v":"result"},{"$f":"IF(Benchsheet!A52>1,\"STATE\",\"\")","v":"STATE"},{"$f":"IF(Benchsheet!A52>1,\"00035\",\"\")","v":"00035"},{"$f":"Benchsheet!A52","v":"1511P9"},{"$f":"IF(Benchsheet!C52=1121057,\"VA1121057\",IF(Benchsheet!C52=1121090,\"VA1121090\",IF(Benchsheet!C52=1121052,\"VA1121052\",IF(Benchsheet!C52=1121175,\"VA1121175\",IF(Benchsheet!C52=1121580,\"VA1121580\",IF(Benchsheet!C52=1121570,\"VA1121570\",IF(Benchsheet!C52=1121045,\"VA1121045\",IF(Benchsheet!C52=1121655,\"VA1121655\",IF(Benchsheet!C52=1121503,\"VA1121503\",IF(Benchsheet!C52=1121043,\"VA1121043\",IF(Benchsheet!C52=1121900,\"VA1121900\",IF(Benchsheet!C52=1121845,\"VA1121845\",IF(Benchsheet!C52=1121655,\"VA1121655\",IF(Benchsheet!C52=1121900,\"VA1121900\",IF(Benchsheet!C52<1,\"\")))))))))))))))","v":"VA1121057"},{"$f":"WORKSHEET!C49","v":3014},{"$f":"IF(Benchsheet!A52>1,\"SM 9223B\",\"\")","v":"SM 9223B"},{"$f":"Benchsheet!U52","v":"00:00:00"},{"$f":"IF(Benchsheet!J52>1,\"A\",\"\")","v":"A"},{"$f":"Benchsheet!M52","v":"A"},{"$f":"IF(WORKSHEET!A49=\"-1\",\"\",IF(WORKSHEET!A49=0,\"0\",WORKSHEET!A49))","v":""},"",{"$f":"IF(WORKSHEET!B49=\"MPN\",\"MPN\",\"\")","v":""}]
[{"$f":"IF(Benchsheet!A53>1,\"result\",\"\")","v":"result"},{"$f":"IF(Benchsheet!A53>1,\"STATE\",\"\")","v":"STATE"},{"$f":"IF(Benchsheet!A53>1,\"00035\",\"\")","v":"00035"},{"$f":"Benchsheet!A53","v":"1511P10"},{"$f":"IF(Benchsheet!C53=1121057,\"VA1121057\",IF(Benchsheet!C53=1121090,\"VA1121090\",IF(Benchsheet!C53=1121052,\"VA1121052\",IF(Benchsheet!C53=1121175,\"VA1121175\",IF(Benchsheet!C53=1121580,\"VA1121580\",IF(Benchsheet!C53=1121570,\"VA1121570\",IF(Benchsheet!C53=1121045,\"VA1121045\",IF(Benchsheet!C53=1121655,\"VA1121655\",IF(Benchsheet!C53=1121503,\"VA1121503\",IF(Benchsheet!C53=1121043,\"VA1121043\",IF(Benchsheet!C53=1121900,\"VA1121900\",IF(Benchsheet!C53=1121845,\"VA1121845\",IF(Benchsheet!C53=1121655,\"VA1121655\",IF(Benchsheet!C53=1121900,\"VA1121900\",IF(Benchsheet!C53<1,\"\")))))))))))))))","v":"VA1121057"},{"$f":"IF(WORKSHEET!B50=\"MPN\",\"3000\",IF(WORKSHEET!B50=\"TC\",\"3100\",\"\"))","v":"3100"},{"$f":"IF(Benchsheet!A53>1,\"SM 9223B\",\"\")","v":"SM 9223B"},{"$f":"Benchsheet!U53","v":"00:00:00"},{"$f":"IF(Benchsheet!J53>1,\"A\",\"\")","v":"A"},{"$f":"Benchsheet!L53","v":"A"},{"$f":"IF(WORKSHEET!A49=\"-1\",\"\",IF(WORKSHEET!A49=0,\"0\",WORKSHEET!A49))","v":""},"",{"$f":"IF(WORKSHEET!B50=\"MPN\",\"MPN\",\"\")","v":""}]
[{"$f":"IF(Benchsheet!A53>1,\"result\",\"\")","v":"result"},{"$f":"IF(Benchsheet!A53>1,\"STATE\",\"\")","v":"STATE"},{"$f":"IF(Benchsheet!A53>1,\"00035\",\"\")","v":"00035"},{"$f":"Benchsheet!A53","v":"1511P10"},{"$f":"IF(Benchsheet!C53=1121057,\"VA1121057\",IF(Benchsheet!C53=1121090,\"VA1121090\",IF(Benchsheet!C53=1121052,\"VA1121052\",IF(Benchsheet!C53=1121175,\"VA1121175\",IF(Benchsheet!C53=1121580,\"VA1121580\",IF(Benchsheet!C53=1121570,\"VA1121570\",IF(Benchsheet!C53=1121045,\"VA1121045\",IF(Benchsheet!C53=1121655,\"VA1121655\",IF(Benchsheet!C53=1121503,\"VA1121503\",IF(Benchsheet!C53=1121043,\"VA1121043\",IF(Benchsheet!C53=1121900,\"VA1121900\",IF(Benchsheet!C53=1121845,\"VA1121845\",IF(Benchsheet!C53=1121655,\"VA1121655\",IF(Benchsheet!C53=1121900,\"VA1121900\",IF(Benchsheet!C53<1,\"\")))))))))))))))","v":"VA1121057"},{"$f":"WORKSHEET!C50","v":3014},{"$f":"IF(Benchsheet!A53>1,\"SM 9223B\",\"\")","v":"SM 9223B"},{"$f":"Benchsheet!U53","v":"00:00:00"},{"$f":"IF(Benchsheet!J53>1,\"A\",\"\")","v":"A"},{"$f":"Benchsheet!M53","v":"A"},{"$f":"IF(WORKSHEET!A50=\"-1\",\"\",IF(WORKSHEET!A50=0,\"0\",WORKSHEET!A50))","v":""},"",{"$f":"IF(WORKSHEET!B50=\"MPN\",\"MPN\",\"\")","v":""}]
[{"$f":"IF(Benchsheet!A54>1,\"result\",\"\")","v":"result"},{"$f":"IF(Benchsheet!A54>1,\"STATE\",\"\")","v":"STATE"},{"$f":"IF(Benchsheet!A54>1,\"00035\",\"\")","v":"00035"},{"$f":"Benchsheet!A54","v":"1511B15"},{"$f":"IF(Benchsheet!C54=1121057,\"VA1121057\",IF(Benchsheet!C54=1121090,\"VA1121090\",IF(Benchsheet!C54=1121052,\"VA1121052\",IF(Benchsheet!C54=1121175,\"VA1121175\",IF(Benchsheet!C54=1121580,\"VA1121580\",IF(Benchsheet!C54=1121570,\"VA1121570\",IF(Benchsheet!C54=1121045,\"VA1121045\",IF(Benchsheet!C54=1121655,\"VA1121655\",IF(Benchsheet!C54=1121503,\"VA1121503\",IF(Benchsheet!C54=1121043,\"VA1121043\",IF(Benchsheet!C54=1121900,\"VA1121900\",IF(Benchsheet!C54=1121845,\"VA1121845\",IF(Benchsheet!C54=1121655,\"VA1121655\",IF(Benchsheet!C54=1121900,\"VA1121900\",IF(Benchsheet!C54<1,\"\")))))))))))))))","v":"VA1121052"},{"$f":"IF(WORKSHEET!B51=\"MPN\",\"3000\",IF(WORKSHEET!B51=\"TC\",\"3100\",\"\"))","v":"3100"},{"$f":"IF(Benchsheet!A54>1,\"SM 9223B\",\"\")","v":"SM 9223B"},{"$f":"Benchsheet!U54","v":"00:00:00"},{"$f":"IF(Benchsheet!J54>1,\"A\",\"\")","v":"A"},{"$f":"Benchsheet!L54","v":"A"},{"$f":"IF(WORKSHEET!A50=\"-1\",\"\",IF(WORKSHEET!A50=0,\"0\",WORKSHEET!A50))","v":""},"",{"$f":"IF(WORKSHEET!B51=\"MPN\",\"MPN\",\"\")","v":""}]
[{"$f":"IF(Benchsheet!A54>1,\"result\",\"\")","v":"result"},{"$f":"IF(Benchsheet!A54>1,\"STATE\",\"\")","v":"STATE"},{"$f":"IF(Benchsheet!A54>1,\"00035\",\"\")","v":"00035"},{"$f":"Benchsheet!A54","v":"1511B15"},{"$f":"IF(Benchsheet!C54=1121057,\"VA1121057\",IF(Benchsheet!C54=1121090,\"VA1121090\",IF(Benchsheet!C54=1121052,\"VA1121052\",IF(Benchsheet!C54=1121175,\"VA1121175\",IF(Benchsheet!C54=1121580,\"VA1121580\",IF(Benchsheet!C54=1121570,\"VA1121570\",IF(Benchsheet!C54=1121045,\"VA1121045\",IF(Benchsheet!C54=1121655,\"VA1121655\",IF(Benchsheet!C54=1121503,\"VA1121503\",IF(Benchsheet!C54=1121043,\"VA1121043\",IF(Benchsheet!C54=1121900,\"VA1121900\",IF(Benchsheet!C54=1121845,\"VA1121845\",IF(Benchsheet!C54=1121655,\"VA1121655\",IF(Benchsheet!C54=1121900,\"VA1121900\",IF(Benchsheet!C54<1,\"\")))))))))))))))","v":"VA1121052"},{"$f":"WORKSHEET!C51","v":3014},{"$f":"IF(Benchsheet!A54>1,\"SM 9223B\",\"\")","v":"SM 9223B"},{"$f":"Benchsheet!U54","v":"00:00:00"},{"$f":"IF(Benchsheet!J54>1,\"A\",\"\")","v":"A"},{"$f":"Benchsheet!M54","v":"A"},{"$f":"IF(WORKSHEET!A51=\"-1\",\"\",IF(WORKSHEET!A51=0,\"0\",WORKSHEET!A51))","v":""},"",{"$f":"IF(WORKSHEET!B51=\"MPN\",\"MPN\",\"\")","v":""}]
[{"$f":"IF(Benchsheet!A55>1,\"result\",\"\")","v":"result"},{"$f":"IF(Benchsheet!A55>1,\"STATE\",\"\")","v":"STATE"},{"$f":"IF(Benchsheet!A55>1,\"00035\",\"\")","v":"00035"},{"$f":"Benchsheet!A55","v":"1511B16"},{"$f":"IF(Benchsheet!C55=1121057,\"VA1121057\",IF(Benchsheet!C55=1121090,\"VA1121090\",IF(Benchsheet!C55=1121052,\"VA1121052\",IF(Benchsheet!C55=1121175,\"VA1121175\",IF(Benchsheet!C55=1121580,\"VA1121580\",IF(Benchsheet!C55=1121570,\"VA1121570\",IF(Benchsheet!C55=1121045,\"VA1121045\",IF(Benchsheet!C55=1121655,\"VA1121655\",IF(Benchsheet!C55=1121503,\"VA1121503\",IF(Benchsheet!C55=1121043,\"VA1121043\",IF(Benchsheet!C55=1121900,\"VA1121900\",IF(Benchsheet!C55=1121845,\"VA1121845\",IF(Benchsheet!C55=1121655,\"VA1121655\",IF(Benchsheet!C55=1121900,\"VA1121900\",IF(Benchsheet!C55<1,\"\")))))))))))))))","v":"VA1121052"},{"$f":"IF(WORKSHEET!B52=\"MPN\",\"3000\",IF(WORKSHEET!B52=\"TC\",\"3100\",\"\"))","v":"3100"},{"$f":"IF(Benchsheet!A55>1,\"SM 9223B\",\"\")","v":"SM 9223B"},{"$f":"Benchsheet!U55","v":"00:00:00"},{"$f":"IF(Benchsheet!J55>1,\"A\",\"\")","v":"A"},{"$f":"Benchsheet!L55","v":"A"},{"$f":"IF(WORKSHEET!A51=\"-1\",\"\",IF(WORKSHEET!A51=0,\"0\",WORKSHEET!A51))","v":""},"",{"$f":"IF(WORKSHEET!B52=\"MPN\",\"MPN\",\"\")","v":""}]
[{"$f":"IF(Benchsheet!A55>1,\"result\",\"\")","v":"result"},{"$f":"IF(Benchsheet!A55>1,\"STATE\",\"\")","v":"STATE"},{"$f":"IF(Benchsheet!A55>1,\"00035\",\"\")","v":"00035"},{"$f":"Benchsheet!A55","v":"1511B16"},{"$f":"IF(Benchsheet!C55=1121057,\"VA1121057\",IF(Benchsheet!C55=1121090,\"VA1121090\",IF(Benchsheet!C55=1121052,\"VA1121052\",IF(Benchsheet!C55=1121175,\"VA1121175\",IF(Benchsheet!C55=1121580,\"VA1121580\",IF(Benchsheet!C55=1121570,\"VA1121570\",IF(Benchsheet!C55=1121045,\"VA1121045\",IF(Benchsheet!C55=1121655,\"VA1121655\",IF(Benchsheet!C55=1121503,\"VA1121503\",IF(Benchsheet!C55=1121043,\"VA1121043\",IF(Benchsheet!C55=1121900,\"VA1121900\",IF(Benchsheet!C55=1121845,\"VA1121845\",IF(Benchsheet!C55=1121655,\"VA1121655\",IF(Benchsheet!C55=1121900,\"VA1121900\",IF(Benchsheet!C55<1,\"\")))))))))))))))","v":"VA1121052"},{"$f":"WORKSHEET!C52","v":3014},{"$f":"IF(Benchsheet!A55>1,\"SM 9223B\",\"\")","v":"SM 9223B"},{"$f":"Benchsheet!U55","v":"00:00:00"},{"$f":"IF(Benchsheet!J55>1,\"A\",\"\")","v":"A"},{"$f":"Benchsheet!M55","v":"A"},{"$f":"IF(WORKSHEET!A52=\"-1\",\"\",IF(WORKSHEET!A52=0,\"0\",WORKSHEET!A52))","v":""},"",{"$f":"IF(WORKSHEET!B52=\"MPN\",\"MPN\",\"\")","v":""}]
[{"$f":"IF(Benchsheet!A56>1,\"result\",\"\")","v":"result"},{"$f":"IF(Benchsheet!A56>1,\"STATE\",\"\")","v":"STATE"},{"$f":"IF(Benchsheet!A56>1,\"00035\",\"\")","v":"00035"},{"$f":"Benchsheet!A56","v":"1511B17"},{"$f":"IF(Benchsheet!C56=1121057,\"VA1121057\",IF(Benchsheet!C56=1121090,\"VA1121090\",IF(Benchsheet!C56=1121052,\"VA1121052\",IF(Benchsheet!C56=1121175,\"VA1121175\",IF(Benchsheet!C56=1121580,\"VA1121580\",IF(Benchsheet!C56=1121570,\"VA1121570\",IF(Benchsheet!C56=1121045,\"VA1121045\",IF(Benchsheet!C56=1121655,\"VA1121655\",IF(Benchsheet!C56=1121503,\"VA1121503\",IF(Benchsheet!C56=1121043,\"VA1121043\",IF(Benchsheet!C56=1121900,\"VA1121900\",IF(Benchsheet!C56=1121845,\"VA1121845\",IF(Benchsheet!C56=1121655,\"VA1121655\",IF(Benchsheet!C56=1121900,\"VA1121900\",IF(Benchsheet!C56<1,\"\")))))))))))))))","v":"VA1121052"},{"$f":"IF(WORKSHEET!B53=\"MPN\",\"3000\",IF(WORKSHEET!B53=\"TC\",\"3100\",\"\"))","v":"3100"},{"$f":"IF(Benchsheet!A56>1,\"SM 9223B\",\"\")","v":"SM 9223B"},{"$f":"Benchsheet!U56","v":"00:00:00"},{"$f":"IF(Benchsheet!J56>1,\"A\",\"\")","v":"A"},{"$f":"Benchsheet!L56","v":"A"},{"$f":"IF(WORKSHEET!A52=\"-1\",\"\",IF(WORKSHEET!A52=0,\"0\",WORKSHEET!A52))","v":""},"",{"$f":"IF(WORKSHEET!B53=\"MPN\",\"MPN\",\"\")","v":""}]
[{"$f":"IF(Benchsheet!A56>1,\"result\",\"\")","v":"result"},{"$f":"IF(Benchsheet!A56>1,\"STATE\",\"\")","v":"STATE"},{"$f":"IF(Benchsheet!A56>1,\"00035\",\"\")","v":"00035"},{"$f":"Benchsheet!A56","v":"1511B17"},{"$f":"IF(Benchsheet!C56=1121057,\"VA1121057\",IF(Benchsheet!C56=1121090,\"VA1121090\",IF(Benchsheet!C56=1121052,\"VA1121052\",IF(Benchsheet!C56=1121175,\"VA1121175\",IF(Benchsheet!C56=1121580,\"VA1121580\",IF(Benchsheet!C56=1121570,\"VA1121570\",IF(Benchsheet!C56=1121045,\"VA1121045\",IF(Benchsheet!C56=1121655,\"VA1121655\",IF(Benchsheet!C56=1121503,\"VA1121503\",IF(Benchsheet!C56=1121043,\"VA1121043\",IF(Benchsheet!C56=1121900,\"VA1121900\",IF(Benchsheet!C56=1121845,\"VA1121845\",IF(Benchsheet!C56=1121655,\"VA1121655\",IF(Benchsheet!C56=1121900,\"VA1121900\",IF(Benchsheet!C56<1,\"\")))))))))))))))","v":"VA1121052"},{"$f":"WORKSHEET!C53","v":3014},{"$f":"IF(Benchsheet!A56>1,\"SM 9223B\",\"\")","v":"SM 9223B"},{"$f":"Benchsheet!U56","v":"00:00:00"},{"$f":"IF(Benchsheet!J56>1,\"A\",\"\")","v":"A"},{"$f":"Benchsheet!M56","v":"A"},{"$f":"IF(WORKSHEET!A53=\"-1\",\"\",IF(WORKSHEET!A53=0,\"0\",WORKSHEET!A53))","v":""},"",{"$f":"IF(WORKSHEET!B53=\"MPN\",\"MPN\",\"\")","v":""}]
[{"$f":"IF(Benchsheet!A57>1,\"result\",\"\")","v":"result"},{"$f":"IF(Benchsheet!A57>1,\"STATE\",\"\")","v":"STATE"},{"$f":"IF(Benchsheet!A57>1,\"00035\",\"\")","v":"00035"},{"$f":"Benchsheet!A57","v":"1511B18"},{"$f":"IF(Benchsheet!C57=1121057,\"VA1121057\",IF(Benchsheet!C57=1121090,\"VA1121090\",IF(Benchsheet!C57=1121052,\"VA1121052\",IF(Benchsheet!C57=1121175,\"VA1121175\",IF(Benchsheet!C57=1121580,\"VA1121580\",IF(Benchsheet!C57=1121570,\"VA1121570\",IF(Benchsheet!C57=1121045,\"VA1121045\",IF(Benchsheet!C57=1121655,\"VA1121655\",IF(Benchsheet!C57=1121503,\"VA1121503\",IF(Benchsheet!C57=1121043,\"VA1121043\",IF(Benchsheet!C57=1121900,\"VA1121900\",IF(Benchsheet!C57=1121845,\"VA1121845\",IF(Benchsheet!C57=1121655,\"VA1121655\",IF(Benchsheet!C57=1121900,\"VA1121900\",IF(Benchsheet!C57<1,\"\")))))))))))))))","v":"VA1121052"},{"$f":"IF(WORKSHEET!B54=\"MPN\",\"3000\",IF(WORKSHEET!B54=\"TC\",\"3100\",\"\"))","v":"3100"},{"$f":"IF(Benchsheet!A57>1,\"SM 9223B\",\"\")","v":"SM 9223B"},{"$f":"Benchsheet!U57","v":"00:00:00"},{"$f":"IF(Benchsheet!J57>1,\"A\",\"\")","v":"A"},{"$f":"Benchsheet!L57","v":"A"},{"$f":"IF(WORKSHEET!A53=\"-1\",\"\",IF(WORKSHEET!A53=0,\"0\",WORKSHEET!A53))","v":""},"",{"$f":"IF(WORKSHEET!B54=\"MPN\",\"MPN\",\"\")","v":""}]
[{"$f":"IF(Benchsheet!A57>1,\"result\",\"\")","v":"result"},{"$f":"IF(Benchsheet!A57>1,\"STATE\",\"\")","v":"STATE"},{"$f":"IF(Benchsheet!A57>1,\"00035\",\"\")","v":"00035"},{"$f":"Benchsheet!A57","v":"1511B18"},{"$f":"IF(Benchsheet!C57=1121057,\"VA1121057\",IF(Benchsheet!C57=1121090,\"VA1121090\",IF(Benchsheet!C57=1121052,\"VA1121052\",IF(Benchsheet!C57=1121175,\"VA1121175\",IF(Benchsheet!C57=1121580,\"VA1121580\",IF(Benchsheet!C57=1121570,\"VA1121570\",IF(Benchsheet!C57=1121045,\"VA1121045\",IF(Benchsheet!C57=1121655,\"VA1121655\",IF(Benchsheet!C57=1121503,\"VA1121503\",IF(Benchsheet!C57=1121043,\"VA1121043\",IF(Benchsheet!C57=1121900,\"VA1121900\",IF(Benchsheet!C57=1121845,\"VA1121845\",IF(Benchsheet!C57=1121655,\"VA1121655\",IF(Benchsheet!C57=1121900,\"VA1121900\",IF(Benchsheet!C57<1,\"\")))))))))))))))","v":"VA1121052"},{"$f":"WORKSHEET!C54","v":3014},{"$f":"IF(Benchsheet!A57>1,\"SM 9223B\",\"\")","v":"SM 9223B"},{"$f":"Benchsheet!U57","v":"00:00:00"},{"$f":"IF(Benchsheet!J57>1,\"A\",\"\")","v":"A"},{"$f":"Benchsheet!M57","v":"A"},{"$f":"IF(WORKSHEET!A54=\"-1\",\"\",IF(WORKSHEET!A54=0,\"0\",WORKSHEET!A54))","v":""},"",{"$f":"IF(WORKSHEET!B54=\"MPN\",\"MPN\",\"\")","v":""}]
[{"$f":"IF(Benchsheet!A58>1,\"result\",\"\")","v":"result"},{"$f":"IF(Benchsheet!A58>1,\"STATE\",\"\")","v":"STATE"},{"$f":"IF(Benchsheet!A58>1,\"00035\",\"\")","v":"00035"},{"$f":"Benchsheet!A58","v":"1511B19"},{"$f":"IF(Benchsheet!C58=1121057,\"VA1121057\",IF(Benchsheet!C58=1121090,\"VA1121090\",IF(Benchsheet!C58=1121052,\"VA1121052\",IF(Benchsheet!C58=1121175,\"VA1121175\",IF(Benchsheet!C58=1121580,\"VA1121580\",IF(Benchsheet!C58=1121570,\"VA1121570\",IF(Benchsheet!C58=1121045,\"VA1121045\",IF(Benchsheet!C58=1121655,\"VA1121655\",IF(Benchsheet!C58=1121503,\"VA1121503\",IF(Benchsheet!C58=1121043,\"VA1121043\",IF(Benchsheet!C58=1121900,\"VA1121900\",IF(Benchsheet!C58=1121845,\"VA1121845\",IF(Benchsheet!C58=1121655,\"VA1121655\",IF(Benchsheet!C58=1121900,\"VA1121900\",IF(Benchsheet!C58<1,\"\")))))))))))))))","v":"VA1121052"},{"$f":"IF(WORKSHEET!B55=\"MPN\",\"3000\",IF(WORKSHEET!B55=\"TC\",\"3100\",\"\"))","v":"3100"},{"$f":"IF(Benchsheet!A58>1,\"SM 9223B\",\"\")","v":"SM 9223B"},{"$f":"Benchsheet!U58","v":"00:00:00"},{"$f":"IF(Benchsheet!J58>1,\"A\",\"\")","v":"A"},{"$f":"Benchsheet!L58","v":"A"},{"$f":"IF(WORKSHEET!A54=\"-1\",\"\",IF(WORKSHEET!A54=0,\"0\",WORKSHEET!A54))","v":""},"",{"$f":"IF(WORKSHEET!B55=\"MPN\",\"MPN\",\"\")","v":""}]
[{"$f":"IF(Benchsheet!A58>1,\"result\",\"\")","v":"result"},{"$f":"IF(Benchsheet!A58>1,\"STATE\",\"\")","v":"STATE"},{"$f":"IF(Benchsheet!A58>1,\"00035\",\"\")","v":"00035"},{"$f":"Benchsheet!A58","v":"1511B19"},{"$f":"IF(Benchsheet!C58=1121057,\"VA1121057\",IF(Benchsheet!C58=1121090,\"VA1121090\",IF(Benchsheet!C58=1121052,\"VA1121052\",IF(Benchsheet!C58=1121175,\"VA1121175\",IF(Benchsheet!C58=1121580,\"VA1121580\",IF(Benchsheet!C58=1121570,\"VA1121570\",IF(Benchsheet!C58=1121045,\"VA1121045\",IF(Benchsheet!C58=1121655,\"VA1121655\",IF(Benchsheet!C58=1121503,\"VA1121503\",IF(Benchsheet!C58=1121043,\"VA1121043\",IF(Benchsheet!C58=1121900,\"VA1121900\",IF(Benchsheet!C58=1121845,\"VA1121845\",IF(Benchsheet!C58=1121655,\"VA1121655\",IF(Benchsheet!C58=1121900,\"VA1121900\",IF(Benchsheet!C58<1,\"\")))))))))))))))","v":"VA1121052"},{"$f":"WORKSHEET!C55","v":3014},{"$f":"IF(Benchsheet!A58>1,\"SM 9223B\",\"\")","v":"SM 9223B"},{"$f":"Benchsheet!U58","v":"00:00:00"},{"$f":"IF(Benchsheet!J58>1,\"A\",\"\")","v":"A"},{"$f":"Benchsheet!M58","v":"A"},{"$f":"IF(WORKSHEET!A55=\"-1\",\"\",IF(WORKSHEET!A55=0,\"0\",WORKSHEET!A55))","v":""},"",{"$f":"IF(WORKSHEET!B55=\"MPN\",\"MPN\",\"\")","v":""}]
[{"$f":"IF(Benchsheet!A59>1,\"result\",\"\")","v":"result"},{"$f":"IF(Benchsheet!A59>1,\"STATE\",\"\")","v":"STATE"},{"$f":"IF(Benchsheet!A59>1,\"00035\",\"\")","v":"00035"},{"$f":"Benchsheet!A59","v":"1511B20"},{"$f":"IF(Benchsheet!C59=1121057,\"VA1121057\",IF(Benchsheet!C59=1121090,\"VA1121090\",IF(Benchsheet!C59=1121052,\"VA1121052\",IF(Benchsheet!C59=1121175,\"VA1121175\",IF(Benchsheet!C59=1121580,\"VA1121580\",IF(Benchsheet!C59=1121570,\"VA1121570\",IF(Benchsheet!C59=1121045,\"VA1121045\",IF(Benchsheet!C59=1121655,\"VA1121655\",IF(Benchsheet!C59=1121503,\"VA1121503\",IF(Benchsheet!C59=1121043,\"VA1121043\",IF(Benchsheet!C59=1121900,\"VA1121900\",IF(Benchsheet!C59=1121845,\"VA1121845\",IF(Benchsheet!C59=1121655,\"VA1121655\",IF(Benchsheet!C59=1121900,\"VA1121900\",IF(Benchsheet!C59<1,\"\")))))))))))))))","v":"VA1121052"},{"$f":"IF(WORKSHEET!B56=\"MPN\",\"3000\",IF(WORKSHEET!B56=\"TC\",\"3100\",\"\"))","v":"3100"},{"$f":"IF(Benchsheet!A59>1,\"SM 9223B\",\"\")","v":"SM 9223B"},{"$f":"Benchsheet!U59","v":"00:00:00"},{"$f":"IF(Benchsheet!J59>1,\"A\",\"\")","v":"A"},{"$f":"Benchsheet!L59","v":"A"},{"$f":"IF(WORKSHEET!A55=\"-1\",\"\",IF(WORKSHEET!A55=0,\"0\",WORKSHEET!A55))","v":""},"",{"$f":"IF(WORKSHEET!B56=\"MPN\",\"MPN\",\"\")","v":""}]
[{"$f":"IF(Benchsheet!A59>1,\"result\",\"\")","v":"result"},{"$f":"IF(Benchsheet!A59>1,\"STATE\",\"\")","v":"STATE"},{"$f":"IF(Benchsheet!A59>1,\"00035\",\"\")","v":"00035"},{"$f":"Benchsheet!A59","v":"1511B20"},{"$f":"IF(Benchsheet!C59=1121057,\"VA1121057\",IF(Benchsheet!C59=1121090,\"VA1121090\",IF(Benchsheet!C59=1121052,\"VA1121052\",IF(Benchsheet!C59=1121175,\"VA1121175\",IF(Benchsheet!C59=1121580,\"VA1121580\",IF(Benchsheet!C59=1121570,\"VA1121570\",IF(Benchsheet!C59=1121045,\"VA1121045\",IF(Benchsheet!C59=1121655,\"VA1121655\",IF(Benchsheet!C59=1121503,\"VA1121503\",IF(Benchsheet!C59=1121043,\"VA1121043\",IF(Benchsheet!C59=1121900,\"VA1121900\",IF(Benchsheet!C59=1121845,\"VA1121845\",IF(Benchsheet!C59=1121655,\"VA1121655\",IF(Benchsheet!C59=1121900,\"VA1121900\",IF(Benchsheet!C59<1,\"\")))))))))))))))","v":"VA1121052"},{"$f":"WORKSHEET!C56","v":3014},{"$f":"IF(Benchsheet!A59>1,\"SM 9223B\",\"\")","v":"SM 9223B"},{"$f":"Benchsheet!U59","v":"00:00:00"},{"$f":"IF(Benchsheet!J59>1,\"A\",\"\")","v":"A"},{"$f":"Benchsheet!M59","v":"A"},{"$f":"IF(WORKSHEET!A56=\"-1\",\"\",IF(WORKSHEET!A56=0,\"0\",WORKSHEET!A56))","v":""},"",{"$f":"IF(WORKSHEET!B56=\"MPN\",\"MPN\",\"\")","v":""}]
[{"$f":"IF(Benchsheet!A60>1,\"result\",\"\")","v":"result"},{"$f":"IF(Benchsheet!A60>1,\"STATE\",\"\")","v":"STATE"},{"$f":"IF(Benchsheet!A60>1,\"00035\",\"\")","v":"00035"},{"$f":"Benchsheet!A60","v":"1511B21"},{"$f":"IF(Benchsheet!C60=1121057,\"VA1121057\",IF(Benchsheet!C60=1121090,\"VA1121090\",IF(Benchsheet!C60=1121052,\"VA1121052\",IF(Benchsheet!C60=1121175,\"VA1121175\",IF(Benchsheet!C60=1121580,\"VA1121580\",IF(Benchsheet!C60=1121570,\"VA1121570\",IF(Benchsheet!C60=1121045,\"VA1121045\",IF(Benchsheet!C60=1121655,\"VA1121655\",IF(Benchsheet!C60=1121503,\"VA1121503\",IF(Benchsheet!C60=1121043,\"VA1121043\",IF(Benchsheet!C60=1121900,\"VA1121900\",IF(Benchsheet!C60=1121845,\"VA1121845\",IF(Benchsheet!C60=1121655,\"VA1121655\",IF(Benchsheet!C60=1121900,\"VA1121900\",IF(Benchsheet!C60<1,\"\")))))))))))))))","v":"VA1121052"},{"$f":"IF(WORKSHEET!B57=\"MPN\",\"3000\",IF(WORKSHEET!B57=\"TC\",\"3100\",\"\"))","v":"3100"},{"$f":"IF(Benchsheet!A60>1,\"SM 9223B\",\"\")","v":"SM 9223B"},{"$f":"Benchsheet!U60","v":"00:00:00"},{"$f":"IF(Benchsheet!J60>1,\"A\",\"\")","v":"A"},{"$f":"Benchsheet!L60","v":"A"},{"$f":"IF(WORKSHEET!A56=\"-1\",\"\",IF(WORKSHEET!A56=0,\"0\",WORKSHEET!A56))","v":""},"",{"$f":"IF(WORKSHEET!B57=\"MPN\",\"MPN\",\"\")","v":""}]
[{"$f":"IF(Benchsheet!A60>1,\"result\",\"\")","v":"result"},{"$f":"IF(Benchsheet!A60>1,\"STATE\",\"\")","v":"STATE"},{"$f":"IF(Benchsheet!A60>1,\"00035\",\"\")","v":"00035"},{"$f":"Benchsheet!A60","v":"1511B21"},{"$f":"IF(Benchsheet!C60=1121057,\"VA1121057\",IF(Benchsheet!C60=1121090,\"VA1121090\",IF(Benchsheet!C60=1121052,\"VA1121052\",IF(Benchsheet!C60=1121175,\"VA1121175\",IF(Benchsheet!C60=1121580,\"VA1121580\",IF(Benchsheet!C60=1121570,\"VA1121570\",IF(Benchsheet!C60=1121045,\"VA1121045\",IF(Benchsheet!C60=1121655,\"VA1121655\",IF(Benchsheet!C60=1121503,\"VA1121503\",IF(Benchsheet!C60=1121043,\"VA1121043\",IF(Benchsheet!C60=1121900,\"VA1121900\",IF(Benchsheet!C60=1121845,\"VA1121845\",IF(Benchsheet!C60=1121655,\"VA1121655\",IF(Benchsheet!C60=1121900,\"VA1121900\",IF(Benchsheet!C60<1,\"\")))))))))))))))","v":"VA1121052"},{"$f":"WORKSHEET!C57","v":3014},{"$f":"IF(Benchsheet!A60>1,\"SM 9223B\",\"\")","v":"SM 9223B"},{"$f":"Benchsheet!U60","v":"00:00:00"},{"$f":"IF(Benchsheet!J60>1,\"A\",\"\")","v":"A"},{"$f":"Benchsheet!M60","v":"A"},{"$f":"IF(WORKSHEET!A57=\"-1\",\"\",IF(WORKSHEET!A57=0,\"0\",WORKSHEET!A57))","v":""},"",{"$f":"IF(WORKSHEET!B57=\"MPN\",\"MPN\",\"\")","v":""}]
[{"$f":"IF(Benchsheet!A61>1,\"result\",\"\")","v":"result"},{"$f":"IF(Benchsheet!A61>1,\"STATE\",\"\")","v":"STATE"},{"$f":"IF(Benchsheet!A61>1,\"00035\",\"\")","v":"00035"},{"$f":"Benchsheet!A61","v":"1511B22"},{"$f":"IF(Benchsheet!C61=1121057,\"VA1121057\",IF(Benchsheet!C61=1121090,\"VA1121090\",IF(Benchsheet!C61=1121052,\"VA1121052\",IF(Benchsheet!C61=1121175,\"VA1121175\",IF(Benchsheet!C61=1121580,\"VA1121580\",IF(Benchsheet!C61=1121570,\"VA1121570\",IF(Benchsheet!C61=1121045,\"VA1121045\",IF(Benchsheet!C61=1121655,\"VA1121655\",IF(Benchsheet!C61=1121503,\"VA1121503\",IF(Benchsheet!C61=1121043,\"VA1121043\",IF(Benchsheet!C61=1121900,\"VA1121900\",IF(Benchsheet!C61=1121845,\"VA1121845\",IF(Benchsheet!C61=1121655,\"VA1121655\",IF(Benchsheet!C61=1121900,\"VA1121900\",IF(Benchsheet!C61<1,\"\")))))))))))))))","v":"VA1121052"},{"$f":"IF(WORKSHEET!B58=\"MPN\",\"3000\",IF(WORKSHEET!B58=\"TC\",\"3100\",\"\"))","v":"3100"},{"$f":"IF(Benchsheet!A61>1,\"SM 9223B\",\"\")","v":"SM 9223B"},{"$f":"Benchsheet!U61","v":"00:00:00"},{"$f":"IF(Benchsheet!J61>1,\"A\",\"\")","v":"A"},{"$f":"Benchsheet!L61","v":"A"},{"$f":"IF(WORKSHEET!A57=\"-1\",\"\",IF(WORKSHEET!A57=0,\"0\",WORKSHEET!A57))","v":""},"",{"$f":"IF(WORKSHEET!B58=\"MPN\",\"MPN\",\"\")","v":""}]
[{"$f":"IF(Benchsheet!A61>1,\"result\",\"\")","v":"result"},{"$f":"IF(Benchsheet!A61>1,\"STATE\",\"\")","v":"STATE"},{"$f":"IF(Benchsheet!A61>1,\"00035\",\"\")","v":"00035"},{"$f":"Benchsheet!A61","v":"1511B22"},{"$f":"IF(Benchsheet!C61=1121057,\"VA1121057\",IF(Benchsheet!C61=1121090,\"VA1121090\",IF(Benchsheet!C61=1121052,\"VA1121052\",IF(Benchsheet!C61=1121175,\"VA1121175\",IF(Benchsheet!C61=1121580,\"VA1121580\",IF(Benchsheet!C61=1121570,\"VA1121570\",IF(Benchsheet!C61=1121045,\"VA1121045\",IF(Benchsheet!C61=1121655,\"VA1121655\",IF(Benchsheet!C61=1121503,\"VA1121503\",IF(Benchsheet!C61=1121043,\"VA1121043\",IF(Benchsheet!C61=1121900,\"VA1121900\",IF(Benchsheet!C61=1121845,\"VA1121845\",IF(Benchsheet!C61=1121655,\"VA1121655\",IF(Benchsheet!C61=1121900,\"VA1121900\",IF(Benchsheet!C61<1,\"\")))))))))))))))","v":"VA1121052"},{"$f":"WORKSHEET!C58","v":3014},{"$f":"IF(Benchsheet!A61>1,\"SM 9223B\",\"\")","v":"SM 9223B"},{"$f":"Benchsheet!U61","v":"00:00:00"},{"$f":"IF(Benchsheet!J61>1,\"A\",\"\")","v":"A"},{"$f":"Benchsheet!M61","v":"A"},{"$f":"IF(WORKSHEET!A58=\"-1\",\"\",IF(WORKSHEET!A58=0,\"0\",WORKSHEET!A58))","v":""},"",{"$f":"IF(WORKSHEET!B58=\"MPN\",\"MPN\",\"\")","v":""}]
[{"$f":"IF(Benchsheet!A62>1,\"result\",\"\")","v":"result"},{"$f":"IF(Benchsheet!A62>1,\"STATE\",\"\")","v":"STATE"},{"$f":"IF(Benchsheet!A62>1,\"00035\",\"\")","v":"00035"},{"$f":"Benchsheet!A62","v":"1511B23"},{"$f":"IF(Benchsheet!C62=1121057,\"VA1121057\",IF(Benchsheet!C62=1121090,\"VA1121090\",IF(Benchsheet!C62=1121052,\"VA1121052\",IF(Benchsheet!C62=1121175,\"VA1121175\",IF(Benchsheet!C62=1121580,\"VA1121580\",IF(Benchsheet!C62=1121570,\"VA1121570\",IF(Benchsheet!C62=1121045,\"VA1121045\",IF(Benchsheet!C62=1121655,\"VA1121655\",IF(Benchsheet!C62=1121503,\"VA1121503\",IF(Benchsheet!C62=1121043,\"VA1121043\",IF(Benchsheet!C62=1121900,\"VA1121900\",IF(Benchsheet!C62=1121845,\"VA1121845\",IF(Benchsheet!C62=1121655,\"VA1121655\",IF(Benchsheet!C62=1121900,\"VA1121900\",IF(Benchsheet!C62<1,\"\")))))))))))))))","v":"VA1121052"},{"$f":"IF(WORKSHEET!B59=\"MPN\",\"3000\",IF(WORKSHEET!B59=\"TC\",\"3100\",\"\"))","v":"3100"},{"$f":"IF(Benchsheet!A62>1,\"SM 9223B\",\"\")","v":"SM 9223B"},{"$f":"Benchsheet!U62","v":"00:00:00"},{"$f":"IF(Benchsheet!J62>1,\"A\",\"\")","v":"A"},{"$f":"Benchsheet!L62","v":"A"},{"$f":"IF(WORKSHEET!A58=\"-1\",\"\",IF(WORKSHEET!A58=0,\"0\",WORKSHEET!A58))","v":""},"",{"$f":"IF(WORKSHEET!B59=\"MPN\",\"MPN\",\"\")","v":""}]
[{"$f":"IF(Benchsheet!A62>1,\"result\",\"\")","v":"result"},{"$f":"IF(Benchsheet!A62>1,\"STATE\",\"\")","v":"STATE"},{"$f":"IF(Benchsheet!A62>1,\"00035\",\"\")","v":"00035"},{"$f":"Benchsheet!A62","v":"1511B23"},{"$f":"IF(Benchsheet!C62=1121057,\"VA1121057\",IF(Benchsheet!C62=1121090,\"VA1121090\",IF(Benchsheet!C62=1121052,\"VA1121052\",IF(Benchsheet!C62=1121175,\"VA1121175\",IF(Benchsheet!C62=1121580,\"VA1121580\",IF(Benchsheet!C62=1121570,\"VA1121570\",IF(Benchsheet!C62=1121045,\"VA1121045\",IF(Benchsheet!C62=1121655,\"VA1121655\",IF(Benchsheet!C62=1121503,\"VA1121503\",IF(Benchsheet!C62=1121043,\"VA1121043\",IF(Benchsheet!C62=1121900,\"VA1121900\",IF(Benchsheet!C62=1121845,\"VA1121845\",IF(Benchsheet!C62=1121655,\"VA1121655\",IF(Benchsheet!C62=1121900,\"VA1121900\",IF(Benchsheet!C62<1,\"\")))))))))))))))","v":"VA1121052"},{"$f":"WORKSHEET!C59","v":3014},{"$f":"IF(Benchsheet!A62>1,\"SM 9223B\",\"\")","v":"SM 9223B"},{"$f":"Benchsheet!U62","v":"00:00:00"},{"$f":"IF(Benchsheet!J62>1,\"A\",\"\")","v":"A"},{"$f":"Benchsheet!M62","v":"A"},{"$f":"IF(WORKSHEET!A59=\"-1\",\"\",IF(WORKSHEET!A59=0,\"0\",WORKSHEET!A59))","v":""},"",{"$f":"IF(WORKSHEET!B59=\"MPN\",\"MPN\",\"\")","v":""}]
[{"$f":"IF(Benchsheet!A63>1,\"result\",\"\")","v":"result"},{"$f":"IF(Benchsheet!A63>1,\"STATE\",\"\")","v":"STATE"},{"$f":"IF(Benchsheet!A63>1,\"00035\",\"\")","v":"00035"},{"$f":"Benchsheet!A63","v":"1511B24"},{"$f":"IF(Benchsheet!C63=1121057,\"VA1121057\",IF(Benchsheet!C63=1121090,\"VA1121090\",IF(Benchsheet!C63=1121052,\"VA1121052\",IF(Benchsheet!C63=1121175,\"VA1121175\",IF(Benchsheet!C63=1121580,\"VA1121580\",IF(Benchsheet!C63=1121570,\"VA1121570\",IF(Benchsheet!C63=1121045,\"VA1121045\",IF(Benchsheet!C63=1121655,\"VA1121655\",IF(Benchsheet!C63=1121503,\"VA1121503\",IF(Benchsheet!C63=1121043,\"VA1121043\",IF(Benchsheet!C63=1121900,\"VA1121900\",IF(Benchsheet!C63=1121845,\"VA1121845\",IF(Benchsheet!C63=1121655,\"VA1121655\",IF(Benchsheet!C63=1121900,\"VA1121900\",IF(Benchsheet!C63<1,\"\")))))))))))))))","v":"VA1121052"},{"$f":"IF(WORKSHEET!B60=\"MPN\",\"3000\",IF(WORKSHEET!B60=\"TC\",\"3100\",\"\"))","v":"3100"},{"$f":"IF(Benchsheet!A63>1,\"SM 9223B\",\"\")","v":"SM 9223B"},{"$f":"Benchsheet!U63","v":"00:00:00"},{"$f":"IF(Benchsheet!J63>1,\"A\",\"\")","v":"A"},{"$f":"Benchsheet!L63","v":"A"},{"$f":"IF(WORKSHEET!A59=\"-1\",\"\",IF(WORKSHEET!A59=0,\"0\",WORKSHEET!A59))","v":""},"",{"$f":"IF(WORKSHEET!B60=\"MPN\",\"MPN\",\"\")","v":""}]
[{"$f":"IF(Benchsheet!A63>1,\"result\",\"\")","v":"result"},{"$f":"IF(Benchsheet!A63>1,\"STATE\",\"\")","v":"STATE"},{"$f":"IF(Benchsheet!A63>1,\"00035\",\"\")","v":"00035"},{"$f":"Benchsheet!A63","v":"1511B24"},{"$f":"IF(Benchsheet!C63=1121057,\"VA1121057\",IF(Benchsheet!C63=1121090,\"VA1121090\",IF(Benchsheet!C63=1121052,\"VA1121052\",IF(Benchsheet!C63=1121175,\"VA1121175\",IF(Benchsheet!C63=1121580,\"VA1121580\",IF(Benchsheet!C63=1121570,\"VA1121570\",IF(Benchsheet!C63=1121045,\"VA1121045\",IF(Benchsheet!C63=1121655,\"VA1121655\",IF(Benchsheet!C63=1121503,\"VA1121503\",IF(Benchsheet!C63=1121043,\"VA1121043\",IF(Benchsheet!C63=1121900,\"VA1121900\",IF(Benchsheet!C63=1121845,\"VA1121845\",IF(Benchsheet!C63=1121655,\"VA1121655\",IF(Benchsheet!C63=1121900,\"VA1121900\",IF(Benchsheet!C63<1,\"\")))))))))))))))","v":"VA1121052"},{"$f":"WORKSHEET!C60","v":3014},{"$f":"IF(Benchsheet!A63>1,\"SM 9223B\",\"\")","v":"SM 9223B"},{"$f":"Benchsheet!U63","v":"00:00:00"},{"$f":"IF(Benchsheet!J63>1,\"A\",\"\")","v":"A"},{"$f":"Benchsheet!M63","v":"A"},{"$f":"IF(WORKSHEET!A60=\"-1\",\"\",IF(WORKSHEET!A60=0,\"0\",WORKSHEET!A60))","v":""},"",{"$f":"IF(WORKSHEET!B60=\"MPN\",\"MPN\",\"\")","v":""}]
[{"$f":"IF(Benchsheet!A64>1,\"result\",\"\")","v":"result"},{"$f":"IF(Benchsheet!A64>1,\"STATE\",\"\")","v":"STATE"},{"$f":"IF(Benchsheet!A64>1,\"00035\",\"\")","v":"00035"},{"$f":"Benchsheet!A64","v":"1511B25"},{"$f":"IF(Benchsheet!C64=1121057,\"VA1121057\",IF(Benchsheet!C64=1121090,\"VA1121090\",IF(Benchsheet!C64=1121052,\"VA1121052\",IF(Benchsheet!C64=1121175,\"VA1121175\",IF(Benchsheet!C64=1121580,\"VA1121580\",IF(Benchsheet!C64=1121570,\"VA1121570\",IF(Benchsheet!C64=1121045,\"VA1121045\",IF(Benchsheet!C64=1121655,\"VA1121655\",IF(Benchsheet!C64=1121503,\"VA1121503\",IF(Benchsheet!C64=1121043,\"VA1121043\",IF(Benchsheet!C64=1121900,\"VA1121900\",IF(Benchsheet!C64=1121845,\"VA1121845\",IF(Benchsheet!C64=1121655,\"VA1121655\",IF(Benchsheet!C64=1121900,\"VA1121900\",IF(Benchsheet!C64<1,\"\")))))))))))))))","v":"VA1121052"},{"$f":"IF(WORKSHEET!B61=\"MPN\",\"3000\",IF(WORKSHEET!B61=\"TC\",\"3100\",\"\"))","v":"3100"},{"$f":"IF(Benchsheet!A64>1,\"SM 9223B\",\"\")","v":"SM 9223B"},{"$f":"Benchsheet!U64","v":"00:00:00"},{"$f":"IF(Benchsheet!J64>1,\"A\",\"\")","v":"A"},{"$f":"Benchsheet!L64","v":"A"},{"$f":"IF(WORKSHEET!A60=\"-1\",\"\",IF(WORKSHEET!A60=0,\"0\",WORKSHEET!A60))","v":""},"",{"$f":"IF(WORKSHEET!B61=\"MPN\",\"MPN\",\"\")","v":""}]
[{"$f":"IF(Benchsheet!A64>1,\"result\",\"\")","v":"result"},{"$f":"IF(Benchsheet!A64>1,\"STATE\",\"\")","v":"STATE"},{"$f":"IF(Benchsheet!A64>1,\"00035\",\"\")","v":"00035"},{"$f":"Benchsheet!A64","v":"1511B25"},{"$f":"IF(Benchsheet!C64=1121057,\"VA1121057\",IF(Benchsheet!C64=1121090,\"VA1121090\",IF(Benchsheet!C64=1121052,\"VA1121052\",IF(Benchsheet!C64=1121175,\"VA1121175\",IF(Benchsheet!C64=1121580,\"VA1121580\",IF(Benchsheet!C64=1121570,\"VA1121570\",IF(Benchsheet!C64=1121045,\"VA1121045\",IF(Benchsheet!C64=1121655,\"VA1121655\",IF(Benchsheet!C64=1121503,\"VA1121503\",IF(Benchsheet!C64=1121043,\"VA1121043\",IF(Benchsheet!C64=1121900,\"VA1121900\",IF(Benchsheet!C64=1121845,\"VA1121845\",IF(Benchsheet!C64=1121655,\"VA1121655\",IF(Benchsheet!C64=1121900,\"VA1121900\",IF(Benchsheet!C64<1,\"\")))))))))))))))","v":"VA1121052"},{"$f":"WORKSHEET!C61","v":3014},{"$f":"IF(Benchsheet!A64>1,\"SM 9223B\",\"\")","v":"SM 9223B"},{"$f":"Benchsheet!U64","v":"00:00:00"},{"$f":"IF(Benchsheet!J64>1,\"A\",\"\")","v":"A"},{"$f":"Benchsheet!M64","v":"A"},{"$f":"IF(WORKSHEET!A61=\"-1\",\"\",IF(WORKSHEET!A61=0,\"0\",WORKSHEET!A61))","v":""},"",{"$f":"IF(WORKSHEET!B61=\"MPN\",\"MPN\",\"\")","v":""}]
[{"$f":"IF(Benchsheet!A65>1,\"result\",\"\")","v":"result"},{"$f":"IF(Benchsheet!A65>1,\"STATE\",\"\")","v":"STATE"},{"$f":"IF(Benchsheet!A65>1,\"00035\",\"\")","v":"00035"},{"$f":"Benchsheet!A65","v":"1511B26"},{"$f":"IF(Benchsheet!C65=1121057,\"VA1121057\",IF(Benchsheet!C65=1121090,\"VA1121090\",IF(Benchsheet!C65=1121052,\"VA1121052\",IF(Benchsheet!C65=1121175,\"VA1121175\",IF(Benchsheet!C65=1121580,\"VA1121580\",IF(Benchsheet!C65=1121570,\"VA1121570\",IF(Benchsheet!C65=1121045,\"VA1121045\",IF(Benchsheet!C65=1121655,\"VA1121655\",IF(Benchsheet!C65=1121503,\"VA1121503\",IF(Benchsheet!C65=1121043,\"VA1121043\",IF(Benchsheet!C65=1121900,\"VA1121900\",IF(Benchsheet!C65=1121845,\"VA1121845\",IF(Benchsheet!C65=1121655,\"VA1121655\",IF(Benchsheet!C65=1121900,\"VA1121900\",IF(Benchsheet!C65<1,\"\")))))))))))))))","v":"VA1121052"},{"$f":"IF(WORKSHEET!B62=\"MPN\",\"3000\",IF(WORKSHEET!B62=\"TC\",\"3100\",\"\"))","v":"3100"},{"$f":"IF(Benchsheet!A65>1,\"SM 9223B\",\"\")","v":"SM 9223B"},{"$f":"Benchsheet!U65","v":"00:00:00"},{"$f":"IF(Benchsheet!J65>1,\"A\",\"\")","v":"A"},{"$f":"Benchsheet!L65","v":"A"},{"$f":"IF(WORKSHEET!A61=\"-1\",\"\",IF(WORKSHEET!A61=0,\"0\",WORKSHEET!A61))","v":""},"",{"$f":"IF(WORKSHEET!B62=\"MPN\",\"MPN\",\"\")","v":""}]
[{"$f":"IF(Benchsheet!A65>1,\"result\",\"\")","v":"result"},{"$f":"IF(Benchsheet!A65>1,\"STATE\",\"\")","v":"STATE"},{"$f":"IF(Benchsheet!A65>1,\"00035\",\"\")","v":"00035"},{"$f":"Benchsheet!A65","v":"1511B26"},{"$f":"IF(Benchsheet!C65=1121057,\"VA1121057\",IF(Benchsheet!C65=1121090,\"VA1121090\",IF(Benchsheet!C65=1121052,\"VA1121052\",IF(Benchsheet!C65=1121175,\"VA1121175\",IF(Benchsheet!C65=1121580,\"VA1121580\",IF(Benchsheet!C65=1121570,\"VA1121570\",IF(Benchsheet!C65=1121045,\"VA1121045\",IF(Benchsheet!C65=1121655,\"VA1121655\",IF(Benchsheet!C65=1121503,\"VA1121503\",IF(Benchsheet!C65=1121043,\"VA1121043\",IF(Benchsheet!C65=1121900,\"VA1121900\",IF(Benchsheet!C65=1121845,\"VA1121845\",IF(Benchsheet!C65=1121655,\"VA1121655\",IF(Benchsheet!C65=1121900,\"VA1121900\",IF(Benchsheet!C65<1,\"\")))))))))))))))","v":"VA1121052"},{"$f":"WORKSHEET!C62","v":3014},{"$f":"IF(Benchsheet!A65>1,\"SM 9223B\",\"\")","v":"SM 9223B"},{"$f":"Benchsheet!U65","v":"00:00:00"},{"$f":"IF(Benchsheet!J65>1,\"A\",\"\")","v":"A"},{"$f":"Benchsheet!M65","v":"A"},{"$f":"IF(WORKSHEET!A62=\"-1\",\"\",IF(WORKSHEET!A62=0,\"0\",WORKSHEET!A62))","v":""},"",{"$f":"IF(WORKSHEET!B62=\"MPN\",\"MPN\",\"\")","v":""}]
[{"$f":"IF(Benchsheet!A66>1,\"result\",\"\")","v":"result"},{"$f":"IF(Benchsheet!A66>1,\"STATE\",\"\")","v":"STATE"},{"$f":"IF(Benchsheet!A66>1,\"00035\",\"\")","v":"00035"},{"$f":"Benchsheet!A66","v":"1511B27"},{"$f":"IF(Benchsheet!C66=1121057,\"VA1121057\",IF(Benchsheet!C66=1121090,\"VA1121090\",IF(Benchsheet!C66=1121052,\"VA1121052\",IF(Benchsheet!C66=1121175,\"VA1121175\",IF(Benchsheet!C66=1121580,\"VA1121580\",IF(Benchsheet!C66=1121570,\"VA1121570\",IF(Benchsheet!C66=1121045,\"VA1121045\",IF(Benchsheet!C66=1121655,\"VA1121655\",IF(Benchsheet!C66=1121503,\"VA1121503\",IF(Benchsheet!C66=1121043,\"VA1121043\",IF(Benchsheet!C66=1121900,\"VA1121900\",IF(Benchsheet!C66=1121845,\"VA1121845\",IF(Benchsheet!C66=1121655,\"VA1121655\",IF(Benchsheet!C66=1121900,\"VA1121900\",IF(Benchsheet!C66<1,\"\")))))))))))))))","v":"VA1121052"},{"$f":"IF(WORKSHEET!B63=\"MPN\",\"3000\",IF(WORKSHEET!B63=\"TC\",\"3100\",\"\"))","v":"3100"},{"$f":"IF(Benchsheet!A66>1,\"SM 9223B\",\"\")","v":"SM 9223B"},{"$f":"Benchsheet!U66","v":"00:00:00"},{"$f":"IF(Benchsheet!J66>1,\"A\",\"\")","v":"A"},{"$f":"Benchsheet!L66","v":"A"},{"$f":"IF(WORKSHEET!A62=\"-1\",\"\",IF(WORKSHEET!A62=0,\"0\",WORKSHEET!A62))","v":""},"",{"$f":"IF(WORKSHEET!B63=\"MPN\",\"MPN\",\"\")","v":""}]
[{"$f":"IF(Benchsheet!A66>1,\"result\",\"\")","v":"result"},{"$f":"IF(Benchsheet!A66>1,\"STATE\",\"\")","v":"STATE"},{"$f":"IF(Benchsheet!A66>1,\"00035\",\"\")","v":"00035"},{"$f":"Benchsheet!A66","v":"1511B27"},{"$f":"IF(Benchsheet!C66=1121057,\"VA1121057\",IF(Benchsheet!C66=1121090,\"VA1121090\",IF(Benchsheet!C66=1121052,\"VA1121052\",IF(Benchsheet!C66=1121175,\"VA1121175\",IF(Benchsheet!C66=1121580,\"VA1121580\",IF(Benchsheet!C66=1121570,\"VA1121570\",IF(Benchsheet!C66=1121045,\"VA1121045\",IF(Benchsheet!C66=1121655,\"VA1121655\",IF(Benchsheet!C66=1121503,\"VA1121503\",IF(Benchsheet!C66=1121043,\"VA1121043\",IF(Benchsheet!C66=1121900,\"VA1121900\",IF(Benchsheet!C66=1121845,\"VA1121845\",IF(Benchsheet!C66=1121655,\"VA1121655\",IF(Benchsheet!C66=1121900,\"VA1121900\",IF(Benchsheet!C66<1,\"\")))))))))))))))","v":"VA1121052"},{"$f":"WORKSHEET!C63","v":3014},{"$f":"IF(Benchsheet!A66>1,\"SM 9223B\",\"\")","v":"SM 9223B"},{"$f":"Benchsheet!U66","v":"00:00:00"},{"$f":"IF(Benchsheet!J66>1,\"A\",\"\")","v":"A"},{"$f":"Benchsheet!M66","v":"A"},{"$f":"IF(WORKSHEET!A63=\"-1\",\"\",IF(WORKSHEET!A63=0,\"0\",WORKSHEET!A63))","v":""},"",{"$f":"IF(WORKSHEET!B63=\"MPN\",\"MPN\",\"\")","v":""}]
[{"$f":"IF(Benchsheet!A67>1,\"result\",\"\")","v":"result"},{"$f":"IF(Benchsheet!A67>1,\"STATE\",\"\")","v":"STATE"},{"$f":"IF(Benchsheet!A67>1,\"00035\",\"\")","v":"00035"},{"$f":"Benchsheet!A67","v":"1511M24"},{"$f":"IF(Benchsheet!C67=1121057,\"VA1121057\",IF(Benchsheet!C67=1121090,\"VA1121090\",IF(Benchsheet!C67=1121052,\"VA1121052\",IF(Benchsheet!C67=1121175,\"VA1121175\",IF(Benchsheet!C67=1121580,\"VA1121580\",IF(Benchsheet!C67=1121570,\"VA1121570\",IF(Benchsheet!C67=1121045,\"VA1121045\",IF(Benchsheet!C67=1121655,\"VA1121655\",IF(Benchsheet!C67=1121503,\"VA1121503\",IF(Benchsheet!C67=1121043,\"VA1121043\",IF(Benchsheet!C67=1121900,\"VA1121900\",IF(Benchsheet!C67=1121845,\"VA1121845\",IF(Benchsheet!C67=1121655,\"VA1121655\",IF(Benchsheet!C67=1121900,\"VA1121900\",IF(Benchsheet!C67<1,\"\")))))))))))))))","v":"VA1121175"},{"$f":"IF(WORKSHEET!B64=\"MPN\",\"3000\",IF(WORKSHEET!B64=\"TC\",\"3100\",\"\"))","v":"3100"},{"$f":"IF(Benchsheet!A67>1,\"SM 9223B\",\"\")","v":"SM 9223B"},{"$f":"Benchsheet!U67","v":"00:00:00"},{"$f":"IF(Benchsheet!J67>1,\"A\",\"\")","v":"A"},{"$f":"Benchsheet!L67","v":"A"},{"$f":"IF(WORKSHEET!A63=\"-1\",\"\",IF(WORKSHEET!A63=0,\"0\",WORKSHEET!A63))","v":""},"",{"$f":"IF(WORKSHEET!B64=\"MPN\",\"MPN\",\"\")","v":""}]
[{"$f":"IF(Benchsheet!A67>1,\"result\",\"\")","v":"result"},{"$f":"IF(Benchsheet!A67>1,\"STATE\",\"\")","v":"STATE"},{"$f":"IF(Benchsheet!A67>1,\"00035\",\"\")","v":"00035"},{"$f":"Benchsheet!A67","v":"1511M24"},{"$f":"IF(Benchsheet!C67=1121057,\"VA1121057\",IF(Benchsheet!C67=1121090,\"VA1121090\",IF(Benchsheet!C67=1121052,\"VA1121052\",IF(Benchsheet!C67=1121175,\"VA1121175\",IF(Benchsheet!C67=1121580,\"VA1121580\",IF(Benchsheet!C67=1121570,\"VA1121570\",IF(Benchsheet!C67=1121045,\"VA1121045\",IF(Benchsheet!C67=1121655,\"VA1121655\",IF(Benchsheet!C67=1121503,\"VA1121503\",IF(Benchsheet!C67=1121043,\"VA1121043\",IF(Benchsheet!C67=1121900,\"VA1121900\",IF(Benchsheet!C67=1121845,\"VA1121845\",IF(Benchsheet!C67=1121655,\"VA1121655\",IF(Benchsheet!C67=1121900,\"VA1121900\",IF(Benchsheet!C67<1,\"\")))))))))))))))","v":"VA1121175"},{"$f":"WORKSHEET!C64","v":3014},{"$f":"IF(Benchsheet!A67>1,\"SM 9223B\",\"\")","v":"SM 9223B"},{"$f":"Benchsheet!U67","v":"00:00:00"},{"$f":"IF(Benchsheet!J67>1,\"A\",\"\")","v":"A"},{"$f":"Benchsheet!M67","v":"A"},{"$f":"IF(WORKSHEET!A64=\"-1\",\"\",IF(WORKSHEET!A64=0,\"0\",WORKSHEET!A64))","v":""},"",{"$f":"IF(WORKSHEET!B64=\"MPN\",\"MPN\",\"\")","v":""}]
[{"$f":"IF(Benchsheet!A68>1,\"result\",\"\")","v":"result"},{"$f":"IF(Benchsheet!A68>1,\"STATE\",\"\")","v":"STATE"},{"$f":"IF(Benchsheet!A68>1,\"00035\",\"\")","v":"00035"},{"$f":"Benchsheet!A68","v":"1511M25"},{"$f":"IF(Benchsheet!C68=1121057,\"VA1121057\",IF(Benchsheet!C68=1121090,\"VA1121090\",IF(Benchsheet!C68=1121052,\"VA1121052\",IF(Benchsheet!C68=1121175,\"VA1121175\",IF(Benchsheet!C68=1121580,\"VA1121580\",IF(Benchsheet!C68=1121570,\"VA1121570\",IF(Benchsheet!C68=1121045,\"VA1121045\",IF(Benchsheet!C68=1121655,\"VA1121655\",IF(Benchsheet!C68=1121503,\"VA1121503\",IF(Benchsheet!C68=1121043,\"VA1121043\",IF(Benchsheet!C68=1121900,\"VA1121900\",IF(Benchsheet!C68=1121845,\"VA1121845\",IF(Benchsheet!C68=1121655,\"VA1121655\",IF(Benchsheet!C68=1121900,\"VA1121900\",IF(Benchsheet!C68<1,\"\")))))))))))))))","v":"VA1121580"},{"$f":"IF(WORKSHEET!B65=\"MPN\",\"3000\",IF(WORKSHEET!B65=\"TC\",\"3100\",\"\"))","v":"3100"},{"$f":"IF(Benchsheet!A68>1,\"SM 9223B\",\"\")","v":"SM 9223B"},{"$f":"Benchsheet!U68","v":"00:00:00"},{"$f":"IF(Benchsheet!J68>1,\"A\",\"\")","v":"A"},{"$f":"Benchsheet!L68","v":"A"},{"$f":"IF(WORKSHEET!A64=\"-1\",\"\",IF(WORKSHEET!A64=0,\"0\",WORKSHEET!A64))","v":""},"",{"$f":"IF(WORKSHEET!B65=\"MPN\",\"MPN\",\"\")","v":""}]
[{"$f":"IF(Benchsheet!A68>1,\"result\",\"\")","v":"result"},{"$f":"IF(Benchsheet!A68>1,\"STATE\",\"\")","v":"STATE"},{"$f":"IF(Benchsheet!A68>1,\"00035\",\"\")","v":"00035"},{"$f":"Benchsheet!A68","v":"1511M25"},{"$f":"IF(Benchsheet!C68=1121057,\"VA1121057\",IF(Benchsheet!C68=1121090,\"VA1121090\",IF(Benchsheet!C68=1121052,\"VA1121052\",IF(Benchsheet!C68=1121175,\"VA1121175\",IF(Benchsheet!C68=1121580,\"VA1121580\",IF(Benchsheet!C68=1121570,\"VA1121570\",IF(Benchsheet!C68=1121045,\"VA1121045\",IF(Benchsheet!C68=1121655,\"VA1121655\",IF(Benchsheet!C68=1121503,\"VA1121503\",IF(Benchsheet!C68=1121043,\"VA1121043\",IF(Benchsheet!C68=1121900,\"VA1121900\",IF(Benchsheet!C68=1121845,\"VA1121845\",IF(Benchsheet!C68=1121655,\"VA1121655\",IF(Benchsheet!C68=1121900,\"VA1121900\",IF(Benchsheet!C68<1,\"\")))))))))))))))","v":"VA1121580"},{"$f":"WORKSHEET!C65","v":3014},{"$f":"IF(Benchsheet!A68>1,\"SM 9223B\",\"\")","v":"SM 9223B"},{"$f":"Benchsheet!U68","v":"00:00:00"},{"$f":"IF(Benchsheet!J68>1,\"A\",\"\")","v":"A"},{"$f":"Benchsheet!M68","v":"A"},{"$f":"IF(WORKSHEET!A65=\"-1\",\"\",IF(WORKSHEET!A65=0,\"0\",WORKSHEET!A65))","v":""},"",{"$f":"IF(WORKSHEET!B65=\"MPN\",\"MPN\",\"\")","v":""}]
[{"$f":"IF(Benchsheet!A69>1,\"result\",\"\")","v":"result"},{"$f":"IF(Benchsheet!A69>1,\"STATE\",\"\")","v":"STATE"},{"$f":"IF(Benchsheet!A69>1,\"00035\",\"\")","v":"00035"},{"$f":"Benchsheet!A69","v":"1511M26"},{"$f":"IF(Benchsheet!C69=1121057,\"VA1121057\",IF(Benchsheet!C69=1121090,\"VA1121090\",IF(Benchsheet!C69=1121052,\"VA1121052\",IF(Benchsheet!C69=1121175,\"VA1121175\",IF(Benchsheet!C69=1121580,\"VA1121580\",IF(Benchsheet!C69=1121570,\"VA1121570\",IF(Benchsheet!C69=1121045,\"VA1121045\",IF(Benchsheet!C69=1121655,\"VA1121655\",IF(Benchsheet!C69=1121503,\"VA1121503\",IF(Benchsheet!C69=1121043,\"VA1121043\",IF(Benchsheet!C69=1121900,\"VA1121900\",IF(Benchsheet!C69=1121845,\"VA1121845\",IF(Benchsheet!C69=1121655,\"VA1121655\",IF(Benchsheet!C69=1121900,\"VA1121900\",IF(Benchsheet!C69<1,\"\")))))))))))))))","v":"VA1121503"},{"$f":"IF(WORKSHEET!B66=\"MPN\",\"3000\",IF(WORKSHEET!B66=\"TC\",\"3100\",\"\"))","v":"3100"},{"$f":"IF(Benchsheet!A69>1,\"SM 9223B\",\"\")","v":"SM 9223B"},{"$f":"Benchsheet!U69","v":"00:00:00"},{"$f":"IF(Benchsheet!J69>1,\"A\",\"\")","v":"A"},{"$f":"Benchsheet!L69","v":"A"},{"$f":"IF(WORKSHEET!A65=\"-1\",\"\",IF(WORKSHEET!A65=0,\"0\",WORKSHEET!A65))","v":""},"",{"$f":"IF(WORKSHEET!B66=\"MPN\",\"MPN\",\"\")","v":""}]
[{"$f":"IF(Benchsheet!A69>1,\"result\",\"\")","v":"result"},{"$f":"IF(Benchsheet!A69>1,\"STATE\",\"\")","v":"STATE"},{"$f":"IF(Benchsheet!A69>1,\"00035\",\"\")","v":"00035"},{"$f":"Benchsheet!A69","v":"1511M26"},{"$f":"IF(Benchsheet!C69=1121057,\"VA1121057\",IF(Benchsheet!C69=1121090,\"VA1121090\",IF(Benchsheet!C69=1121052,\"VA1121052\",IF(Benchsheet!C69=1121175,\"VA1121175\",IF(Benchsheet!C69=1121580,\"VA1121580\",IF(Benchsheet!C69=1121570,\"VA1121570\",IF(Benchsheet!C69=1121045,\"VA1121045\",IF(Benchsheet!C69=1121655,\"VA1121655\",IF(Benchsheet!C69=1121503,\"VA1121503\",IF(Benchsheet!C69=1121043,\"VA1121043\",IF(Benchsheet!C69=1121900,\"VA1121900\",IF(Benchsheet!C69=1121845,\"VA1121845\",IF(Benchsheet!C69=1121655,\"VA1121655\",IF(Benchsheet!C69=1121900,\"VA1121900\",IF(Benchsheet!C69<1,\"\")))))))))))))))","v":"VA1121503"},{"$f":"WORKSHEET!C66","v":3014},{"$f":"IF(Benchsheet!A69>1,\"SM 9223B\",\"\")","v":"SM 9223B"},{"$f":"Benchsheet!U69","v":"00:00:00"},{"$f":"IF(Benchsheet!J69>1,\"A\",\"\")","v":"A"},{"$f":"Benchsheet!M69","v":"A"},{"$f":"IF(WORKSHEET!A66=\"-1\",\"\",IF(WORKSHEET!A66=0,\"0\",WORKSHEET!A66))","v":""},{"$f":"IF(M131=\"MPN\",\"100ML\",\"\")","v":""},{"$f":"IF(WORKSHEET!B66=\"MPN\",\"MPN\",\"\")","v":""}]
[{"$f":"IF(Benchsheet!A70>1,\"result\",\"\")","v":"result"},{"$f":"IF(Benchsheet!A70>1,\"STATE\",\"\")","v":"STATE"},{"$f":"IF(Benchsheet!A70>1,\"00035\",\"\")","v":"00035"},{"$f":"Benchsheet!A70","v":"1511M27"},{"$f":"IF(Benchsheet!C70=1121057,\"VA1121057\",IF(Benchsheet!C70=1121090,\"VA1121090\",IF(Benchsheet!C70=1121052,\"VA1121052\",IF(Benchsheet!C70=1121175,\"VA1121175\",IF(Benchsheet!C70=1121580,\"VA1121580\",IF(Benchsheet!C70=1121570,\"VA1121570\",IF(Benchsheet!C70=1121045,\"VA1121045\",IF(Benchsheet!C70=1121655,\"VA1121655\",IF(Benchsheet!C70=1121503,\"VA1121503\",IF(Benchsheet!C70=1121043,\"VA1121043\",IF(Benchsheet!C70=1121900,\"VA1121900\",IF(Benchsheet!C70=1121845,\"VA1121845\",IF(Benchsheet!C70=1121655,\"VA1121655\",IF(Benchsheet!C70=1121900,\"VA1121900\",IF(Benchsheet!C70<1,\"\")))))))))))))))","v":"VA1121043"},{"$f":"IF(WORKSHEET!B67=\"MPN\",\"3000\",IF(WORKSHEET!B67=\"TC\",\"3100\",\"\"))","v":"3100"},{"$f":"IF(Benchsheet!A70>1,\"SM 9223B\",\"\")","v":"SM 9223B"},{"$f":"Benchsheet!U70","v":"00:00:00"},{"$f":"IF(Benchsheet!J70>1,\"A\",\"\")","v":"A"},{"$f":"Benchsheet!L70","v":"A"},{"$f":"IF(WORKSHEET!A66=\"-1\",\"\",IF(WORKSHEET!A66=0,\"0\",WORKSHEET!A66))","v":""},"",{"$f":"IF(WORKSHEET!B67=\"MPN\",\"MPN\",\"\")","v":""}]
[{"$f":"IF(Benchsheet!A70>1,\"result\",\"\")","v":"result"},{"$f":"IF(Benchsheet!A70>1,\"STATE\",\"\")","v":"STATE"},{"$f":"IF(Benchsheet!A70>1,\"00035\",\"\")","v":"00035"},{"$f":"Benchsheet!A70","v":"1511M27"},{"$f":"IF(Benchsheet!C70=1121057,\"VA1121057\",IF(Benchsheet!C70=1121090,\"VA1121090\",IF(Benchsheet!C70=1121052,\"VA1121052\",IF(Benchsheet!C70=1121175,\"VA1121175\",IF(Benchsheet!C70=1121580,\"VA1121580\",IF(Benchsheet!C70=1121570,\"VA1121570\",IF(Benchsheet!C70=1121045,\"VA1121045\",IF(Benchsheet!C70=1121655,\"VA1121655\",IF(Benchsheet!C70=1121503,\"VA1121503\",IF(Benchsheet!C70=1121043,\"VA1121043\",IF(Benchsheet!C70=1121900,\"VA1121900\",IF(Benchsheet!C70=1121845,\"VA1121845\",IF(Benchsheet!C70=1121655,\"VA1121655\",IF(Benchsheet!C70=1121900,\"VA1121900\",IF(Benchsheet!C70<1,\"\")))))))))))))))","v":"VA1121043"},{"$f":"WORKSHEET!C67","v":3014},{"$f":"IF(Benchsheet!A70>1,\"SM 9223B\",\"\")","v":"SM 9223B"},{"$f":"Benchsheet!U70","v":"00:00:00"},{"$f":"IF(Benchsheet!J70>1,\"A\",\"\")","v":"A"},{"$f":"Benchsheet!M70","v":"A"},{"$f":"IF(WORKSHEET!A67=\"-1\",\"\",IF(WORKSHEET!A67=0,\"0\",WORKSHEET!A67))","v":""},"",{"$f":"IF(WORKSHEET!B67=\"MPN\",\"MPN\",\"\")","v":""}]
[{"$f":"IF(Benchsheet!A71>1,\"result\",\"\")","v":"result"},{"$f":"IF(Benchsheet!A71>1,\"STATE\",\"\")","v":"STATE"},{"$f":"IF(Benchsheet!A71>1,\"00035\",\"\")","v":"00035"},{"$f":"Benchsheet!A71","v":"1511M28"},{"$f":"IF(Benchsheet!C71=1121057,\"VA1121057\",IF(Benchsheet!C71=1121090,\"VA1121090\",IF(Benchsheet!C71=1121052,\"VA1121052\",IF(Benchsheet!C71=1121175,\"VA1121175\",IF(Benchsheet!C71=1121580,\"VA1121580\",IF(Benchsheet!C71=1121570,\"VA1121570\",IF(Benchsheet!C71=1121045,\"VA1121045\",IF(Benchsheet!C71=1121655,\"VA1121655\",IF(Benchsheet!C71=1121503,\"VA1121503\",IF(Benchsheet!C71=1121043,\"VA1121043\",IF(Benchsheet!C71=1121900,\"VA1121900\",IF(Benchsheet!C71=1121845,\"VA1121845\",IF(Benchsheet!C71=1121655,\"VA1121655\",IF(Benchsheet!C71=1121900,\"VA1121900\",IF(Benchsheet!C71<1,\"\")))))))))))))))","v":"VA1121900"},{"$f":"IF(WORKSHEET!B68=\"MPN\",\"3000\",IF(WORKSHEET!B68=\"TC\",\"3100\",\"\"))","v":"3100"},{"$f":"IF(Benchsheet!A71>1,\"SM 9223B\",\"\")","v":"SM 9223B"},{"$f":"Benchsheet!U71","v":"00:00:00"},{"$f":"IF(Benchsheet!J71>1,\"A\",\"\")","v":"A"},{"$f":"Benchsheet!L71","v":"A"},{"$f":"IF(WORKSHEET!A67=\"-1\",\"\",IF(WORKSHEET!A67=0,\"0\",WORKSHEET!A67))","v":""},"",{"$f":"IF(WORKSHEET!B68=\"MPN\",\"MPN\",\"\")","v":""}]
[{"$f":"IF(Benchsheet!A71>1,\"result\",\"\")","v":"result"},{"$f":"IF(Benchsheet!A71>1,\"STATE\",\"\")","v":"STATE"},{"$f":"IF(Benchsheet!A71>1,\"00035\",\"\")","v":"00035"},{"$f":"Benchsheet!A71","v":"1511M28"},{"$f":"IF(Benchsheet!C71=1121057,\"VA1121057\",IF(Benchsheet!C71=1121090,\"VA1121090\",IF(Benchsheet!C71=1121052,\"VA1121052\",IF(Benchsheet!C71=1121175,\"VA1121175\",IF(Benchsheet!C71=1121580,\"VA1121580\",IF(Benchsheet!C71=1121570,\"VA1121570\",IF(Benchsheet!C71=1121045,\"VA1121045\",IF(Benchsheet!C71=1121655,\"VA1121655\",IF(Benchsheet!C71=1121503,\"VA1121503\",IF(Benchsheet!C71=1121043,\"VA1121043\",IF(Benchsheet!C71=1121900,\"VA1121900\",IF(Benchsheet!C71=1121845,\"VA1121845\",IF(Benchsheet!C71=1121655,\"VA1121655\",IF(Benchsheet!C71=1121900,\"VA1121900\",IF(Benchsheet!C71<1,\"\")))))))))))))))","v":"VA1121900"},{"$f":"WORKSHEET!C68","v":3014},{"$f":"IF(Benchsheet!A71>1,\"SM 9223B\",\"\")","v":"SM 9223B"},{"$f":"Benchsheet!U71","v":"00:00:00"},{"$f":"IF(Benchsheet!J71>1,\"A\",\"\")","v":"A"},{"$f":"Benchsheet!M71","v":"A"},{"$f":"IF(WORKSHEET!A68=\"-1\",\"\",IF(WORKSHEET!A68=0,\"0\",WORKSHEET!A68))","v":""},"",{"$f":"IF(WORKSHEET!B68=\"MPN\",\"MPN\",\"\")","v":""}]
[{"$f":"IF(Benchsheet!A72>1,\"result\",\"\")","v":"result"},{"$f":"IF(Benchsheet!A72>1,\"STATE\",\"\")","v":"STATE"},{"$f":"IF(Benchsheet!A72>1,\"00035\",\"\")","v":"00035"},{"$f":"Benchsheet!A72","v":"1511M29"},{"$f":"IF(Benchsheet!C72=1121057,\"VA1121057\",IF(Benchsheet!C72=1121090,\"VA1121090\",IF(Benchsheet!C72=1121052,\"VA1121052\",IF(Benchsheet!C72=1121175,\"VA1121175\",IF(Benchsheet!C72=1121580,\"VA1121580\",IF(Benchsheet!C72=1121570,\"VA1121570\",IF(Benchsheet!C72=1121045,\"VA1121045\",IF(Benchsheet!C72=1121655,\"VA1121655\",IF(Benchsheet!C72=1121503,\"VA1121503\",IF(Benchsheet!C72=1121043,\"VA1121043\",IF(Benchsheet!C72=1121900,\"VA1121900\",IF(Benchsheet!C72=1121845,\"VA1121845\",IF(Benchsheet!C72=1121655,\"VA1121655\",IF(Benchsheet!C72=1121900,\"VA1121900\",IF(Benchsheet!C72<1,\"\")))))))))))))))","v":"VA1121580"},{"$f":"IF(WORKSHEET!B69=\"MPN\",\"3000\",IF(WORKSHEET!B69=\"TC\",\"3100\",\"\"))","v":"3100"},{"$f":"IF(Benchsheet!A72>1,\"SM 9223B\",\"\")","v":"SM 9223B"},{"$f":"Benchsheet!U72","v":"00:00:00"},{"$f":"IF(Benchsheet!J72>1,\"A\",\"\")","v":"A"},{"$f":"Benchsheet!L72","v":"A"},{"$f":"IF(WORKSHEET!A68=\"-1\",\"\",IF(WORKSHEET!A68=0,\"0\",WORKSHEET!A68))","v":""},"",{"$f":"IF(WORKSHEET!B69=\"MPN\",\"MPN\",\"\")","v":""}]
[{"$f":"IF(Benchsheet!A72>1,\"result\",\"\")","v":"result"},{"$f":"IF(Benchsheet!A72>1,\"STATE\",\"\")","v":"STATE"},{"$f":"IF(Benchsheet!A72>1,\"00035\",\"\")","v":"00035"},{"$f":"Benchsheet!A72","v":"1511M29"},{"$f":"IF(Benchsheet!C72=1121057,\"VA1121057\",IF(Benchsheet!C72=1121090,\"VA1121090\",IF(Benchsheet!C72=1121052,\"VA1121052\",IF(Benchsheet!C72=1121175,\"VA1121175\",IF(Benchsheet!C72=1121580,\"VA1121580\",IF(Benchsheet!C72=1121570,\"VA1121570\",IF(Benchsheet!C72=1121045,\"VA1121045\",IF(Benchsheet!C72=1121655,\"VA1121655\",IF(Benchsheet!C72=1121503,\"VA1121503\",IF(Benchsheet!C72=1121043,\"VA1121043\",IF(Benchsheet!C72=1121900,\"VA1121900\",IF(Benchsheet!C72=1121845,\"VA1121845\",IF(Benchsheet!C72=1121655,\"VA1121655\",IF(Benchsheet!C72=1121900,\"VA1121900\",IF(Benchsheet!C72<1,\"\")))))))))))))))","v":"VA1121580"},{"$f":"WORKSHEET!C69","v":3014},{"$f":"IF(Benchsheet!A72>1,\"SM 9223B\",\"\")","v":"SM 9223B"},{"$f":"Benchsheet!U72","v":"00:00:00"},{"$f":"IF(Benchsheet!J72>1,\"A\",\"\")","v":"A"},{"$f":"Benchsheet!M72","v":"A"},{"$f":"IF(WORKSHEET!A69=\"-1\",\"\",IF(WORKSHEET!A69=0,\"0\",WORKSHEET!A69))","v":""},"",{"$f":"IF(WORKSHEET!B69=\"MPN\",\"MPN\",\"\")","v":""}]
[{"$f":"IF(Benchsheet!A73>1,\"result\",\"\")","v":"result"},{"$f":"IF(Benchsheet!A73>1,\"STATE\",\"\")","v":"STATE"},{"$f":"IF(Benchsheet!A73>1,\"00035\",\"\")","v":"00035"},{"$f":"Benchsheet!A73","v":"1511P11"},{"$f":"IF(Benchsheet!C73=1121057,\"VA1121057\",IF(Benchsheet!C73=1121090,\"VA1121090\",IF(Benchsheet!C73=1121052,\"VA1121052\",IF(Benchsheet!C73=1121175,\"VA1121175\",IF(Benchsheet!C73=1121580,\"VA1121580\",IF(Benchsheet!C73=1121570,\"VA1121570\",IF(Benchsheet!C73=1121045,\"VA1121045\",IF(Benchsheet!C73=1121655,\"VA1121655\",IF(Benchsheet!C73=1121503,\"VA1121503\",IF(Benchsheet!C73=1121043,\"VA1121043\",IF(Benchsheet!C73=1121900,\"VA1121900\",IF(Benchsheet!C73=1121845,\"VA1121845\",IF(Benchsheet!C73=1121655,\"VA1121655\",IF(Benchsheet!C73=1121900,\"VA1121900\",IF(Benchsheet!C73<1,\"\")))))))))))))))","v":"VA1121057"},{"$f":"IF(WORKSHEET!B70=\"MPN\",\"3000\",IF(WORKSHEET!B70=\"TC\",\"3100\",\"\"))","v":"3100"},{"$f":"IF(Benchsheet!A73>1,\"SM 9223B\",\"\")","v":"SM 9223B"},{"$f":"Benchsheet!U73","v":"00:00:00"},{"$f":"IF(Benchsheet!J73>1,\"A\",\"\")","v":"A"},{"$f":"Benchsheet!L73","v":"A"},{"$f":"IF(WORKSHEET!A69=\"-1\",\"\",IF(WORKSHEET!A69=0,\"0\",WORKSHEET!A69))","v":""},"",{"$f":"IF(WORKSHEET!B70=\"MPN\",\"MPN\",\"\")","v":""}]
[{"$f":"IF(Benchsheet!A73>1,\"result\",\"\")","v":"result"},{"$f":"IF(Benchsheet!A73>1,\"STATE\",\"\")","v":"STATE"},{"$f":"IF(Benchsheet!A73>1,\"00035\",\"\")","v":"00035"},{"$f":"Benchsheet!A73","v":"1511P11"},{"$f":"IF(Benchsheet!C73=1121057,\"VA1121057\",IF(Benchsheet!C73=1121090,\"VA1121090\",IF(Benchsheet!C73=1121052,\"VA1121052\",IF(Benchsheet!C73=1121175,\"VA1121175\",IF(Benchsheet!C73=1121580,\"VA1121580\",IF(Benchsheet!C73=1121570,\"VA1121570\",IF(Benchsheet!C73=1121045,\"VA1121045\",IF(Benchsheet!C73=1121655,\"VA1121655\",IF(Benchsheet!C73=1121503,\"VA1121503\",IF(Benchsheet!C73=1121043,\"VA1121043\",IF(Benchsheet!C73=1121900,\"VA1121900\",IF(Benchsheet!C73=1121845,\"VA1121845\",IF(Benchsheet!C73=1121655,\"VA1121655\",IF(Benchsheet!C73=1121900,\"VA1121900\",IF(Benchsheet!C73<1,\"\")))))))))))))))","v":"VA1121057"},{"$f":"WORKSHEET!C70","v":3014},{"$f":"IF(Benchsheet!A73>1,\"SM 9223B\",\"\")","v":"SM 9223B"},{"$f":"Benchsheet!U73","v":"00:00:00"},{"$f":"IF(Benchsheet!J73>1,\"A\",\"\")","v":"A"},{"$f":"Benchsheet!M73","v":"A"},{"$f":"IF(WORKSHEET!A70=\"-1\",\"\",IF(WORKSHEET!A70=0,\"0\",WORKSHEET!A70))","v":""},"",{"$f":"IF(WORKSHEET!B70=\"MPN\",\"MPN\",\"\")","v":""}]
[{"$f":"IF(Benchsheet!A74>1,\"result\",\"\")","v":"result"},{"$f":"IF(Benchsheet!A74>1,\"STATE\",\"\")","v":"STATE"},{"$f":"IF(Benchsheet!A74>1,\"00035\",\"\")","v":"00035"},{"$f":"Benchsheet!A74","v":"1511P12"},{"$f":"IF(Benchsheet!C74=1121057,\"VA1121057\",IF(Benchsheet!C74=1121090,\"VA1121090\",IF(Benchsheet!C74=1121052,\"VA1121052\",IF(Benchsheet!C74=1121175,\"VA1121175\",IF(Benchsheet!C74=1121580,\"VA1121580\",IF(Benchsheet!C74=1121570,\"VA1121570\",IF(Benchsheet!C74=1121045,\"VA1121045\",IF(Benchsheet!C74=1121655,\"VA1121655\",IF(Benchsheet!C74=1121503,\"VA1121503\",IF(Benchsheet!C74=1121043,\"VA1121043\",IF(Benchsheet!C74=1121900,\"VA1121900\",IF(Benchsheet!C74=1121845,\"VA1121845\",IF(Benchsheet!C74=1121655,\"VA1121655\",IF(Benchsheet!C74=1121900,\"VA1121900\",IF(Benchsheet!C74<1,\"\")))))))))))))))","v":"VA1121057"},null,{"$f":"IF(Benchsheet!A74>1,\"SM 9223B\",\"\")","v":"SM 9223B"},{"$f":"Benchsheet!U74","v":"00:00:00"},{"$f":"IF(Benchsheet!J74>1,\"A\",\"\")","v":"A"},{"$f":"Benchsheet!L74","v":"A"},{"$f":"IF(WORKSHEET!A70=\"-1\",\"\",IF(WORKSHEET!A70=0,\"0\",WORKSHEET!A70))","v":""},"",{"$f":"IF(WORKSHEET!B71=\"MPN\",\"MPN\",\"\")","v":""}]
[{"$f":"IF(Benchsheet!A74>1,\"result\",\"\")","v":"result"},{"$f":"IF(Benchsheet!A74>1,\"STATE\",\"\")","v":"STATE"},{"$f":"IF(Benchsheet!A74>1,\"00035\",\"\")","v":"00035"},{"$f":"Benchsheet!A74","v":"1511P12"},{"$f":"IF(Benchsheet!C74=1121057,\"VA1121057\",IF(Benchsheet!C74=1121090,\"VA1121090\",IF(Benchsheet!C74=1121052,\"VA1121052\",IF(Benchsheet!C74=1121175,\"VA1121175\",IF(Benchsheet!C74=1121580,\"VA1121580\",IF(Benchsheet!C74=1121570,\"VA1121570\",IF(Benchsheet!C74=1121045,\"VA1121045\",IF(Benchsheet!C74=1121655,\"VA1121655\",IF(Benchsheet!C74=1121503,\"VA1121503\",IF(Benchsheet!C74=1121043,\"VA1121043\",IF(Benchsheet!C74=1121900,\"VA1121900\",IF(Benchsheet!C74=1121845,\"VA1121845\",IF(Benchsheet!C74=1121655,\"VA1121655\",IF(Benchsheet!C74=1121900,\"VA1121900\",IF(Benchsheet!C74<1,\"\")))))))))))))))","v":"VA1121057"},{"$f":"WORKSHEET!C71","v":3014},{"$f":"IF(Benchsheet!A74>1,\"SM 9223B\",\"\")","v":"SM 9223B"},{"$f":"Benchsheet!U74","v":"00:00:00"},{"$f":"IF(Benchsheet!J74>1,\"A\",\"\")","v":"A"},{"$f":"Benchsheet!M74","v":"A"},{"$f":"IF(WORKSHEET!A71=\"-1\",\"\",IF(WORKSHEET!A71=0,\"0\",WORKSHEET!A71))","v":""},"",{"$f":"IF(WORKSHEET!B71=\"MPN\",\"MPN\",\"\")","v":""}]
[{"$f":"IF(Benchsheet!A75>1,\"result\",\"\")","v":"result"},{"$f":"IF(Benchsheet!A75>1,\"STATE\",\"\")","v":"STATE"},{"$f":"IF(Benchsheet!A75>1,\"00035\",\"\")","v":"00035"},{"$f":"Benchsheet!A75","v":"1511P13"},{"$f":"IF(Benchsheet!C75=1121057,\"VA1121057\",IF(Benchsheet!C75=1121090,\"VA1121090\",IF(Benchsheet!C75=1121052,\"VA1121052\",IF(Benchsheet!C75=1121175,\"VA1121175\",IF(Benchsheet!C75=1121580,\"VA1121580\",IF(Benchsheet!C75=1121570,\"VA1121570\",IF(Benchsheet!C75=1121045,\"VA1121045\",IF(Benchsheet!C75=1121655,\"VA1121655\",IF(Benchsheet!C75=1121503,\"VA1121503\",IF(Benchsheet!C75=1121043,\"VA1121043\",IF(Benchsheet!C75=1121900,\"VA1121900\",IF(Benchsheet!C75=1121845,\"VA1121845\",IF(Benchsheet!C75=1121655,\"VA1121655\",IF(Benchsheet!C75=1121900,\"VA1121900\",IF(Benchsheet!C75<1,\"\")))))))))))))))","v":"VA1121057"},{"$f":"IF(WORKSHEET!B72=\"MPN\",\"3000\",IF(WORKSHEET!B72=\"TC\",\"3100\",\"\"))","v":"3100"},{"$f":"IF(Benchsheet!A75>1,\"SM 9223B\",\"\")","v":"SM 9223B"},{"$f":"Benchsheet!U75","v":"00:00:00"},{"$f":"IF(Benchsheet!J75>1,\"A\",\"\")","v":"A"},{"$f":"Benchsheet!L75","v":"A"},{"$f":"IF(WORKSHEET!A71=\"-1\",\"\",IF(WORKSHEET!A71=0,\"0\",WORKSHEET!A71))","v":""},"",{"$f":"IF(WORKSHEET!B72=\"MPN\",\"MPN\",\"\")","v":""}]
[{"$f":"IF(Benchsheet!A75>1,\"result\",\"\")","v":"result"},{"$f":"IF(Benchsheet!A75>1,\"STATE\",\"\")","v":"STATE"},{"$f":"IF(Benchsheet!A75>1,\"00035\",\"\")","v":"00035"},{"$f":"Benchsheet!A75","v":"1511P13"},{"$f":"IF(Benchsheet!C75=1121057,\"VA1121057\",IF(Benchsheet!C75=1121090,\"VA1121090\",IF(Benchsheet!C75=1121052,\"VA1121052\",IF(Benchsheet!C75=1121175,\"VA1121175\",IF(Benchsheet!C75=1121580,\"VA1121580\",IF(Benchsheet!C75=1121570,\"VA1121570\",IF(Benchsheet!C75=1121045,\"VA1121045\",IF(Benchsheet!C75=1121655,\"VA1121655\",IF(Benchsheet!C75=1121503,\"VA1121503\",IF(Benchsheet!C75=1121043,\"VA1121043\",IF(Benchsheet!C75=1121900,\"VA1121900\",IF(Benchsheet!C75=1121845,\"VA1121845\",IF(Benchsheet!C75=1121655,\"VA1121655\",IF(Benchsheet!C75=1121900,\"VA1121900\",IF(Benchsheet!C75<1,\"\")))))))))))))))","v":"VA1121057"},{"$f":"WORKSHEET!C72","v":3014},{"$f":"IF(Benchsheet!A75>1,\"SM 9223B\",\"\")","v":"SM 9223B"},{"$f":"Benchsheet!U75","v":"00:00:00"},{"$f":"IF(Benchsheet!J75>1,\"A\",\"\")","v":"A"},{"$f":"Benchsheet!M75","v":"A"},{"$f":"IF(WORKSHEET!A72=\"-1\",\"\",IF(WORKSHEET!A72=0,\"0\",WORKSHEET!A72))","v":""},"",{"$f":"IF(WORKSHEET!B72=\"MPN\",\"MPN\",\"\")","v":""}]
[{"$f":"IF(Benchsheet!A76>1,\"result\",\"\")","v":"result"},{"$f":"IF(Benchsheet!A76>1,\"STATE\",\"\")","v":"STATE"},{"$f":"IF(Benchsheet!A76>1,\"00035\",\"\")","v":"00035"},{"$f":"Benchsheet!A76","v":"1511P14"},{"$f":"IF(Benchsheet!C76=1121057,\"VA1121057\",IF(Benchsheet!C76=1121090,\"VA1121090\",IF(Benchsheet!C76=1121052,\"VA1121052\",IF(Benchsheet!C76=1121175,\"VA1121175\",IF(Benchsheet!C76=1121580,\"VA1121580\",IF(Benchsheet!C76=1121570,\"VA1121570\",IF(Benchsheet!C76=1121045,\"VA1121045\",IF(Benchsheet!C76=1121655,\"VA1121655\",IF(Benchsheet!C76=1121503,\"VA1121503\",IF(Benchsheet!C76=1121043,\"VA1121043\",IF(Benchsheet!C76=1121900,\"VA1121900\",IF(Benchsheet!C76=1121845,\"VA1121845\",IF(Benchsheet!C76=1121655,\"VA1121655\",IF(Benchsheet!C76=1121900,\"VA1121900\",IF(Benchsheet!C76<1,\"\")))))))))))))))","v":"VA1121057"},{"$f":"IF(WORKSHEET!B73=\"MPN\",\"3000\",IF(WORKSHEET!B73=\"TC\",\"3100\",\"\"))","v":"3100"},{"$f":"IF(Benchsheet!A76>1,\"SM 9223B\",\"\")","v":"SM 9223B"},{"$f":"Benchsheet!U76","v":"00:00:00"},{"$f":"IF(Benchsheet!J76>1,\"A\",\"\")","v":"A"},{"$f":"Benchsheet!L76","v":0},{"$f":"IF(WORKSHEET!A72=\"-1\",\"\",IF(WORKSHEET!A72=0,\"0\",WORKSHEET!A72))","v":""},"",{"$f":"IF(WORKSHEET!B73=\"MPN\",\"MPN\",\"\")","v":""}]
[{"$f":"IF(Benchsheet!A76>1,\"result\",\"\")","v":"result"},{"$f":"IF(Benchsheet!A76>1,\"STATE\",\"\")","v":"STATE"},{"$f":"IF(Benchsheet!A76>1,\"00035\",\"\")","v":"00035"},{"$f":"Benchsheet!A76","v":"1511P14"},{"$f":"IF(Benchsheet!C76=1121057,\"VA1121057\",IF(Benchsheet!C76=1121090,\"VA1121090\",IF(Benchsheet!C76=1121052,\"VA1121052\",IF(Benchsheet!C76=1121175,\"VA1121175\",IF(Benchsheet!C76=1121580,\"VA1121580\",IF(Benchsheet!C76=1121570,\"VA1121570\",IF(Benchsheet!C76=1121045,\"VA1121045\",IF(Benchsheet!C76=1121655,\"VA1121655\",IF(Benchsheet!C76=1121503,\"VA1121503\",IF(Benchsheet!C76=1121043,\"VA1121043\",IF(Benchsheet!C76=1121900,\"VA1121900\",IF(Benchsheet!C76=1121845,\"VA1121845\",IF(Benchsheet!C76=1121655,\"VA1121655\",IF(Benchsheet!C76=1121900,\"VA1121900\",IF(Benchsheet!C76<1,\"\")))))))))))))))","v":"VA1121057"},{"$f":"WORKSHEET!C73","v":3014},{"$f":"IF(Benchsheet!A76>1,\"SM 9223B\",\"\")","v":"SM 9223B"},{"$f":"Benchsheet!U76","v":"00:00:00"},{"$f":"IF(Benchsheet!J76>1,\"A\",\"\")","v":"A"},{"$f":"Benchsheet!M76","v":0},{"$f":"IF(WORKSHEET!A73=\"-1\",\"\",IF(WORKSHEET!A73=0,\"0\",WORKSHEET!A73))","v":""},"",{"$f":"IF(WORKSHEET!B73=\"MPN\",\"MPN\",\"\")","v":""}]
[{"$f":"IF(Benchsheet!A77>1,\"result\",\"\")","v":"result"},{"$f":"IF(Benchsheet!A77>1,\"STATE\",\"\")","v":"STATE"},{"$f":"IF(Benchsheet!A77>1,\"00035\",\"\")","v":"00035"},{"$f":"Benchsheet!A77","v":"1511C18"},{"$f":"IF(Benchsheet!C77=1121057,\"VA1121057\",IF(Benchsheet!C77=1121090,\"VA1121090\",IF(Benchsheet!C77=1121052,\"VA1121052\",IF(Benchsheet!C77=1121175,\"VA1121175\",IF(Benchsheet!C77=1121580,\"VA1121580\",IF(Benchsheet!C77=1121570,\"VA1121570\",IF(Benchsheet!C77=1121045,\"VA1121045\",IF(Benchsheet!C77=1121655,\"VA1121655\",IF(Benchsheet!C77=1121503,\"VA1121503\",IF(Benchsheet!C77=1121043,\"VA1121043\",IF(Benchsheet!C77=1121900,\"VA1121900\",IF(Benchsheet!C77=1121845,\"VA1121845\",IF(Benchsheet!C77=1121655,\"VA1121655\",IF(Benchsheet!C77=1121900,\"VA1121900\",IF(Benchsheet!C77<1,\"\")))))))))))))))","v":"VA1121090"},{"$f":"IF(WORKSHEET!B74=\"MPN\",\"3000\",IF(WORKSHEET!B74=\"TC\",\"3100\",\"\"))","v":"3100"},{"$f":"IF(Benchsheet!A77>1,\"SM 9223B\",\"\")","v":"SM 9223B"},{"$f":"Benchsheet!U77","v":"00:00:00"},{"$f":"IF(Benchsheet!J77>1,\"A\",\"\")","v":""},{"$f":"Benchsheet!L77","v":0},{"$f":"IF(WORKSHEET!A73=\"-1\",\"\",IF(WORKSHEET!A73=0,\"0\",WORKSHEET!A73))","v":""},"",{"$f":"IF(WORKSHEET!B74=\"MPN\",\"MPN\",\"\")","v":""}]
[{"$f":"IF(Benchsheet!A77>1,\"result\",\"\")","v":"result"},{"$f":"IF(Benchsheet!A77>1,\"STATE\",\"\")","v":"STATE"},{"$f":"IF(Benchsheet!A77>1,\"00035\",\"\")","v":"00035"},{"$f":"Benchsheet!A77","v":"1511C18"},{"$f":"IF(Benchsheet!C77=1121057,\"VA1121057\",IF(Benchsheet!C77=1121090,\"VA1121090\",IF(Benchsheet!C77=1121052,\"VA1121052\",IF(Benchsheet!C77=1121175,\"VA1121175\",IF(Benchsheet!C77=1121580,\"VA1121580\",IF(Benchsheet!C77=1121570,\"VA1121570\",IF(Benchsheet!C77=1121045,\"VA1121045\",IF(Benchsheet!C77=1121655,\"VA1121655\",IF(Benchsheet!C77=1121503,\"VA1121503\",IF(Benchsheet!C77=1121043,\"VA1121043\",IF(Benchsheet!C77=1121900,\"VA1121900\",IF(Benchsheet!C77=1121845,\"VA1121845\",IF(Benchsheet!C77=1121655,\"VA1121655\",IF(Benchsheet!C77=1121900,\"VA1121900\",IF(Benchsheet!C77<1,\"\")))))))))))))))","v":"VA1121090"},{"$f":"WORKSHEET!C74","v":3014},{"$f":"IF(Benchsheet!A77>1,\"SM 9223B\",\"\")","v":"SM 9223B"},{"$f":"Benchsheet!U77","v":"00:00:00"},{"$f":"IF(Benchsheet!J77>1,\"A\",\"\")","v":""},{"$f":"Benchsheet!M77","v":0},{"$f":"IF(WORKSHEET!A74=\"-1\",\"\",IF(WORKSHEET!A74=0,\"0\",WORKSHEET!A74))","v":""},"",{"$f":"IF(WORKSHEET!B74=\"MPN\",\"MPN\",\"\")","v":""}]
[{"$f":"IF(Benchsheet!A78>1,\"result\",\"\")","v":"result"},{"$f":"IF(Benchsheet!A78>1,\"STATE\",\"\")","v":"STATE"},{"$f":"IF(Benchsheet!A78>1,\"00035\",\"\")","v":"00035"},{"$f":"Benchsheet!A78","v":"1511C19"},{"$f":"IF(Benchsheet!C78=1121057,\"VA1121057\",IF(Benchsheet!C78=1121090,\"VA1121090\",IF(Benchsheet!C78=1121052,\"VA1121052\",IF(Benchsheet!C78=1121175,\"VA1121175\",IF(Benchsheet!C78=1121580,\"VA1121580\",IF(Benchsheet!C78=1121570,\"VA1121570\",IF(Benchsheet!C78=1121045,\"VA1121045\",IF(Benchsheet!C78=1121655,\"VA1121655\",IF(Benchsheet!C78=1121503,\"VA1121503\",IF(Benchsheet!C78=1121043,\"VA1121043\",IF(Benchsheet!C78=1121900,\"VA1121900\",IF(Benchsheet!C78=1121845,\"VA1121845\",IF(Benchsheet!C78=1121655,\"VA1121655\",IF(Benchsheet!C78=1121900,\"VA1121900\",IF(Benchsheet!C78<1,\"\")))))))))))))))","v":"VA1121090"},{"$f":"IF(WORKSHEET!B75=\"MPN\",\"3000\",IF(WORKSHEET!B75=\"TC\",\"3100\",\"\"))","v":"3100"},{"$f":"IF(Benchsheet!A78>1,\"SM 9223B\",\"\")","v":"SM 9223B"},{"$f":"Benchsheet!U78","v":"00:00:00"},{"$f":"IF(Benchsheet!J78>1,\"A\",\"\")","v":""},{"$f":"Benchsheet!L78","v":0},{"$f":"IF(WORKSHEET!A74=\"-1\",\"\",IF(WORKSHEET!A74=0,\"0\",WORKSHEET!A74))","v":""},"",{"$f":"IF(WORKSHEET!B75=\"MPN\",\"MPN\",\"\")","v":""}]
[{"$f":"IF(Benchsheet!A78>1,\"result\",\"\")","v":"result"},{"$f":"IF(Benchsheet!A78>1,\"STATE\",\"\")","v":"STATE"},{"$f":"IF(Benchsheet!A78>1,\"00035\",\"\")","v":"00035"},{"$f":"Benchsheet!A78","v":"1511C19"},{"$f":"IF(Benchsheet!C78=1121057,\"VA1121057\",IF(Benchsheet!C78=1121090,\"VA1121090\",IF(Benchsheet!C78=1121052,\"VA1121052\",IF(Benchsheet!C78=1121175,\"VA1121175\",IF(Benchsheet!C78=1121580,\"VA1121580\",IF(Benchsheet!C78=1121570,\"VA1121570\",IF(Benchsheet!C78=1121045,\"VA1121045\",IF(Benchsheet!C78=1121655,\"VA1121655\",IF(Benchsheet!C78=1121503,\"VA1121503\",IF(Benchsheet!C78=1121043,\"VA1121043\",IF(Benchsheet!C78=1121900,\"VA1121900\",IF(Benchsheet!C78=1121845,\"VA1121845\",IF(Benchsheet!C78=1121655,\"VA1121655\",IF(Benchsheet!C78=1121900,\"VA1121900\",IF(Benchsheet!C78<1,\"\")))))))))))))))","v":"VA1121090"},{"$f":"WORKSHEET!C75","v":3014},{"$f":"IF(Benchsheet!A78>1,\"SM 9223B\",\"\")","v":"SM 9223B"},{"$f":"Benchsheet!U78","v":"00:00:00"},{"$f":"IF(Benchsheet!J78>1,\"A\",\"\")","v":""},{"$f":"Benchsheet!M78","v":0},{"$f":"IF(WORKSHEET!A75=\"-1\",\"\",IF(WORKSHEET!A75=0,\"0\",WORKSHEET!A75))","v":""},"",{"$f":"IF(WORKSHEET!B75=\"MPN\",\"MPN\",\"\")","v":""}]
[{"$f":"IF(Benchsheet!A79>1,\"result\",\"\")","v":"result"},{"$f":"IF(Benchsheet!A79>1,\"STATE\",\"\")","v":"STATE"},{"$f":"IF(Benchsheet!A79>1,\"00035\",\"\")","v":"00035"},{"$f":"Benchsheet!A79","v":"1511C20"},{"$f":"IF(Benchsheet!C79=1121057,\"VA1121057\",IF(Benchsheet!C79=1121090,\"VA1121090\",IF(Benchsheet!C79=1121052,\"VA1121052\",IF(Benchsheet!C79=1121175,\"VA1121175\",IF(Benchsheet!C79=1121580,\"VA1121580\",IF(Benchsheet!C79=1121570,\"VA1121570\",IF(Benchsheet!C79=1121045,\"VA1121045\",IF(Benchsheet!C79=1121655,\"VA1121655\",IF(Benchsheet!C79=1121503,\"VA1121503\",IF(Benchsheet!C79=1121043,\"VA1121043\",IF(Benchsheet!C79=1121900,\"VA1121900\",IF(Benchsheet!C79=1121845,\"VA1121845\",IF(Benchsheet!C79=1121655,\"VA1121655\",IF(Benchsheet!C79=1121900,\"VA1121900\",IF(Benchsheet!C79<1,\"\")))))))))))))))","v":"VA1121090"},{"$f":"IF(WORKSHEET!B76=\"MPN\",\"3000\",IF(WORKSHEET!B76=\"TC\",\"3100\",\"\"))","v":"3100"},{"$f":"IF(Benchsheet!A79>1,\"SM 9223B\",\"\")","v":"SM 9223B"},{"$f":"Benchsheet!U79","v":"00:00:00"},{"$f":"IF(Benchsheet!J79>1,\"A\",\"\")","v":""},{"$f":"Benchsheet!L79","v":0},{"$f":"IF(WORKSHEET!A75=\"-1\",\"\",IF(WORKSHEET!A75=0,\"0\",WORKSHEET!A75))","v":""},"",{"$f":"IF(WORKSHEET!B76=\"MPN\",\"MPN\",\"\")","v":""}]
[{"$f":"IF(Benchsheet!A79>1,\"result\",\"\")","v":"result"},{"$f":"IF(Benchsheet!A79>1,\"STATE\",\"\")","v":"STATE"},{"$f":"IF(Benchsheet!A79>1,\"00035\",\"\")","v":"00035"},{"$f":"Benchsheet!A79","v":"1511C20"},{"$f":"IF(Benchsheet!C79=1121057,\"VA1121057\",IF(Benchsheet!C79=1121090,\"VA1121090\",IF(Benchsheet!C79=1121052,\"VA1121052\",IF(Benchsheet!C79=1121175,\"VA1121175\",IF(Benchsheet!C79=1121580,\"VA1121580\",IF(Benchsheet!C79=1121570,\"VA1121570\",IF(Benchsheet!C79=1121045,\"VA1121045\",IF(Benchsheet!C79=1121655,\"VA1121655\",IF(Benchsheet!C79=1121503,\"VA1121503\",IF(Benchsheet!C79=1121043,\"VA1121043\",IF(Benchsheet!C79=1121900,\"VA1121900\",IF(Benchsheet!C79=1121845,\"VA1121845\",IF(Benchsheet!C79=1121655,\"VA1121655\",IF(Benchsheet!C79=1121900,\"VA1121900\",IF(Benchsheet!C79<1,\"\")))))))))))))))","v":"VA1121090"},{"$f":"WORKSHEET!C76","v":3014},{"$f":"IF(Benchsheet!A79>1,\"SM 9223B\",\"\")","v":"SM 9223B"},{"$f":"Benchsheet!U79","v":"00:00:00"},{"$f":"IF(Benchsheet!J79>1,\"A\",\"\")","v":""},{"$f":"Benchsheet!M79","v":0},{"$f":"IF(WORKSHEET!A76=\"-1\",\"\",IF(WORKSHEET!A76=0,\"0\",WORKSHEET!A76))","v":""},"",{"$f":"IF(WORKSHEET!B77=\"MPN\",\"MPN\",\"\")","v":""}]
[{"$f":"IF(Benchsheet!A80>1,\"result\",\"\")","v":"result"},{"$f":"IF(Benchsheet!A80>1,\"STATE\",\"\")","v":"STATE"},{"$f":"IF(Benchsheet!A80>1,\"00035\",\"\")","v":"00035"},{"$f":"Benchsheet!A80","v":"1511C21"},{"$f":"IF(Benchsheet!C80=1121057,\"VA1121057\",IF(Benchsheet!C80=1121090,\"VA1121090\",IF(Benchsheet!C80=1121052,\"VA1121052\",IF(Benchsheet!C80=1121175,\"VA1121175\",IF(Benchsheet!C80=1121580,\"VA1121580\",IF(Benchsheet!C80=1121570,\"VA1121570\",IF(Benchsheet!C80=1121045,\"VA1121045\",IF(Benchsheet!C80=1121655,\"VA1121655\",IF(Benchsheet!C80=1121503,\"VA1121503\",IF(Benchsheet!C80=1121043,\"VA1121043\",IF(Benchsheet!C80=1121900,\"VA1121900\",IF(Benchsheet!C80=1121845,\"VA1121845\",IF(Benchsheet!C80=1121655,\"VA1121655\",IF(Benchsheet!C80=1121900,\"VA1121900\",IF(Benchsheet!C80<1,\"\")))))))))))))))","v":"VA1121090"},{"$f":"IF(WORKSHEET!B77=\"MPN\",\"3000\",IF(WORKSHEET!B77=\"TC\",\"3100\",\"\"))","v":"3100"},{"$f":"IF(Benchsheet!A80>1,\"SM 9223B\",\"\")","v":"SM 9223B"},{"$f":"Benchsheet!U80","v":"00:00:00"},{"$f":"IF(Benchsheet!J80>1,\"A\",\"\")","v":""},{"$f":"Benchsheet!L80","v":0},{"$f":"IF(WORKSHEET!A76=\"-1\",\"\",IF(WORKSHEET!A76=0,\"0\",WORKSHEET!A76))","v":""},"",{"$f":"IF(WORKSHEET!B77=\"MPN\",\"MPN\",\"\")","v":""},{"$f":"IF(WORKSHEET!B76=\"MPN\",\"MPN\",\"\")","v":""}]
[{"$f":"IF(Benchsheet!A80>1,\"result\",\"\")","v":"result"},{"$f":"IF(Benchsheet!A80>1,\"STATE\",\"\")","v":"STATE"},{"$f":"IF(Benchsheet!A80>1,\"00035\",\"\")","v":"00035"},{"$f":"Benchsheet!A80","v":"1511C21"},{"$f":"IF(Benchsheet!C80=1121057,\"VA1121057\",IF(Benchsheet!C80=1121090,\"VA1121090\",IF(Benchsheet!C80=1121052,\"VA1121052\",IF(Benchsheet!C80=1121175,\"VA1121175\",IF(Benchsheet!C80=1121580,\"VA1121580\",IF(Benchsheet!C80=1121570,\"VA1121570\",IF(Benchsheet!C80=1121045,\"VA1121045\",IF(Benchsheet!C80=1121655,\"VA1121655\",IF(Benchsheet!C80=1121503,\"VA1121503\",IF(Benchsheet!C80=1121043,\"VA1121043\",IF(Benchsheet!C80=1121900,\"VA1121900\",IF(Benchsheet!C80=1121845,\"VA1121845\",IF(Benchsheet!C80=1121655,\"VA1121655\",IF(Benchsheet!C80=1121900,\"VA1121900\",IF(Benchsheet!C80<1,\"\")))))))))))))))","v":"VA1121090"},{"$f":"WORKSHEET!C77","v":3014},{"$f":"IF(Benchsheet!A80>1,\"SM 9223B\",\"\")","v":"SM 9223B"},{"$f":"Benchsheet!U80","v":"00:00:00"},{"$f":"IF(Benchsheet!J80>1,\"A\",\"\")","v":""},{"$f":"Benchsheet!M80","v":0},{"$f":"IF(WORKSHEET!A77=\"-1\",\"\",IF(WORKSHEET!A77=0,\"0\",WORKSHEET!A77))","v":""},"",{"$f":"IF(WORKSHEET!B78=\"MPN\",\"MPN\",\"\")","v":""}]
[{"$f":"IF(Benchsheet!A81>1,\"result\",\"\")","v":"result"},{"$f":"IF(Benchsheet!A81>1,\"STATE\",\"\")","v":"STATE"},{"$f":"IF(Benchsheet!A81>1,\"00035\",\"\")","v":"00035"},{"$f":"Benchsheet!A81","v":"1511C22"},{"$f":"IF(Benchsheet!C81=1121057,\"VA1121057\",IF(Benchsheet!C81=1121090,\"VA1121090\",IF(Benchsheet!C81=1121052,\"VA1121052\",IF(Benchsheet!C81=1121175,\"VA1121175\",IF(Benchsheet!C81=1121580,\"VA1121580\",IF(Benchsheet!C81=1121570,\"VA1121570\",IF(Benchsheet!C81=1121045,\"VA1121045\",IF(Benchsheet!C81=1121655,\"VA1121655\",IF(Benchsheet!C81=1121503,\"VA1121503\",IF(Benchsheet!C81=1121043,\"VA1121043\",IF(Benchsheet!C81=1121900,\"VA1121900\",IF(Benchsheet!C81=1121845,\"VA1121845\",IF(Benchsheet!C81=1121655,\"VA1121655\",IF(Benchsheet!C81=1121900,\"VA1121900\",IF(Benchsheet!C81<1,\"\")))))))))))))))","v":"VA1121090"},{"$f":"IF(WORKSHEET!B78=\"MPN\",\"3000\",IF(WORKSHEET!B78=\"TC\",\"3100\",\"\"))","v":"3100"},{"$f":"IF(Benchsheet!A81>1,\"SM 9223B\",\"\")","v":"SM 9223B"},{"$f":"Benchsheet!U81","v":"00:00:00"},{"$f":"IF(Benchsheet!J81>1,\"A\",\"\")","v":""},{"$f":"Benchsheet!L81","v":0},{"$f":"IF(WORKSHEET!A77=\"-1\",\"\",IF(WORKSHEET!A77=0,\"0\",WORKSHEET!A77))","v":""},"",{"$f":"IF(WORKSHEET!B78=\"MPN\",\"MPN\",\"\")","v":""}]
[{"$f":"IF(Benchsheet!A81>1,\"result\",\"\")","v":"result"},{"$f":"IF(Benchsheet!A81>1,\"STATE\",\"\")","v":"STATE"},{"$f":"IF(Benchsheet!A81>1,\"00035\",\"\")","v":"00035"},{"$f":"Benchsheet!A81","v":"1511C22"},{"$f":"IF(Benchsheet!C81=1121057,\"VA1121057\",IF(Benchsheet!C81=1121090,\"VA1121090\",IF(Benchsheet!C81=1121052,\"VA1121052\",IF(Benchsheet!C81=1121175,\"VA1121175\",IF(Benchsheet!C81=1121580,\"VA1121580\",IF(Benchsheet!C81=1121570,\"VA1121570\",IF(Benchsheet!C81=1121045,\"VA1121045\",IF(Benchsheet!C81=1121655,\"VA1121655\",IF(Benchsheet!C81=1121503,\"VA1121503\",IF(Benchsheet!C81=1121043,\"VA1121043\",IF(Benchsheet!C81=1121900,\"VA1121900\",IF(Benchsheet!C81=1121845,\"VA1121845\",IF(Benchsheet!C81=1121655,\"VA1121655\",IF(Benchsheet!C81=1121900,\"VA1121900\",IF(Benchsheet!C81<1,\"\")))))))))))))))","v":"VA1121090"},{"$f":"WORKSHEET!C78","v":3014},{"$f":"IF(Benchsheet!A81>1,\"SM 9223B\",\"\")","v":"SM 9223B"},{"$f":"Benchsheet!U81","v":"00:00:00"},{"$f":"IF(Benchsheet!J81>1,\"A\",\"\")","v":""},{"$f":"Benchsheet!M81","v":0},{"$f":"IF(WORKSHEET!A78=\"-1\",\"\",IF(WORKSHEET!A78=0,\"0\",WORKSHEET!A78))","v":""},"",{"$f":"IF(WORKSHEET!B79=\"MPN\",\"MPN\",\"\")","v":""}]
[{"$f":"IF(Benchsheet!A82>1,\"result\",\"\")","v":"result"},{"$f":"IF(Benchsheet!A82>1,\"STATE\",\"\")","v":"STATE"},{"$f":"IF(Benchsheet!A82>1,\"00035\",\"\")","v":"00035"},{"$f":"Benchsheet!A82","v":"1511C23"},{"$f":"IF(Benchsheet!C82=1121057,\"VA1121057\",IF(Benchsheet!C82=1121090,\"VA1121090\",IF(Benchsheet!C82=1121052,\"VA1121052\",IF(Benchsheet!C82=1121175,\"VA1121175\",IF(Benchsheet!C82=1121580,\"VA1121580\",IF(Benchsheet!C82=1121570,\"VA1121570\",IF(Benchsheet!C82=1121045,\"VA1121045\",IF(Benchsheet!C82=1121655,\"VA1121655\",IF(Benchsheet!C82=1121503,\"VA1121503\",IF(Benchsheet!C82=1121043,\"VA1121043\",IF(Benchsheet!C82=1121900,\"VA1121900\",IF(Benchsheet!C82=1121845,\"VA1121845\",IF(Benchsheet!C82=1121655,\"VA1121655\",IF(Benchsheet!C82=1121900,\"VA1121900\",IF(Benchsheet!C82<1,\"\")))))))))))))))","v":"VA1121090"},{"$f":"IF(WORKSHEET!B79=\"MPN\",\"3000\",IF(WORKSHEET!B79=\"TC\",\"3100\",\"\"))","v":"3100"},{"$f":"IF(Benchsheet!A82>1,\"SM 9223B\",\"\")","v":"SM 9223B"},{"$f":"Benchsheet!U82","v":"00:00:00"},{"$f":"IF(Benchsheet!J82>1,\"A\",\"\")","v":""},{"$f":"Benchsheet!L82","v":0},{"$f":"IF(WORKSHEET!A78=\"-1\",\"\",IF(WORKSHEET!A78=0,\"0\",WORKSHEET!A78))","v":""},"",{"$f":"IF(WORKSHEET!B79=\"MPN\",\"MPN\",\"\")","v":""}]
[{"$f":"IF(Benchsheet!A82>1,\"result\",\"\")","v":"result"},{"$f":"IF(Benchsheet!A82>1,\"STATE\",\"\")","v":"STATE"},{"$f":"IF(Benchsheet!A82>1,\"00035\",\"\")","v":"00035"},{"$f":"Benchsheet!A82","v":"1511C23"},{"$f":"IF(Benchsheet!C82=1121057,\"VA1121057\",IF(Benchsheet!C82=1121090,\"VA1121090\",IF(Benchsheet!C82=1121052,\"VA1121052\",IF(Benchsheet!C82=1121175,\"VA1121175\",IF(Benchsheet!C82=1121580,\"VA1121580\",IF(Benchsheet!C82=1121570,\"VA1121570\",IF(Benchsheet!C82=1121045,\"VA1121045\",IF(Benchsheet!C82=1121655,\"VA1121655\",IF(Benchsheet!C82=1121503,\"VA1121503\",IF(Benchsheet!C82=1121043,\"VA1121043\",IF(Benchsheet!C82=1121900,\"VA1121900\",IF(Benchsheet!C82=1121845,\"VA1121845\",IF(Benchsheet!C82=1121655,\"VA1121655\",IF(Benchsheet!C82=1121900,\"VA1121900\",IF(Benchsheet!C82<1,\"\")))))))))))))))","v":"VA1121090"},{"$f":"WORKSHEET!C79","v":3014},{"$f":"IF(Benchsheet!A82>1,\"SM 9223B\",\"\")","v":"SM 9223B"},{"$f":"Benchsheet!U82","v":"00:00:00"},{"$f":"IF(Benchsheet!J82>1,\"A\",\"\")","v":""},{"$f":"Benchsheet!M82","v":0},{"$f":"IF(WORKSHEET!A79=\"-1\",\"\",IF(WORKSHEET!A79=0,\"0\",WORKSHEET!A79))","v":""},"",{"$f":"IF(WORKSHEET!B80=\"MPN\",\"MPN\",\"\")","v":""}]
[{"$f":"IF(Benchsheet!A83>1,\"result\",\"\")","v":"result"},{"$f":"IF(Benchsheet!A83>1,\"STATE\",\"\")","v":"STATE"},{"$f":"IF(Benchsheet!A83>1,\"00035\",\"\")","v":"00035"},{"$f":"Benchsheet!A83","v":"1511C24"},{"$f":"IF(Benchsheet!C83=1121057,\"VA1121057\",IF(Benchsheet!C83=1121090,\"VA1121090\",IF(Benchsheet!C83=1121052,\"VA1121052\",IF(Benchsheet!C83=1121175,\"VA1121175\",IF(Benchsheet!C83=1121580,\"VA1121580\",IF(Benchsheet!C83=1121570,\"VA1121570\",IF(Benchsheet!C83=1121045,\"VA1121045\",IF(Benchsheet!C83=1121655,\"VA1121655\",IF(Benchsheet!C83=1121503,\"VA1121503\",IF(Benchsheet!C83=1121043,\"VA1121043\",IF(Benchsheet!C83=1121900,\"VA1121900\",IF(Benchsheet!C83=1121845,\"VA1121845\",IF(Benchsheet!C83=1121655,\"VA1121655\",IF(Benchsheet!C83=1121900,\"VA1121900\",IF(Benchsheet!C83<1,\"\")))))))))))))))","v":"VA1121090"},{"$f":"IF(WORKSHEET!B80=\"MPN\",\"3000\",IF(WORKSHEET!B80=\"TC\",\"3100\",\"\"))","v":"3100"},{"$f":"IF(Benchsheet!A83>1,\"SM 9223B\",\"\")","v":"SM 9223B"},{"$f":"Benchsheet!U83","v":"00:00:00"},{"$f":"IF(Benchsheet!J83>1,\"A\",\"\")","v":""},{"$f":"Benchsheet!L83","v":0},{"$f":"IF(WORKSHEET!A79=\"-1\",\"\",IF(WORKSHEET!A79=0,\"0\",WORKSHEET!A79))","v":""},"",{"$f":"IF(WORKSHEET!B80=\"MPN\",\"MPN\",\"\")","v":""}]
[{"$f":"IF(Benchsheet!A83>1,\"result\",\"\")","v":"result"},{"$f":"IF(Benchsheet!A83>1,\"STATE\",\"\")","v":"STATE"},{"$f":"IF(Benchsheet!A83>1,\"00035\",\"\")","v":"00035"},{"$f":"Benchsheet!A83","v":"1511C24"},{"$f":"IF(Benchsheet!C83=1121057,\"VA1121057\",IF(Benchsheet!C83=1121090,\"VA1121090\",IF(Benchsheet!C83=1121052,\"VA1121052\",IF(Benchsheet!C83=1121175,\"VA1121175\",IF(Benchsheet!C83=1121580,\"VA1121580\",IF(Benchsheet!C83=1121570,\"VA1121570\",IF(Benchsheet!C83=1121045,\"VA1121045\",IF(Benchsheet!C83=1121655,\"VA1121655\",IF(Benchsheet!C83=1121503,\"VA1121503\",IF(Benchsheet!C83=1121043,\"VA1121043\",IF(Benchsheet!C83=1121900,\"VA1121900\",IF(Benchsheet!C83=1121845,\"VA1121845\",IF(Benchsheet!C83=1121655,\"VA1121655\",IF(Benchsheet!C83=1121900,\"VA1121900\",IF(Benchsheet!C83<1,\"\")))))))))))))))","v":"VA1121090"},{"$f":"WORKSHEET!C80","v":3014},{"$f":"IF(Benchsheet!A83>1,\"SM 9223B\",\"\")","v":"SM 9223B"},{"$f":"Benchsheet!U83","v":"00:00:00"},{"$f":"IF(Benchsheet!J83>1,\"A\",\"\")","v":""},{"$f":"Benchsheet!M83","v":0},{"$f":"IF(WORKSHEET!A80=\"-1\",\"\",IF(WORKSHEET!A80=0,\"0\",WORKSHEET!A80))","v":""},"",{"$f":"IF(WORKSHEET!B81=\"MPN\",\"MPN\",\"\")","v":""}]
[{"$f":"IF(Benchsheet!A84>1,\"result\",\"\")","v":"result"},{"$f":"IF(Benchsheet!A84>1,\"STATE\",\"\")","v":"STATE"},{"$f":"IF(Benchsheet!A84>1,\"00035\",\"\")","v":"00035"},{"$f":"Benchsheet!A84","v":"1511C25"},{"$f":"IF(Benchsheet!C84=1121057,\"VA1121057\",IF(Benchsheet!C84=1121090,\"VA1121090\",IF(Benchsheet!C84=1121052,\"VA1121052\",IF(Benchsheet!C84=1121175,\"VA1121175\",IF(Benchsheet!C84=1121580,\"VA1121580\",IF(Benchsheet!C84=1121570,\"VA1121570\",IF(Benchsheet!C84=1121045,\"VA1121045\",IF(Benchsheet!C84=1121655,\"VA1121655\",IF(Benchsheet!C84=1121503,\"VA1121503\",IF(Benchsheet!C84=1121043,\"VA1121043\",IF(Benchsheet!C84=1121900,\"VA1121900\",IF(Benchsheet!C84=1121845,\"VA1121845\",IF(Benchsheet!C84=1121655,\"VA1121655\",IF(Benchsheet!C84=1121900,\"VA1121900\",IF(Benchsheet!C84<1,\"\")))))))))))))))","v":"VA1121090"},{"$f":"IF(WORKSHEET!B81=\"MPN\",\"3000\",IF(WORKSHEET!B81=\"TC\",\"3100\",\"\"))","v":"3100"},{"$f":"IF(Benchsheet!A84>1,\"SM 9223B\",\"\")","v":"SM 9223B"},{"$f":"Benchsheet!U84","v":"00:00:00"},{"$f":"IF(Benchsheet!J84>1,\"A\",\"\")","v":""},{"$f":"Benchsheet!L84","v":0},{"$f":"IF(WORKSHEET!A80=\"-1\",\"\",IF(WORKSHEET!A80=0,\"0\",WORKSHEET!A80))","v":""},"",{"$f":"IF(WORKSHEET!B81=\"MPN\",\"MPN\",\"\")","v":""}]
[{"$f":"IF(Benchsheet!A84>1,\"result\",\"\")","v":"result"},{"$f":"IF(Benchsheet!A84>1,\"STATE\",\"\")","v":"STATE"},{"$f":"IF(Benchsheet!A84>1,\"00035\",\"\")","v":"00035"},{"$f":"Benchsheet!A84","v":"1511C25"},{"$f":"IF(Benchsheet!C84=1121057,\"VA1121057\",IF(Benchsheet!C84=1121090,\"VA1121090\",IF(Benchsheet!C84=1121052,\"VA1121052\",IF(Benchsheet!C84=1121175,\"VA1121175\",IF(Benchsheet!C84=1121580,\"VA1121580\",IF(Benchsheet!C84=1121570,\"VA1121570\",IF(Benchsheet!C84=1121045,\"VA1121045\",IF(Benchsheet!C84=1121655,\"VA1121655\",IF(Benchsheet!C84=1121503,\"VA1121503\",IF(Benchsheet!C84=1121043,\"VA1121043\",IF(Benchsheet!C84=1121900,\"VA1121900\",IF(Benchsheet!C84=1121845,\"VA1121845\",IF(Benchsheet!C84=1121655,\"VA1121655\",IF(Benchsheet!C84=1121900,\"VA1121900\",IF(Benchsheet!C84<1,\"\")))))))))))))))","v":"VA1121090"},{"$f":"WORKSHEET!C81","v":3014},{"$f":"IF(Benchsheet!A84>1,\"SM 9223B\",\"\")","v":"SM 9223B"},{"$f":"Benchsheet!U84","v":"00:00:00"},{"$f":"IF(Benchsheet!J84>1,\"A\",\"\")","v":""},{"$f":"Benchsheet!M84","v":0},{"$f":"IF(WORKSHEET!A81=\"-1\",\"\",IF(WORKSHEET!A81=0,\"0\",WORKSHEET!A81))","v":""},"",{"$f":"IF(WORKSHEET!B82=\"MPN\",\"MPN\",\"\")","v":""}]
[{"$f":"IF(Benchsheet!A85>1,\"result\",\"\")","v":""},{"$f":"IF(Benchsheet!A85>1,\"STATE\",\"\")","v":""},{"$f":"IF(Benchsheet!A85>1,\"00035\",\"\")","v":""},{"$f":"Benchsheet!A85","v":0},{"$f":"IF(Benchsheet!C85=1121057,\"VA1121057\",IF(Benchsheet!C85=1121090,\"VA1121090\",IF(Benchsheet!C85=1121052,\"VA1121052\",IF(Benchsheet!C85=1121175,\"VA1121175\",IF(Benchsheet!C85=1121580,\"VA1121580\",IF(Benchsheet!C85=1121570,\"VA1121570\",IF(Benchsheet!C85=1121045,\"VA1121045\",IF(Benchsheet!C85=1121655,\"VA1121655\",IF(Benchsheet!C85=1121503,\"VA1121503\",IF(Benchsheet!C85=1121043,\"VA1121043\",IF(Benchsheet!C85=1121900,\"VA1121900\",IF(Benchsheet!C85=1121845,\"VA1121845\",IF(Benchsheet!C85=1121655,\"VA1121655\",IF(Benchsheet!C85=1121900,\"VA1121900\",IF(Benchsheet!C85<1,\"\")))))))))))))))","v":""},{"$f":"IF(WORKSHEET!B82=\"MPN\",\"3000\",IF(WORKSHEET!B82=\"TC\",\"3100\",\"\"))","v":""},{"$f":"IF(Benchsheet!A85>1,\"SM 9223B\",\"\")","v":""},{"$f":"Benchsheet!U85","v":"00:00:00"},{"$f":"IF(Benchsheet!J85>1,\"A\",\"\")","v":""},{"$f":"Benchsheet!L85","v":0},{"$f":"IF(WORKSHEET!A81=\"-1\",\"\",IF(WORKSHEET!A81=0,\"0\",WORKSHEET!A81))","v":""},"",{"$f":"IF(WORKSHEET!B82=\"MPN\",\"MPN\",\"\")","v":""}]
[{"$f":"IF(Benchsheet!A85>1,\"result\",\"\")","v":""},{"$f":"IF(Benchsheet!A85>1,\"STATE\",\"\")","v":""},{"$f":"IF(Benchsheet!A85>1,\"00035\",\"\")","v":""},{"$f":"Benchsheet!A85","v":0},{"$f":"IF(Benchsheet!C85=1121057,\"VA1121057\",IF(Benchsheet!C85=1121090,\"VA1121090\",IF(Benchsheet!C85=1121052,\"VA1121052\",IF(Benchsheet!C85=1121175,\"VA1121175\",IF(Benchsheet!C85=1121580,\"VA1121580\",IF(Benchsheet!C85=1121570,\"VA1121570\",IF(Benchsheet!C85=1121045,\"VA1121045\",IF(Benchsheet!C85=1121655,\"VA1121655\",IF(Benchsheet!C85=1121503,\"VA1121503\",IF(Benchsheet!C85=1121043,\"VA1121043\",IF(Benchsheet!C85=1121900,\"VA1121900\",IF(Benchsheet!C85=1121845,\"VA1121845\",IF(Benchsheet!C85=1121655,\"VA1121655\",IF(Benchsheet!C85=1121900,\"VA1121900\",IF(Benchsheet!C85<1,\"\")))))))))))))))","v":""},{"$f":"WORKSHEET!C82","v":""},{"$f":"IF(Benchsheet!A85>1,\"SM 9223B\",\"\")","v":""},{"$f":"Benchsheet!U85","v":"00:00:00"},{"$f":"IF(Benchsheet!J85>1,\"A\",\"\")","v":""},{"$f":"Benchsheet!M85","v":0},{"$f":"IF(WORKSHEET!A82=\"-1\",\"\",IF(WORKSHEET!A82=0,\"0\",WORKSHEET!A82))","v":""},"",{"$f":"IF(WORKSHEET!B83=\"MPN\",\"MPN\",\"\")","v":""}]
[{"$f":"IF(Benchsheet!A86>1,\"result\",\"\")","v":""},{"$f":"IF(Benchsheet!A86>1,\"STATE\",\"\")","v":""},{"$f":"IF(Benchsheet!A86>1,\"00035\",\"\")","v":""},{"$f":"Benchsheet!A86","v":0},{"$f":"IF(Benchsheet!C86=1121057,\"VA1121057\",IF(Benchsheet!C86=1121090,\"VA1121090\",IF(Benchsheet!C86=1121052,\"VA1121052\",IF(Benchsheet!C86=1121175,\"VA1121175\",IF(Benchsheet!C86=1121580,\"VA1121580\",IF(Benchsheet!C86=1121570,\"VA1121570\",IF(Benchsheet!C86=1121045,\"VA1121045\",IF(Benchsheet!C86=1121655,\"VA1121655\",IF(Benchsheet!C86=1121503,\"VA1121503\",IF(Benchsheet!C86=1121043,\"VA1121043\",IF(Benchsheet!C86=1121900,\"VA1121900\",IF(Benchsheet!C86=1121845,\"VA1121845\",IF(Benchsheet!C86=1121655,\"VA1121655\",IF(Benchsheet!C86=1121900,\"VA1121900\",IF(Benchsheet!C86<1,\"\")))))))))))))))","v":""},{"$f":"IF(WORKSHEET!B83=\"MPN\",\"3000\",IF(WORKSHEET!B83=\"TC\",\"3100\",\"\"))","v":""},{"$f":"IF(Benchsheet!A86>1,\"SM 9223B\",\"\")","v":""},{"$f":"Benchsheet!U86","v":"00:00:00"},{"$f":"IF(Benchsheet!J86>1,\"A\",\"\")","v":""},{"$f":"Benchsheet!L86","v":0},{"$f":"IF(WORKSHEET!A82=\"-1\",\"\",IF(WORKSHEET!A82=0,\"0\",WORKSHEET!A82))","v":""},"",{"$f":"IF(WORKSHEET!B83=\"MPN\",\"MPN\",\"\")","v":""}]
[{"$f":"IF(Benchsheet!A86>1,\"result\",\"\")","v":""},{"$f":"IF(Benchsheet!A86>1,\"STATE\",\"\")","v":""},{"$f":"IF(Benchsheet!A86>1,\"00035\",\"\")","v":""},{"$f":"Benchsheet!A86","v":0},{"$f":"IF(Benchsheet!C86=1121057,\"VA1121057\",IF(Benchsheet!C86=1121090,\"VA1121090\",IF(Benchsheet!C86=1121052,\"VA1121052\",IF(Benchsheet!C86=1121175,\"VA1121175\",IF(Benchsheet!C86=1121580,\"VA1121580\",IF(Benchsheet!C86=1121570,\"VA1121570\",IF(Benchsheet!C86=1121045,\"VA1121045\",IF(Benchsheet!C86=1121655,\"VA1121655\",IF(Benchsheet!C86=1121503,\"VA1121503\",IF(Benchsheet!C86=1121043,\"VA1121043\",IF(Benchsheet!C86=1121900,\"VA1121900\",IF(Benchsheet!C86=1121845,\"VA1121845\",IF(Benchsheet!C86=1121655,\"VA1121655\",IF(Benchsheet!C86=1121900,\"VA1121900\",IF(Benchsheet!C86<1,\"\")))))))))))))))","v":""},{"$f":"WORKSHEET!C83","v":""},{"$f":"IF(Benchsheet!A86>1,\"SM 9223B\",\"\")","v":""},{"$f":"Benchsheet!U86","v":"00:00:00"},{"$f":"IF(Benchsheet!J86>1,\"A\",\"\")","v":""},{"$f":"Benchsheet!M86","v":0},{"$f":"IF(WORKSHEET!A83=\"-1\",\"\",IF(WORKSHEET!A83=0,\"0\",WORKSHEET!A83))","v":""},"",{"$f":"IF(WORKSHEET!B84=\"MPN\",\"MPN\",\"\")","v":""}]
[{"$f":"IF(Benchsheet!A87>1,\"result\",\"\")","v":""},{"$f":"IF(Benchsheet!A87>1,\"STATE\",\"\")","v":""},{"$f":"IF(Benchsheet!A87>1,\"00035\",\"\")","v":""},{"$f":"Benchsheet!A87","v":0},{"$f":"IF(Benchsheet!C87=1121057,\"VA1121057\",IF(Benchsheet!C87=1121090,\"VA1121090\",IF(Benchsheet!C87=1121052,\"VA1121052\",IF(Benchsheet!C87=1121175,\"VA1121175\",IF(Benchsheet!C87=1121580,\"VA1121580\",IF(Benchsheet!C87=1121570,\"VA1121570\",IF(Benchsheet!C87=1121045,\"VA1121045\",IF(Benchsheet!C87=1121655,\"VA1121655\",IF(Benchsheet!C87=1121503,\"VA1121503\",IF(Benchsheet!C87=1121043,\"VA1121043\",IF(Benchsheet!C87=1121900,\"VA1121900\",IF(Benchsheet!C87=1121845,\"VA1121845\",IF(Benchsheet!C87=1121655,\"VA1121655\",IF(Benchsheet!C87=1121900,\"VA1121900\",IF(Benchsheet!C87<1,\"\")))))))))))))))","v":""},{"$f":"IF(WORKSHEET!B84=\"MPN\",\"3000\",IF(WORKSHEET!B84=\"TC\",\"3100\",\"\"))","v":""},{"$f":"IF(Benchsheet!A87>1,\"SM 9223B\",\"\")","v":""},{"$f":"Benchsheet!U87","v":"00:00:00"},{"$f":"IF(Benchsheet!J87>1,\"A\",\"\")","v":""},{"$f":"Benchsheet!L87","v":0},{"$f":"IF(WORKSHEET!A83=\"-1\",\"\",IF(WORKSHEET!A83=0,\"0\",WORKSHEET!A83))","v":""},"",{"$f":"IF(WORKSHEET!B84=\"MPN\",\"MPN\",\"\")","v":""}]
[{"$f":"IF(Benchsheet!A87>1,\"result\",\"\")","v":""},{"$f":"IF(Benchsheet!A87>1,\"STATE\",\"\")","v":""},{"$f":"IF(Benchsheet!A87>1,\"00035\",\"\")","v":""},{"$f":"Benchsheet!A87","v":0},{"$f":"IF(Benchsheet!C87=1121057,\"VA1121057\",IF(Benchsheet!C87=1121090,\"VA1121090\",IF(Benchsheet!C87=1121052,\"VA1121052\",IF(Benchsheet!C87=1121175,\"VA1121175\",IF(Benchsheet!C87=1121580,\"VA1121580\",IF(Benchsheet!C87=1121570,\"VA1121570\",IF(Benchsheet!C87=1121045,\"VA1121045\",IF(Benchsheet!C87=1121655,\"VA1121655\",IF(Benchsheet!C87=1121503,\"VA1121503\",IF(Benchsheet!C87=1121043,\"VA1121043\",IF(Benchsheet!C87=1121900,\"VA1121900\",IF(Benchsheet!C87=1121845,\"VA1121845\",IF(Benchsheet!C87=1121655,\"VA1121655\",IF(Benchsheet!C87=1121900,\"VA1121900\",IF(Benchsheet!C87<1,\"\")))))))))))))))","v":""},{"$f":"WORKSHEET!C84","v":""},{"$f":"IF(Benchsheet!A87>1,\"SM 9223B\",\"\")","v":""},{"$f":"Benchsheet!U87","v":"00:00:00"},{"$f":"IF(Benchsheet!J87>1,\"A\",\"\")","v":""},{"$f":"Benchsheet!M87","v":0},{"$f":"IF(WORKSHEET!A84=\"-1\",\"\",IF(WORKSHEET!A84=0,\"0\",WORKSHEET!A84))","v":""},"",{"$f":"IF(WORKSHEET!B85=\"MPN\",\"MPN\",\"\")","v":""}]
[{"$f":"IF(Benchsheet!A88>1,\"result\",\"\")","v":""},{"$f":"IF(Benchsheet!A88>1,\"STATE\",\"\")","v":""},{"$f":"IF(Benchsheet!A88>1,\"00035\",\"\")","v":""},{"$f":"Benchsheet!A88","v":0},{"$f":"IF(Benchsheet!C88=1121057,\"VA1121057\",IF(Benchsheet!C88=1121090,\"VA1121090\",IF(Benchsheet!C88=1121052,\"VA1121052\",IF(Benchsheet!C88=1121175,\"VA1121175\",IF(Benchsheet!C88=1121580,\"VA1121580\",IF(Benchsheet!C88=1121570,\"VA1121570\",IF(Benchsheet!C88=1121045,\"VA1121045\",IF(Benchsheet!C88=1121655,\"VA1121655\",IF(Benchsheet!C88=1121503,\"VA1121503\",IF(Benchsheet!C88=1121043,\"VA1121043\",IF(Benchsheet!C88=1121900,\"VA1121900\",IF(Benchsheet!C88=1121845,\"VA1121845\",IF(Benchsheet!C88=1121655,\"VA1121655\",IF(Benchsheet!C88=1121900,\"VA1121900\",IF(Benchsheet!C88<1,\"\")))))))))))))))","v":""},{"$f":"IF(WORKSHEET!B85=\"MPN\",\"3000\",IF(WORKSHEET!B85=\"TC\",\"3100\",\"\"))","v":""},{"$f":"IF(Benchsheet!A88>1,\"SM 9223B\",\"\")","v":""},{"$f":"Benchsheet!U88","v":"00:00:00"},{"$f":"IF(Benchsheet!J88>1,\"A\",\"\")","v":""},{"$f":"Benchsheet!L88","v":0},{"$f":"IF(WORKSHEET!A84=\"-1\",\"\",IF(WORKSHEET!A84=0,\"0\",WORKSHEET!A84))","v":""},"",{"$f":"IF(WORKSHEET!B85=\"MPN\",\"MPN\",\"\")","v":""}]
[{"$f":"IF(Benchsheet!A88>1,\"result\",\"\")","v":""},{"$f":"IF(Benchsheet!A88>1,\"STATE\",\"\")","v":""},{"$f":"IF(Benchsheet!A88>1,\"00035\",\"\")","v":""},{"$f":"Benchsheet!A88","v":0},{"$f":"IF(Benchsheet!C88=1121057,\"VA1121057\",IF(Benchsheet!C88=1121090,\"VA1121090\",IF(Benchsheet!C88=1121052,\"VA1121052\",IF(Benchsheet!C88=1121175,\"VA1121175\",IF(Benchsheet!C88=1121580,\"VA1121580\",IF(Benchsheet!C88=1121570,\"VA1121570\",IF(Benchsheet!C88=1121045,\"VA1121045\",IF(Benchsheet!C88=1121655,\"VA1121655\",IF(Benchsheet!C88=1121503,\"VA1121503\",IF(Benchsheet!C88=1121043,\"VA1121043\",IF(Benchsheet!C88=1121900,\"VA1121900\",IF(Benchsheet!C88=1121845,\"VA1121845\",IF(Benchsheet!C88=1121655,\"VA1121655\",IF(Benchsheet!C88=1121900,\"VA1121900\",IF(Benchsheet!C88<1,\"\")))))))))))))))","v":""},{"$f":"WORKSHEET!C85","v":""},{"$f":"IF(Benchsheet!A88>1,\"SM 9223B\",\"\")","v":""},{"$f":"Benchsheet!U88","v":"00:00:00"},{"$f":"IF(Benchsheet!J88>1,\"A\",\"\")","v":""},{"$f":"Benchsheet!M88","v":0},{"$f":"IF(WORKSHEET!A85=\"-1\",\"\",IF(WORKSHEET!A85=0,\"0\",WORKSHEET!A85))","v":""},"",{"$f":"IF(WORKSHEET!B86=\"MPN\",\"MPN\",\"\")","v":""}]
[{"$f":"IF(Benchsheet!A89>1,\"result\",\"\")","v":""},{"$f":"IF(Benchsheet!A89>1,\"STATE\",\"\")","v":""},{"$f":"IF(Benchsheet!A89>1,\"00035\",\"\")","v":""},{"$f":"Benchsheet!A89","v":0},{"$f":"IF(Benchsheet!C89=1121057,\"VA1121057\",IF(Benchsheet!C89=1121090,\"VA1121090\",IF(Benchsheet!C89=1121052,\"VA1121052\",IF(Benchsheet!C89=1121175,\"VA1121175\",IF(Benchsheet!C89=1121580,\"VA1121580\",IF(Benchsheet!C89=1121570,\"VA1121570\",IF(Benchsheet!C89=1121045,\"VA1121045\",IF(Benchsheet!C89=1121655,\"VA1121655\",IF(Benchsheet!C89=1121503,\"VA1121503\",IF(Benchsheet!C89=1121043,\"VA1121043\",IF(Benchsheet!C89=1121900,\"VA1121900\",IF(Benchsheet!C89=1121845,\"VA1121845\",IF(Benchsheet!C89=1121655,\"VA1121655\",IF(Benchsheet!C89=1121900,\"VA1121900\",IF(Benchsheet!C89<1,\"\")))))))))))))))","v":""},{"$f":"IF(WORKSHEET!B86=\"MPN\",\"3000\",IF(WORKSHEET!B86=\"TC\",\"3100\",\"\"))","v":""},{"$f":"IF(Benchsheet!A89>1,\"SM 9223B\",\"\")","v":""},{"$f":"Benchsheet!U89","v":"00:00:00"},{"$f":"IF(Benchsheet!J89>1,\"A\",\"\")","v":""},{"$f":"Benchsheet!L89","v":0},{"$f":"IF(WORKSHEET!A85=\"-1\",\"\",IF(WORKSHEET!A85=0,\"0\",WORKSHEET!A85))","v":""},"",{"$f":"IF(WORKSHEET!B86=\"MPN\",\"MPN\",\"\")","v":""}]
[{"$f":"IF(Benchsheet!A89>1,\"result\",\"\")","v":""},{"$f":"IF(Benchsheet!A89>1,\"STATE\",\"\")","v":""},{"$f":"IF(Benchsheet!A89>1,\"00035\",\"\")","v":""},{"$f":"Benchsheet!A89","v":0},{"$f":"IF(Benchsheet!C89=1121057,\"VA1121057\",IF(Benchsheet!C89=1121090,\"VA1121090\",IF(Benchsheet!C89=1121052,\"VA1121052\",IF(Benchsheet!C89=1121175,\"VA1121175\",IF(Benchsheet!C89=1121580,\"VA1121580\",IF(Benchsheet!C89=1121570,\"VA1121570\",IF(Benchsheet!C89=1121045,\"VA1121045\",IF(Benchsheet!C89=1121655,\"VA1121655\",IF(Benchsheet!C89=1121503,\"VA1121503\",IF(Benchsheet!C89=1121043,\"VA1121043\",IF(Benchsheet!C89=1121900,\"VA1121900\",IF(Benchsheet!C89=1121845,\"VA1121845\",IF(Benchsheet!C89=1121655,\"VA1121655\",IF(Benchsheet!C89=1121900,\"VA1121900\",IF(Benchsheet!C89<1,\"\")))))))))))))))","v":""},{"$f":"WORKSHEET!C86","v":""},{"$f":"IF(Benchsheet!A89>1,\"SM 9223B\",\"\")","v":""},{"$f":"Benchsheet!U89","v":"00:00:00"},{"$f":"IF(Benchsheet!J89>1,\"A\",\"\")","v":""},{"$f":"Benchsheet!M89","v":0},{"$f":"IF(WORKSHEET!A86=\"-1\",\"\",IF(WORKSHEET!A86=0,\"0\",WORKSHEET!A86))","v":""},"",{"$f":"IF(WORKSHEET!B87=\"MPN\",\"MPN\",\"\")","v":""}]
[{"$f":"IF(Benchsheet!A90>1,\"result\",\"\")","v":""},{"$f":"IF(Benchsheet!A90>1,\"STATE\",\"\")","v":""},{"$f":"IF(Benchsheet!A90>1,\"00035\",\"\")","v":""},{"$f":"Benchsheet!A90","v":0},{"$f":"IF(Benchsheet!C90=1121057,\"VA1121057\",IF(Benchsheet!C90=1121090,\"VA1121090\",IF(Benchsheet!C90=1121052,\"VA1121052\",IF(Benchsheet!C90=1121175,\"VA1121175\",IF(Benchsheet!C90=1121580,\"VA1121580\",IF(Benchsheet!C90=1121570,\"VA1121570\",IF(Benchsheet!C90=1121045,\"VA1121045\",IF(Benchsheet!C90=1121655,\"VA1121655\",IF(Benchsheet!C90=1121503,\"VA1121503\",IF(Benchsheet!C90=1121043,\"VA1121043\",IF(Benchsheet!C90=1121900,\"VA1121900\",IF(Benchsheet!C90=1121845,\"VA1121845\",IF(Benchsheet!C90=1121655,\"VA1121655\",IF(Benchsheet!C90=1121900,\"VA1121900\",IF(Benchsheet!C90<1,\"\")))))))))))))))","v":""},{"$f":"IF(WORKSHEET!B87=\"MPN\",\"3000\",IF(WORKSHEET!B87=\"TC\",\"3100\",\"\"))","v":""},{"$f":"IF(Benchsheet!A90>1,\"SM 9223B\",\"\")","v":""},{"$f":"Benchsheet!U90","v":"00:00:00"},{"$f":"IF(Benchsheet!J90>1,\"A\",\"\")","v":""},{"$f":"Benchsheet!L90","v":0},{"$f":"IF(WORKSHEET!A86=\"-1\",\"\",IF(WORKSHEET!A86=0,\"0\",WORKSHEET!A86))","v":""},"",{"$f":"IF(WORKSHEET!B87=\"MPN\",\"MPN\",\"\")","v":""}]
[{"$f":"IF(Benchsheet!A90>1,\"result\",\"\")","v":""},{"$f":"IF(Benchsheet!A90>1,\"STATE\",\"\")","v":""},{"$f":"IF(Benchsheet!A90>1,\"00035\",\"\")","v":""},{"$f":"Benchsheet!A90","v":0},{"$f":"IF(Benchsheet!C90=1121057,\"VA1121057\",IF(Benchsheet!C90=1121090,\"VA1121090\",IF(Benchsheet!C90=1121052,\"VA1121052\",IF(Benchsheet!C90=1121175,\"VA1121175\",IF(Benchsheet!C90=1121580,\"VA1121580\",IF(Benchsheet!C90=1121570,\"VA1121570\",IF(Benchsheet!C90=1121045,\"VA1121045\",IF(Benchsheet!C90=1121655,\"VA1121655\",IF(Benchsheet!C90=1121503,\"VA1121503\",IF(Benchsheet!C90=1121043,\"VA1121043\",IF(Benchsheet!C90=1121900,\"VA1121900\",IF(Benchsheet!C90=1121845,\"VA1121845\",IF(Benchsheet!C90=1121655,\"VA1121655\",IF(Benchsheet!C90=1121900,\"VA1121900\",IF(Benchsheet!C90<1,\"\")))))))))))))))","v":""},{"$f":"WORKSHEET!C87","v":""},{"$f":"IF(Benchsheet!A90>1,\"SM 9223B\",\"\")","v":""},{"$f":"Benchsheet!U90","v":"00:00:00"},{"$f":"IF(Benchsheet!J90>1,\"A\",\"\")","v":""},{"$f":"Benchsheet!M90","v":0},{"$f":"IF(WORKSHEET!A87=\"-1\",\"\",IF(WORKSHEET!A87=0,\"0\",WORKSHEET!A87))","v":""},"",{"$f":"IF(WORKSHEET!B88=\"MPN\",\"MPN\",\"\")","v":""}]
[{"$f":"IF(Benchsheet!A91>1,\"result\",\"\")","v":""},{"$f":"IF(Benchsheet!A91>1,\"STATE\",\"\")","v":""},{"$f":"IF(Benchsheet!A91>1,\"00035\",\"\")","v":""},{"$f":"Benchsheet!A91","v":0},{"$f":"IF(Benchsheet!C91=1121057,\"VA1121057\",IF(Benchsheet!C91=1121090,\"VA1121090\",IF(Benchsheet!C91=1121052,\"VA1121052\",IF(Benchsheet!C91=1121175,\"VA1121175\",IF(Benchsheet!C91=1121580,\"VA1121580\",IF(Benchsheet!C91=1121570,\"VA1121570\",IF(Benchsheet!C91=1121045,\"VA1121045\",IF(Benchsheet!C91=1121655,\"VA1121655\",IF(Benchsheet!C91=1121503,\"VA1121503\",IF(Benchsheet!C91=1121043,\"VA1121043\",IF(Benchsheet!C91=1121900,\"VA1121900\",IF(Benchsheet!C91=1121845,\"VA1121845\",IF(Benchsheet!C91=1121655,\"VA1121655\",IF(Benchsheet!C91=1121900,\"VA1121900\",IF(Benchsheet!C91<1,\"\")))))))))))))))","v":""},{"$f":"IF(WORKSHEET!B88=\"MPN\",\"3000\",IF(WORKSHEET!B88=\"TC\",\"3100\",\"\"))","v":""},{"$f":"IF(Benchsheet!A91>1,\"SM 9223B\",\"\")","v":""},{"$f":"Benchsheet!U91","v":"00:00:00"},{"$f":"IF(Benchsheet!J91>1,\"A\",\"\")","v":""},{"$f":"Benchsheet!L91","v":0},{"$f":"IF(WORKSHEET!A87=\"-1\",\"\",IF(WORKSHEET!A87=0,\"0\",WORKSHEET!A87))","v":""},"",{"$f":"IF(WORKSHEET!B88=\"MPN\",\"MPN\",\"\")","v":""}]
[{"$f":"IF(Benchsheet!A91>1,\"result\",\"\")","v":""},{"$f":"IF(Benchsheet!A91>1,\"STATE\",\"\")","v":""},{"$f":"IF(Benchsheet!A91>1,\"00035\",\"\")","v":""},{"$f":"Benchsheet!A91","v":0},{"$f":"IF(Benchsheet!C91=1121057,\"VA1121057\",IF(Benchsheet!C91=1121090,\"VA1121090\",IF(Benchsheet!C91=1121052,\"VA1121052\",IF(Benchsheet!C91=1121175,\"VA1121175\",IF(Benchsheet!C91=1121580,\"VA1121580\",IF(Benchsheet!C91=1121570,\"VA1121570\",IF(Benchsheet!C91=1121045,\"VA1121045\",IF(Benchsheet!C91=1121655,\"VA1121655\",IF(Benchsheet!C91=1121503,\"VA1121503\",IF(Benchsheet!C91=1121043,\"VA1121043\",IF(Benchsheet!C91=1121900,\"VA1121900\",IF(Benchsheet!C91=1121845,\"VA1121845\",IF(Benchsheet!C91=1121655,\"VA1121655\",IF(Benchsheet!C91=1121900,\"VA1121900\",IF(Benchsheet!C91<1,\"\")))))))))))))))","v":""},{"$f":"WORKSHEET!C88","v":""},{"$f":"IF(Benchsheet!A91>1,\"SM 9223B\",\"\")","v":""},{"$f":"Benchsheet!U91","v":"00:00:00"},{"$f":"IF(Benchsheet!J91>1,\"A\",\"\")","v":""},{"$f":"Benchsheet!M91","v":0},{"$f":"IF(WORKSHEET!A88=\"-1\",\"\",IF(WORKSHEET!A88=0,\"0\",WORKSHEET!A88))","v":""},"",{"$f":"IF(WORKSHEET!B89=\"MPN\",\"MPN\",\"\")","v":""}]
[{"$f":"IF(Benchsheet!A92>1,\"result\",\"\")","v":""},{"$f":"IF(Benchsheet!A92>1,\"STATE\",\"\")","v":""},{"$f":"IF(Benchsheet!A92>1,\"00035\",\"\")","v":""},{"$f":"Benchsheet!A92","v":0},{"$f":"IF(Benchsheet!C92=1121057,\"VA1121057\",IF(Benchsheet!C92=1121090,\"VA1121090\",IF(Benchsheet!C92=1121052,\"VA1121052\",IF(Benchsheet!C92=1121175,\"VA1121175\",IF(Benchsheet!C92=1121580,\"VA1121580\",IF(Benchsheet!C92=1121570,\"VA1121570\",IF(Benchsheet!C92=1121045,\"VA1121045\",IF(Benchsheet!C92=1121655,\"VA1121655\",IF(Benchsheet!C92=1121503,\"VA1121503\",IF(Benchsheet!C92=1121043,\"VA1121043\",IF(Benchsheet!C92=1121900,\"VA1121900\",IF(Benchsheet!C92=1121845,\"VA1121845\",IF(Benchsheet!C92=1121655,\"VA1121655\",IF(Benchsheet!C92=1121900,\"VA1121900\",IF(Benchsheet!C92<1,\"\")))))))))))))))","v":""},{"$f":"IF(WORKSHEET!B89=\"MPN\",\"3000\",IF(WORKSHEET!B89=\"TC\",\"3100\",\"\"))","v":""},{"$f":"IF(Benchsheet!A92>1,\"SM 9223B\",\"\")","v":""},{"$f":"Benchsheet!U92","v":"00:00:00"},{"$f":"IF(Benchsheet!J92>1,\"A\",\"\")","v":""},{"$f":"Benchsheet!L92","v":0},{"$f":"IF(WORKSHEET!A88=\"-1\",\"\",IF(WORKSHEET!A88=0,\"0\",WORKSHEET!A88))","v":""},"",{"$f":"IF(WORKSHEET!B89=\"MPN\",\"MPN\",\"\")","v":""}]
[{"$f":"IF(Benchsheet!A92>1,\"result\",\"\")","v":""},{"$f":"IF(Benchsheet!A92>1,\"STATE\",\"\")","v":""},{"$f":"IF(Benchsheet!A92>1,\"00035\",\"\")","v":""},{"$f":"Benchsheet!A92","v":0},{"$f":"IF(Benchsheet!C92=1121057,\"VA1121057\",IF(Benchsheet!C92=1121090,\"VA1121090\",IF(Benchsheet!C92=1121052,\"VA1121052\",IF(Benchsheet!C92=1121175,\"VA1121175\",IF(Benchsheet!C92=1121580,\"VA1121580\",IF(Benchsheet!C92=1121570,\"VA1121570\",IF(Benchsheet!C92=1121045,\"VA1121045\",IF(Benchsheet!C92=1121655,\"VA1121655\",IF(Benchsheet!C92=1121503,\"VA1121503\",IF(Benchsheet!C92=1121043,\"VA1121043\",IF(Benchsheet!C92=1121900,\"VA1121900\",IF(Benchsheet!C92=1121845,\"VA1121845\",IF(Benchsheet!C92=1121655,\"VA1121655\",IF(Benchsheet!C92=1121900,\"VA1121900\",IF(Benchsheet!C92<1,\"\")))))))))))))))","v":""},{"$f":"WORKSHEET!C89","v":""},{"$f":"IF(Benchsheet!A92>1,\"SM 9223B\",\"\")","v":""},{"$f":"Benchsheet!U92","v":"00:00:00"},{"$f":"IF(Benchsheet!J92>1,\"A\",\"\")","v":""},{"$f":"Benchsheet!M92","v":0},{"$f":"IF(WORKSHEET!A89=\"-1\",\"\",IF(WORKSHEET!A89=0,\"0\",WORKSHEET!A89))","v":""},"",{"$f":"IF(WORKSHEET!B90=\"MPN\",\"MPN\",\"\")","v":""}]
[{"$f":"IF(Benchsheet!A93>1,\"result\",\"\")","v":""},{"$f":"IF(Benchsheet!A93>1,\"STATE\",\"\")","v":""},{"$f":"IF(Benchsheet!A93>1,\"00035\",\"\")","v":""},{"$f":"Benchsheet!A93","v":0},{"$f":"IF(Benchsheet!C93=1121057,\"VA1121057\",IF(Benchsheet!C93=1121090,\"VA1121090\",IF(Benchsheet!C93=1121052,\"VA1121052\",IF(Benchsheet!C93=1121175,\"VA1121175\",IF(Benchsheet!C93=1121580,\"VA1121580\",IF(Benchsheet!C93=1121570,\"VA1121570\",IF(Benchsheet!C93=1121045,\"VA1121045\",IF(Benchsheet!C93=1121655,\"VA1121655\",IF(Benchsheet!C93=1121503,\"VA1121503\",IF(Benchsheet!C93=1121043,\"VA1121043\",IF(Benchsheet!C93=1121900,\"VA1121900\",IF(Benchsheet!C93=1121845,\"VA1121845\",IF(Benchsheet!C93=1121655,\"VA1121655\",IF(Benchsheet!C93=1121900,\"VA1121900\",IF(Benchsheet!C93<1,\"\")))))))))))))))","v":""},{"$f":"IF(WORKSHEET!B90=\"MPN\",\"3000\",IF(WORKSHEET!B90=\"TC\",\"3100\",\"\"))","v":""},{"$f":"IF(Benchsheet!A93>1,\"SM 9223B\",\"\")","v":""},{"$f":"Benchsheet!U93","v":"00:00:00"},{"$f":"IF(Benchsheet!J93>1,\"A\",\"\")","v":""},{"$f":"Benchsheet!L93","v":0},{"$f":"IF(WORKSHEET!A89=\"-1\",\"\",IF(WORKSHEET!A89=0,\"0\",WORKSHEET!A89))","v":""},"",{"$f":"IF(WORKSHEET!B90=\"MPN\",\"MPN\",\"\")","v":""}]
[{"$f":"IF(Benchsheet!A93>1,\"result\",\"\")","v":""},{"$f":"IF(Benchsheet!A93>1,\"STATE\",\"\")","v":""},{"$f":"IF(Benchsheet!A93>1,\"00035\",\"\")","v":""},{"$f":"Benchsheet!A93","v":0},{"$f":"IF(Benchsheet!C93=1121057,\"VA1121057\",IF(Benchsheet!C93=1121090,\"VA1121090\",IF(Benchsheet!C93=1121052,\"VA1121052\",IF(Benchsheet!C93=1121175,\"VA1121175\",IF(Benchsheet!C93=1121580,\"VA1121580\",IF(Benchsheet!C93=1121570,\"VA1121570\",IF(Benchsheet!C93=1121045,\"VA1121045\",IF(Benchsheet!C93=1121655,\"VA1121655\",IF(Benchsheet!C93=1121503,\"VA1121503\",IF(Benchsheet!C93=1121043,\"VA1121043\",IF(Benchsheet!C93=1121900,\"VA1121900\",IF(Benchsheet!C93=1121845,\"VA1121845\",IF(Benchsheet!C93=1121655,\"VA1121655\",IF(Benchsheet!C93=1121900,\"VA1121900\",IF(Benchsheet!C93<1,\"\")))))))))))))))","v":""},{"$f":"WORKSHEET!C90","v":""},{"$f":"IF(Benchsheet!A93>1,\"SM 9223B\",\"\")","v":""},{"$f":"Benchsheet!U93","v":"00:00:00"},{"$f":"IF(Benchsheet!J93>1,\"A\",\"\")","v":""},{"$f":"Benchsheet!M93","v":0},{"$f":"IF(WORKSHEET!A90=\"-1\",\"\",IF(WORKSHEET!A90=0,\"0\",WORKSHEET!A90))","v":""},"",{"$f":"IF(WORKSHEET!B91=\"MPN\",\"MPN\",\"\")","v":""}]
[{"$f":"IF(Benchsheet!A94>1,\"result\",\"\")","v":""},{"$f":"IF(Benchsheet!A94>1,\"STATE\",\"\")","v":""},{"$f":"IF(Benchsheet!A94>1,\"00035\",\"\")","v":""},{"$f":"Benchsheet!A94","v":0},{"$f":"IF(Benchsheet!C94=1121057,\"VA1121057\",IF(Benchsheet!C94=1121090,\"VA1121090\",IF(Benchsheet!C94=1121052,\"VA1121052\",IF(Benchsheet!C94=1121175,\"VA1121175\",IF(Benchsheet!C94=1121580,\"VA1121580\",IF(Benchsheet!C94=1121570,\"VA1121570\",IF(Benchsheet!C94=1121045,\"VA1121045\",IF(Benchsheet!C94=1121655,\"VA1121655\",IF(Benchsheet!C94=1121503,\"VA1121503\",IF(Benchsheet!C94=1121043,\"VA1121043\",IF(Benchsheet!C94=1121900,\"VA1121900\",IF(Benchsheet!C94=1121845,\"VA1121845\",IF(Benchsheet!C94=1121655,\"VA1121655\",IF(Benchsheet!C94=1121900,\"VA1121900\",IF(Benchsheet!C94<1,\"\")))))))))))))))","v":""},{"$f":"IF(WORKSHEET!B91=\"MPN\",\"3000\",IF(WORKSHEET!B91=\"TC\",\"3100\",\"\"))","v":""},{"$f":"IF(Benchsheet!A94>1,\"SM 9223B\",\"\")","v":""},{"$f":"Benchsheet!U94","v":"00:00:00"},{"$f":"IF(Benchsheet!J94>1,\"A\",\"\")","v":""},{"$f":"Benchsheet!L94","v":0},{"$f":"IF(WORKSHEET!A90=\"-1\",\"\",IF(WORKSHEET!A90=0,\"0\",WORKSHEET!A90))","v":""},"",{"$f":"IF(WORKSHEET!B91=\"MPN\",\"MPN\",\"\")","v":""}]
[{"$f":"IF(Benchsheet!A94>1,\"result\",\"\")","v":""},{"$f":"IF(Benchsheet!A94>1,\"STATE\",\"\")","v":""},{"$f":"IF(Benchsheet!A94>1,\"00035\",\"\")","v":""},{"$f":"Benchsheet!A94","v":0},{"$f":"IF(Benchsheet!C94=1121057,\"VA1121057\",IF(Benchsheet!C94=1121090,\"VA1121090\",IF(Benchsheet!C94=1121052,\"VA1121052\",IF(Benchsheet!C94=1121175,\"VA1121175\",IF(Benchsheet!C94=1121580,\"VA1121580\",IF(Benchsheet!C94=1121570,\"VA1121570\",IF(Benchsheet!C94=1121045,\"VA1121045\",IF(Benchsheet!C94=1121655,\"VA1121655\",IF(Benchsheet!C94=1121503,\"VA1121503\",IF(Benchsheet!C94=1121043,\"VA1121043\",IF(Benchsheet!C94=1121900,\"VA1121900\",IF(Benchsheet!C94=1121845,\"VA1121845\",IF(Benchsheet!C94=1121655,\"VA1121655\",IF(Benchsheet!C94=1121900,\"VA1121900\",IF(Benchsheet!C94<1,\"\")))))))))))))))","v":""},{"$f":"WORKSHEET!C91","v":""},{"$f":"IF(Benchsheet!A94>1,\"SM 9223B\",\"\")","v":""},{"$f":"Benchsheet!U94","v":"00:00:00"},{"$f":"IF(Benchsheet!J94>1,\"A\",\"\")","v":""},{"$f":"Benchsheet!M94","v":0},{"$f":"IF(WORKSHEET!A91=\"-1\",\"\",IF(WORKSHEET!A91=0,\"0\",WORKSHEET!A91))","v":""},"",{"$f":"IF(WORKSHEET!B92=\"MPN\",\"MPN\",\"\")","v":""}]
[{"$f":"IF(Benchsheet!A95>1,\"result\",\"\")","v":""},{"$f":"IF(Benchsheet!A95>1,\"STATE\",\"\")","v":""},{"$f":"IF(Benchsheet!A95>1,\"00035\",\"\")","v":""},{"$f":"Benchsheet!A95","v":0},{"$f":"IF(Benchsheet!C95=1121057,\"VA1121057\",IF(Benchsheet!C95=1121090,\"VA1121090\",IF(Benchsheet!C95=1121052,\"VA1121052\",IF(Benchsheet!C95=1121175,\"VA1121175\",IF(Benchsheet!C95=1121580,\"VA1121580\",IF(Benchsheet!C95=1121570,\"VA1121570\",IF(Benchsheet!C95=1121045,\"VA1121045\",IF(Benchsheet!C95=1121655,\"VA1121655\",IF(Benchsheet!C95=1121503,\"VA1121503\",IF(Benchsheet!C95=1121043,\"VA1121043\",IF(Benchsheet!C95=1121900,\"VA1121900\",IF(Benchsheet!C95=1121845,\"VA1121845\",IF(Benchsheet!C95=1121655,\"VA1121655\",IF(Benchsheet!C95=1121900,\"VA1121900\",IF(Benchsheet!C95<1,\"\")))))))))))))))","v":""},{"$f":"IF(WORKSHEET!B92=\"MPN\",\"3000\",IF(WORKSHEET!B92=\"TC\",\"3100\",\"\"))","v":""},{"$f":"IF(Benchsheet!A95>1,\"SM 9223B\",\"\")","v":""},{"$f":"Benchsheet!U95","v":"00:00:00"},{"$f":"IF(Benchsheet!J95>1,\"A\",\"\")","v":""},{"$f":"Benchsheet!L95","v":0},{"$f":"IF(WORKSHEET!A91=\"-1\",\"\",IF(WORKSHEET!A91=0,\"0\",WORKSHEET!A91))","v":""},"",{"$f":"IF(WORKSHEET!B92=\"MPN\",\"MPN\",\"\")","v":""}]
[{"$f":"IF(Benchsheet!A95>1,\"result\",\"\")","v":""},{"$f":"IF(Benchsheet!A95>1,\"STATE\",\"\")","v":""},{"$f":"IF(Benchsheet!A95>1,\"00035\",\"\")","v":""},{"$f":"Benchsheet!A95","v":0},{"$f":"IF(Benchsheet!C95=1121057,\"VA1121057\",IF(Benchsheet!C95=1121090,\"VA1121090\",IF(Benchsheet!C95=1121052,\"VA1121052\",IF(Benchsheet!C95=1121175,\"VA1121175\",IF(Benchsheet!C95=1121580,\"VA1121580\",IF(Benchsheet!C95=1121570,\"VA1121570\",IF(Benchsheet!C95=1121045,\"VA1121045\",IF(Benchsheet!C95=1121655,\"VA1121655\",IF(Benchsheet!C95=1121503,\"VA1121503\",IF(Benchsheet!C95=1121043,\"VA1121043\",IF(Benchsheet!C95=1121900,\"VA1121900\",IF(Benchsheet!C95=1121845,\"VA1121845\",IF(Benchsheet!C95=1121655,\"VA1121655\",IF(Benchsheet!C95=1121900,\"VA1121900\",IF(Benchsheet!C95<1,\"\")))))))))))))))","v":""},{"$f":"WORKSHEET!C92","v":""},{"$f":"IF(Benchsheet!A95>1,\"SM 9223B\",\"\")","v":""},{"$f":"Benchsheet!U95","v":"00:00:00"},{"$f":"IF(Benchsheet!J95>1,\"A\",\"\")","v":""},{"$f":"Benchsheet!M95","v":0},{"$f":"IF(WORKSHEET!A92=\"-1\",\"\",IF(WORKSHEET!A92=0,\"0\",WORKSHEET!A92))","v":""},"",{"$f":"IF(WORKSHEET!B93=\"MPN\",\"MPN\",\"\")","v":""}]
[{"$f":"IF(Benchsheet!A96>1,\"result\",\"\")","v":""},{"$f":"IF(Benchsheet!A96>1,\"STATE\",\"\")","v":""},{"$f":"IF(Benchsheet!A96>1,\"00035\",\"\")","v":""},{"$f":"Benchsheet!A96","v":0},{"$f":"IF(Benchsheet!C96=1121057,\"VA1121057\",IF(Benchsheet!C96=1121090,\"VA1121090\",IF(Benchsheet!C96=1121052,\"VA1121052\",IF(Benchsheet!C96=1121175,\"VA1121175\",IF(Benchsheet!C96=1121580,\"VA1121580\",IF(Benchsheet!C96=1121570,\"VA1121570\",IF(Benchsheet!C96=1121045,\"VA1121045\",IF(Benchsheet!C96=1121655,\"VA1121655\",IF(Benchsheet!C96=1121503,\"VA1121503\",IF(Benchsheet!C96=1121043,\"VA1121043\",IF(Benchsheet!C96=1121900,\"VA1121900\",IF(Benchsheet!C96=1121845,\"VA1121845\",IF(Benchsheet!C96=1121655,\"VA1121655\",IF(Benchsheet!C96=1121900,\"VA1121900\",IF(Benchsheet!C96<1,\"\")))))))))))))))","v":""},{"$f":"IF(WORKSHEET!B93=\"MPN\",\"3000\",IF(WORKSHEET!B93=\"TC\",\"3100\",\"\"))","v":""},{"$f":"IF(Benchsheet!A96>1,\"SM 9223B\",\"\")","v":""},{"$f":"Benchsheet!U96","v":"00:00:00"},{"$f":"IF(Benchsheet!J96>1,\"A\",\"\")","v":""},{"$f":"Benchsheet!L96","v":0},{"$f":"IF(WORKSHEET!A92=\"-1\",\"\",IF(WORKSHEET!A92=0,\"0\",WORKSHEET!A92))","v":""},"",{"$f":"IF(WORKSHEET!B93=\"MPN\",\"MPN\",\"\")","v":""}]
[{"$f":"IF(Benchsheet!A96>1,\"result\",\"\")","v":""},{"$f":"IF(Benchsheet!A96>1,\"STATE\",\"\")","v":""},{"$f":"IF(Benchsheet!A96>1,\"00035\",\"\")","v":""},{"$f":"Benchsheet!A96","v":0},{"$f":"IF(Benchsheet!C96=1121057,\"VA1121057\",IF(Benchsheet!C96=1121090,\"VA1121090\",IF(Benchsheet!C96=1121052,\"VA1121052\",IF(Benchsheet!C96=1121175,\"VA1121175\",IF(Benchsheet!C96=1121580,\"VA1121580\",IF(Benchsheet!C96=1121570,\"VA1121570\",IF(Benchsheet!C96=1121045,\"VA1121045\",IF(Benchsheet!C96=1121655,\"VA1121655\",IF(Benchsheet!C96=1121503,\"VA1121503\",IF(Benchsheet!C96=1121043,\"VA1121043\",IF(Benchsheet!C96=1121900,\"VA1121900\",IF(Benchsheet!C96=1121845,\"VA1121845\",IF(Benchsheet!C96=1121655,\"VA1121655\",IF(Benchsheet!C96=1121900,\"VA1121900\",IF(Benchsheet!C96<1,\"\")))))))))))))))","v":""},{"$f":"WORKSHEET!C93","v":""},{"$f":"IF(Benchsheet!A96>1,\"SM 9223B\",\"\")","v":""},{"$f":"Benchsheet!U96","v":"00:00:00"},{"$f":"IF(Benchsheet!J96>1,\"A\",\"\")","v":""},{"$f":"Benchsheet!M96","v":0},{"$f":"IF(WORKSHEET!A93=\"-1\",\"\",IF(WORKSHEET!A93=0,\"0\",WORKSHEET!A93))","v":""},"",{"$f":"IF(WORKSHEET!B94=\"MPN\",\"MPN\",\"\")","v":""}]
[{"$f":"IF(Benchsheet!A97>1,\"result\",\"\")","v":""},{"$f":"IF(Benchsheet!A97>1,\"STATE\",\"\")","v":""},{"$f":"IF(Benchsheet!A97>1,\"00035\",\"\")","v":""},{"$f":"Benchsheet!A97","v":0},{"$f":"IF(Benchsheet!C97=1121057,\"VA1121057\",IF(Benchsheet!C97=1121090,\"VA1121090\",IF(Benchsheet!C97=1121052,\"VA1121052\",IF(Benchsheet!C97=1121175,\"VA1121175\",IF(Benchsheet!C97=1121580,\"VA1121580\",IF(Benchsheet!C97=1121570,\"VA1121570\",IF(Benchsheet!C97=1121045,\"VA1121045\",IF(Benchsheet!C97=1121655,\"VA1121655\",IF(Benchsheet!C97=1121503,\"VA1121503\",IF(Benchsheet!C97=1121043,\"VA1121043\",IF(Benchsheet!C97=1121900,\"VA1121900\",IF(Benchsheet!C97=1121845,\"VA1121845\",IF(Benchsheet!C97=1121655,\"VA1121655\",IF(Benchsheet!C97=1121900,\"VA1121900\",IF(Benchsheet!C97<1,\"\")))))))))))))))","v":""},{"$f":"IF(WORKSHEET!B94=\"MPN\",\"3000\",IF(WORKSHEET!B94=\"TC\",\"3100\",\"\"))","v":""},{"$f":"IF(Benchsheet!A97>1,\"SM 9223B\",\"\")","v":""},{"$f":"Benchsheet!U97","v":"00:00:00"},{"$f":"IF(Benchsheet!J97>1,\"A\",\"\")","v":""},{"$f":"Benchsheet!L97","v":0},{"$f":"IF(WORKSHEET!A93=\"-1\",\"\",IF(WORKSHEET!A93=0,\"0\",WORKSHEET!A93))","v":""},"",{"$f":"IF(WORKSHEET!B94=\"MPN\",\"MPN\",\"\")","v":""}]
[{"$f":"IF(Benchsheet!A97>1,\"result\",\"\")","v":""},{"$f":"IF(Benchsheet!A97>1,\"STATE\",\"\")","v":""},{"$f":"IF(Benchsheet!A97>1,\"00035\",\"\")","v":""},{"$f":"Benchsheet!A97","v":0},{"$f":"IF(Benchsheet!C97=1121057,\"VA1121057\",IF(Benchsheet!C97=1121090,\"VA1121090\",IF(Benchsheet!C97=1121052,\"VA1121052\",IF(Benchsheet!C97=1121175,\"VA1121175\",IF(Benchsheet!C97=1121580,\"VA1121580\",IF(Benchsheet!C97=1121570,\"VA1121570\",IF(Benchsheet!C97=1121045,\"VA1121045\",IF(Benchsheet!C97=1121655,\"VA1121655\",IF(Benchsheet!C97=1121503,\"VA1121503\",IF(Benchsheet!C97=1121043,\"VA1121043\",IF(Benchsheet!C97=1121900,\"VA1121900\",IF(Benchsheet!C97=1121845,\"VA1121845\",IF(Benchsheet!C97=1121655,\"VA1121655\",IF(Benchsheet!C97=1121900,\"VA1121900\",IF(Benchsheet!C97<1,\"\")))))))))))))))","v":""},{"$f":"WORKSHEET!C94","v":""},{"$f":"IF(Benchsheet!A97>1,\"SM 9223B\",\"\")","v":""},{"$f":"Benchsheet!U97","v":"00:00:00"},{"$f":"IF(Benchsheet!J97>1,\"A\",\"\")","v":""},{"$f":"Benchsheet!M97","v":0},{"$f":"IF(WORKSHEET!A94=\"-1\",\"\",IF(WORKSHEET!A94=0,\"0\",WORKSHEET!A94))","v":""},"",{"$f":"IF(WORKSHEET!B95=\"MPN\",\"MPN\",\"\")","v":""}]
[{"$f":"IF(Benchsheet!A98>1,\"result\",\"\")","v":""},{"$f":"IF(Benchsheet!A98>1,\"STATE\",\"\")","v":""},{"$f":"IF(Benchsheet!A98>1,\"00035\",\"\")","v":""},{"$f":"Benchsheet!A98","v":0},{"$f":"IF(Benchsheet!C98=1121057,\"VA1121057\",IF(Benchsheet!C98=1121090,\"VA1121090\",IF(Benchsheet!C98=1121052,\"VA1121052\",IF(Benchsheet!C98=1121175,\"VA1121175\",IF(Benchsheet!C98=1121580,\"VA1121580\",IF(Benchsheet!C98=1121570,\"VA1121570\",IF(Benchsheet!C98=1121045,\"VA1121045\",IF(Benchsheet!C98=1121655,\"VA1121655\",IF(Benchsheet!C98=1121503,\"VA1121503\",IF(Benchsheet!C98=1121043,\"VA1121043\",IF(Benchsheet!C98=1121900,\"VA1121900\",IF(Benchsheet!C98=1121845,\"VA1121845\",IF(Benchsheet!C98=1121655,\"VA1121655\",IF(Benchsheet!C98=1121900,\"VA1121900\",IF(Benchsheet!C98<1,\"\")))))))))))))))","v":""},{"$f":"IF(WORKSHEET!B95=\"MPN\",\"3000\",IF(WORKSHEET!B95=\"TC\",\"3100\",\"\"))","v":""},{"$f":"IF(Benchsheet!A98>1,\"SM 9223B\",\"\")","v":""},{"$f":"Benchsheet!U98","v":"00:00:00"},{"$f":"IF(Benchsheet!J98>1,\"A\",\"\")","v":""},{"$f":"Benchsheet!L98","v":0},{"$f":"IF(WORKSHEET!A94=\"-1\",\"\",IF(WORKSHEET!A94=0,\"0\",WORKSHEET!A94))","v":""},"",{"$f":"IF(WORKSHEET!B95=\"MPN\",\"MPN\",\"\")","v":""}]
[{"$f":"IF(Benchsheet!A98>1,\"result\",\"\")","v":""},{"$f":"IF(Benchsheet!A98>1,\"STATE\",\"\")","v":""},{"$f":"IF(Benchsheet!A98>1,\"00035\",\"\")","v":""},{"$f":"Benchsheet!A98","v":0},{"$f":"IF(Benchsheet!C98=1121057,\"VA1121057\",IF(Benchsheet!C98=1121090,\"VA1121090\",IF(Benchsheet!C98=1121052,\"VA1121052\",IF(Benchsheet!C98=1121175,\"VA1121175\",IF(Benchsheet!C98=1121580,\"VA1121580\",IF(Benchsheet!C98=1121570,\"VA1121570\",IF(Benchsheet!C98=1121045,\"VA1121045\",IF(Benchsheet!C98=1121655,\"VA1121655\",IF(Benchsheet!C98=1121503,\"VA1121503\",IF(Benchsheet!C98=1121043,\"VA1121043\",IF(Benchsheet!C98=1121900,\"VA1121900\",IF(Benchsheet!C98=1121845,\"VA1121845\",IF(Benchsheet!C98=1121655,\"VA1121655\",IF(Benchsheet!C98=1121900,\"VA1121900\",IF(Benchsheet!C98<1,\"\")))))))))))))))","v":""},{"$f":"WORKSHEET!C95","v":""},{"$f":"IF(Benchsheet!A98>1,\"SM 9223B\",\"\")","v":""},{"$f":"Benchsheet!U98","v":"00:00:00"},{"$f":"IF(Benchsheet!J98>1,\"A\",\"\")","v":""},{"$f":"Benchsheet!M98","v":0},{"$f":"IF(WORKSHEET!A95=\"-1\",\"\",IF(WORKSHEET!A95=0,\"0\",WORKSHEET!A95))","v":""},"",{"$f":"IF(WORKSHEET!B96=\"MPN\",\"MPN\",\"\")","v":""}]
[{"$f":"IF(Benchsheet!A99>1,\"result\",\"\")","v":""},{"$f":"IF(Benchsheet!A99>1,\"STATE\",\"\")","v":""},{"$f":"IF(Benchsheet!A99>1,\"00035\",\"\")","v":""},{"$f":"Benchsheet!A99","v":0},{"$f":"IF(Benchsheet!C99=1121057,\"VA1121057\",IF(Benchsheet!C99=1121090,\"VA1121090\",IF(Benchsheet!C99=1121052,\"VA1121052\",IF(Benchsheet!C99=1121175,\"VA1121175\",IF(Benchsheet!C99=1121580,\"VA1121580\",IF(Benchsheet!C99=1121570,\"VA1121570\",IF(Benchsheet!C99=1121045,\"VA1121045\",IF(Benchsheet!C99=1121655,\"VA1121655\",IF(Benchsheet!C99=1121503,\"VA1121503\",IF(Benchsheet!C99=1121043,\"VA1121043\",IF(Benchsheet!C99=1121900,\"VA1121900\",IF(Benchsheet!C99=1121845,\"VA1121845\",IF(Benchsheet!C99=1121655,\"VA1121655\",IF(Benchsheet!C99=1121900,\"VA1121900\",IF(Benchsheet!C99<1,\"\")))))))))))))))","v":""},{"$f":"IF(WORKSHEET!B96=\"MPN\",\"3000\",IF(WORKSHEET!B96=\"TC\",\"3100\",\"\"))","v":""},{"$f":"IF(Benchsheet!A99>1,\"SM 9223B\",\"\")","v":""},{"$f":"Benchsheet!U99","v":"00:00:00"},{"$f":"IF(Benchsheet!J99>1,\"A\",\"\")","v":""},{"$f":"Benchsheet!L99","v":0},{"$f":"IF(WORKSHEET!A95=\"-1\",\"\",IF(WORKSHEET!A95=0,\"0\",WORKSHEET!A95))","v":""},"",{"$f":"IF(WORKSHEET!B96=\"MPN\",\"MPN\",\"\")","v":""}]
[{"$f":"IF(Benchsheet!A99>1,\"result\",\"\")","v":""},{"$f":"IF(Benchsheet!A99>1,\"STATE\",\"\")","v":""},{"$f":"IF(Benchsheet!A99>1,\"00035\",\"\")","v":""},{"$f":"Benchsheet!A99","v":0},{"$f":"IF(Benchsheet!C99=1121057,\"VA1121057\",IF(Benchsheet!C99=1121090,\"VA1121090\",IF(Benchsheet!C99=1121052,\"VA1121052\",IF(Benchsheet!C99=1121175,\"VA1121175\",IF(Benchsheet!C99=1121580,\"VA1121580\",IF(Benchsheet!C99=1121570,\"VA1121570\",IF(Benchsheet!C99=1121045,\"VA1121045\",IF(Benchsheet!C99=1121655,\"VA1121655\",IF(Benchsheet!C99=1121503,\"VA1121503\",IF(Benchsheet!C99=1121043,\"VA1121043\",IF(Benchsheet!C99=1121900,\"VA1121900\",IF(Benchsheet!C99=1121845,\"VA1121845\",IF(Benchsheet!C99=1121655,\"VA1121655\",IF(Benchsheet!C99=1121900,\"VA1121900\",IF(Benchsheet!C99<1,\"\")))))))))))))))","v":""},{"$f":"WORKSHEET!C96","v":""},{"$f":"IF(Benchsheet!A99>1,\"SM 9223B\",\"\")","v":""},{"$f":"Benchsheet!U99","v":"00:00:00"},{"$f":"IF(Benchsheet!J99>1,\"A\",\"\")","v":""},{"$f":"Benchsheet!M99","v":0},{"$f":"IF(WORKSHEET!A96=\"-1\",\"\",IF(WORKSHEET!A96=0,\"0\",WORKSHEET!A96))","v":""},"",{"$f":"IF(WORKSHEET!B97=\"MPN\",\"MPN\",\"\")","v":""}]
[{"$f":"IF(Benchsheet!A100>1,\"result\",\"\")","v":""},{"$f":"IF(Benchsheet!A100>1,\"STATE\",\"\")","v":""},{"$f":"IF(Benchsheet!A100>1,\"00035\",\"\")","v":""},{"$f":"Benchsheet!A100","v":0},{"$f":"IF(Benchsheet!C100=1121057,\"VA1121057\",IF(Benchsheet!C100=1121090,\"VA1121090\",IF(Benchsheet!C100=1121052,\"VA1121052\",IF(Benchsheet!C100=1121175,\"VA1121175\",IF(Benchsheet!C100=1121580,\"VA1121580\",IF(Benchsheet!C100=1121570,\"VA1121570\",IF(Benchsheet!C100=1121045,\"VA1121045\",IF(Benchsheet!C100=1121655,\"VA1121655\",IF(Benchsheet!C100=1121503,\"VA1121503\",IF(Benchsheet!C100=1121043,\"VA1121043\",IF(Benchsheet!C100=1121900,\"VA1121900\",IF(Benchsheet!C100=1121845,\"VA1121845\",IF(Benchsheet!C100=1121655,\"VA1121655\",IF(Benchsheet!C100=1121900,\"VA1121900\",IF(Benchsheet!C100<1,\"\")))))))))))))))","v":""},{"$f":"IF(WORKSHEET!B97=\"MPN\",\"3000\",IF(WORKSHEET!B97=\"TC\",\"3100\",\"\"))","v":""},{"$f":"IF(Benchsheet!A100>1,\"SM 9223B\",\"\")","v":""},{"$f":"Benchsheet!U100","v":"00:00:00"},{"$f":"IF(Benchsheet!J100>1,\"A\",\"\")","v":""},{"$f":"Benchsheet!L100","v":0},{"$f":"IF(WORKSHEET!A96=\"-1\",\"\",IF(WORKSHEET!A96=0,\"0\",WORKSHEET!A96))","v":""},"",{"$f":"IF(WORKSHEET!B97=\"MPN\",\"MPN\",\"\")","v":""}]
[{"$f":"IF(Benchsheet!A100>1,\"result\",\"\")","v":""},{"$f":"IF(Benchsheet!A100>1,\"STATE\",\"\")","v":""},{"$f":"IF(Benchsheet!A100>1,\"00035\",\"\")","v":""},{"$f":"Benchsheet!A100","v":0},{"$f":"IF(Benchsheet!C100=1121057,\"VA1121057\",IF(Benchsheet!C100=1121090,\"VA1121090\",IF(Benchsheet!C100=1121052,\"VA1121052\",IF(Benchsheet!C100=1121175,\"VA1121175\",IF(Benchsheet!C100=1121580,\"VA1121580\",IF(Benchsheet!C100=1121570,\"VA1121570\",IF(Benchsheet!C100=1121045,\"VA1121045\",IF(Benchsheet!C100=1121655,\"VA1121655\",IF(Benchsheet!C100=1121503,\"VA1121503\",IF(Benchsheet!C100=1121043,\"VA1121043\",IF(Benchsheet!C100=1121900,\"VA1121900\",IF(Benchsheet!C100=1121845,\"VA1121845\",IF(Benchsheet!C100=1121655,\"VA1121655\",IF(Benchsheet!C100=1121900,\"VA1121900\",IF(Benchsheet!C100<1,\"\")))))))))))))))","v":""},{"$f":"WORKSHEET!C97","v":""},{"$f":"IF(Benchsheet!A100>1,\"SM 9223B\",\"\")","v":""},{"$f":"Benchsheet!U100","v":"00:00:00"},{"$f":"IF(Benchsheet!J100>1,\"A\",\"\")","v":""},{"$f":"Benchsheet!M100","v":0},{"$f":"IF(WORKSHEET!A96=\"-1\",\"\",IF(WORKSHEET!A96=0,\"0\",WORKSHEET!A96))","v":""},"",{"$f":"IF(WORKSHEET!B98=\"MPN\",\"MPN\",\"\")","v":""}]
[{"$f":"IF(Benchsheet!A101>1,\"result\",\"\")","v":""},{"$f":"IF(Benchsheet!A101>1,\"STATE\",\"\")","v":""},{"$f":"IF(Benchsheet!A101>1,\"00035\",\"\")","v":""},{"$f":"Benchsheet!A101","v":0},{"$f":"IF(Benchsheet!C101=1121057,\"VA1121057\",IF(Benchsheet!C101=1121090,\"VA1121090\",IF(Benchsheet!C101=1121052,\"VA1121052\",IF(Benchsheet!C101=1121175,\"VA1121175\",IF(Benchsheet!C101=1121580,\"VA1121580\",IF(Benchsheet!C101=1121570,\"VA1121570\",IF(Benchsheet!C101=1121045,\"VA1121045\",IF(Benchsheet!C101=1121655,\"VA1121655\",IF(Benchsheet!C101=1121503,\"VA1121503\",IF(Benchsheet!C101=1121043,\"VA1121043\",IF(Benchsheet!C101=1121900,\"VA1121900\",IF(Benchsheet!C101=1121845,\"VA1121845\",IF(Benchsheet!C101=1121655,\"VA1121655\",IF(Benchsheet!C101=1121900,\"VA1121900\",IF(Benchsheet!C101<1,\"\")))))))))))))))","v":""},{"$f":"IF(WORKSHEET!B98=\"MPN\",\"3000\",IF(WORKSHEET!B98=\"TC\",\"3100\",\"\"))","v":""},{"$f":"IF(Benchsheet!A101>1,\"SM 9223B\",\"\")","v":""},{"$f":"Benchsheet!U101","v":"00:00:00"},{"$f":"IF(Benchsheet!J101>1,\"A\",\"\")","v":""},{"$f":"Benchsheet!L101","v":0},{"$f":"IF(WORKSHEET!A97=\"-1\",\"\",IF(WORKSHEET!A97=0,\"0\",WORKSHEET!A97))","v":""},"",{"$f":"IF(WORKSHEET!B98=\"MPN\",\"MPN\",\"\")","v":""}]
[{"$f":"IF(Benchsheet!A101>1,\"result\",\"\")","v":""},{"$f":"IF(Benchsheet!A101>1,\"STATE\",\"\")","v":""},{"$f":"IF(Benchsheet!A101>1,\"00035\",\"\")","v":""},{"$f":"Benchsheet!A101","v":0},{"$f":"IF(Benchsheet!C101=1121057,\"VA1121057\",IF(Benchsheet!C101=1121090,\"VA1121090\",IF(Benchsheet!C101=1121052,\"VA1121052\",IF(Benchsheet!C101=1121175,\"VA1121175\",IF(Benchsheet!C101=1121580,\"VA1121580\",IF(Benchsheet!C101=1121570,\"VA1121570\",IF(Benchsheet!C101=1121045,\"VA1121045\",IF(Benchsheet!C101=1121655,\"VA1121655\",IF(Benchsheet!C101=1121503,\"VA1121503\",IF(Benchsheet!C101=1121043,\"VA1121043\",IF(Benchsheet!C101=1121900,\"VA1121900\",IF(Benchsheet!C101=1121845,\"VA1121845\",IF(Benchsheet!C101=1121655,\"VA1121655\",IF(Benchsheet!C101=1121900,\"VA1121900\",IF(Benchsheet!C101<1,\"\")))))))))))))))","v":""},{"$f":"WORKSHEET!C98","v":""},{"$f":"IF(Benchsheet!A101>1,\"SM 9223B\",\"\")","v":""},{"$f":"Benchsheet!U101","v":"00:00:00"},{"$f":"IF(Benchsheet!J101>1,\"A\",\"\")","v":""},{"$f":"Benchsheet!M101","v":0},{"$f":"IF(WORKSHEET!A97=\"-1\",\"\",IF(WORKSHEET!A97=0,\"0\",WORKSHEET!A97))","v":""},{"$f":"IF(M195=\"MPN\",\"100ML\",\"\")","v":""},{"$f":"IF(WORKSHEET!B99=\"MPN\",\"MPN\",\"\")","v":""}]
[{"$f":"IF(Benchsheet!A102>1,\"result\",\"\")","v":""},{"$f":"IF(Benchsheet!A102>1,\"STATE\",\"\")","v":""},{"$f":"IF(Benchsheet!A102>1,\"00035\",\"\")","v":""},{"$f":"Benchsheet!A102","v":0},{"$f":"IF(Benchsheet!C102=1121057,\"VA1121057\",IF(Benchsheet!C102=1121090,\"VA1121090\",IF(Benchsheet!C102=1121052,\"VA1121052\",IF(Benchsheet!C102=1121175,\"VA1121175\",IF(Benchsheet!C102=1121580,\"VA1121580\",IF(Benchsheet!C102=1121570,\"VA1121570\",IF(Benchsheet!C102=1121045,\"VA1121045\",IF(Benchsheet!C102=1121655,\"VA1121655\",IF(Benchsheet!C102=1121503,\"VA1121503\",IF(Benchsheet!C102=1121043,\"VA1121043\",IF(Benchsheet!C102=1121900,\"VA1121900\",IF(Benchsheet!C102=1121845,\"VA1121845\",IF(Benchsheet!C102=1121655,\"VA1121655\",IF(Benchsheet!C102=1121900,\"VA1121900\",IF(Benchsheet!C102<1,\"\")))))))))))))))","v":""},{"$f":"IF(WORKSHEET!B99=\"MPN\",\"3000\",IF(WORKSHEET!B99=\"TC\",\"3100\",\"\"))","v":""},{"$f":"IF(Benchsheet!A102>1,\"SM 9223B\",\"\")","v":""},{"$f":"Benchsheet!U102","v":"00:00:00"},{"$f":"IF(Benchsheet!J102>1,\"A\",\"\")","v":""},{"$f":"Benchsheet!L102","v":0},{"$f":"IF(WORKSHEET!A98=\"-1\",\"\",IF(WORKSHEET!A98=0,\"0\",WORKSHEET!A98))","v":""},"",{"$f":"IF(WORKSHEET!B99=\"MPN\",\"MPN\",\"\")","v":""}]
[{"$f":"IF(Benchsheet!A102>1,\"result\",\"\")","v":""},{"$f":"IF(Benchsheet!A102>1,\"STATE\",\"\")","v":""},{"$f":"IF(Benchsheet!A102>1,\"00035\",\"\")","v":""},{"$f":"Benchsheet!A102","v":0},{"$f":"IF(Benchsheet!C102=1121057,\"VA1121057\",IF(Benchsheet!C102=1121090,\"VA1121090\",IF(Benchsheet!C102=1121052,\"VA1121052\",IF(Benchsheet!C102=1121175,\"VA1121175\",IF(Benchsheet!C102=1121580,\"VA1121580\",IF(Benchsheet!C102=1121570,\"VA1121570\",IF(Benchsheet!C102=1121045,\"VA1121045\",IF(Benchsheet!C102=1121655,\"VA1121655\",IF(Benchsheet!C102=1121503,\"VA1121503\",IF(Benchsheet!C102=1121043,\"VA1121043\",IF(Benchsheet!C102=1121900,\"VA1121900\",IF(Benchsheet!C102=1121845,\"VA1121845\",IF(Benchsheet!C102=1121655,\"VA1121655\",IF(Benchsheet!C102=1121900,\"VA1121900\",IF(Benchsheet!C102<1,\"\")))))))))))))))","v":""},{"$f":"WORKSHEET!C99","v":""},{"$f":"IF(Benchsheet!A102>1,\"SM 9223B\",\"\")","v":""},{"$f":"Benchsheet!U102","v":"00:00:00"},{"$f":"IF(Benchsheet!J102>1,\"A\",\"\")","v":""},{"$f":"Benchsheet!M102","v":0},{"$f":"IF(WORKSHEET!A98=\"-1\",\"\",IF(WORKSHEET!A98=0,\"0\",WORKSHEET!A98))","v":""},"",{"$f":"IF(WORKSHEET!B100=\"MPN\",\"MPN\",\"\")","v":""}]
[{"$f":"IF(Benchsheet!A103>1,\"result\",\"\")","v":""},{"$f":"IF(Benchsheet!A103>1,\"STATE\",\"\")","v":""},{"$f":"IF(Benchsheet!A103>1,\"00035\",\"\")","v":""},{"$f":"Benchsheet!A103","v":0},{"$f":"IF(Benchsheet!C103=1121057,\"VA1121057\",IF(Benchsheet!C103=1121090,\"VA1121090\",IF(Benchsheet!C103=1121052,\"VA1121052\",IF(Benchsheet!C103=1121175,\"VA1121175\",IF(Benchsheet!C103=1121580,\"VA1121580\",IF(Benchsheet!C103=1121570,\"VA1121570\",IF(Benchsheet!C103=1121045,\"VA1121045\",IF(Benchsheet!C103=1121655,\"VA1121655\",IF(Benchsheet!C103=1121503,\"VA1121503\",IF(Benchsheet!C103=1121043,\"VA1121043\",IF(Benchsheet!C103=1121900,\"VA1121900\",IF(Benchsheet!C103=1121845,\"VA1121845\",IF(Benchsheet!C103=1121655,\"VA1121655\",IF(Benchsheet!C103=1121900,\"VA1121900\",IF(Benchsheet!C103<1,\"\")))))))))))))))","v":""},{"$f":"IF(WORKSHEET!B100=\"MPN\",\"3000\",IF(WORKSHEET!B100=\"TC\",\"3100\",\"\"))","v":""},{"$f":"IF(Benchsheet!A103>1,\"SM 9223B\",\"\")","v":""},{"$f":"Benchsheet!U103","v":"00:00:00"},{"$f":"IF(Benchsheet!J103>1,\"A\",\"\")","v":""},{"$f":"Benchsheet!L103","v":0},{"$f":"IF(WORKSHEET!A99=\"-1\",\"\",IF(WORKSHEET!A99=0,\"0\",WORKSHEET!A99))","v":""},"",{"$f":"IF(WORKSHEET!B100=\"MPN\",\"MPN\",\"\")","v":""}]
[{"$f":"IF(Benchsheet!A103>1,\"result\",\"\")","v":""},{"$f":"IF(Benchsheet!A103>1,\"STATE\",\"\")","v":""},{"$f":"IF(Benchsheet!A103>1,\"00035\",\"\")","v":""},{"$f":"Benchsheet!A103","v":0},{"$f":"IF(Benchsheet!C103=1121057,\"VA1121057\",IF(Benchsheet!C103=1121090,\"VA1121090\",IF(Benchsheet!C103=1121052,\"VA1121052\",IF(Benchsheet!C103=1121175,\"VA1121175\",IF(Benchsheet!C103=1121580,\"VA1121580\",IF(Benchsheet!C103=1121570,\"VA1121570\",IF(Benchsheet!C103=1121045,\"VA1121045\",IF(Benchsheet!C103=1121655,\"VA1121655\",IF(Benchsheet!C103=1121503,\"VA1121503\",IF(Benchsheet!C103=1121043,\"VA1121043\",IF(Benchsheet!C103=1121900,\"VA1121900\",IF(Benchsheet!C103=1121845,\"VA1121845\",IF(Benchsheet!C103=1121655,\"VA1121655\",IF(Benchsheet!C103=1121900,\"VA1121900\",IF(Benchsheet!C103<1,\"\")))))))))))))))","v":""},{"$f":"WORKSHEET!C100","v":""},{"$f":"IF(Benchsheet!A103>1,\"SM 9223B\",\"\")","v":""},{"$f":"Benchsheet!U103","v":"00:00:00"},{"$f":"IF(Benchsheet!J103>1,\"A\",\"\")","v":""},{"$f":"Benchsheet!M103","v":0},{"$f":"IF(WORKSHEET!A99=\"-1\",\"\",IF(WORKSHEET!A99=0,\"0\",WORKSHEET!A99))","v":""},"",{"$f":"IF(WORKSHEET!B101=\"MPN\",\"MPN\",\"\")","v":""}]
[{"$f":"IF(Benchsheet!A104>1,\"result\",\"\")","v":""},{"$f":"IF(Benchsheet!A104>1,\"STATE\",\"\")","v":""},{"$f":"IF(Benchsheet!A104>1,\"00035\",\"\")","v":""},{"$f":"Benchsheet!A104","v":0},{"$f":"IF(Benchsheet!C104=1121057,\"VA1121057\",IF(Benchsheet!C104=1121090,\"VA1121090\",IF(Benchsheet!C104=1121052,\"VA1121052\",IF(Benchsheet!C104=1121175,\"VA1121175\",IF(Benchsheet!C104=1121580,\"VA1121580\",IF(Benchsheet!C104=1121570,\"VA1121570\",IF(Benchsheet!C104=1121045,\"VA1121045\",IF(Benchsheet!C104=1121655,\"VA1121655\",IF(Benchsheet!C104=1121503,\"VA1121503\",IF(Benchsheet!C104=1121043,\"VA1121043\",IF(Benchsheet!C104=1121900,\"VA1121900\",IF(Benchsheet!C104=1121845,\"VA1121845\",IF(Benchsheet!C104=1121655,\"VA1121655\",IF(Benchsheet!C104=1121900,\"VA1121900\",IF(Benchsheet!C104<1,\"\")))))))))))))))","v":""},{"$f":"IF(WORKSHEET!B101=\"MPN\",\"3000\",IF(WORKSHEET!B101=\"TC\",\"3100\",\"\"))","v":""},{"$f":"IF(Benchsheet!A104>1,\"SM 9223B\",\"\")","v":""},{"$f":"Benchsheet!U104","v":"00:00:00"},{"$f":"IF(Benchsheet!J104>1,\"A\",\"\")","v":""},{"$f":"Benchsheet!L104","v":0},{"$f":"IF(WORKSHEET!A100=\"-1\",\"\",IF(WORKSHEET!A100=0,\"0\",WORKSHEET!A100))","v":""},"",{"$f":"IF(WORKSHEET!B101=\"MPN\",\"MPN\",\"\")","v":""}]
[{"$f":"IF(Benchsheet!A104>1,\"result\",\"\")","v":""},{"$f":"IF(Benchsheet!A104>1,\"STATE\",\"\")","v":""},{"$f":"IF(Benchsheet!A104>1,\"00035\",\"\")","v":""},{"$f":"Benchsheet!A104","v":0},{"$f":"IF(Benchsheet!C104=1121057,\"VA1121057\",IF(Benchsheet!C104=1121090,\"VA1121090\",IF(Benchsheet!C104=1121052,\"VA1121052\",IF(Benchsheet!C104=1121175,\"VA1121175\",IF(Benchsheet!C104=1121580,\"VA1121580\",IF(Benchsheet!C104=1121570,\"VA1121570\",IF(Benchsheet!C104=1121045,\"VA1121045\",IF(Benchsheet!C104=1121655,\"VA1121655\",IF(Benchsheet!C104=1121503,\"VA1121503\",IF(Benchsheet!C104=1121043,\"VA1121043\",IF(Benchsheet!C104=1121900,\"VA1121900\",IF(Benchsheet!C104=1121845,\"VA1121845\",IF(Benchsheet!C104=1121655,\"VA1121655\",IF(Benchsheet!C104=1121900,\"VA1121900\",IF(Benchsheet!C104<1,\"\")))))))))))))))","v":""},{"$f":"WORKSHEET!C101","v":""},{"$f":"IF(Benchsheet!A104>1,\"SM 9223B\",\"\")","v":""},{"$f":"Benchsheet!U104","v":"00:00:00"},{"$f":"IF(Benchsheet!J104>1,\"A\",\"\")","v":""},{"$f":"Benchsheet!M104","v":0},{"$f":"IF(WORKSHEET!A100=\"-1\",\"\",IF(WORKSHEET!A100=0,\"0\",WORKSHEET!A100))","v":""},"",{"$f":"IF(WORKSHEET!B102=\"MPN\",\"MPN\",\"\")","v":""}]
[{"$f":"IF(Benchsheet!A105>1,\"result\",\"\")","v":""},{"$f":"IF(Benchsheet!A105>1,\"STATE\",\"\")","v":""},{"$f":"IF(Benchsheet!A105>1,\"00035\",\"\")","v":""},{"$f":"Benchsheet!A105","v":0},{"$f":"IF(Benchsheet!C105=1121057,\"VA1121057\",IF(Benchsheet!C105=1121090,\"VA1121090\",IF(Benchsheet!C105=1121052,\"VA1121052\",IF(Benchsheet!C105=1121175,\"VA1121175\",IF(Benchsheet!C105=1121580,\"VA1121580\",IF(Benchsheet!C105=1121570,\"VA1121570\",IF(Benchsheet!C105=1121045,\"VA1121045\",IF(Benchsheet!C105=1121655,\"VA1121655\",IF(Benchsheet!C105=1121503,\"VA1121503\",IF(Benchsheet!C105=1121043,\"VA1121043\",IF(Benchsheet!C105=1121900,\"VA1121900\",IF(Benchsheet!C105=1121845,\"VA1121845\",IF(Benchsheet!C105=1121655,\"VA1121655\",IF(Benchsheet!C105=1121900,\"VA1121900\",IF(Benchsheet!C105<1,\"\")))))))))))))))","v":""},{"$f":"IF(WORKSHEET!B102=\"MPN\",\"3000\",IF(WORKSHEET!B102=\"TC\",\"3100\",\"\"))","v":""},{"$f":"IF(Benchsheet!A105>1,\"SM 9223B\",\"\")","v":""},{"$f":"Benchsheet!U105","v":"00:00:00"},{"$f":"IF(Benchsheet!J105>1,\"A\",\"\")","v":""},{"$f":"Benchsheet!L105","v":0},{"$f":"IF(WORKSHEET!A101=\"-1\",\"\",IF(WORKSHEET!A101=0,\"0\",WORKSHEET!A101))","v":""},"",{"$f":"IF(WORKSHEET!B102=\"MPN\",\"MPN\",\"\")","v":""}]
[{"$f":"IF(Benchsheet!A105>1,\"result\",\"\")","v":""},{"$f":"IF(Benchsheet!A105>1,\"STATE\",\"\")","v":""},{"$f":"IF(Benchsheet!A105>1,\"00035\",\"\")","v":""},{"$f":"Benchsheet!A105","v":0},{"$f":"IF(Benchsheet!C105=1121057,\"VA1121057\",IF(Benchsheet!C105=1121090,\"VA1121090\",IF(Benchsheet!C105=1121052,\"VA1121052\",IF(Benchsheet!C105=1121175,\"VA1121175\",IF(Benchsheet!C105=1121580,\"VA1121580\",IF(Benchsheet!C105=1121570,\"VA1121570\",IF(Benchsheet!C105=1121045,\"VA1121045\",IF(Benchsheet!C105=1121655,\"VA1121655\",IF(Benchsheet!C105=1121503,\"VA1121503\",IF(Benchsheet!C105=1121043,\"VA1121043\",IF(Benchsheet!C105=1121900,\"VA1121900\",IF(Benchsheet!C105=1121845,\"VA1121845\",IF(Benchsheet!C105=1121655,\"VA1121655\",IF(Benchsheet!C105=1121900,\"VA1121900\",IF(Benchsheet!C105<1,\"\")))))))))))))))","v":""},{"$f":"WORKSHEET!C102","v":""},{"$f":"IF(Benchsheet!A105>1,\"SM 9223B\",\"\")","v":""},{"$f":"Benchsheet!U105","v":"00:00:00"},{"$f":"IF(Benchsheet!J105>1,\"A\",\"\")","v":""},{"$f":"Benchsheet!M105","v":0},{"$f":"IF(WORKSHEET!A101=\"-1\",\"\",IF(WORKSHEET!A101=0,\"0\",WORKSHEET!A101))","v":""},"",{"$f":"IF(WORKSHEET!B103=\"MPN\",\"MPN\",\"\")","v":""}]
[{"$f":"IF(Benchsheet!A106>1,\"result\",\"\")","v":""},{"$f":"IF(Benchsheet!A106>1,\"STATE\",\"\")","v":""},{"$f":"IF(Benchsheet!A106>1,\"00035\",\"\")","v":""},{"$f":"Benchsheet!A106","v":0},{"$f":"IF(Benchsheet!C106=1121057,\"VA1121057\",IF(Benchsheet!C106=1121090,\"VA1121090\",IF(Benchsheet!C106=1121052,\"VA1121052\",IF(Benchsheet!C106=1121175,\"VA1121175\",IF(Benchsheet!C106=1121580,\"VA1121580\",IF(Benchsheet!C106=1121570,\"VA1121570\",IF(Benchsheet!C106=1121045,\"VA1121045\",IF(Benchsheet!C106=1121655,\"VA1121655\",IF(Benchsheet!C106=1121503,\"VA1121503\",IF(Benchsheet!C106=1121043,\"VA1121043\",IF(Benchsheet!C106=1121900,\"VA1121900\",IF(Benchsheet!C106=1121845,\"VA1121845\",IF(Benchsheet!C106=1121655,\"VA1121655\",IF(Benchsheet!C106=1121900,\"VA1121900\",IF(Benchsheet!C106<1,\"\")))))))))))))))","v":""},{"$f":"IF(WORKSHEET!B103=\"MPN\",\"3000\",IF(WORKSHEET!B103=\"TC\",\"3100\",\"\"))","v":""},{"$f":"IF(Benchsheet!A106>1,\"SM 9223B\",\"\")","v":""},{"$f":"Benchsheet!U106","v":"00:00:00"},{"$f":"IF(Benchsheet!J106>1,\"A\",\"\")","v":""},{"$f":"Benchsheet!L106","v":0},{"$f":"IF(WORKSHEET!A102=\"-1\",\"\",IF(WORKSHEET!A102=0,\"0\",WORKSHEET!A102))","v":""},"",{"$f":"IF(WORKSHEET!B103=\"MPN\",\"MPN\",\"\")","v":""}]
[{"$f":"IF(Benchsheet!A106>1,\"result\",\"\")","v":""},{"$f":"IF(Benchsheet!A106>1,\"STATE\",\"\")","v":""},{"$f":"IF(Benchsheet!A106>1,\"00035\",\"\")","v":""},{"$f":"Benchsheet!A106","v":0},{"$f":"IF(Benchsheet!C106=1121057,\"VA1121057\",IF(Benchsheet!C106=1121090,\"VA1121090\",IF(Benchsheet!C106=1121052,\"VA1121052\",IF(Benchsheet!C106=1121175,\"VA1121175\",IF(Benchsheet!C106=1121580,\"VA1121580\",IF(Benchsheet!C106=1121570,\"VA1121570\",IF(Benchsheet!C106=1121045,\"VA1121045\",IF(Benchsheet!C106=1121655,\"VA1121655\",IF(Benchsheet!C106=1121503,\"VA1121503\",IF(Benchsheet!C106=1121043,\"VA1121043\",IF(Benchsheet!C106=1121900,\"VA1121900\",IF(Benchsheet!C106=1121845,\"VA1121845\",IF(Benchsheet!C106=1121655,\"VA1121655\",IF(Benchsheet!C106=1121900,\"VA1121900\",IF(Benchsheet!C106<1,\"\")))))))))))))))","v":""},{"$f":"WORKSHEET!C103","v":""},{"$f":"IF(Benchsheet!A106>1,\"SM 9223B\",\"\")","v":""},{"$f":"Benchsheet!U106","v":"00:00:00"},{"$f":"IF(Benchsheet!J106>1,\"A\",\"\")","v":""},{"$f":"Benchsheet!M106","v":0},{"$f":"IF(WORKSHEET!A102=\"-1\",\"\",IF(WORKSHEET!A102=0,\"0\",WORKSHEET!A102))","v":""},"",{"$f":"IF(WORKSHEET!B104=\"MPN\",\"MPN\",\"\")","v":""}]
[{"$f":"IF(Benchsheet!A107>1,\"result\",\"\")","v":""},{"$f":"IF(Benchsheet!A107>1,\"STATE\",\"\")","v":""},{"$f":"IF(Benchsheet!A107>1,\"00035\",\"\")","v":""},{"$f":"Benchsheet!A107","v":0},{"$f":"IF(Benchsheet!C107=1121057,\"VA1121057\",IF(Benchsheet!C107=1121090,\"VA1121090\",IF(Benchsheet!C107=1121052,\"VA1121052\",IF(Benchsheet!C107=1121175,\"VA1121175\",IF(Benchsheet!C107=1121580,\"VA1121580\",IF(Benchsheet!C107=1121570,\"VA1121570\",IF(Benchsheet!C107=1121045,\"VA1121045\",IF(Benchsheet!C107=1121655,\"VA1121655\",IF(Benchsheet!C107=1121503,\"VA1121503\",IF(Benchsheet!C107=1121043,\"VA1121043\",IF(Benchsheet!C107=1121900,\"VA1121900\",IF(Benchsheet!C107=1121845,\"VA1121845\",IF(Benchsheet!C107=1121655,\"VA1121655\",IF(Benchsheet!C107=1121900,\"VA1121900\",IF(Benchsheet!C107<1,\"\")))))))))))))))","v":""},{"$f":"IF(WORKSHEET!B104=\"MPN\",\"3000\",IF(WORKSHEET!B104=\"TC\",\"3100\",\"\"))","v":""},{"$f":"IF(Benchsheet!A107>1,\"SM 9223B\",\"\")","v":""},{"$f":"Benchsheet!U107","v":"00:00:00"},{"$f":"IF(Benchsheet!J107>1,\"A\",\"\")","v":""},{"$f":"Benchsheet!L107","v":0},{"$f":"IF(WORKSHEET!A103=\"-1\",\"\",IF(WORKSHEET!A103=0,\"0\",WORKSHEET!A103))","v":""},"",{"$f":"IF(WORKSHEET!B104=\"MPN\",\"MPN\",\"\")","v":""}]
[{"$f":"IF(Benchsheet!A107>1,\"result\",\"\")","v":""},{"$f":"IF(Benchsheet!A107>1,\"STATE\",\"\")","v":""},{"$f":"IF(Benchsheet!A107>1,\"00035\",\"\")","v":""},{"$f":"Benchsheet!A107","v":0},{"$f":"IF(Benchsheet!C107=1121057,\"VA1121057\",IF(Benchsheet!C107=1121090,\"VA1121090\",IF(Benchsheet!C107=1121052,\"VA1121052\",IF(Benchsheet!C107=1121175,\"VA1121175\",IF(Benchsheet!C107=1121580,\"VA1121580\",IF(Benchsheet!C107=1121570,\"VA1121570\",IF(Benchsheet!C107=1121045,\"VA1121045\",IF(Benchsheet!C107=1121655,\"VA1121655\",IF(Benchsheet!C107=1121503,\"VA1121503\",IF(Benchsheet!C107=1121043,\"VA1121043\",IF(Benchsheet!C107=1121900,\"VA1121900\",IF(Benchsheet!C107=1121845,\"VA1121845\",IF(Benchsheet!C107=1121655,\"VA1121655\",IF(Benchsheet!C107=1121900,\"VA1121900\",IF(Benchsheet!C107<1,\"\")))))))))))))))","v":""},{"$f":"WORKSHEET!C104","v":""},{"$f":"IF(Benchsheet!A107>1,\"SM 9223B\",\"\")","v":""},{"$f":"Benchsheet!U107","v":"00:00:00"},{"$f":"IF(Benchsheet!J107>1,\"A\",\"\")","v":""},{"$f":"Benchsheet!M107","v":0},{"$f":"IF(WORKSHEET!A103=\"-1\",\"\",IF(WORKSHEET!A103=0,\"0\",WORKSHEET!A103))","v":""},"",{"$f":"IF(WORKSHEET!B105=\"MPN\",\"MPN\",\"\")","v":""}]
[{"$f":"IF(Benchsheet!A108>1,\"result\",\"\")","v":""},{"$f":"IF(Benchsheet!A108>1,\"STATE\",\"\")","v":""},{"$f":"IF(Benchsheet!A108>1,\"00035\",\"\")","v":""},{"$f":"Benchsheet!A108","v":0},{"$f":"IF(Benchsheet!C108=1121057,\"VA1121057\",IF(Benchsheet!C108=1121090,\"VA1121090\",IF(Benchsheet!C108=1121052,\"VA1121052\",IF(Benchsheet!C108=1121175,\"VA1121175\",IF(Benchsheet!C108=1121580,\"VA1121580\",IF(Benchsheet!C108=1121570,\"VA1121570\",IF(Benchsheet!C108=1121045,\"VA1121045\",IF(Benchsheet!C108=1121655,\"VA1121655\",IF(Benchsheet!C108=1121503,\"VA1121503\",IF(Benchsheet!C108=1121043,\"VA1121043\",IF(Benchsheet!C108=1121900,\"VA1121900\",IF(Benchsheet!C108=1121845,\"VA1121845\",IF(Benchsheet!C108=1121655,\"VA1121655\",IF(Benchsheet!C108=1121900,\"VA1121900\",IF(Benchsheet!C108<1,\"\")))))))))))))))","v":""},{"$f":"IF(WORKSHEET!B105=\"MPN\",\"3000\",IF(WORKSHEET!B105=\"TC\",\"3100\",\"\"))","v":""},{"$f":"IF(Benchsheet!A108>1,\"SM 9223B\",\"\")","v":""},{"$f":"Benchsheet!U108","v":"00:00:00"},{"$f":"IF(Benchsheet!J108>1,\"A\",\"\")","v":""},{"$f":"Benchsheet!L108","v":0},{"$f":"IF(WORKSHEET!A104=\"-1\",\"\",IF(WORKSHEET!A104=0,\"0\",WORKSHEET!A104))","v":""},"",{"$f":"IF(WORKSHEET!B105=\"MPN\",\"MPN\",\"\")","v":""}]
[{"$f":"IF(Benchsheet!A108>1,\"result\",\"\")","v":""},{"$f":"IF(Benchsheet!A108>1,\"STATE\",\"\")","v":""},{"$f":"IF(Benchsheet!A108>1,\"00035\",\"\")","v":""},{"$f":"Benchsheet!A108","v":0},{"$f":"IF(Benchsheet!C108=1121057,\"VA1121057\",IF(Benchsheet!C108=1121090,\"VA1121090\",IF(Benchsheet!C108=1121052,\"VA1121052\",IF(Benchsheet!C108=1121175,\"VA1121175\",IF(Benchsheet!C108=1121580,\"VA1121580\",IF(Benchsheet!C108=1121570,\"VA1121570\",IF(Benchsheet!C108=1121045,\"VA1121045\",IF(Benchsheet!C108=1121655,\"VA1121655\",IF(Benchsheet!C108=1121503,\"VA1121503\",IF(Benchsheet!C108=1121043,\"VA1121043\",IF(Benchsheet!C108=1121900,\"VA1121900\",IF(Benchsheet!C108=1121845,\"VA1121845\",IF(Benchsheet!C108=1121655,\"VA1121655\",IF(Benchsheet!C108=1121900,\"VA1121900\",IF(Benchsheet!C108<1,\"\")))))))))))))))","v":""},{"$f":"WORKSHEET!C105","v":""},{"$f":"IF(Benchsheet!A108>1,\"SM 9223B\",\"\")","v":""},{"$f":"Benchsheet!U108","v":"00:00:00"},{"$f":"IF(Benchsheet!J108>1,\"A\",\"\")","v":""},{"$f":"Benchsheet!M108","v":0},{"$f":"IF(WORKSHEET!A104=\"-1\",\"\",IF(WORKSHEET!A104=0,\"0\",WORKSHEET!A104))","v":""},"",{"$f":"IF(WORKSHEET!B106=\"MPN\",\"MPN\",\"\")","v":""}]
[{"$f":"IF(Benchsheet!A109>1,\"result\",\"\")","v":""},{"$f":"IF(Benchsheet!A109>1,\"STATE\",\"\")","v":""},{"$f":"IF(Benchsheet!A109>1,\"00035\",\"\")","v":""},{"$f":"Benchsheet!A109","v":0},{"$f":"IF(Benchsheet!C109=1121057,\"VA1121057\",IF(Benchsheet!C109=1121090,\"VA1121090\",IF(Benchsheet!C109=1121052,\"VA1121052\",IF(Benchsheet!C109=1121175,\"VA1121175\",IF(Benchsheet!C109=1121580,\"VA1121580\",IF(Benchsheet!C109=1121570,\"VA1121570\",IF(Benchsheet!C109=1121045,\"VA1121045\",IF(Benchsheet!C109=1121655,\"VA1121655\",IF(Benchsheet!C109=1121503,\"VA1121503\",IF(Benchsheet!C109=1121043,\"VA1121043\",IF(Benchsheet!C109=1121900,\"VA1121900\",IF(Benchsheet!C109=1121845,\"VA1121845\",IF(Benchsheet!C109=1121655,\"VA1121655\",IF(Benchsheet!C109=1121900,\"VA1121900\",IF(Benchsheet!C109<1,\"\")))))))))))))))","v":""},{"$f":"IF(WORKSHEET!B106=\"MPN\",\"3000\",IF(WORKSHEET!B106=\"TC\",\"3100\",\"\"))","v":""},{"$f":"IF(Benchsheet!A109>1,\"SM 9223B\",\"\")","v":""},{"$f":"Benchsheet!U109","v":"00:00:00"},{"$f":"IF(Benchsheet!J109>1,\"A\",\"\")","v":""},{"$f":"Benchsheet!L109","v":0},{"$f":"IF(WORKSHEET!A105=\"-1\",\"\",IF(WORKSHEET!A105=0,\"0\",WORKSHEET!A105))","v":""},"",{"$f":"IF(WORKSHEET!B106=\"MPN\",\"MPN\",\"\")","v":""}]
[{"$f":"IF(Benchsheet!A109>1,\"result\",\"\")","v":""},{"$f":"IF(Benchsheet!A109>1,\"STATE\",\"\")","v":""},{"$f":"IF(Benchsheet!A109>1,\"00035\",\"\")","v":""},{"$f":"Benchsheet!A109","v":0},{"$f":"IF(Benchsheet!C109=1121057,\"VA1121057\",IF(Benchsheet!C109=1121090,\"VA1121090\",IF(Benchsheet!C109=1121052,\"VA1121052\",IF(Benchsheet!C109=1121175,\"VA1121175\",IF(Benchsheet!C109=1121580,\"VA1121580\",IF(Benchsheet!C109=1121570,\"VA1121570\",IF(Benchsheet!C109=1121045,\"VA1121045\",IF(Benchsheet!C109=1121655,\"VA1121655\",IF(Benchsheet!C109=1121503,\"VA1121503\",IF(Benchsheet!C109=1121043,\"VA1121043\",IF(Benchsheet!C109=1121900,\"VA1121900\",IF(Benchsheet!C109=1121845,\"VA1121845\",IF(Benchsheet!C109=1121655,\"VA1121655\",IF(Benchsheet!C109=1121900,\"VA1121900\",IF(Benchsheet!C109<1,\"\")))))))))))))))","v":""},{"$f":"WORKSHEET!C106","v":""},{"$f":"IF(Benchsheet!A109>1,\"SM 9223B\",\"\")","v":""},{"$f":"Benchsheet!U109","v":"00:00:00"},{"$f":"IF(Benchsheet!J109>1,\"A\",\"\")","v":""},{"$f":"Benchsheet!M109","v":0},{"$f":"IF(WORKSHEET!A105=\"-1\",\"\",IF(WORKSHEET!A105=0,\"0\",WORKSHEET!A105))","v":""},"",{"$f":"IF(WORKSHEET!B107=\"MPN\",\"MPN\",\"\")","v":""}]
[{"$f":"IF(Benchsheet!A110>1,\"result\",\"\")","v":""},{"$f":"IF(Benchsheet!A110>1,\"STATE\",\"\")","v":""},{"$f":"IF(Benchsheet!A110>1,\"00035\",\"\")","v":""},{"$f":"Benchsheet!A110","v":0},{"$f":"IF(Benchsheet!C110=1121057,\"VA1121057\",IF(Benchsheet!C110=1121090,\"VA1121090\",IF(Benchsheet!C110=1121052,\"VA1121052\",IF(Benchsheet!C110=1121175,\"VA1121175\",IF(Benchsheet!C110=1121580,\"VA1121580\",IF(Benchsheet!C110=1121570,\"VA1121570\",IF(Benchsheet!C110=1121045,\"VA1121045\",IF(Benchsheet!C110=1121655,\"VA1121655\",IF(Benchsheet!C110=1121503,\"VA1121503\",IF(Benchsheet!C110=1121043,\"VA1121043\",IF(Benchsheet!C110=1121900,\"VA1121900\",IF(Benchsheet!C110=1121845,\"VA1121845\",IF(Benchsheet!C110=1121655,\"VA1121655\",IF(Benchsheet!C110=1121900,\"VA1121900\",IF(Benchsheet!C110<1,\"\")))))))))))))))","v":""},{"$f":"IF(WORKSHEET!B107=\"MPN\",\"3000\",IF(WORKSHEET!B107=\"TC\",\"3100\",\"\"))","v":""},{"$f":"IF(Benchsheet!A110>1,\"SM 9223B\",\"\")","v":""},{"$f":"Benchsheet!U110","v":"00:00:00"},{"$f":"IF(Benchsheet!J110>1,\"A\",\"\")","v":""},{"$f":"Benchsheet!L110","v":0},{"$f":"IF(WORKSHEET!A106=\"-1\",\"\",IF(WORKSHEET!A106=0,\"0\",WORKSHEET!A106))","v":""},"",{"$f":"IF(WORKSHEET!B107=\"MPN\",\"MPN\",\"\")","v":""}]
[{"$f":"IF(Benchsheet!A110>1,\"result\",\"\")","v":""},{"$f":"IF(Benchsheet!A110>1,\"STATE\",\"\")","v":""},{"$f":"IF(Benchsheet!A110>1,\"00035\",\"\")","v":""},{"$f":"Benchsheet!A110","v":0},{"$f":"IF(Benchsheet!C110=1121057,\"VA1121057\",IF(Benchsheet!C110=1121090,\"VA1121090\",IF(Benchsheet!C110=1121052,\"VA1121052\",IF(Benchsheet!C110=1121175,\"VA1121175\",IF(Benchsheet!C110=1121580,\"VA1121580\",IF(Benchsheet!C110=1121570,\"VA1121570\",IF(Benchsheet!C110=1121045,\"VA1121045\",IF(Benchsheet!C110=1121655,\"VA1121655\",IF(Benchsheet!C110=1121503,\"VA1121503\",IF(Benchsheet!C110=1121043,\"VA1121043\",IF(Benchsheet!C110=1121900,\"VA1121900\",IF(Benchsheet!C110=1121845,\"VA1121845\",IF(Benchsheet!C110=1121655,\"VA1121655\",IF(Benchsheet!C110=1121900,\"VA1121900\",IF(Benchsheet!C110<1,\"\")))))))))))))))","v":""},{"$f":"WORKSHEET!C107","v":""},{"$f":"IF(Benchsheet!A110>1,\"SM 9223B\",\"\")","v":""},{"$f":"Benchsheet!U110","v":"00:00:00"},{"$f":"IF(Benchsheet!J110>1,\"A\",\"\")","v":""},{"$f":"Benchsheet!M110","v":0},{"$f":"IF(WORKSHEET!A106=\"-1\",\"\",IF(WORKSHEET!A106=0,\"0\",WORKSHEET!A106))","v":""},"",{"$f":"IF(WORKSHEET!B108=\"MPN\",\"MPN\",\"\")","v":""}]
[{"$f":"IF(Benchsheet!A111>1,\"result\",\"\")","v":""},{"$f":"IF(Benchsheet!A111>1,\"STATE\",\"\")","v":""},{"$f":"IF(Benchsheet!A111>1,\"00035\",\"\")","v":""},{"$f":"Benchsheet!A111","v":0},{"$f":"IF(Benchsheet!C111=1121057,\"VA1121057\",IF(Benchsheet!C111=1121090,\"VA1121090\",IF(Benchsheet!C111=1121052,\"VA1121052\",IF(Benchsheet!C111=1121175,\"VA1121175\",IF(Benchsheet!C111=1121580,\"VA1121580\",IF(Benchsheet!C111=1121570,\"VA1121570\",IF(Benchsheet!C111=1121045,\"VA1121045\",IF(Benchsheet!C111=1121655,\"VA1121655\",IF(Benchsheet!C111=1121503,\"VA1121503\",IF(Benchsheet!C111=1121043,\"VA1121043\",IF(Benchsheet!C111=1121900,\"VA1121900\",IF(Benchsheet!C111=1121845,\"VA1121845\",IF(Benchsheet!C111=1121655,\"VA1121655\",IF(Benchsheet!C111=1121900,\"VA1121900\",IF(Benchsheet!C111<1,\"\")))))))))))))))","v":""},{"$f":"IF(WORKSHEET!B108=\"MPN\",\"3000\",IF(WORKSHEET!B108=\"TC\",\"3100\",\"\"))","v":""},{"$f":"IF(Benchsheet!A111>1,\"SM 9223B\",\"\")","v":""},{"$f":"Benchsheet!U111","v":"00:00:00"},{"$f":"IF(Benchsheet!J111>1,\"A\",\"\")","v":""},{"$f":"Benchsheet!L111","v":0},{"$f":"IF(WORKSHEET!A107=\"-1\",\"\",IF(WORKSHEET!A107=0,\"0\",WORKSHEET!A107))","v":""},"",{"$f":"IF(WORKSHEET!B108=\"MPN\",\"MPN\",\"\")","v":""}]
[{"$f":"IF(Benchsheet!A111>1,\"result\",\"\")","v":""},{"$f":"IF(Benchsheet!A111>1,\"STATE\",\"\")","v":""},{"$f":"IF(Benchsheet!A111>1,\"00035\",\"\")","v":""},{"$f":"Benchsheet!A111","v":0},{"$f":"IF(Benchsheet!C111=1121057,\"VA1121057\",IF(Benchsheet!C111=1121090,\"VA1121090\",IF(Benchsheet!C111=1121052,\"VA1121052\",IF(Benchsheet!C111=1121175,\"VA1121175\",IF(Benchsheet!C111=1121580,\"VA1121580\",IF(Benchsheet!C111=1121570,\"VA1121570\",IF(Benchsheet!C111=1121045,\"VA1121045\",IF(Benchsheet!C111=1121655,\"VA1121655\",IF(Benchsheet!C111=1121503,\"VA1121503\",IF(Benchsheet!C111=1121043,\"VA1121043\",IF(Benchsheet!C111=1121900,\"VA1121900\",IF(Benchsheet!C111=1121845,\"VA1121845\",IF(Benchsheet!C111=1121655,\"VA1121655\",IF(Benchsheet!C111=1121900,\"VA1121900\",IF(Benchsheet!C111<1,\"\")))))))))))))))","v":""},{"$f":"WORKSHEET!C108","v":""},{"$f":"IF(Benchsheet!A111>1,\"SM 9223B\",\"\")","v":""},{"$f":"Benchsheet!U111","v":"00:00:00"},{"$f":"IF(Benchsheet!J111>1,\"A\",\"\")","v":""},{"$f":"Benchsheet!M111","v":0},{"$f":"IF(WORKSHEET!A107=\"-1\",\"\",IF(WORKSHEET!A107=0,\"0\",WORKSHEET!A107))","v":""},"",{"$f":"IF(WORKSHEET!B109=\"MPN\",\"MPN\",\"\")","v":""}]
[{"$f":"IF(Benchsheet!A112>1,\"result\",\"\")","v":""},{"$f":"IF(Benchsheet!A112>1,\"STATE\",\"\")","v":""},{"$f":"IF(Benchsheet!A112>1,\"00035\",\"\")","v":""},{"$f":"Benchsheet!A112","v":0},{"$f":"IF(Benchsheet!C112=1121057,\"VA1121057\",IF(Benchsheet!C112=1121090,\"VA1121090\",IF(Benchsheet!C112=1121052,\"VA1121052\",IF(Benchsheet!C112=1121175,\"VA1121175\",IF(Benchsheet!C112=1121580,\"VA1121580\",IF(Benchsheet!C112=1121570,\"VA1121570\",IF(Benchsheet!C112=1121045,\"VA1121045\",IF(Benchsheet!C112=1121655,\"VA1121655\",IF(Benchsheet!C112=1121503,\"VA1121503\",IF(Benchsheet!C112=1121043,\"VA1121043\",IF(Benchsheet!C112=1121900,\"VA1121900\",IF(Benchsheet!C112=1121845,\"VA1121845\",IF(Benchsheet!C112=1121655,\"VA1121655\",IF(Benchsheet!C112=1121900,\"VA1121900\",IF(Benchsheet!C112<1,\"\")))))))))))))))","v":""},{"$f":"IF(WORKSHEET!B109=\"MPN\",\"3000\",IF(WORKSHEET!B109=\"TC\",\"3100\",\"\"))","v":""},{"$f":"IF(Benchsheet!A112>1,\"SM 9223B\",\"\")","v":""},{"$f":"Benchsheet!U112","v":"00:00:00"},{"$f":"IF(Benchsheet!J112>1,\"A\",\"\")","v":""},{"$f":"Benchsheet!L112","v":0},{"$f":"IF(WORKSHEET!A108=\"-1\",\"\",IF(WORKSHEET!A108=0,\"0\",WORKSHEET!A108))","v":""},"",{"$f":"IF(WORKSHEET!B109=\"MPN\",\"MPN\",\"\")","v":""}]
[{"$f":"IF(Benchsheet!A112>1,\"result\",\"\")","v":""},{"$f":"IF(Benchsheet!A112>1,\"STATE\",\"\")","v":""},{"$f":"IF(Benchsheet!A112>1,\"00035\",\"\")","v":""},{"$f":"Benchsheet!A112","v":0},{"$f":"IF(Benchsheet!C112=1121057,\"VA1121057\",IF(Benchsheet!C112=1121090,\"VA1121090\",IF(Benchsheet!C112=1121052,\"VA1121052\",IF(Benchsheet!C112=1121175,\"VA1121175\",IF(Benchsheet!C112=1121580,\"VA1121580\",IF(Benchsheet!C112=1121570,\"VA1121570\",IF(Benchsheet!C112=1121045,\"VA1121045\",IF(Benchsheet!C112=1121655,\"VA1121655\",IF(Benchsheet!C112=1121503,\"VA1121503\",IF(Benchsheet!C112=1121043,\"VA1121043\",IF(Benchsheet!C112=1121900,\"VA1121900\",IF(Benchsheet!C112=1121845,\"VA1121845\",IF(Benchsheet!C112=1121655,\"VA1121655\",IF(Benchsheet!C112=1121900,\"VA1121900\",IF(Benchsheet!C112<1,\"\")))))))))))))))","v":""},{"$f":"WORKSHEET!C109","v":""},{"$f":"IF(Benchsheet!A112>1,\"SM 9223B\",\"\")","v":""},{"$f":"Benchsheet!U112","v":"00:00:00"},{"$f":"IF(Benchsheet!J112>1,\"A\",\"\")","v":""},{"$f":"Benchsheet!M112","v":0},{"$f":"IF(WORKSHEET!A108=\"-1\",\"\",IF(WORKSHEET!A108=0,\"0\",WORKSHEET!A108))","v":""},"",{"$f":"IF(WORKSHEET!B110=\"MPN\",\"MPN\",\"\")","v":""}]
[{"$f":"IF(Benchsheet!A113>1,\"result\",\"\")","v":""},{"$f":"IF(Benchsheet!A113>1,\"STATE\",\"\")","v":""},{"$f":"IF(Benchsheet!A113>1,\"00035\",\"\")","v":""},{"$f":"Benchsheet!A113","v":0},{"$f":"IF(Benchsheet!C113=1121057,\"VA1121057\",IF(Benchsheet!C113=1121090,\"VA1121090\",IF(Benchsheet!C113=1121052,\"VA1121052\",IF(Benchsheet!C113=1121175,\"VA1121175\",IF(Benchsheet!C113=1121580,\"VA1121580\",IF(Benchsheet!C113=1121570,\"VA1121570\",IF(Benchsheet!C113=1121045,\"VA1121045\",IF(Benchsheet!C113=1121655,\"VA1121655\",IF(Benchsheet!C113=1121503,\"VA1121503\",IF(Benchsheet!C113=1121043,\"VA1121043\",IF(Benchsheet!C113=1121900,\"VA1121900\",IF(Benchsheet!C113=1121845,\"VA1121845\",IF(Benchsheet!C113=1121655,\"VA1121655\",IF(Benchsheet!C113=1121900,\"VA1121900\",IF(Benchsheet!C113<1,\"\")))))))))))))))","v":""},{"$f":"IF(WORKSHEET!B110=\"MPN\",\"3000\",IF(WORKSHEET!B110=\"TC\",\"3100\",\"\"))","v":""},{"$f":"IF(Benchsheet!A113>1,\"SM 9223B\",\"\")","v":""},{"$f":"Benchsheet!U113","v":"00:00:00"},{"$f":"IF(Benchsheet!J113>1,\"A\",\"\")","v":""},{"$f":"Benchsheet!L113","v":0},{"$f":"IF(WORKSHEET!A109=\"-1\",\"\",IF(WORKSHEET!A109=0,\"0\",WORKSHEET!A109))","v":""},"",{"$f":"IF(WORKSHEET!B110=\"MPN\",\"MPN\",\"\")","v":""}]
[{"$f":"IF(Benchsheet!A113>1,\"result\",\"\")","v":""},{"$f":"IF(Benchsheet!A113>1,\"STATE\",\"\")","v":""},{"$f":"IF(Benchsheet!A113>1,\"00035\",\"\")","v":""},{"$f":"Benchsheet!A113","v":0},{"$f":"IF(Benchsheet!C113=1121057,\"VA1121057\",IF(Benchsheet!C113=1121090,\"VA1121090\",IF(Benchsheet!C113=1121052,\"VA1121052\",IF(Benchsheet!C113=1121175,\"VA1121175\",IF(Benchsheet!C113=1121580,\"VA1121580\",IF(Benchsheet!C113=1121570,\"VA1121570\",IF(Benchsheet!C113=1121045,\"VA1121045\",IF(Benchsheet!C113=1121655,\"VA1121655\",IF(Benchsheet!C113=1121503,\"VA1121503\",IF(Benchsheet!C113=1121043,\"VA1121043\",IF(Benchsheet!C113=1121900,\"VA1121900\",IF(Benchsheet!C113=1121845,\"VA1121845\",IF(Benchsheet!C113=1121655,\"VA1121655\",IF(Benchsheet!C113=1121900,\"VA1121900\",IF(Benchsheet!C113<1,\"\")))))))))))))))","v":""},{"$f":"WORKSHEET!C110","v":""},{"$f":"IF(Benchsheet!A113>1,\"SM 9223B\",\"\")","v":""},{"$f":"Benchsheet!U113","v":"00:00:00"},{"$f":"IF(Benchsheet!J113>1,\"A\",\"\")","v":""},{"$f":"Benchsheet!M113","v":0},{"$f":"IF(WORKSHEET!A109=\"-1\",\"\",IF(WORKSHEET!A109=0,\"0\",WORKSHEET!A109))","v":""},"",{"$f":"IF(WORKSHEET!B111=\"MPN\",\"MPN\",\"\")","v":""}]
[{"$f":"IF(Benchsheet!A114>1,\"result\",\"\")","v":""},{"$f":"IF(Benchsheet!A114>1,\"STATE\",\"\")","v":""},{"$f":"IF(Benchsheet!A114>1,\"00035\",\"\")","v":""},{"$f":"Benchsheet!A114","v":0},{"$f":"IF(Benchsheet!C114=1121057,\"VA1121057\",IF(Benchsheet!C114=1121090,\"VA1121090\",IF(Benchsheet!C114=1121052,\"VA1121052\",IF(Benchsheet!C114=1121175,\"VA1121175\",IF(Benchsheet!C114=1121580,\"VA1121580\",IF(Benchsheet!C114=1121570,\"VA1121570\",IF(Benchsheet!C114=1121045,\"VA1121045\",IF(Benchsheet!C114=1121655,\"VA1121655\",IF(Benchsheet!C114=1121503,\"VA1121503\",IF(Benchsheet!C114=1121043,\"VA1121043\",IF(Benchsheet!C114=1121900,\"VA1121900\",IF(Benchsheet!C114=1121845,\"VA1121845\",IF(Benchsheet!C114=1121655,\"VA1121655\",IF(Benchsheet!C114=1121900,\"VA1121900\",IF(Benchsheet!C114<1,\"\")))))))))))))))","v":""},{"$f":"IF(WORKSHEET!B111=\"MPN\",\"3000\",IF(WORKSHEET!B111=\"TC\",\"3100\",\"\"))","v":""},{"$f":"IF(Benchsheet!A114>1,\"SM 9223B\",\"\")","v":""},{"$f":"Benchsheet!U114","v":"00:00:00"},{"$f":"IF(Benchsheet!J114>1,\"A\",\"\")","v":""},{"$f":"Benchsheet!L114","v":0},{"$f":"IF(WORKSHEET!A110=\"-1\",\"\",IF(WORKSHEET!A110=0,\"0\",WORKSHEET!A110))","v":""},"",{"$f":"IF(WORKSHEET!B111=\"MPN\",\"MPN\",\"\")","v":""}]
[{"$f":"IF(Benchsheet!A114>1,\"result\",\"\")","v":""},{"$f":"IF(Benchsheet!A114>1,\"STATE\",\"\")","v":""},{"$f":"IF(Benchsheet!A114>1,\"00035\",\"\")","v":""},{"$f":"Benchsheet!A114","v":0},{"$f":"IF(Benchsheet!C114=1121057,\"VA1121057\",IF(Benchsheet!C114=1121090,\"VA1121090\",IF(Benchsheet!C114=1121052,\"VA1121052\",IF(Benchsheet!C114=1121175,\"VA1121175\",IF(Benchsheet!C114=1121580,\"VA1121580\",IF(Benchsheet!C114=1121570,\"VA1121570\",IF(Benchsheet!C114=1121045,\"VA1121045\",IF(Benchsheet!C114=1121655,\"VA1121655\",IF(Benchsheet!C114=1121503,\"VA1121503\",IF(Benchsheet!C114=1121043,\"VA1121043\",IF(Benchsheet!C114=1121900,\"VA1121900\",IF(Benchsheet!C114=1121845,\"VA1121845\",IF(Benchsheet!C114=1121655,\"VA1121655\",IF(Benchsheet!C114=1121900,\"VA1121900\",IF(Benchsheet!C114<1,\"\")))))))))))))))","v":""},{"$f":"WORKSHEET!C111","v":""},{"$f":"IF(Benchsheet!A114>1,\"SM 9223B\",\"\")","v":""},{"$f":"Benchsheet!U114","v":"00:00:00"},{"$f":"IF(Benchsheet!J114>1,\"A\",\"\")","v":""},{"$f":"Benchsheet!M114","v":0},{"$f":"IF(WORKSHEET!A110=\"-1\",\"\",IF(WORKSHEET!A110=0,\"0\",WORKSHEET!A110))","v":""},"",{"$f":"IF(WORKSHEET!B112=\"MPN\",\"MPN\",\"\")","v":""}]
[{"$f":"IF(Benchsheet!A115>1,\"result\",\"\")","v":""},{"$f":"IF(Benchsheet!A115>1,\"STATE\",\"\")","v":""},{"$f":"IF(Benchsheet!A115>1,\"00035\",\"\")","v":""},{"$f":"Benchsheet!A115","v":0},{"$f":"IF(Benchsheet!C115=1121057,\"VA1121057\",IF(Benchsheet!C115=1121090,\"VA1121090\",IF(Benchsheet!C115=1121052,\"VA1121052\",IF(Benchsheet!C115=1121175,\"VA1121175\",IF(Benchsheet!C115=1121580,\"VA1121580\",IF(Benchsheet!C115=1121570,\"VA1121570\",IF(Benchsheet!C115=1121045,\"VA1121045\",IF(Benchsheet!C115=1121655,\"VA1121655\",IF(Benchsheet!C115=1121503,\"VA1121503\",IF(Benchsheet!C115=1121043,\"VA1121043\",IF(Benchsheet!C115=1121900,\"VA1121900\",IF(Benchsheet!C115=1121845,\"VA1121845\",IF(Benchsheet!C115=1121655,\"VA1121655\",IF(Benchsheet!C115=1121900,\"VA1121900\",IF(Benchsheet!C115<1,\"\")))))))))))))))","v":""},{"$f":"IF(WORKSHEET!B112=\"MPN\",\"3000\",IF(WORKSHEET!B112=\"TC\",\"3100\",\"\"))","v":""},{"$f":"IF(Benchsheet!A115>1,\"SM 9223B\",\"\")","v":""},{"$f":"Benchsheet!U115","v":"00:00:00"},{"$f":"IF(Benchsheet!J115>1,\"A\",\"\")","v":""},{"$f":"Benchsheet!L115","v":0},{"$f":"IF(WORKSHEET!A111=\"-1\",\"\",IF(WORKSHEET!A111=0,\"0\",WORKSHEET!A111))","v":""},"",{"$f":"IF(WORKSHEET!B112=\"MPN\",\"MPN\",\"\")","v":""}]
[{"$f":"IF(Benchsheet!A115>1,\"result\",\"\")","v":""},{"$f":"IF(Benchsheet!A115>1,\"STATE\",\"\")","v":""},{"$f":"IF(Benchsheet!A115>1,\"00035\",\"\")","v":""},{"$f":"Benchsheet!A115","v":0},{"$f":"IF(Benchsheet!C115=1121057,\"VA1121057\",IF(Benchsheet!C115=1121090,\"VA1121090\",IF(Benchsheet!C115=1121052,\"VA1121052\",IF(Benchsheet!C115=1121175,\"VA1121175\",IF(Benchsheet!C115=1121580,\"VA1121580\",IF(Benchsheet!C115=1121570,\"VA1121570\",IF(Benchsheet!C115=1121045,\"VA1121045\",IF(Benchsheet!C115=1121655,\"VA1121655\",IF(Benchsheet!C115=1121503,\"VA1121503\",IF(Benchsheet!C115=1121043,\"VA1121043\",IF(Benchsheet!C115=1121900,\"VA1121900\",IF(Benchsheet!C115=1121845,\"VA1121845\",IF(Benchsheet!C115=1121655,\"VA1121655\",IF(Benchsheet!C115=1121900,\"VA1121900\",IF(Benchsheet!C115<1,\"\")))))))))))))))","v":""},{"$f":"WORKSHEET!C112","v":""},{"$f":"IF(Benchsheet!A115>1,\"SM 9223B\",\"\")","v":""},{"$f":"Benchsheet!U115","v":"00:00:00"},{"$f":"IF(Benchsheet!J115>1,\"A\",\"\")","v":""},{"$f":"Benchsheet!M115","v":0},{"$f":"IF(WORKSHEET!A111=\"-1\",\"\",IF(WORKSHEET!A111=0,\"0\",WORKSHEET!A111))","v":""},"",{"$f":"IF(WORKSHEET!B113=\"MPN\",\"MPN\",\"\")","v":""}]
[{"$f":"IF(Benchsheet!A116>1,\"result\",\"\")","v":""},{"$f":"IF(Benchsheet!A116>1,\"STATE\",\"\")","v":""},{"$f":"IF(Benchsheet!A116>1,\"00035\",\"\")","v":""},{"$f":"Benchsheet!A116","v":0},{"$f":"IF(Benchsheet!C116=1121057,\"VA1121057\",IF(Benchsheet!C116=1121090,\"VA1121090\",IF(Benchsheet!C116=1121052,\"VA1121052\",IF(Benchsheet!C116=1121175,\"VA1121175\",IF(Benchsheet!C116=1121580,\"VA1121580\",IF(Benchsheet!C116=1121570,\"VA1121570\",IF(Benchsheet!C116=1121045,\"VA1121045\",IF(Benchsheet!C116=1121655,\"VA1121655\",IF(Benchsheet!C116=1121503,\"VA1121503\",IF(Benchsheet!C116=1121043,\"VA1121043\",IF(Benchsheet!C116=1121900,\"VA1121900\",IF(Benchsheet!C116=1121845,\"VA1121845\",IF(Benchsheet!C116=1121655,\"VA1121655\",IF(Benchsheet!C116=1121900,\"VA1121900\",IF(Benchsheet!C116<1,\"\")))))))))))))))","v":""},{"$f":"IF(WORKSHEET!B113=\"MPN\",\"3000\",IF(WORKSHEET!B113=\"TC\",\"3100\",\"\"))","v":""},{"$f":"IF(Benchsheet!A116>1,\"SM 9223B\",\"\")","v":""},{"$f":"Benchsheet!U116","v":"00:00:00"},{"$f":"IF(Benchsheet!J116>1,\"A\",\"\")","v":""},{"$f":"Benchsheet!L116","v":0},{"$f":"IF(WORKSHEET!A112=\"-1\",\"\",IF(WORKSHEET!A112=0,\"0\",WORKSHEET!A112))","v":""},"",{"$f":"IF(WORKSHEET!B113=\"MPN\",\"MPN\",\"\")","v":""}]
[{"$f":"IF(Benchsheet!A116>1,\"result\",\"\")","v":""},{"$f":"IF(Benchsheet!A116>1,\"STATE\",\"\")","v":""},{"$f":"IF(Benchsheet!A116>1,\"00035\",\"\")","v":""},{"$f":"Benchsheet!A116","v":0},{"$f":"IF(Benchsheet!C116=1121057,\"VA1121057\",IF(Benchsheet!C116=1121090,\"VA1121090\",IF(Benchsheet!C116=1121052,\"VA1121052\",IF(Benchsheet!C116=1121175,\"VA1121175\",IF(Benchsheet!C116=1121580,\"VA1121580\",IF(Benchsheet!C116=1121570,\"VA1121570\",IF(Benchsheet!C116=1121045,\"VA1121045\",IF(Benchsheet!C116=1121655,\"VA1121655\",IF(Benchsheet!C116=1121503,\"VA1121503\",IF(Benchsheet!C116=1121043,\"VA1121043\",IF(Benchsheet!C116=1121900,\"VA1121900\",IF(Benchsheet!C116=1121845,\"VA1121845\",IF(Benchsheet!C116=1121655,\"VA1121655\",IF(Benchsheet!C116=1121900,\"VA1121900\",IF(Benchsheet!C116<1,\"\")))))))))))))))","v":""},{"$f":"WORKSHEET!C113","v":""},{"$f":"IF(Benchsheet!A116>1,\"SM 9223B\",\"\")","v":""},{"$f":"Benchsheet!U116","v":"00:00:00"},{"$f":"IF(Benchsheet!J116>1,\"A\",\"\")","v":""},{"$f":"Benchsheet!M116","v":0},{"$f":"IF(WORKSHEET!A112=\"-1\",\"\",IF(WORKSHEET!A112=0,\"0\",WORKSHEET!A112))","v":""},"",{"$f":"IF(WORKSHEET!B114=\"MPN\",\"MPN\",\"\")","v":""}]
[{"$f":"IF(Benchsheet!A117>1,\"result\",\"\")","v":""},{"$f":"IF(Benchsheet!A117>1,\"STATE\",\"\")","v":""},{"$f":"IF(Benchsheet!A117>1,\"00035\",\"\")","v":""},{"$f":"Benchsheet!A117","v":0},{"$f":"IF(Benchsheet!C117=1121057,\"VA1121057\",IF(Benchsheet!C117=1121090,\"VA1121090\",IF(Benchsheet!C117=1121052,\"VA1121052\",IF(Benchsheet!C117=1121175,\"VA1121175\",IF(Benchsheet!C117=1121580,\"VA1121580\",IF(Benchsheet!C117=1121570,\"VA1121570\",IF(Benchsheet!C117=1121045,\"VA1121045\",IF(Benchsheet!C117=1121655,\"VA1121655\",IF(Benchsheet!C117=1121503,\"VA1121503\",IF(Benchsheet!C117=1121043,\"VA1121043\",IF(Benchsheet!C117=1121900,\"VA1121900\",IF(Benchsheet!C117=1121845,\"VA1121845\",IF(Benchsheet!C117=1121655,\"VA1121655\",IF(Benchsheet!C117=1121900,\"VA1121900\",IF(Benchsheet!C117<1,\"\")))))))))))))))","v":""},{"$f":"IF(WORKSHEET!B114=\"MPN\",\"3000\",IF(WORKSHEET!B114=\"TC\",\"3100\",\"\"))","v":""},{"$f":"IF(Benchsheet!A117>1,\"SM 9223B\",\"\")","v":""},{"$f":"Benchsheet!U117","v":"00:00:00"},{"$f":"IF(Benchsheet!J117>1,\"A\",\"\")","v":""},{"$f":"Benchsheet!L117","v":0},{"$f":"IF(WORKSHEET!A113=\"-1\",\"\",IF(WORKSHEET!A113=0,\"0\",WORKSHEET!A113))","v":""},"",{"$f":"IF(WORKSHEET!B114=\"MPN\",\"MPN\",\"\")","v":""}]
[{"$f":"IF(Benchsheet!A117>1,\"result\",\"\")","v":""},{"$f":"IF(Benchsheet!A117>1,\"STATE\",\"\")","v":""},{"$f":"IF(Benchsheet!A117>1,\"00035\",\"\")","v":""},{"$f":"Benchsheet!A117","v":0},{"$f":"IF(Benchsheet!C117=1121057,\"VA1121057\",IF(Benchsheet!C117=1121090,\"VA1121090\",IF(Benchsheet!C117=1121052,\"VA1121052\",IF(Benchsheet!C117=1121175,\"VA1121175\",IF(Benchsheet!C117=1121580,\"VA1121580\",IF(Benchsheet!C117=1121570,\"VA1121570\",IF(Benchsheet!C117=1121045,\"VA1121045\",IF(Benchsheet!C117=1121655,\"VA1121655\",IF(Benchsheet!C117=1121503,\"VA1121503\",IF(Benchsheet!C117=1121043,\"VA1121043\",IF(Benchsheet!C117=1121900,\"VA1121900\",IF(Benchsheet!C117=1121845,\"VA1121845\",IF(Benchsheet!C117=1121655,\"VA1121655\",IF(Benchsheet!C117=1121900,\"VA1121900\",IF(Benchsheet!C117<1,\"\")))))))))))))))","v":""},{"$f":"WORKSHEET!C114","v":""},{"$f":"IF(Benchsheet!A117>1,\"SM 9223B\",\"\")","v":""},{"$f":"Benchsheet!U117","v":"00:00:00"},{"$f":"IF(Benchsheet!J117>1,\"A\",\"\")","v":""},{"$f":"Benchsheet!M117","v":0},{"$f":"IF(WORKSHEET!A113=\"-1\",\"\",IF(WORKSHEET!A113=0,\"0\",WORKSHEET!A113))","v":""},"",{"$f":"IF(WORKSHEET!B115=\"MPN\",\"MPN\",\"\")","v":""}]
[{"$f":"IF(Benchsheet!A118>1,\"result\",\"\")","v":""},{"$f":"IF(Benchsheet!A118>1,\"STATE\",\"\")","v":""},{"$f":"IF(Benchsheet!A118>1,\"00035\",\"\")","v":""},{"$f":"Benchsheet!A118","v":0},{"$f":"IF(Benchsheet!C118=1121057,\"VA1121057\",IF(Benchsheet!C118=1121090,\"VA1121090\",IF(Benchsheet!C118=1121052,\"VA1121052\",IF(Benchsheet!C118=1121175,\"VA1121175\",IF(Benchsheet!C118=1121580,\"VA1121580\",IF(Benchsheet!C118=1121570,\"VA1121570\",IF(Benchsheet!C118=1121045,\"VA1121045\",IF(Benchsheet!C118=1121655,\"VA1121655\",IF(Benchsheet!C118=1121503,\"VA1121503\",IF(Benchsheet!C118=1121043,\"VA1121043\",IF(Benchsheet!C118=1121900,\"VA1121900\",IF(Benchsheet!C118=1121845,\"VA1121845\",IF(Benchsheet!C118=1121655,\"VA1121655\",IF(Benchsheet!C118=1121900,\"VA1121900\",IF(Benchsheet!C118<1,\"\")))))))))))))))","v":""},{"$f":"IF(WORKSHEET!B115=\"MPN\",\"3000\",IF(WORKSHEET!B115=\"TC\",\"3100\",\"\"))","v":""},{"$f":"IF(Benchsheet!A118>1,\"SM 9223B\",\"\")","v":""},{"$f":"Benchsheet!U118","v":"00:00:00"},{"$f":"IF(Benchsheet!J118>1,\"A\",\"\")","v":""},{"$f":"Benchsheet!L118","v":0},{"$f":"IF(WORKSHEET!A114=\"-1\",\"\",IF(WORKSHEET!A114=0,\"0\",WORKSHEET!A114))","v":""},"",{"$f":"IF(WORKSHEET!B115=\"MPN\",\"MPN\",\"\")","v":""}]
[{"$f":"IF(Benchsheet!A118>1,\"result\",\"\")","v":""},{"$f":"IF(Benchsheet!A118>1,\"STATE\",\"\")","v":""},{"$f":"IF(Benchsheet!A118>1,\"00035\",\"\")","v":""},{"$f":"Benchsheet!A118","v":0},{"$f":"IF(Benchsheet!C118=1121057,\"VA1121057\",IF(Benchsheet!C118=1121090,\"VA1121090\",IF(Benchsheet!C118=1121052,\"VA1121052\",IF(Benchsheet!C118=1121175,\"VA1121175\",IF(Benchsheet!C118=1121580,\"VA1121580\",IF(Benchsheet!C118=1121570,\"VA1121570\",IF(Benchsheet!C118=1121045,\"VA1121045\",IF(Benchsheet!C118=1121655,\"VA1121655\",IF(Benchsheet!C118=1121503,\"VA1121503\",IF(Benchsheet!C118=1121043,\"VA1121043\",IF(Benchsheet!C118=1121900,\"VA1121900\",IF(Benchsheet!C118=1121845,\"VA1121845\",IF(Benchsheet!C118=1121655,\"VA1121655\",IF(Benchsheet!C118=1121900,\"VA1121900\",IF(Benchsheet!C118<1,\"\")))))))))))))))","v":""},{"$f":"WORKSHEET!C115","v":""},{"$f":"IF(Benchsheet!A118>1,\"SM 9223B\",\"\")","v":""},{"$f":"Benchsheet!U118","v":"00:00:00"},{"$f":"IF(Benchsheet!J118>1,\"A\",\"\")","v":""},{"$f":"Benchsheet!M118","v":0},{"$f":"IF(WORKSHEET!A114=\"-1\",\"\",IF(WORKSHEET!A114=0,\"0\",WORKSHEET!A114))","v":""},"",{"$f":"IF(WORKSHEET!B116=\"MPN\",\"MPN\",\"\")","v":""}]
[{"$f":"IF(Benchsheet!A119>1,\"result\",\"\")","v":""},{"$f":"IF(Benchsheet!A119>1,\"STATE\",\"\")","v":""},{"$f":"IF(Benchsheet!A119>1,\"00035\",\"\")","v":""},{"$f":"Benchsheet!A119","v":0},{"$f":"IF(Benchsheet!C119=1121057,\"VA1121057\",IF(Benchsheet!C119=1121090,\"VA1121090\",IF(Benchsheet!C119=1121052,\"VA1121052\",IF(Benchsheet!C119=1121175,\"VA1121175\",IF(Benchsheet!C119=1121580,\"VA1121580\",IF(Benchsheet!C119=1121570,\"VA1121570\",IF(Benchsheet!C119=1121045,\"VA1121045\",IF(Benchsheet!C119=1121655,\"VA1121655\",IF(Benchsheet!C119=1121503,\"VA1121503\",IF(Benchsheet!C119=1121043,\"VA1121043\",IF(Benchsheet!C119=1121900,\"VA1121900\",IF(Benchsheet!C119=1121845,\"VA1121845\",IF(Benchsheet!C119=1121655,\"VA1121655\",IF(Benchsheet!C119=1121900,\"VA1121900\",IF(Benchsheet!C119<1,\"\")))))))))))))))","v":""},{"$f":"IF(WORKSHEET!B116=\"MPN\",\"3000\",IF(WORKSHEET!B116=\"TC\",\"3100\",\"\"))","v":""},{"$f":"IF(Benchsheet!A119>1,\"SM 9223B\",\"\")","v":""},{"$f":"Benchsheet!U119","v":"00:00:00"},{"$f":"IF(Benchsheet!J119>1,\"A\",\"\")","v":""},{"$f":"Benchsheet!L119","v":0},{"$f":"IF(WORKSHEET!A115=\"-1\",\"\",IF(WORKSHEET!A115=0,\"0\",WORKSHEET!A115))","v":""},"",{"$f":"IF(WORKSHEET!B116=\"MPN\",\"MPN\",\"\")","v":""}]
[{"$f":"IF(Benchsheet!A119>1,\"result\",\"\")","v":""},{"$f":"IF(Benchsheet!A119>1,\"STATE\",\"\")","v":""},{"$f":"IF(Benchsheet!A119>1,\"00035\",\"\")","v":""},{"$f":"Benchsheet!A119","v":0},{"$f":"IF(Benchsheet!C119=1121057,\"VA1121057\",IF(Benchsheet!C119=1121090,\"VA1121090\",IF(Benchsheet!C119=1121052,\"VA1121052\",IF(Benchsheet!C119=1121175,\"VA1121175\",IF(Benchsheet!C119=1121580,\"VA1121580\",IF(Benchsheet!C119=1121570,\"VA1121570\",IF(Benchsheet!C119=1121045,\"VA1121045\",IF(Benchsheet!C119=1121655,\"VA1121655\",IF(Benchsheet!C119=1121503,\"VA1121503\",IF(Benchsheet!C119=1121043,\"VA1121043\",IF(Benchsheet!C119=1121900,\"VA1121900\",IF(Benchsheet!C119=1121845,\"VA1121845\",IF(Benchsheet!C119=1121655,\"VA1121655\",IF(Benchsheet!C119=1121900,\"VA1121900\",IF(Benchsheet!C119<1,\"\")))))))))))))))","v":""},{"$f":"WORKSHEET!C116","v":""},{"$f":"IF(Benchsheet!A119>1,\"SM 9223B\",\"\")","v":""},{"$f":"Benchsheet!U119","v":"00:00:00"},{"$f":"IF(Benchsheet!J119>1,\"A\",\"\")","v":""},{"$f":"Benchsheet!M119","v":0},{"$f":"IF(WORKSHEET!A115=\"-1\",\"\",IF(WORKSHEET!A115=0,\"0\",WORKSHEET!A115))","v":""},"",{"$f":"IF(WORKSHEET!B117=\"MPN\",\"MPN\",\"\")","v":""}]
[{"$f":"IF(Benchsheet!A120>1,\"result\",\"\")","v":""},{"$f":"IF(Benchsheet!A120>1,\"STATE\",\"\")","v":""},{"$f":"IF(Benchsheet!A120>1,\"00035\",\"\")","v":""},{"$f":"Benchsheet!A120","v":0},{"$f":"IF(Benchsheet!C120=1121057,\"VA1121057\",IF(Benchsheet!C120=1121090,\"VA1121090\",IF(Benchsheet!C120=1121052,\"VA1121052\",IF(Benchsheet!C120=1121175,\"VA1121175\",IF(Benchsheet!C120=1121580,\"VA1121580\",IF(Benchsheet!C120=1121570,\"VA1121570\",IF(Benchsheet!C120=1121045,\"VA1121045\",IF(Benchsheet!C120=1121655,\"VA1121655\",IF(Benchsheet!C120=1121503,\"VA1121503\",IF(Benchsheet!C120=1121043,\"VA1121043\",IF(Benchsheet!C120=1121900,\"VA1121900\",IF(Benchsheet!C120=1121845,\"VA1121845\",IF(Benchsheet!C120=1121655,\"VA1121655\",IF(Benchsheet!C120=1121900,\"VA1121900\",IF(Benchsheet!C120<1,\"\")))))))))))))))","v":""},{"$f":"IF(WORKSHEET!B117=\"MPN\",\"3000\",IF(WORKSHEET!B117=\"TC\",\"3100\",\"\"))","v":""},{"$f":"IF(Benchsheet!A120>1,\"SM 9223B\",\"\")","v":""},{"$f":"Benchsheet!U120","v":"00:00:00"},{"$f":"IF(Benchsheet!J120>1,\"A\",\"\")","v":""},{"$f":"Benchsheet!L120","v":0},{"$f":"IF(WORKSHEET!A116=\"-1\",\"\",IF(WORKSHEET!A116=0,\"0\",WORKSHEET!A116))","v":""},"",{"$f":"IF(WORKSHEET!B117=\"MPN\",\"MPN\",\"\")","v":""}]
[{"$f":"IF(Benchsheet!A120>1,\"result\",\"\")","v":""},{"$f":"IF(Benchsheet!A120>1,\"STATE\",\"\")","v":""},{"$f":"IF(Benchsheet!A120>1,\"00035\",\"\")","v":""},{"$f":"Benchsheet!A120","v":0},{"$f":"IF(Benchsheet!C120=1121057,\"VA1121057\",IF(Benchsheet!C120=1121090,\"VA1121090\",IF(Benchsheet!C120=1121052,\"VA1121052\",IF(Benchsheet!C120=1121175,\"VA1121175\",IF(Benchsheet!C120=1121580,\"VA1121580\",IF(Benchsheet!C120=1121570,\"VA1121570\",IF(Benchsheet!C120=1121045,\"VA1121045\",IF(Benchsheet!C120=1121655,\"VA1121655\",IF(Benchsheet!C120=1121503,\"VA1121503\",IF(Benchsheet!C120=1121043,\"VA1121043\",IF(Benchsheet!C120=1121900,\"VA1121900\",IF(Benchsheet!C120=1121845,\"VA1121845\",IF(Benchsheet!C120=1121655,\"VA1121655\",IF(Benchsheet!C120=1121900,\"VA1121900\",IF(Benchsheet!C120<1,\"\")))))))))))))))","v":""},{"$f":"WORKSHEET!C117","v":""},{"$f":"IF(Benchsheet!A120>1,\"SM 9223B\",\"\")","v":""},{"$f":"Benchsheet!U120","v":"00:00:00"},{"$f":"IF(Benchsheet!J120>1,\"A\",\"\")","v":""},{"$f":"Benchsheet!M120","v":0},{"$f":"IF(WORKSHEET!A116=\"-1\",\"\",IF(WORKSHEET!A116=0,\"0\",WORKSHEET!A116))","v":""},"",{"$f":"IF(WORKSHEET!B118=\"MPN\",\"MPN\",\"\")","v":""}]
[{"$f":"IF(Benchsheet!A121>1,\"result\",\"\")","v":""},{"$f":"IF(Benchsheet!A121>1,\"STATE\",\"\")","v":""},{"$f":"IF(Benchsheet!A121>1,\"00035\",\"\")","v":""},{"$f":"Benchsheet!A121","v":0},{"$f":"IF(Benchsheet!C121=1121057,\"VA1121057\",IF(Benchsheet!C121=1121090,\"VA1121090\",IF(Benchsheet!C121=1121052,\"VA1121052\",IF(Benchsheet!C121=1121175,\"VA1121175\",IF(Benchsheet!C121=1121580,\"VA1121580\",IF(Benchsheet!C121=1121570,\"VA1121570\",IF(Benchsheet!C121=1121045,\"VA1121045\",IF(Benchsheet!C121=1121655,\"VA1121655\",IF(Benchsheet!C121=1121503,\"VA1121503\",IF(Benchsheet!C121=1121043,\"VA1121043\",IF(Benchsheet!C121=1121900,\"VA1121900\",IF(Benchsheet!C121=1121845,\"VA1121845\",IF(Benchsheet!C121=1121655,\"VA1121655\",IF(Benchsheet!C121=1121900,\"VA1121900\",IF(Benchsheet!C121<1,\"\")))))))))))))))","v":""},{"$f":"IF(WORKSHEET!B118=\"MPN\",\"3000\",IF(WORKSHEET!B118=\"TC\",\"3100\",\"\"))","v":""},{"$f":"IF(Benchsheet!A121>1,\"SM 9223B\",\"\")","v":""},{"$f":"Benchsheet!U121","v":"00:00:00"},{"$f":"IF(Benchsheet!J121>1,\"A\",\"\")","v":""},{"$f":"Benchsheet!L121","v":0},{"$f":"IF(WORKSHEET!A117=\"-1\",\"\",IF(WORKSHEET!A117=0,\"0\",WORKSHEET!A117))","v":""},"",{"$f":"IF(WORKSHEET!B118=\"MPN\",\"MPN\",\"\")","v":""}]
[{"$f":"IF(Benchsheet!A121>1,\"result\",\"\")","v":""},{"$f":"IF(Benchsheet!A121>1,\"STATE\",\"\")","v":""},{"$f":"IF(Benchsheet!A121>1,\"00035\",\"\")","v":""},{"$f":"Benchsheet!A121","v":0},{"$f":"IF(Benchsheet!C121=1121057,\"VA1121057\",IF(Benchsheet!C121=1121090,\"VA1121090\",IF(Benchsheet!C121=1121052,\"VA1121052\",IF(Benchsheet!C121=1121175,\"VA1121175\",IF(Benchsheet!C121=1121580,\"VA1121580\",IF(Benchsheet!C121=1121570,\"VA1121570\",IF(Benchsheet!C121=1121045,\"VA1121045\",IF(Benchsheet!C121=1121655,\"VA1121655\",IF(Benchsheet!C121=1121503,\"VA1121503\",IF(Benchsheet!C121=1121043,\"VA1121043\",IF(Benchsheet!C121=1121900,\"VA1121900\",IF(Benchsheet!C121=1121845,\"VA1121845\",IF(Benchsheet!C121=1121655,\"VA1121655\",IF(Benchsheet!C121=1121900,\"VA1121900\",IF(Benchsheet!C121<1,\"\")))))))))))))))","v":""},{"$f":"WORKSHEET!C118","v":""},{"$f":"IF(Benchsheet!A121>1,\"SM 9223B\",\"\")","v":""},{"$f":"Benchsheet!U121","v":"00:00:00"},{"$f":"IF(Benchsheet!J121>1,\"A\",\"\")","v":""},{"$f":"Benchsheet!M121","v":0},{"$f":"IF(WORKSHEET!A117=\"-1\",\"\",IF(WORKSHEET!A117=0,\"0\",WORKSHEET!A117))","v":""},"",{"$f":"IF(WORKSHEET!B119=\"MPN\",\"MPN\",\"\")","v":""}]
[{"$f":"IF(Benchsheet!A122>1,\"result\",\"\")","v":""},{"$f":"IF(Benchsheet!A122>1,\"STATE\",\"\")","v":""},{"$f":"IF(Benchsheet!A122>1,\"00035\",\"\")","v":""},{"$f":"Benchsheet!A122","v":0},{"$f":"IF(Benchsheet!C122=1121057,\"VA1121057\",IF(Benchsheet!C122=1121090,\"VA1121090\",IF(Benchsheet!C122=1121052,\"VA1121052\",IF(Benchsheet!C122=1121175,\"VA1121175\",IF(Benchsheet!C122=1121580,\"VA1121580\",IF(Benchsheet!C122=1121570,\"VA1121570\",IF(Benchsheet!C122=1121045,\"VA1121045\",IF(Benchsheet!C122=1121655,\"VA1121655\",IF(Benchsheet!C122=1121503,\"VA1121503\",IF(Benchsheet!C122=1121043,\"VA1121043\",IF(Benchsheet!C122=1121900,\"VA1121900\",IF(Benchsheet!C122=1121845,\"VA1121845\",IF(Benchsheet!C122=1121655,\"VA1121655\",IF(Benchsheet!C122=1121900,\"VA1121900\",IF(Benchsheet!C122<1,\"\")))))))))))))))","v":""},{"$f":"IF(WORKSHEET!B119=\"MPN\",\"3000\",IF(WORKSHEET!B119=\"TC\",\"3100\",\"\"))","v":""},{"$f":"IF(Benchsheet!A122>1,\"SM 9223B\",\"\")","v":""},{"$f":"Benchsheet!U122","v":"00:00:00"},{"$f":"IF(Benchsheet!J122>1,\"A\",\"\")","v":""},{"$f":"Benchsheet!L122","v":0},{"$f":"IF(WORKSHEET!A123=\"-1\",\"\",IF(WORKSHEET!A123=0,\"0\",WORKSHEET!A123))","v":""},"",{"$f":"IF(WORKSHEET!B119=\"MPN\",\"MPN\",\"\")","v":""}]
[{"$f":"IF(Benchsheet!A122>1,\"result\",\"\")","v":""},{"$f":"IF(Benchsheet!A122>1,\"STATE\",\"\")","v":""},{"$f":"IF(Benchsheet!A122>1,\"00035\",\"\")","v":""},{"$f":"Benchsheet!A122","v":0},{"$f":"IF(Benchsheet!C122=1121057,\"VA1121057\",IF(Benchsheet!C122=1121090,\"VA1121090\",IF(Benchsheet!C122=1121052,\"VA1121052\",IF(Benchsheet!C122=1121175,\"VA1121175\",IF(Benchsheet!C122=1121580,\"VA1121580\",IF(Benchsheet!C122=1121570,\"VA1121570\",IF(Benchsheet!C122=1121045,\"VA1121045\",IF(Benchsheet!C122=1121655,\"VA1121655\",IF(Benchsheet!C122=1121503,\"VA1121503\",IF(Benchsheet!C122=1121043,\"VA1121043\",IF(Benchsheet!C122=1121900,\"VA1121900\",IF(Benchsheet!C122=1121845,\"VA1121845\",IF(Benchsheet!C122=1121655,\"VA1121655\",IF(Benchsheet!C122=1121900,\"VA1121900\",IF(Benchsheet!C122<1,\"\")))))))))))))))","v":""},{"$f":"WORKSHEET!C119","v":""},{"$f":"IF(Benchsheet!A122>1,\"SM 9223B\",\"\")","v":""},{"$f":"Benchsheet!U122","v":"00:00:00"},{"$f":"IF(Benchsheet!J122>1,\"A\",\"\")","v":""},{"$f":"Benchsheet!M122","v":0},{"$f":"IF(WORKSHEET!A123=\"-1\",\"\",IF(WORKSHEET!A123=0,\"0\",WORKSHEET!A123))","v":""},"",{"$f":"IF(WORKSHEET!B120=\"MPN\",\"MPN\",\"\")","v":""}]
[{"$f":"IF(Benchsheet!A123>1,\"result\",\"\")","v":""},{"$f":"IF(Benchsheet!A123>1,\"STATE\",\"\")","v":""},{"$f":"IF(Benchsheet!A123>1,\"00035\",\"\")","v":""},{"$f":"Benchsheet!A123","v":0},{"$f":"IF(Benchsheet!C123=1121057,\"VA1121057\",IF(Benchsheet!C123=1121090,\"VA1121090\",IF(Benchsheet!C123=1121052,\"VA1121052\",IF(Benchsheet!C123=1121175,\"VA1121175\",IF(Benchsheet!C123=1121580,\"VA1121580\",IF(Benchsheet!C123=1121570,\"VA1121570\",IF(Benchsheet!C123=1121045,\"VA1121045\",IF(Benchsheet!C123=1121655,\"VA1121655\",IF(Benchsheet!C123=1121503,\"VA1121503\",IF(Benchsheet!C123=1121043,\"VA1121043\",IF(Benchsheet!C123=1121900,\"VA1121900\",IF(Benchsheet!C123=1121845,\"VA1121845\",IF(Benchsheet!C123=1121655,\"VA1121655\",IF(Benchsheet!C123=1121900,\"VA1121900\",IF(Benchsheet!C123<1,\"\")))))))))))))))","v":""},{"$f":"IF(WORKSHEET!B120=\"MPN\",\"3000\",IF(WORKSHEET!B120=\"TC\",\"3100\",\"\"))","v":""},{"$f":"IF(Benchsheet!A123>1,\"SM 9223B\",\"\")","v":""},{"$f":"Benchsheet!U123","v":"00:00:00"},{"$f":"IF(Benchsheet!J123>1,\"A\",\"\")","v":""},{"$f":"Benchsheet!L123","v":0},{"$f":"IF(WORKSHEET!A124=\"-1\",\"\",IF(WORKSHEET!A124=0,\"0\",WORKSHEET!A124))","v":""},"",{"$f":"IF(WORKSHEET!B120=\"MPN\",\"MPN\",\"\")","v":""}]
[{"$f":"IF(Benchsheet!A123>1,\"result\",\"\")","v":""},{"$f":"IF(Benchsheet!A123>1,\"STATE\",\"\")","v":""},{"$f":"IF(Benchsheet!A123>1,\"00035\",\"\")","v":""},{"$f":"Benchsheet!A123","v":0},{"$f":"IF(Benchsheet!C123=1121057,\"VA1121057\",IF(Benchsheet!C123=1121090,\"VA1121090\",IF(Benchsheet!C123=1121052,\"VA1121052\",IF(Benchsheet!C123=1121175,\"VA1121175\",IF(Benchsheet!C123=1121580,\"VA1121580\",IF(Benchsheet!C123=1121570,\"VA1121570\",IF(Benchsheet!C123=1121045,\"VA1121045\",IF(Benchsheet!C123=1121655,\"VA1121655\",IF(Benchsheet!C123=1121503,\"VA1121503\",IF(Benchsheet!C123=1121043,\"VA1121043\",IF(Benchsheet!C123=1121900,\"VA1121900\",IF(Benchsheet!C123=1121845,\"VA1121845\",IF(Benchsheet!C123=1121655,\"VA1121655\",IF(Benchsheet!C123=1121900,\"VA1121900\",IF(Benchsheet!C123<1,\"\")))))))))))))))","v":""},{"$f":"WORKSHEET!C120","v":""},{"$f":"IF(Benchsheet!A123>1,\"SM 9223B\",\"\")","v":""},{"$f":"Benchsheet!U123","v":"00:00:00"},{"$f":"IF(Benchsheet!J123>1,\"A\",\"\")","v":""},{"$f":"Benchsheet!M123","v":0},{"$f":"IF(WORKSHEET!A124=\"-1\",\"\",IF(WORKSHEET!A124=0,\"0\",WORKSHEET!A124))","v":""},"",{"$f":"IF(WORKSHEET!B121=\"MPN\",\"MPN\",\"\")","v":""}]
[{"$f":"IF(Benchsheet!A124>1,\"result\",\"\")","v":""},{"$f":"IF(Benchsheet!A124>1,\"STATE\",\"\")","v":""},{"$f":"IF(Benchsheet!A124>1,\"00035\",\"\")","v":""},{"$f":"Benchsheet!A124","v":0},{"$f":"IF(Benchsheet!C124=1121057,\"VA1121057\",IF(Benchsheet!C124=1121090,\"VA1121090\",IF(Benchsheet!C124=1121052,\"VA1121052\",IF(Benchsheet!C124=1121175,\"VA1121175\",IF(Benchsheet!C124=1121580,\"VA1121580\",IF(Benchsheet!C124=1121570,\"VA1121570\",IF(Benchsheet!C124=1121045,\"VA1121045\",IF(Benchsheet!C124=1121655,\"VA1121655\",IF(Benchsheet!C124=1121503,\"VA1121503\",IF(Benchsheet!C124=1121043,\"VA1121043\",IF(Benchsheet!C124=1121900,\"VA1121900\",IF(Benchsheet!C124=1121845,\"VA1121845\",IF(Benchsheet!C124=1121655,\"VA1121655\",IF(Benchsheet!C124=1121900,\"VA1121900\",IF(Benchsheet!C124<1,\"\")))))))))))))))","v":""},{"$f":"IF(WORKSHEET!B121=\"MPN\",\"3000\",IF(WORKSHEET!B121=\"TC\",\"3100\",\"\"))","v":""},{"$f":"IF(Benchsheet!A124>1,\"SM 9223B\",\"\")","v":""},{"$f":"Benchsheet!U124","v":"00:00:00"},{"$f":"IF(Benchsheet!J124>1,\"A\",\"\")","v":""},{"$f":"Benchsheet!L124","v":0},{"$f":"IF(WORKSHEET!A124=\"-1\",\"\",IF(WORKSHEET!A124=0,\"0\",WORKSHEET!A124))","v":""},"",{"$f":"IF(WORKSHEET!B121=\"MPN\",\"MPN\",\"\")","v":""}]
[{"$f":"IF(Benchsheet!A124>1,\"result\",\"\")","v":""},{"$f":"IF(Benchsheet!A124>1,\"STATE\",\"\")","v":""},{"$f":"IF(Benchsheet!A124>1,\"00035\",\"\")","v":""},{"$f":"Benchsheet!A124","v":0},{"$f":"IF(Benchsheet!C124=1121057,\"VA1121057\",IF(Benchsheet!C124=1121090,\"VA1121090\",IF(Benchsheet!C124=1121052,\"VA1121052\",IF(Benchsheet!C124=1121175,\"VA1121175\",IF(Benchsheet!C124=1121580,\"VA1121580\",IF(Benchsheet!C124=1121570,\"VA1121570\",IF(Benchsheet!C124=1121045,\"VA1121045\",IF(Benchsheet!C124=1121655,\"VA1121655\",IF(Benchsheet!C124=1121503,\"VA1121503\",IF(Benchsheet!C124=1121043,\"VA1121043\",IF(Benchsheet!C124=1121900,\"VA1121900\",IF(Benchsheet!C124=1121845,\"VA1121845\",IF(Benchsheet!C124=1121655,\"VA1121655\",IF(Benchsheet!C124=1121900,\"VA1121900\",IF(Benchsheet!C124<1,\"\")))))))))))))))","v":""},{"$f":"WORKSHEET!C121","v":""},{"$f":"IF(Benchsheet!A124>1,\"SM 9223B\",\"\")","v":""},{"$f":"Benchsheet!U124","v":"00:00:00"},{"$f":"IF(Benchsheet!J124>1,\"A\",\"\")","v":""},{"$f":"Benchsheet!M124","v":0},{"$f":"IF(WORKSHEET!A125=\"-1\",\"\",IF(WORKSHEET!A125=0,\"0\",WORKSHEET!A125))","v":""},"",{"$f":"IF(WORKSHEET!B122=\"MPN\",\"MPN\",\"\")","v":""}]
[{"$f":"IF(Benchsheet!A125>1,\"result\",\"\")","v":""},{"$f":"IF(Benchsheet!A125>1,\"STATE\",\"\")","v":""},{"$f":"IF(Benchsheet!A125>1,\"00035\",\"\")","v":""},{"$f":"Benchsheet!A125","v":0},{"$f":"IF(Benchsheet!C125=1121057,\"VA1121057\",IF(Benchsheet!C125=1121090,\"VA1121090\",IF(Benchsheet!C125=1121052,\"VA1121052\",IF(Benchsheet!C125=1121175,\"VA1121175\",IF(Benchsheet!C125=1121580,\"VA1121580\",IF(Benchsheet!C125=1121570,\"VA1121570\",IF(Benchsheet!C125=1121045,\"VA1121045\",IF(Benchsheet!C125=1121655,\"VA1121655\",IF(Benchsheet!C125=1121503,\"VA1121503\",IF(Benchsheet!C125=1121043,\"VA1121043\",IF(Benchsheet!C125=1121900,\"VA1121900\",IF(Benchsheet!C125=1121845,\"VA1121845\",IF(Benchsheet!C125=1121655,\"VA1121655\",IF(Benchsheet!C125=1121900,\"VA1121900\",IF(Benchsheet!C125<1,\"\")))))))))))))))","v":""},{"$f":"IF(WORKSHEET!B122=\"MPN\",\"3000\",IF(WORKSHEET!B122=\"TC\",\"3100\",\"\"))","v":""},{"$f":"IF(Benchsheet!A125>1,\"SM 9223B\",\"\")","v":""},{"$f":"Benchsheet!U125","v":"00:00:00"},{"$f":"IF(Benchsheet!J125>1,\"A\",\"\")","v":""},{"$f":"Benchsheet!L125","v":0},{"$f":"IF(WORKSHEET!A125=\"-1\",\"\",IF(WORKSHEET!A125=0,\"0\",WORKSHEET!A125))","v":""},"",{"$f":"IF(WORKSHEET!B122=\"MPN\",\"MPN\",\"\")","v":""}]
[{"$f":"IF(Benchsheet!A125>1,\"result\",\"\")","v":""},{"$f":"IF(Benchsheet!A125>1,\"STATE\",\"\")","v":""},{"$f":"IF(Benchsheet!A125>1,\"00035\",\"\")","v":""},{"$f":"Benchsheet!A125","v":0},{"$f":"IF(Benchsheet!C125=1121057,\"VA1121057\",IF(Benchsheet!C125=1121090,\"VA1121090\",IF(Benchsheet!C125=1121052,\"VA1121052\",IF(Benchsheet!C125=1121175,\"VA1121175\",IF(Benchsheet!C125=1121580,\"VA1121580\",IF(Benchsheet!C125=1121570,\"VA1121570\",IF(Benchsheet!C125=1121045,\"VA1121045\",IF(Benchsheet!C125=1121655,\"VA1121655\",IF(Benchsheet!C125=1121503,\"VA1121503\",IF(Benchsheet!C125=1121043,\"VA1121043\",IF(Benchsheet!C125=1121900,\"VA1121900\",IF(Benchsheet!C125=1121845,\"VA1121845\",IF(Benchsheet!C125=1121655,\"VA1121655\",IF(Benchsheet!C125=1121900,\"VA1121900\",IF(Benchsheet!C125<1,\"\")))))))))))))))","v":""},{"$f":"WORKSHEET!C122","v":""},{"$f":"IF(Benchsheet!A125>1,\"SM 9223B\",\"\")","v":""},{"$f":"Benchsheet!U125","v":"00:00:00"},{"$f":"IF(Benchsheet!J125>1,\"A\",\"\")","v":""},{"$f":"Benchsheet!M125","v":0},{"$f":"IF(WORKSHEET!A126=\"-1\",\"\",IF(WORKSHEET!A126=0,\"0\",WORKSHEET!A126))","v":""},"",{"$f":"IF(WORKSHEET!B123=\"MPN\",\"MPN\",\"\")","v":""}]
[{"$f":"IF(Benchsheet!A126>1,\"result\",\"\")","v":""},{"$f":"IF(Benchsheet!A126>1,\"STATE\",\"\")","v":""},{"$f":"IF(Benchsheet!A126>1,\"00035\",\"\")","v":""},{"$f":"Benchsheet!A126","v":0},{"$f":"IF(Benchsheet!C126=1121057,\"VA1121057\",IF(Benchsheet!C126=1121090,\"VA1121090\",IF(Benchsheet!C126=1121052,\"VA1121052\",IF(Benchsheet!C126=1121175,\"VA1121175\",IF(Benchsheet!C126=1121580,\"VA1121580\",IF(Benchsheet!C126=1121570,\"VA1121570\",IF(Benchsheet!C126=1121045,\"VA1121045\",IF(Benchsheet!C126=1121655,\"VA1121655\",IF(Benchsheet!C126=1121503,\"VA1121503\",IF(Benchsheet!C126=1121043,\"VA1121043\",IF(Benchsheet!C126=1121900,\"VA1121900\",IF(Benchsheet!C126=1121845,\"VA1121845\",IF(Benchsheet!C126=1121655,\"VA1121655\",IF(Benchsheet!C126=1121900,\"VA1121900\",IF(Benchsheet!C126<1,\"\")))))))))))))))","v":""},{"$f":"IF(WORKSHEET!B123=\"MPN\",\"3000\",IF(WORKSHEET!B123=\"TC\",\"3100\",\"\"))","v":""},{"$f":"IF(Benchsheet!A126>1,\"SM 9223B\",\"\")","v":""},{"$f":"Benchsheet!U126","v":"00:00:00"},{"$f":"IF(Benchsheet!J126>1,\"A\",\"\")","v":""},{"$f":"Benchsheet!L126","v":0},{"$f":"IF(WORKSHEET!A126=\"-1\",\"\",IF(WORKSHEET!A126=0,\"0\",WORKSHEET!A126))","v":""},"",{"$f":"IF(WORKSHEET!B123=\"MPN\",\"MPN\",\"\")","v":""}]
[{"$f":"IF(Benchsheet!A126>1,\"result\",\"\")","v":""},{"$f":"IF(Benchsheet!A126>1,\"STATE\",\"\")","v":""},{"$f":"IF(Benchsheet!A126>1,\"00035\",\"\")","v":""},{"$f":"Benchsheet!A126","v":0},{"$f":"IF(Benchsheet!C126=1121057,\"VA1121057\",IF(Benchsheet!C126=1121090,\"VA1121090\",IF(Benchsheet!C126=1121052,\"VA1121052\",IF(Benchsheet!C126=1121175,\"VA1121175\",IF(Benchsheet!C126=1121580,\"VA1121580\",IF(Benchsheet!C126=1121570,\"VA1121570\",IF(Benchsheet!C126=1121045,\"VA1121045\",IF(Benchsheet!C126=1121655,\"VA1121655\",IF(Benchsheet!C126=1121503,\"VA1121503\",IF(Benchsheet!C126=1121043,\"VA1121043\",IF(Benchsheet!C126=1121900,\"VA1121900\",IF(Benchsheet!C126=1121845,\"VA1121845\",IF(Benchsheet!C126=1121655,\"VA1121655\",IF(Benchsheet!C126=1121900,\"VA1121900\",IF(Benchsheet!C126<1,\"\")))))))))))))))","v":""},{"$f":"WORKSHEET!C123","v":""},{"$f":"IF(Benchsheet!A126>1,\"SM 9223B\",\"\")","v":""},{"$f":"Benchsheet!U126","v":"00:00:00"},{"$f":"IF(Benchsheet!J126>1,\"A\",\"\")","v":""},{"$f":"Benchsheet!M126","v":0},{"$f":"IF(WORKSHEET!A127=\"-1\",\"\",IF(WORKSHEET!A127=0,\"0\",WORKSHEET!A127))","v":""},"",{"$f":"IF(WORKSHEET!B124=\"MPN\",\"MPN\",\"\")","v":""}]
[{"$f":"IF(Benchsheet!A127>1,\"result\",\"\")","v":""},{"$f":"IF(Benchsheet!A127>1,\"STATE\",\"\")","v":""},{"$f":"IF(Benchsheet!A127>1,\"00035\",\"\")","v":""},{"$f":"Benchsheet!A127","v":0},{"$f":"IF(Benchsheet!C127=1121057,\"VA1121057\",IF(Benchsheet!C127=1121090,\"VA1121090\",IF(Benchsheet!C127=1121052,\"VA1121052\",IF(Benchsheet!C127=1121175,\"VA1121175\",IF(Benchsheet!C127=1121580,\"VA1121580\",IF(Benchsheet!C127=1121570,\"VA1121570\",IF(Benchsheet!C127=1121045,\"VA1121045\",IF(Benchsheet!C127=1121655,\"VA1121655\",IF(Benchsheet!C127=1121503,\"VA1121503\",IF(Benchsheet!C127=1121043,\"VA1121043\",IF(Benchsheet!C127=1121900,\"VA1121900\",IF(Benchsheet!C127=1121845,\"VA1121845\",IF(Benchsheet!C127=1121655,\"VA1121655\",IF(Benchsheet!C127=1121900,\"VA1121900\",IF(Benchsheet!C127<1,\"\")))))))))))))))","v":""},{"$f":"IF(WORKSHEET!B124=\"MPN\",\"3000\",IF(WORKSHEET!B124=\"TC\",\"3100\",\"\"))","v":""},{"$f":"IF(Benchsheet!A127>1,\"SM 9223B\",\"\")","v":""},{"$f":"Benchsheet!U127","v":"00:00:00"},{"$f":"IF(Benchsheet!J127>1,\"A\",\"\")","v":""},{"$f":"Benchsheet!L127","v":0},{"$f":"IF(WORKSHEET!A127=\"-1\",\"\",IF(WORKSHEET!A127=0,\"0\",WORKSHEET!A127))","v":""},"",{"$f":"IF(WORKSHEET!B124=\"MPN\",\"MPN\",\"\")","v":""}]
[{"$f":"IF(Benchsheet!A127>1,\"result\",\"\")","v":""},{"$f":"IF(Benchsheet!A127>1,\"STATE\",\"\")","v":""},{"$f":"IF(Benchsheet!A127>1,\"00035\",\"\")","v":""},{"$f":"Benchsheet!A127","v":0},{"$f":"IF(Benchsheet!C127=1121057,\"VA1121057\",IF(Benchsheet!C127=1121090,\"VA1121090\",IF(Benchsheet!C127=1121052,\"VA1121052\",IF(Benchsheet!C127=1121175,\"VA1121175\",IF(Benchsheet!C127=1121580,\"VA1121580\",IF(Benchsheet!C127=1121570,\"VA1121570\",IF(Benchsheet!C127=1121045,\"VA1121045\",IF(Benchsheet!C127=1121655,\"VA1121655\",IF(Benchsheet!C127=1121503,\"VA1121503\",IF(Benchsheet!C127=1121043,\"VA1121043\",IF(Benchsheet!C127=1121900,\"VA1121900\",IF(Benchsheet!C127=1121845,\"VA1121845\",IF(Benchsheet!C127=1121655,\"VA1121655\",IF(Benchsheet!C127=1121900,\"VA1121900\",IF(Benchsheet!C127<1,\"\")))))))))))))))","v":""},{"$f":"WORKSHEET!C124","v":""},{"$f":"IF(Benchsheet!A127>1,\"SM 9223B\",\"\")","v":""},{"$f":"Benchsheet!U127","v":"00:00:00"},{"$f":"IF(Benchsheet!J127>1,\"A\",\"\")","v":""},{"$f":"Benchsheet!M127","v":0},{"$f":"IF(WORKSHEET!A128=\"-1\",\"\",IF(WORKSHEET!A128=0,\"0\",WORKSHEET!A128))","v":""},"",{"$f":"IF(WORKSHEET!B125=\"MPN\",\"MPN\",\"\")","v":""}]
[{"$f":"IF(Benchsheet!A128>1,\"result\",\"\")","v":""},{"$f":"IF(Benchsheet!A128>1,\"STATE\",\"\")","v":""},{"$f":"IF(Benchsheet!A128>1,\"00035\",\"\")","v":""},{"$f":"Benchsheet!A128","v":0},{"$f":"IF(Benchsheet!C128=1121057,\"VA1121057\",IF(Benchsheet!C128=1121090,\"VA1121090\",IF(Benchsheet!C128=1121052,\"VA1121052\",IF(Benchsheet!C128=1121175,\"VA1121175\",IF(Benchsheet!C128=1121580,\"VA1121580\",IF(Benchsheet!C128=1121570,\"VA1121570\",IF(Benchsheet!C128=1121045,\"VA1121045\",IF(Benchsheet!C128=1121655,\"VA1121655\",IF(Benchsheet!C128=1121503,\"VA1121503\",IF(Benchsheet!C128=1121043,\"VA1121043\",IF(Benchsheet!C128=1121900,\"VA1121900\",IF(Benchsheet!C128=1121845,\"VA1121845\",IF(Benchsheet!C128=1121655,\"VA1121655\",IF(Benchsheet!C128=1121900,\"VA1121900\",IF(Benchsheet!C128<1,\"\")))))))))))))))","v":""},{"$f":"IF(WORKSHEET!B125=\"MPN\",\"3000\",IF(WORKSHEET!B125=\"TC\",\"3100\",\"\"))","v":""},{"$f":"IF(Benchsheet!A128>1,\"SM 9223B\",\"\")","v":""},{"$f":"Benchsheet!U128","v":"00:00:00"},{"$f":"IF(Benchsheet!J128>1,\"A\",\"\")","v":""},{"$f":"Benchsheet!L128","v":0},{"$f":"IF(WORKSHEET!A128=\"-1\",\"\",IF(WORKSHEET!A128=0,\"0\",WORKSHEET!A128))","v":""},"",{"$f":"IF(WORKSHEET!B125=\"MPN\",\"MPN\",\"\")","v":""}]
[{"$f":"IF(Benchsheet!A128>1,\"result\",\"\")","v":""},{"$f":"IF(Benchsheet!A128>1,\"STATE\",\"\")","v":""},{"$f":"IF(Benchsheet!A128>1,\"00035\",\"\")","v":""},{"$f":"Benchsheet!A128","v":0},{"$f":"IF(Benchsheet!C128=1121057,\"VA1121057\",IF(Benchsheet!C128=1121090,\"VA1121090\",IF(Benchsheet!C128=1121052,\"VA1121052\",IF(Benchsheet!C128=1121175,\"VA1121175\",IF(Benchsheet!C128=1121580,\"VA1121580\",IF(Benchsheet!C128=1121570,\"VA1121570\",IF(Benchsheet!C128=1121045,\"VA1121045\",IF(Benchsheet!C128=1121655,\"VA1121655\",IF(Benchsheet!C128=1121503,\"VA1121503\",IF(Benchsheet!C128=1121043,\"VA1121043\",IF(Benchsheet!C128=1121900,\"VA1121900\",IF(Benchsheet!C128=1121845,\"VA1121845\",IF(Benchsheet!C128=1121655,\"VA1121655\",IF(Benchsheet!C128=1121900,\"VA1121900\",IF(Benchsheet!C128<1,\"\")))))))))))))))","v":""},{"$f":"WORKSHEET!C125","v":""},{"$f":"IF(Benchsheet!A128>1,\"SM 9223B\",\"\")","v":""},{"$f":"Benchsheet!U128","v":"00:00:00"},{"$f":"IF(Benchsheet!J128>1,\"A\",\"\")","v":""},{"$f":"Benchsheet!M128","v":0},{"$f":"IF(WORKSHEET!A129=\"-1\",\"\",IF(WORKSHEET!A129=0,\"0\",WORKSHEET!A129))","v":""},"",{"$f":"IF(WORKSHEET!B126=\"MPN\",\"MPN\",\"\")","v":""}]
[{"$f":"IF(Benchsheet!A129>1,\"result\",\"\")","v":""},{"$f":"IF(Benchsheet!A129>1,\"STATE\",\"\")","v":""},{"$f":"IF(Benchsheet!A129>1,\"00035\",\"\")","v":""},{"$f":"Benchsheet!A129","v":0},{"$f":"IF(Benchsheet!C129=1121057,\"VA1121057\",IF(Benchsheet!C129=1121090,\"VA1121090\",IF(Benchsheet!C129=1121052,\"VA1121052\",IF(Benchsheet!C129=1121175,\"VA1121175\",IF(Benchsheet!C129=1121580,\"VA1121580\",IF(Benchsheet!C129=1121570,\"VA1121570\",IF(Benchsheet!C129=1121045,\"VA1121045\",IF(Benchsheet!C129=1121655,\"VA1121655\",IF(Benchsheet!C129=1121503,\"VA1121503\",IF(Benchsheet!C129=1121043,\"VA1121043\",IF(Benchsheet!C129=1121900,\"VA1121900\",IF(Benchsheet!C129=1121845,\"VA1121845\",IF(Benchsheet!C129=1121655,\"VA1121655\",IF(Benchsheet!C129=1121900,\"VA1121900\",IF(Benchsheet!C129<1,\"\")))))))))))))))","v":""},{"$f":"IF(WORKSHEET!B126=\"MPN\",\"3000\",IF(WORKSHEET!B126=\"TC\",\"3100\",\"\"))","v":""},{"$f":"IF(Benchsheet!A129>1,\"SM 9223B\",\"\")","v":""},{"$f":"Benchsheet!U129","v":"00:00:00"},{"$f":"IF(Benchsheet!J129>1,\"A\",\"\")","v":""},{"$f":"Benchsheet!L129","v":0},{"$f":"IF(WORKSHEET!A129=\"-1\",\"\",IF(WORKSHEET!A129=0,\"0\",WORKSHEET!A129))","v":""},"",{"$f":"IF(WORKSHEET!B126=\"MPN\",\"MPN\",\"\")","v":""}]
[{"$f":"IF(Benchsheet!A129>1,\"result\",\"\")","v":""},{"$f":"IF(Benchsheet!A129>1,\"STATE\",\"\")","v":""},{"$f":"IF(Benchsheet!A129>1,\"00035\",\"\")","v":""},{"$f":"Benchsheet!A129","v":0},{"$f":"IF(Benchsheet!C129=1121057,\"VA1121057\",IF(Benchsheet!C129=1121090,\"VA1121090\",IF(Benchsheet!C129=1121052,\"VA1121052\",IF(Benchsheet!C129=1121175,\"VA1121175\",IF(Benchsheet!C129=1121580,\"VA1121580\",IF(Benchsheet!C129=1121570,\"VA1121570\",IF(Benchsheet!C129=1121045,\"VA1121045\",IF(Benchsheet!C129=1121655,\"VA1121655\",IF(Benchsheet!C129=1121503,\"VA1121503\",IF(Benchsheet!C129=1121043,\"VA1121043\",IF(Benchsheet!C129=1121900,\"VA1121900\",IF(Benchsheet!C129=1121845,\"VA1121845\",IF(Benchsheet!C129=1121655,\"VA1121655\",IF(Benchsheet!C129=1121900,\"VA1121900\",IF(Benchsheet!C129<1,\"\")))))))))))))))","v":""},{"$f":"WORKSHEET!C126","v":""},{"$f":"IF(Benchsheet!A129>1,\"SM 9223B\",\"\")","v":""},{"$f":"Benchsheet!U129","v":"00:00:00"},{"$f":"IF(Benchsheet!J129>1,\"A\",\"\")","v":""},{"$f":"Benchsheet!M129","v":0},{"$f":"IF(WORKSHEET!A130=\"-1\",\"\",IF(WORKSHEET!A130=0,\"0\",WORKSHEET!A130))","v":""},"",{"$f":"IF(WORKSHEET!B127=\"MPN\",\"MPN\",\"\")","v":""}]
[{"$f":"IF(Benchsheet!A130>1,\"result\",\"\")","v":""},{"$f":"IF(Benchsheet!A130>1,\"STATE\",\"\")","v":""},{"$f":"IF(Benchsheet!A130>1,\"00035\",\"\")","v":""},{"$f":"Benchsheet!A130","v":0},{"$f":"IF(Benchsheet!C130=1121057,\"VA1121057\",IF(Benchsheet!C130=1121090,\"VA1121090\",IF(Benchsheet!C130=1121052,\"VA1121052\",IF(Benchsheet!C130=1121175,\"VA1121175\",IF(Benchsheet!C130=1121580,\"VA1121580\",IF(Benchsheet!C130=1121570,\"VA1121570\",IF(Benchsheet!C130=1121045,\"VA1121045\",IF(Benchsheet!C130=1121655,\"VA1121655\",IF(Benchsheet!C130=1121503,\"VA1121503\",IF(Benchsheet!C130=1121043,\"VA1121043\",IF(Benchsheet!C130=1121900,\"VA1121900\",IF(Benchsheet!C130=1121845,\"VA1121845\",IF(Benchsheet!C130=1121655,\"VA1121655\",IF(Benchsheet!C130=1121900,\"VA1121900\",IF(Benchsheet!C130<1,\"\")))))))))))))))","v":""},{"$f":"IF(WORKSHEET!B127=\"MPN\",\"3000\",IF(WORKSHEET!B127=\"TC\",\"3100\",\"\"))","v":""},{"$f":"IF(Benchsheet!A130>1,\"SM 9223B\",\"\")","v":""},{"$f":"Benchsheet!U130","v":"00:00:00"},{"$f":"IF(Benchsheet!J130>1,\"A\",\"\")","v":""},{"$f":"Benchsheet!L130","v":0},{"$f":"IF(WORKSHEET!A130=\"-1\",\"\",IF(WORKSHEET!A130=0,\"0\",WORKSHEET!A130))","v":""},"",{"$f":"IF(WORKSHEET!B127=\"MPN\",\"MPN\",\"\")","v":""}]
[{"$f":"IF(Benchsheet!A130>1,\"result\",\"\")","v":""},{"$f":"IF(Benchsheet!A130>1,\"STATE\",\"\")","v":""},{"$f":"IF(Benchsheet!A130>1,\"00035\",\"\")","v":""},{"$f":"Benchsheet!A130","v":0},{"$f":"IF(Benchsheet!C130=1121057,\"VA1121057\",IF(Benchsheet!C130=1121090,\"VA1121090\",IF(Benchsheet!C130=1121052,\"VA1121052\",IF(Benchsheet!C130=1121175,\"VA1121175\",IF(Benchsheet!C130=1121580,\"VA1121580\",IF(Benchsheet!C130=1121570,\"VA1121570\",IF(Benchsheet!C130=1121045,\"VA1121045\",IF(Benchsheet!C130=1121655,\"VA1121655\",IF(Benchsheet!C130=1121503,\"VA1121503\",IF(Benchsheet!C130=1121043,\"VA1121043\",IF(Benchsheet!C130=1121900,\"VA1121900\",IF(Benchsheet!C130=1121845,\"VA1121845\",IF(Benchsheet!C130=1121655,\"VA1121655\",IF(Benchsheet!C130=1121900,\"VA1121900\",IF(Benchsheet!C130<1,\"\")))))))))))))))","v":""},{"$f":"WORKSHEET!C127","v":""},{"$f":"IF(Benchsheet!A130>1,\"SM 9223B\",\"\")","v":""},{"$f":"Benchsheet!U130","v":"00:00:00"},{"$f":"IF(Benchsheet!J130>1,\"A\",\"\")","v":""},{"$f":"Benchsheet!M130","v":0},{"$f":"IF(WORKSHEET!A131=\"-1\",\"\",IF(WORKSHEET!A131=0,\"0\",WORKSHEET!A131))","v":""},"",{"$f":"IF(WORKSHEET!B128=\"MPN\",\"MPN\",\"\")","v":""}]
[{"$f":"IF(Benchsheet!A131>1,\"result\",\"\")","v":""},{"$f":"IF(Benchsheet!A131>1,\"STATE\",\"\")","v":""},{"$f":"IF(Benchsheet!A131>1,\"00035\",\"\")","v":""},{"$f":"Benchsheet!A131","v":0},{"$f":"IF(Benchsheet!C131=1121057,\"VA1121057\",IF(Benchsheet!C131=1121090,\"VA1121090\",IF(Benchsheet!C131=1121052,\"VA1121052\",IF(Benchsheet!C131=1121175,\"VA1121175\",IF(Benchsheet!C131=1121580,\"VA1121580\",IF(Benchsheet!C131=1121570,\"VA1121570\",IF(Benchsheet!C131=1121045,\"VA1121045\",IF(Benchsheet!C131=1121655,\"VA1121655\",IF(Benchsheet!C131=1121503,\"VA1121503\",IF(Benchsheet!C131=1121043,\"VA1121043\",IF(Benchsheet!C131=1121900,\"VA1121900\",IF(Benchsheet!C131=1121845,\"VA1121845\",IF(Benchsheet!C131=1121655,\"VA1121655\",IF(Benchsheet!C131=1121900,\"VA1121900\",IF(Benchsheet!C131<1,\"\")))))))))))))))","v":""},{"$f":"IF(WORKSHEET!B128=\"MPN\",\"3000\",IF(WORKSHEET!B128=\"TC\",\"3100\",\"\"))","v":""},{"$f":"IF(Benchsheet!A131>1,\"SM 9223B\",\"\")","v":""},{"$f":"Benchsheet!U131","v":"00:00:00"},{"$f":"IF(Benchsheet!J131>1,\"A\",\"\")","v":""},{"$f":"Benchsheet!L131","v":0},{"$f":"IF(WORKSHEET!A131=\"-1\",\"\",IF(WORKSHEET!A131=0,\"0\",WORKSHEET!A131))","v":""},"",{"$f":"IF(WORKSHEET!B128=\"MPN\",\"MPN\",\"\")","v":""}]
[{"$f":"IF(Benchsheet!A131>1,\"result\",\"\")","v":""},{"$f":"IF(Benchsheet!A131>1,\"STATE\",\"\")","v":""},{"$f":"IF(Benchsheet!A131>1,\"00035\",\"\")","v":""},{"$f":"Benchsheet!A131","v":0},{"$f":"IF(Benchsheet!C131=1121057,\"VA1121057\",IF(Benchsheet!C131=1121090,\"VA1121090\",IF(Benchsheet!C131=1121052,\"VA1121052\",IF(Benchsheet!C131=1121175,\"VA1121175\",IF(Benchsheet!C131=1121580,\"VA1121580\",IF(Benchsheet!C131=1121570,\"VA1121570\",IF(Benchsheet!C131=1121045,\"VA1121045\",IF(Benchsheet!C131=1121655,\"VA1121655\",IF(Benchsheet!C131=1121503,\"VA1121503\",IF(Benchsheet!C131=1121043,\"VA1121043\",IF(Benchsheet!C131=1121900,\"VA1121900\",IF(Benchsheet!C131=1121845,\"VA1121845\",IF(Benchsheet!C131=1121655,\"VA1121655\",IF(Benchsheet!C131=1121900,\"VA1121900\",IF(Benchsheet!C131<1,\"\")))))))))))))))","v":""},{"$f":"WORKSHEET!C128","v":""},{"$f":"IF(Benchsheet!A131>1,\"SM 9223B\",\"\")","v":""},{"$f":"Benchsheet!U131","v":"00:00:00"},{"$f":"IF(Benchsheet!J131>1,\"A\",\"\")","v":""},{"$f":"Benchsheet!M131","v":0},{"$f":"IF(WORKSHEET!A132=\"-1\",\"\",IF(WORKSHEET!A132=0,\"0\",WORKSHEET!A132))","v":""},"",{"$f":"IF(WORKSHEET!B129=\"MPN\",\"MPN\",\"\")","v":""}]
[{"$f":"IF(Benchsheet!A132>1,\"result\",\"\")","v":""},{"$f":"IF(Benchsheet!A132>1,\"STATE\",\"\")","v":""},{"$f":"IF(Benchsheet!A132>1,\"00035\",\"\")","v":""},{"$f":"Benchsheet!A132","v":0},{"$f":"IF(Benchsheet!C132=1121057,\"VA1121057\",IF(Benchsheet!C132=1121090,\"VA1121090\",IF(Benchsheet!C132=1121052,\"VA1121052\",IF(Benchsheet!C132=1121175,\"VA1121175\",IF(Benchsheet!C132=1121580,\"VA1121580\",IF(Benchsheet!C132=1121570,\"VA1121570\",IF(Benchsheet!C132=1121045,\"VA1121045\",IF(Benchsheet!C132=1121655,\"VA1121655\",IF(Benchsheet!C132=1121503,\"VA1121503\",IF(Benchsheet!C132=1121043,\"VA1121043\",IF(Benchsheet!C132=1121900,\"VA1121900\",IF(Benchsheet!C132=1121845,\"VA1121845\",IF(Benchsheet!C132=1121655,\"VA1121655\",IF(Benchsheet!C132=1121900,\"VA1121900\",IF(Benchsheet!C132<1,\"\")))))))))))))))","v":""},{"$f":"IF(WORKSHEET!B129=\"MPN\",\"3000\",IF(WORKSHEET!B129=\"TC\",\"3100\",\"\"))","v":""},{"$f":"IF(Benchsheet!A132>1,\"SM 9223B\",\"\")","v":""},{"$f":"Benchsheet!U132","v":"00:00:00"},{"$f":"IF(Benchsheet!J132>1,\"A\",\"\")","v":""},{"$f":"Benchsheet!L132","v":0},{"$f":"IF(WORKSHEET!A132=\"-1\",\"\",IF(WORKSHEET!A132=0,\"0\",WORKSHEET!A132))","v":""},"",{"$f":"IF(WORKSHEET!B129=\"MPN\",\"MPN\",\"\")","v":""}]
[{"$f":"IF(Benchsheet!A132>1,\"result\",\"\")","v":""},{"$f":"IF(Benchsheet!A132>1,\"STATE\",\"\")","v":""},{"$f":"IF(Benchsheet!A132>1,\"00035\",\"\")","v":""},{"$f":"Benchsheet!A132","v":0},{"$f":"IF(Benchsheet!C132=1121057,\"VA1121057\",IF(Benchsheet!C132=1121090,\"VA1121090\",IF(Benchsheet!C132=1121052,\"VA1121052\",IF(Benchsheet!C132=1121175,\"VA1121175\",IF(Benchsheet!C132=1121580,\"VA1121580\",IF(Benchsheet!C132=1121570,\"VA1121570\",IF(Benchsheet!C132=1121045,\"VA1121045\",IF(Benchsheet!C132=1121655,\"VA1121655\",IF(Benchsheet!C132=1121503,\"VA1121503\",IF(Benchsheet!C132=1121043,\"VA1121043\",IF(Benchsheet!C132=1121900,\"VA1121900\",IF(Benchsheet!C132=1121845,\"VA1121845\",IF(Benchsheet!C132=1121655,\"VA1121655\",IF(Benchsheet!C132=1121900,\"VA1121900\",IF(Benchsheet!C132<1,\"\")))))))))))))))","v":""},{"$f":"WORKSHEET!C129","v":""},{"$f":"IF(Benchsheet!A132>1,\"SM 9223B\",\"\")","v":""},{"$f":"Benchsheet!U132","v":"00:00:00"},{"$f":"IF(Benchsheet!J132>1,\"A\",\"\")","v":""},{"$f":"Benchsheet!M132","v":0},{"$f":"IF(WORKSHEET!A133=\"-1\",\"\",IF(WORKSHEET!A133=0,\"0\",WORKSHEET!A133))","v":""},"",{"$f":"IF(WORKSHEET!B130=\"MPN\",\"MPN\",\"\")","v":""}]
[{"$f":"IF(Benchsheet!A133>1,\"result\",\"\")","v":""},{"$f":"IF(Benchsheet!A133>1,\"STATE\",\"\")","v":""},{"$f":"IF(Benchsheet!A133>1,\"00035\",\"\")","v":""},{"$f":"Benchsheet!A133","v":0},{"$f":"IF(Benchsheet!C133=1121057,\"VA1121057\",IF(Benchsheet!C133=1121090,\"VA1121090\",IF(Benchsheet!C133=1121052,\"VA1121052\",IF(Benchsheet!C133=1121175,\"VA1121175\",IF(Benchsheet!C133=1121580,\"VA1121580\",IF(Benchsheet!C133=1121570,\"VA1121570\",IF(Benchsheet!C133=1121045,\"VA1121045\",IF(Benchsheet!C133=1121655,\"VA1121655\",IF(Benchsheet!C133=1121503,\"VA1121503\",IF(Benchsheet!C133=1121043,\"VA1121043\",IF(Benchsheet!C133=1121900,\"VA1121900\",IF(Benchsheet!C133=1121845,\"VA1121845\",IF(Benchsheet!C133=1121655,\"VA1121655\",IF(Benchsheet!C133=1121900,\"VA1121900\",IF(Benchsheet!C133<1,\"\")))))))))))))))","v":""},{"$f":"IF(WORKSHEET!B130=\"MPN\",\"3000\",IF(WORKSHEET!B130=\"TC\",\"3100\",\"\"))","v":""},{"$f":"IF(Benchsheet!A133>1,\"SM 9223B\",\"\")","v":""},{"$f":"Benchsheet!U133","v":"00:00:00"},{"$f":"IF(Benchsheet!J133>1,\"A\",\"\")","v":""},{"$f":"Benchsheet!L133","v":0},{"$f":"IF(WORKSHEET!A133=\"-1\",\"\",IF(WORKSHEET!A133=0,\"0\",WORKSHEET!A133))","v":""},"",{"$f":"IF(WORKSHEET!B130=\"MPN\",\"MPN\",\"\")","v":""}]
[{"$f":"IF(Benchsheet!A133>1,\"result\",\"\")","v":""},{"$f":"IF(Benchsheet!A133>1,\"STATE\",\"\")","v":""},{"$f":"IF(Benchsheet!A133>1,\"00035\",\"\")","v":""},{"$f":"Benchsheet!A133","v":0},{"$f":"IF(Benchsheet!C133=1121057,\"VA1121057\",IF(Benchsheet!C133=1121090,\"VA1121090\",IF(Benchsheet!C133=1121052,\"VA1121052\",IF(Benchsheet!C133=1121175,\"VA1121175\",IF(Benchsheet!C133=1121580,\"VA1121580\",IF(Benchsheet!C133=1121570,\"VA1121570\",IF(Benchsheet!C133=1121045,\"VA1121045\",IF(Benchsheet!C133=1121655,\"VA1121655\",IF(Benchsheet!C133=1121503,\"VA1121503\",IF(Benchsheet!C133=1121043,\"VA1121043\",IF(Benchsheet!C133=1121900,\"VA1121900\",IF(Benchsheet!C133=1121845,\"VA1121845\",IF(Benchsheet!C133=1121655,\"VA1121655\",IF(Benchsheet!C133=1121900,\"VA1121900\",IF(Benchsheet!C133<1,\"\")))))))))))))))","v":""},{"$f":"WORKSHEET!C130","v":""},{"$f":"IF(Benchsheet!A133>1,\"SM 9223B\",\"\")","v":""},{"$f":"Benchsheet!U133","v":"00:00:00"},{"$f":"IF(Benchsheet!J133>1,\"A\",\"\")","v":""},{"$f":"Benchsheet!M133","v":0},{"$f":"IF(WORKSHEET!A134=\"-1\",\"\",IF(WORKSHEET!A134=0,\"0\",WORKSHEET!A134))","v":""},{"$f":"IF(M259=\"MPN\",\"100ML\",\"\")","v":""},{"$f":"IF(WORKSHEET!B131=\"MPN\",\"MPN\",\"\")","v":""}]
[{"$f":"IF(Benchsheet!A134>1,\"result\",\"\")","v":""},{"$f":"IF(Benchsheet!A134>1,\"STATE\",\"\")","v":""},{"$f":"IF(Benchsheet!A134>1,\"00035\",\"\")","v":""},{"$f":"Benchsheet!A134","v":0},{"$f":"IF(Benchsheet!C134=1121057,\"VA1121057\",IF(Benchsheet!C134=1121090,\"VA1121090\",IF(Benchsheet!C134=1121052,\"VA1121052\",IF(Benchsheet!C134=1121175,\"VA1121175\",IF(Benchsheet!C134=1121580,\"VA1121580\",IF(Benchsheet!C134=1121570,\"VA1121570\",IF(Benchsheet!C134=1121045,\"VA1121045\",IF(Benchsheet!C134=1121655,\"VA1121655\",IF(Benchsheet!C134=1121503,\"VA1121503\",IF(Benchsheet!C134=1121043,\"VA1121043\",IF(Benchsheet!C134=1121900,\"VA1121900\",IF(Benchsheet!C134=1121845,\"VA1121845\",IF(Benchsheet!C134=1121655,\"VA1121655\",IF(Benchsheet!C134=1121900,\"VA1121900\",IF(Benchsheet!C134<1,\"\")))))))))))))))","v":""},{"$f":"IF(WORKSHEET!B131=\"MPN\",\"3000\",IF(WORKSHEET!B131=\"TC\",\"3100\",\"\"))","v":""},{"$f":"IF(Benchsheet!A134>1,\"SM 9223B\",\"\")","v":""},{"$f":"Benchsheet!U134","v":"00:00:00"},{"$f":"IF(Benchsheet!J134>1,\"A\",\"\")","v":""},{"$f":"Benchsheet!L134","v":0},{"$f":"IF(WORKSHEET!A134=\"-1\",\"\",IF(WORKSHEET!A134=0,\"0\",WORKSHEET!A134))","v":""},"",{"$f":"IF(WORKSHEET!B131=\"MPN\",\"MPN\",\"\")","v":""}]
[{"$f":"IF(Benchsheet!A134>1,\"result\",\"\")","v":""},{"$f":"IF(Benchsheet!A134>1,\"STATE\",\"\")","v":""},{"$f":"IF(Benchsheet!A134>1,\"00035\",\"\")","v":""},{"$f":"Benchsheet!A134","v":0},{"$f":"IF(Benchsheet!C134=1121057,\"VA1121057\",IF(Benchsheet!C134=1121090,\"VA1121090\",IF(Benchsheet!C134=1121052,\"VA1121052\",IF(Benchsheet!C134=1121175,\"VA1121175\",IF(Benchsheet!C134=1121580,\"VA1121580\",IF(Benchsheet!C134=1121570,\"VA1121570\",IF(Benchsheet!C134=1121045,\"VA1121045\",IF(Benchsheet!C134=1121655,\"VA1121655\",IF(Benchsheet!C134=1121503,\"VA1121503\",IF(Benchsheet!C134=1121043,\"VA1121043\",IF(Benchsheet!C134=1121900,\"VA1121900\",IF(Benchsheet!C134=1121845,\"VA1121845\",IF(Benchsheet!C134=1121655,\"VA1121655\",IF(Benchsheet!C134=1121900,\"VA1121900\",IF(Benchsheet!C134<1,\"\")))))))))))))))","v":""},{"$f":"WORKSHEET!C131","v":""},{"$f":"IF(Benchsheet!A134>1,\"SM 9223B\",\"\")","v":""},{"$f":"Benchsheet!U134","v":"00:00:00"},{"$f":"IF(Benchsheet!J134>1,\"A\",\"\")","v":""},{"$f":"Benchsheet!M134","v":0},{"$f":"IF(WORKSHEET!A135=\"-1\",\"\",IF(WORKSHEET!A135=0,\"0\",WORKSHEET!A135))","v":""},"",{"$f":"IF(WORKSHEET!B132=\"MPN\",\"MPN\",\"\")","v":""}]
[{"$f":"IF(Benchsheet!A135>1,\"result\",\"\")","v":""},{"$f":"IF(Benchsheet!A135>1,\"STATE\",\"\")","v":""},{"$f":"IF(Benchsheet!A135>1,\"00035\",\"\")","v":""},{"$f":"Benchsheet!A135","v":0},{"$f":"IF(Benchsheet!C135=1121057,\"VA1121057\",IF(Benchsheet!C135=1121090,\"VA1121090\",IF(Benchsheet!C135=1121052,\"VA1121052\",IF(Benchsheet!C135=1121175,\"VA1121175\",IF(Benchsheet!C135=1121580,\"VA1121580\",IF(Benchsheet!C135=1121570,\"VA1121570\",IF(Benchsheet!C135=1121045,\"VA1121045\",IF(Benchsheet!C135=1121655,\"VA1121655\",IF(Benchsheet!C135=1121503,\"VA1121503\",IF(Benchsheet!C135=1121043,\"VA1121043\",IF(Benchsheet!C135=1121900,\"VA1121900\",IF(Benchsheet!C135=1121845,\"VA1121845\",IF(Benchsheet!C135=1121655,\"VA1121655\",IF(Benchsheet!C135=1121900,\"VA1121900\",IF(Benchsheet!C135<1,\"\")))))))))))))))","v":""},{"$f":"IF(WORKSHEET!B132=\"MPN\",\"3000\",IF(WORKSHEET!B132=\"TC\",\"3100\",\"\"))","v":""},{"$f":"IF(Benchsheet!A135>1,\"SM 9223B\",\"\")","v":""},{"$f":"Benchsheet!U135","v":"00:00:00"},{"$f":"IF(Benchsheet!J135>1,\"A\",\"\")","v":""},{"$f":"Benchsheet!L135","v":0},{"$f":"IF(WORKSHEET!A135=\"-1\",\"\",IF(WORKSHEET!A135=0,\"0\",WORKSHEET!A135))","v":""},"",{"$f":"IF(WORKSHEET!B132=\"MPN\",\"MPN\",\"\")","v":""}]
[{"$f":"IF(Benchsheet!A135>1,\"result\",\"\")","v":""},{"$f":"IF(Benchsheet!A135>1,\"STATE\",\"\")","v":""},{"$f":"IF(Benchsheet!A135>1,\"00035\",\"\")","v":""},{"$f":"Benchsheet!A135","v":0},{"$f":"IF(Benchsheet!C135=1121057,\"VA1121057\",IF(Benchsheet!C135=1121090,\"VA1121090\",IF(Benchsheet!C135=1121052,\"VA1121052\",IF(Benchsheet!C135=1121175,\"VA1121175\",IF(Benchsheet!C135=1121580,\"VA1121580\",IF(Benchsheet!C135=1121570,\"VA1121570\",IF(Benchsheet!C135=1121045,\"VA1121045\",IF(Benchsheet!C135=1121655,\"VA1121655\",IF(Benchsheet!C135=1121503,\"VA1121503\",IF(Benchsheet!C135=1121043,\"VA1121043\",IF(Benchsheet!C135=1121900,\"VA1121900\",IF(Benchsheet!C135=1121845,\"VA1121845\",IF(Benchsheet!C135=1121655,\"VA1121655\",IF(Benchsheet!C135=1121900,\"VA1121900\",IF(Benchsheet!C135<1,\"\")))))))))))))))","v":""},{"$f":"WORKSHEET!C132","v":""},{"$f":"IF(Benchsheet!A135>1,\"SM 9223B\",\"\")","v":""},{"$f":"Benchsheet!U135","v":"00:00:00"},{"$f":"IF(Benchsheet!J135>1,\"A\",\"\")","v":""},{"$f":"Benchsheet!M135","v":0},{"$f":"IF(WORKSHEET!A136=\"-1\",\"\",IF(WORKSHEET!A136=0,\"0\",WORKSHEET!A136))","v":""},"",{"$f":"IF(WORKSHEET!B133=\"MPN\",\"MPN\",\"\")","v":""}]
[{"$f":"IF(Benchsheet!A136>1,\"result\",\"\")","v":""},{"$f":"IF(Benchsheet!A136>1,\"STATE\",\"\")","v":""},{"$f":"IF(Benchsheet!A136>1,\"00035\",\"\")","v":""},{"$f":"Benchsheet!A136","v":0},{"$f":"IF(Benchsheet!C136=1121057,\"VA1121057\",IF(Benchsheet!C136=1121090,\"VA1121090\",IF(Benchsheet!C136=1121052,\"VA1121052\",IF(Benchsheet!C136=1121175,\"VA1121175\",IF(Benchsheet!C136=1121580,\"VA1121580\",IF(Benchsheet!C136=1121570,\"VA1121570\",IF(Benchsheet!C136=1121045,\"VA1121045\",IF(Benchsheet!C136=1121655,\"VA1121655\",IF(Benchsheet!C136=1121503,\"VA1121503\",IF(Benchsheet!C136=1121043,\"VA1121043\",IF(Benchsheet!C136=1121900,\"VA1121900\",IF(Benchsheet!C136=1121845,\"VA1121845\",IF(Benchsheet!C136=1121655,\"VA1121655\",IF(Benchsheet!C136=1121900,\"VA1121900\",IF(Benchsheet!C136<1,\"\")))))))))))))))","v":""},{"$f":"IF(WORKSHEET!B133=\"MPN\",\"3000\",IF(WORKSHEET!B133=\"TC\",\"3100\",\"\"))","v":""},{"$f":"IF(Benchsheet!A136>1,\"SM 9223B\",\"\")","v":""},{"$f":"Benchsheet!U136","v":"00:00:00"},{"$f":"IF(Benchsheet!J136>1,\"A\",\"\")","v":""},{"$f":"Benchsheet!L136","v":0},{"$f":"IF(WORKSHEET!A136=\"-1\",\"\",IF(WORKSHEET!A136=0,\"0\",WORKSHEET!A136))","v":""},"",{"$f":"IF(WORKSHEET!B133=\"MPN\",\"MPN\",\"\")","v":""}]
[{"$f":"IF(Benchsheet!A136>1,\"result\",\"\")","v":""},{"$f":"IF(Benchsheet!A136>1,\"STATE\",\"\")","v":""},{"$f":"IF(Benchsheet!A136>1,\"00035\",\"\")","v":""},{"$f":"Benchsheet!A136","v":0},{"$f":"IF(Benchsheet!C136=1121057,\"VA1121057\",IF(Benchsheet!C136=1121090,\"VA1121090\",IF(Benchsheet!C136=1121052,\"VA1121052\",IF(Benchsheet!C136=1121175,\"VA1121175\",IF(Benchsheet!C136=1121580,\"VA1121580\",IF(Benchsheet!C136=1121570,\"VA1121570\",IF(Benchsheet!C136=1121045,\"VA1121045\",IF(Benchsheet!C136=1121655,\"VA1121655\",IF(Benchsheet!C136=1121503,\"VA1121503\",IF(Benchsheet!C136=1121043,\"VA1121043\",IF(Benchsheet!C136=1121900,\"VA1121900\",IF(Benchsheet!C136=1121845,\"VA1121845\",IF(Benchsheet!C136=1121655,\"VA1121655\",IF(Benchsheet!C136=1121900,\"VA1121900\",IF(Benchsheet!C136<1,\"\")))))))))))))))","v":""},{"$f":"WORKSHEET!C133","v":""},{"$f":"IF(Benchsheet!A136>1,\"SM 9223B\",\"\")","v":""},{"$f":"Benchsheet!U136","v":"00:00:00"},{"$f":"IF(Benchsheet!J136>1,\"A\",\"\")","v":""},{"$f":"Benchsheet!M136","v":0},{"$f":"IF(WORKSHEET!A137=\"-1\",\"\",IF(WORKSHEET!A137=0,\"0\",WORKSHEET!A137))","v":""},"",{"$f":"IF(WORKSHEET!B134=\"MPN\",\"MPN\",\"\")","v":""}]
[{"$f":"IF(Benchsheet!A137>1,\"result\",\"\")","v":""},{"$f":"IF(Benchsheet!A137>1,\"STATE\",\"\")","v":""},{"$f":"IF(Benchsheet!A137>1,\"00035\",\"\")","v":""},{"$f":"Benchsheet!A137","v":0},{"$f":"IF(Benchsheet!C137=1121057,\"VA1121057\",IF(Benchsheet!C137=1121090,\"VA1121090\",IF(Benchsheet!C137=1121052,\"VA1121052\",IF(Benchsheet!C137=1121175,\"VA1121175\",IF(Benchsheet!C137=1121580,\"VA1121580\",IF(Benchsheet!C137=1121570,\"VA1121570\",IF(Benchsheet!C137=1121045,\"VA1121045\",IF(Benchsheet!C137=1121655,\"VA1121655\",IF(Benchsheet!C137=1121503,\"VA1121503\",IF(Benchsheet!C137=1121043,\"VA1121043\",IF(Benchsheet!C137=1121900,\"VA1121900\",IF(Benchsheet!C137=1121845,\"VA1121845\",IF(Benchsheet!C137=1121655,\"VA1121655\",IF(Benchsheet!C137=1121900,\"VA1121900\",IF(Benchsheet!C137<1,\"\")))))))))))))))","v":""},{"$f":"IF(WORKSHEET!B134=\"MPN\",\"3000\",IF(WORKSHEET!B134=\"TC\",\"3100\",\"\"))","v":""},{"$f":"IF(Benchsheet!A137>1,\"SM 9223B\",\"\")","v":""},{"$f":"Benchsheet!U137","v":"00:00:00"},{"$f":"IF(Benchsheet!J137>1,\"A\",\"\")","v":""},{"$f":"Benchsheet!L137","v":0},{"$f":"IF(WORKSHEET!A137=\"-1\",\"\",IF(WORKSHEET!A137=0,\"0\",WORKSHEET!A137))","v":""},"",{"$f":"IF(WORKSHEET!B134=\"MPN\",\"MPN\",\"\")","v":""}]
[{"$f":"IF(Benchsheet!A137>1,\"result\",\"\")","v":""},{"$f":"IF(Benchsheet!A137>1,\"STATE\",\"\")","v":""},{"$f":"IF(Benchsheet!A137>1,\"00035\",\"\")","v":""},{"$f":"Benchsheet!A137","v":0},{"$f":"IF(Benchsheet!C137=1121057,\"VA1121057\",IF(Benchsheet!C137=1121090,\"VA1121090\",IF(Benchsheet!C137=1121052,\"VA1121052\",IF(Benchsheet!C137=1121175,\"VA1121175\",IF(Benchsheet!C137=1121580,\"VA1121580\",IF(Benchsheet!C137=1121570,\"VA1121570\",IF(Benchsheet!C137=1121045,\"VA1121045\",IF(Benchsheet!C137=1121655,\"VA1121655\",IF(Benchsheet!C137=1121503,\"VA1121503\",IF(Benchsheet!C137=1121043,\"VA1121043\",IF(Benchsheet!C137=1121900,\"VA1121900\",IF(Benchsheet!C137=1121845,\"VA1121845\",IF(Benchsheet!C137=1121655,\"VA1121655\",IF(Benchsheet!C137=1121900,\"VA1121900\",IF(Benchsheet!C137<1,\"\")))))))))))))))","v":""},{"$f":"WORKSHEET!C134","v":""},{"$f":"IF(Benchsheet!A137>1,\"SM 9223B\",\"\")","v":""},{"$f":"Benchsheet!U137","v":"00:00:00"},{"$f":"IF(Benchsheet!J137>1,\"A\",\"\")","v":""},{"$f":"Benchsheet!M137","v":0},{"$f":"IF(WORKSHEET!A138=\"-1\",\"\",IF(WORKSHEET!A138=0,\"0\",WORKSHEET!A138))","v":""},"",{"$f":"IF(WORKSHEET!B135=\"MPN\",\"MPN\",\"\")","v":""}]
[{"$f":"IF(Benchsheet!A138>1,\"result\",\"\")","v":""},{"$f":"IF(Benchsheet!A138>1,\"STATE\",\"\")","v":""},{"$f":"IF(Benchsheet!A138>1,\"00035\",\"\")","v":""},{"$f":"Benchsheet!A138","v":0},{"$f":"IF(Benchsheet!C138=1121057,\"VA1121057\",IF(Benchsheet!C138=1121090,\"VA1121090\",IF(Benchsheet!C138=1121052,\"VA1121052\",IF(Benchsheet!C138=1121175,\"VA1121175\",IF(Benchsheet!C138=1121580,\"VA1121580\",IF(Benchsheet!C138=1121570,\"VA1121570\",IF(Benchsheet!C138=1121045,\"VA1121045\",IF(Benchsheet!C138=1121655,\"VA1121655\",IF(Benchsheet!C138=1121503,\"VA1121503\",IF(Benchsheet!C138=1121043,\"VA1121043\",IF(Benchsheet!C138=1121900,\"VA1121900\",IF(Benchsheet!C138=1121845,\"VA1121845\",IF(Benchsheet!C138=1121655,\"VA1121655\",IF(Benchsheet!C138=1121900,\"VA1121900\",IF(Benchsheet!C138<1,\"\")))))))))))))))","v":""},{"$f":"IF(WORKSHEET!B135=\"MPN\",\"3000\",IF(WORKSHEET!B135=\"TC\",\"3100\",\"\"))","v":""},{"$f":"IF(Benchsheet!A138>1,\"SM 9223B\",\"\")","v":""},{"$f":"Benchsheet!U138","v":"00:00:00"},{"$f":"IF(Benchsheet!J138>1,\"A\",\"\")","v":""},{"$f":"Benchsheet!L138","v":0},{"$f":"IF(WORKSHEET!A138=\"-1\",\"\",IF(WORKSHEET!A138=0,\"0\",WORKSHEET!A138))","v":""},"",{"$f":"IF(WORKSHEET!B135=\"MPN\",\"MPN\",\"\")","v":""}]
[{"$f":"IF(Benchsheet!A138>1,\"result\",\"\")","v":""},{"$f":"IF(Benchsheet!A138>1,\"STATE\",\"\")","v":""},{"$f":"IF(Benchsheet!A138>1,\"00035\",\"\")","v":""},{"$f":"Benchsheet!A138","v":0},{"$f":"IF(Benchsheet!C138=1121057,\"VA1121057\",IF(Benchsheet!C138=1121090,\"VA1121090\",IF(Benchsheet!C138=1121052,\"VA1121052\",IF(Benchsheet!C138=1121175,\"VA1121175\",IF(Benchsheet!C138=1121580,\"VA1121580\",IF(Benchsheet!C138=1121570,\"VA1121570\",IF(Benchsheet!C138=1121045,\"VA1121045\",IF(Benchsheet!C138=1121655,\"VA1121655\",IF(Benchsheet!C138=1121503,\"VA1121503\",IF(Benchsheet!C138=1121043,\"VA1121043\",IF(Benchsheet!C138=1121900,\"VA1121900\",IF(Benchsheet!C138=1121845,\"VA1121845\",IF(Benchsheet!C138=1121655,\"VA1121655\",IF(Benchsheet!C138=1121900,\"VA1121900\",IF(Benchsheet!C138<1,\"\")))))))))))))))","v":""},{"$f":"WORKSHEET!C135","v":""},{"$f":"IF(Benchsheet!A138>1,\"SM 9223B\",\"\")","v":""},{"$f":"Benchsheet!U138","v":"00:00:00"},{"$f":"IF(Benchsheet!J138>1,\"A\",\"\")","v":""},{"$f":"Benchsheet!M138","v":0},{"$f":"IF(WORKSHEET!A139=\"-1\",\"\",IF(WORKSHEET!A139=0,\"0\",WORKSHEET!A139))","v":""},"",{"$f":"IF(WORKSHEET!B136=\"MPN\",\"MPN\",\"\")","v":""}]
[{"$f":"IF(Benchsheet!A139>1,\"result\",\"\")","v":""},{"$f":"IF(Benchsheet!A139>1,\"STATE\",\"\")","v":""},{"$f":"IF(Benchsheet!A139>1,\"00035\",\"\")","v":""},{"$f":"Benchsheet!A139","v":0},{"$f":"IF(Benchsheet!C139=1121057,\"VA1121057\",IF(Benchsheet!C139=1121090,\"VA1121090\",IF(Benchsheet!C139=1121052,\"VA1121052\",IF(Benchsheet!C139=1121175,\"VA1121175\",IF(Benchsheet!C139=1121580,\"VA1121580\",IF(Benchsheet!C139=1121570,\"VA1121570\",IF(Benchsheet!C139=1121045,\"VA1121045\",IF(Benchsheet!C139=1121655,\"VA1121655\",IF(Benchsheet!C139=1121503,\"VA1121503\",IF(Benchsheet!C139=1121043,\"VA1121043\",IF(Benchsheet!C139=1121900,\"VA1121900\",IF(Benchsheet!C139=1121845,\"VA1121845\",IF(Benchsheet!C139=1121655,\"VA1121655\",IF(Benchsheet!C139=1121900,\"VA1121900\",IF(Benchsheet!C139<1,\"\")))))))))))))))","v":""},{"$f":"IF(WORKSHEET!B136=\"MPN\",\"3000\",IF(WORKSHEET!B136=\"TC\",\"3100\",\"\"))","v":""},{"$f":"IF(Benchsheet!A139>1,\"SM 9223B\",\"\")","v":""},{"$f":"Benchsheet!U139","v":"00:00:00"},{"$f":"IF(Benchsheet!J139>1,\"A\",\"\")","v":""},{"$f":"Benchsheet!L139","v":0},{"$f":"IF(WORKSHEET!A139=\"-1\",\"\",IF(WORKSHEET!A139=0,\"0\",WORKSHEET!A139))","v":""},"",{"$f":"IF(WORKSHEET!B136=\"MPN\",\"MPN\",\"\")","v":""}]
[{"$f":"IF(Benchsheet!A139>1,\"result\",\"\")","v":""},{"$f":"IF(Benchsheet!A139>1,\"STATE\",\"\")","v":""},{"$f":"IF(Benchsheet!A139>1,\"00035\",\"\")","v":""},{"$f":"Benchsheet!A139","v":0},{"$f":"IF(Benchsheet!C139=1121057,\"VA1121057\",IF(Benchsheet!C139=1121090,\"VA1121090\",IF(Benchsheet!C139=1121052,\"VA1121052\",IF(Benchsheet!C139=1121175,\"VA1121175\",IF(Benchsheet!C139=1121580,\"VA1121580\",IF(Benchsheet!C139=1121570,\"VA1121570\",IF(Benchsheet!C139=1121045,\"VA1121045\",IF(Benchsheet!C139=1121655,\"VA1121655\",IF(Benchsheet!C139=1121503,\"VA1121503\",IF(Benchsheet!C139=1121043,\"VA1121043\",IF(Benchsheet!C139=1121900,\"VA1121900\",IF(Benchsheet!C139=1121845,\"VA1121845\",IF(Benchsheet!C139=1121655,\"VA1121655\",IF(Benchsheet!C139=1121900,\"VA1121900\",IF(Benchsheet!C139<1,\"\")))))))))))))))","v":""},{"$f":"WORKSHEET!C136","v":""},{"$f":"IF(Benchsheet!A139>1,\"SM 9223B\",\"\")","v":""},{"$f":"Benchsheet!U139","v":"00:00:00"},{"$f":"IF(Benchsheet!J139>1,\"A\",\"\")","v":""},{"$f":"Benchsheet!M139","v":0},{"$f":"IF(WORKSHEET!A140=\"-1\",\"\",IF(WORKSHEET!A140=0,\"0\",WORKSHEET!A140))","v":""},"",{"$f":"IF(WORKSHEET!B137=\"MPN\",\"MPN\",\"\")","v":""}]
[{"$f":"IF(Benchsheet!A140>1,\"result\",\"\")","v":""},{"$f":"IF(Benchsheet!A140>1,\"STATE\",\"\")","v":""},{"$f":"IF(Benchsheet!A140>1,\"00035\",\"\")","v":""},{"$f":"Benchsheet!A140","v":0},{"$f":"IF(Benchsheet!C140=1121057,\"VA1121057\",IF(Benchsheet!C140=1121090,\"VA1121090\",IF(Benchsheet!C140=1121052,\"VA1121052\",IF(Benchsheet!C140=1121175,\"VA1121175\",IF(Benchsheet!C140=1121580,\"VA1121580\",IF(Benchsheet!C140=1121570,\"VA1121570\",IF(Benchsheet!C140=1121045,\"VA1121045\",IF(Benchsheet!C140=1121655,\"VA1121655\",IF(Benchsheet!C140=1121503,\"VA1121503\",IF(Benchsheet!C140=1121043,\"VA1121043\",IF(Benchsheet!C140=1121900,\"VA1121900\",IF(Benchsheet!C140=1121845,\"VA1121845\",IF(Benchsheet!C140=1121655,\"VA1121655\",IF(Benchsheet!C140=1121900,\"VA1121900\",IF(Benchsheet!C140<1,\"\")))))))))))))))","v":""},{"$f":"IF(WORKSHEET!B137=\"MPN\",\"3000\",IF(WORKSHEET!B137=\"TC\",\"3100\",\"\"))","v":""},{"$f":"IF(Benchsheet!A140>1,\"SM 9223B\",\"\")","v":""},{"$f":"Benchsheet!U140","v":"00:00:00"},{"$f":"IF(Benchsheet!J140>1,\"A\",\"\")","v":""},{"$f":"Benchsheet!L140","v":0},{"$f":"IF(WORKSHEET!A140=\"-1\",\"\",IF(WORKSHEET!A140=0,\"0\",WORKSHEET!A140))","v":""},"",{"$f":"IF(WORKSHEET!B137=\"MPN\",\"MPN\",\"\")","v":""}]
[{"$f":"IF(Benchsheet!A140>1,\"result\",\"\")","v":""},{"$f":"IF(Benchsheet!A140>1,\"STATE\",\"\")","v":""},{"$f":"IF(Benchsheet!A140>1,\"00035\",\"\")","v":""},{"$f":"Benchsheet!A140","v":0},{"$f":"IF(Benchsheet!C140=1121057,\"VA1121057\",IF(Benchsheet!C140=1121090,\"VA1121090\",IF(Benchsheet!C140=1121052,\"VA1121052\",IF(Benchsheet!C140=1121175,\"VA1121175\",IF(Benchsheet!C140=1121580,\"VA1121580\",IF(Benchsheet!C140=1121570,\"VA1121570\",IF(Benchsheet!C140=1121045,\"VA1121045\",IF(Benchsheet!C140=1121655,\"VA1121655\",IF(Benchsheet!C140=1121503,\"VA1121503\",IF(Benchsheet!C140=1121043,\"VA1121043\",IF(Benchsheet!C140=1121900,\"VA1121900\",IF(Benchsheet!C140=1121845,\"VA1121845\",IF(Benchsheet!C140=1121655,\"VA1121655\",IF(Benchsheet!C140=1121900,\"VA1121900\",IF(Benchsheet!C140<1,\"\")))))))))))))))","v":""},{"$f":"WORKSHEET!C137","v":""},{"$f":"IF(Benchsheet!A140>1,\"SM 9223B\",\"\")","v":""},{"$f":"Benchsheet!U140","v":"00:00:00"},{"$f":"IF(Benchsheet!J140>1,\"A\",\"\")","v":""},{"$f":"Benchsheet!M140","v":0},{"$f":"IF(WORKSHEET!A141=\"-1\",\"\",IF(WORKSHEET!A141=0,\"0\",WORKSHEET!A141))","v":""},"",{"$f":"IF(WORKSHEET!B138=\"MPN\",\"MPN\",\"\")","v":""}]
[{"$f":"IF(Benchsheet!A141>1,\"result\",\"\")","v":""},{"$f":"IF(Benchsheet!A141>1,\"STATE\",\"\")","v":""},{"$f":"IF(Benchsheet!A141>1,\"00035\",\"\")","v":""},{"$f":"Benchsheet!A141","v":0},{"$f":"IF(Benchsheet!C141=1121057,\"VA1121057\",IF(Benchsheet!C141=1121090,\"VA1121090\",IF(Benchsheet!C141=1121052,\"VA1121052\",IF(Benchsheet!C141=1121175,\"VA1121175\",IF(Benchsheet!C141=1121580,\"VA1121580\",IF(Benchsheet!C141=1121570,\"VA1121570\",IF(Benchsheet!C141=1121045,\"VA1121045\",IF(Benchsheet!C141=1121655,\"VA1121655\",IF(Benchsheet!C141=1121503,\"VA1121503\",IF(Benchsheet!C141=1121043,\"VA1121043\",IF(Benchsheet!C141=1121900,\"VA1121900\",IF(Benchsheet!C141=1121845,\"VA1121845\",IF(Benchsheet!C141=1121655,\"VA1121655\",IF(Benchsheet!C141=1121900,\"VA1121900\",IF(Benchsheet!C141<1,\"\")))))))))))))))","v":""},{"$f":"IF(WORKSHEET!B138=\"MPN\",\"3000\",IF(WORKSHEET!B138=\"TC\",\"3100\",\"\"))","v":""},{"$f":"IF(Benchsheet!A141>1,\"SM 9223B\",\"\")","v":""},{"$f":"Benchsheet!U141","v":"00:00:00"},{"$f":"IF(Benchsheet!J141>1,\"A\",\"\")","v":""},{"$f":"Benchsheet!L141","v":0},{"$f":"IF(WORKSHEET!A141=\"-1\",\"\",IF(WORKSHEET!A141=0,\"0\",WORKSHEET!A141))","v":""},"",{"$f":"IF(WORKSHEET!B138=\"MPN\",\"MPN\",\"\")","v":""}]
[{"$f":"IF(Benchsheet!A141>1,\"result\",\"\")","v":""},{"$f":"IF(Benchsheet!A141>1,\"STATE\",\"\")","v":""},{"$f":"IF(Benchsheet!A141>1,\"00035\",\"\")","v":""},{"$f":"Benchsheet!A141","v":0},{"$f":"IF(Benchsheet!C141=1121057,\"VA1121057\",IF(Benchsheet!C141=1121090,\"VA1121090\",IF(Benchsheet!C141=1121052,\"VA1121052\",IF(Benchsheet!C141=1121175,\"VA1121175\",IF(Benchsheet!C141=1121580,\"VA1121580\",IF(Benchsheet!C141=1121570,\"VA1121570\",IF(Benchsheet!C141=1121045,\"VA1121045\",IF(Benchsheet!C141=1121655,\"VA1121655\",IF(Benchsheet!C141=1121503,\"VA1121503\",IF(Benchsheet!C141=1121043,\"VA1121043\",IF(Benchsheet!C141=1121900,\"VA1121900\",IF(Benchsheet!C141=1121845,\"VA1121845\",IF(Benchsheet!C141=1121655,\"VA1121655\",IF(Benchsheet!C141=1121900,\"VA1121900\",IF(Benchsheet!C141<1,\"\")))))))))))))))","v":""},{"$f":"WORKSHEET!C138","v":""},{"$f":"IF(Benchsheet!A141>1,\"SM 9223B\",\"\")","v":""},{"$f":"Benchsheet!U141","v":"00:00:00"},{"$f":"IF(Benchsheet!J141>1,\"A\",\"\")","v":""},{"$f":"Benchsheet!M141","v":0},{"$f":"IF(WORKSHEET!A142=\"-1\",\"\",IF(WORKSHEET!A142=0,\"0\",WORKSHEET!A142))","v":""},"",{"$f":"IF(WORKSHEET!B139=\"MPN\",\"MPN\",\"\")","v":""}]
[{"$f":"IF(Benchsheet!A142>1,\"result\",\"\")","v":""},{"$f":"IF(Benchsheet!A142>1,\"STATE\",\"\")","v":""},{"$f":"IF(Benchsheet!A142>1,\"00035\",\"\")","v":""},{"$f":"Benchsheet!A142","v":0},{"$f":"IF(Benchsheet!C142=1121057,\"VA1121057\",IF(Benchsheet!C142=1121090,\"VA1121090\",IF(Benchsheet!C142=1121052,\"VA1121052\",IF(Benchsheet!C142=1121175,\"VA1121175\",IF(Benchsheet!C142=1121580,\"VA1121580\",IF(Benchsheet!C142=1121570,\"VA1121570\",IF(Benchsheet!C142=1121045,\"VA1121045\",IF(Benchsheet!C142=1121655,\"VA1121655\",IF(Benchsheet!C142=1121503,\"VA1121503\",IF(Benchsheet!C142=1121043,\"VA1121043\",IF(Benchsheet!C142=1121900,\"VA1121900\",IF(Benchsheet!C142=1121845,\"VA1121845\",IF(Benchsheet!C142=1121655,\"VA1121655\",IF(Benchsheet!C142=1121900,\"VA1121900\",IF(Benchsheet!C142<1,\"\")))))))))))))))","v":""},{"$f":"IF(WORKSHEET!B139=\"MPN\",\"3000\",IF(WORKSHEET!B139=\"TC\",\"3100\",\"\"))","v":""},{"$f":"IF(Benchsheet!A142>1,\"SM 9223B\",\"\")","v":""},{"$f":"Benchsheet!U142","v":"00:00:00"},{"$f":"IF(Benchsheet!J142>1,\"A\",\"\")","v":""},{"$f":"Benchsheet!L142","v":0},{"$f":"IF(WORKSHEET!A142=\"-1\",\"\",IF(WORKSHEET!A142=0,\"0\",WORKSHEET!A142))","v":""},"",{"$f":"IF(WORKSHEET!B139=\"MPN\",\"MPN\",\"\")","v":""}]
[{"$f":"IF(Benchsheet!A142>1,\"result\",\"\")","v":""},{"$f":"IF(Benchsheet!A142>1,\"STATE\",\"\")","v":""},{"$f":"IF(Benchsheet!A142>1,\"00035\",\"\")","v":""},{"$f":"Benchsheet!A142","v":0},{"$f":"IF(Benchsheet!C142=1121057,\"VA1121057\",IF(Benchsheet!C142=1121090,\"VA1121090\",IF(Benchsheet!C142=1121052,\"VA1121052\",IF(Benchsheet!C142=1121175,\"VA1121175\",IF(Benchsheet!C142=1121580,\"VA1121580\",IF(Benchsheet!C142=1121570,\"VA1121570\",IF(Benchsheet!C142=1121045,\"VA1121045\",IF(Benchsheet!C142=1121655,\"VA1121655\",IF(Benchsheet!C142=1121503,\"VA1121503\",IF(Benchsheet!C142=1121043,\"VA1121043\",IF(Benchsheet!C142=1121900,\"VA1121900\",IF(Benchsheet!C142=1121845,\"VA1121845\",IF(Benchsheet!C142=1121655,\"VA1121655\",IF(Benchsheet!C142=1121900,\"VA1121900\",IF(Benchsheet!C142<1,\"\")))))))))))))))","v":""},{"$f":"WORKSHEET!C139","v":""},{"$f":"IF(Benchsheet!A142>1,\"SM 9223B\",\"\")","v":""},{"$f":"Benchsheet!U142","v":"00:00:00"},{"$f":"IF(Benchsheet!J142>1,\"A\",\"\")","v":""},{"$f":"Benchsheet!M142","v":0},{"$f":"IF(WORKSHEET!A143=\"-1\",\"\",IF(WORKSHEET!A143=0,\"0\",WORKSHEET!A143))","v":""},"",{"$f":"IF(WORKSHEET!B140=\"MPN\",\"MPN\",\"\")","v":""}]
[{"$f":"IF(Benchsheet!A143>1,\"result\",\"\")","v":""},{"$f":"IF(Benchsheet!A143>1,\"STATE\",\"\")","v":""},{"$f":"IF(Benchsheet!A143>1,\"00035\",\"\")","v":""},{"$f":"Benchsheet!A143","v":0},{"$f":"IF(Benchsheet!C143=1121057,\"VA1121057\",IF(Benchsheet!C143=1121090,\"VA1121090\",IF(Benchsheet!C143=1121052,\"VA1121052\",IF(Benchsheet!C143=1121175,\"VA1121175\",IF(Benchsheet!C143=1121580,\"VA1121580\",IF(Benchsheet!C143=1121570,\"VA1121570\",IF(Benchsheet!C143=1121045,\"VA1121045\",IF(Benchsheet!C143=1121655,\"VA1121655\",IF(Benchsheet!C143=1121503,\"VA1121503\",IF(Benchsheet!C143=1121043,\"VA1121043\",IF(Benchsheet!C143=1121900,\"VA1121900\",IF(Benchsheet!C143=1121845,\"VA1121845\",IF(Benchsheet!C143=1121655,\"VA1121655\",IF(Benchsheet!C143=1121900,\"VA1121900\",IF(Benchsheet!C143<1,\"\")))))))))))))))","v":""},{"$f":"IF(WORKSHEET!B140=\"MPN\",\"3000\",IF(WORKSHEET!B140=\"TC\",\"3100\",\"\"))","v":""},{"$f":"IF(Benchsheet!A143>1,\"SM 9223B\",\"\")","v":""},{"$f":"Benchsheet!U143","v":"00:00:00"},{"$f":"IF(Benchsheet!J143>1,\"A\",\"\")","v":""},{"$f":"Benchsheet!L143","v":0},{"$f":"IF(WORKSHEET!A143=\"-1\",\"\",IF(WORKSHEET!A143=0,\"0\",WORKSHEET!A143))","v":""},"",{"$f":"IF(WORKSHEET!B140=\"MPN\",\"MPN\",\"\")","v":""}]
[{"$f":"IF(Benchsheet!A143>1,\"result\",\"\")","v":""},{"$f":"IF(Benchsheet!A143>1,\"STATE\",\"\")","v":""},{"$f":"IF(Benchsheet!A143>1,\"00035\",\"\")","v":""},{"$f":"Benchsheet!A143","v":0},{"$f":"IF(Benchsheet!C143=1121057,\"VA1121057\",IF(Benchsheet!C143=1121090,\"VA1121090\",IF(Benchsheet!C143=1121052,\"VA1121052\",IF(Benchsheet!C143=1121175,\"VA1121175\",IF(Benchsheet!C143=1121580,\"VA1121580\",IF(Benchsheet!C143=1121570,\"VA1121570\",IF(Benchsheet!C143=1121045,\"VA1121045\",IF(Benchsheet!C143=1121655,\"VA1121655\",IF(Benchsheet!C143=1121503,\"VA1121503\",IF(Benchsheet!C143=1121043,\"VA1121043\",IF(Benchsheet!C143=1121900,\"VA1121900\",IF(Benchsheet!C143=1121845,\"VA1121845\",IF(Benchsheet!C143=1121655,\"VA1121655\",IF(Benchsheet!C143=1121900,\"VA1121900\",IF(Benchsheet!C143<1,\"\")))))))))))))))","v":""},{"$f":"WORKSHEET!C140","v":""},{"$f":"IF(Benchsheet!A143>1,\"SM 9223B\",\"\")","v":""},{"$f":"Benchsheet!U143","v":"00:00:00"},{"$f":"IF(Benchsheet!J143>1,\"A\",\"\")","v":""},{"$f":"Benchsheet!M143","v":0},{"$f":"IF(WORKSHEET!A144=\"-1\",\"\",IF(WORKSHEET!A144=0,\"0\",WORKSHEET!A144))","v":""},"",{"$f":"IF(WORKSHEET!B141=\"MPN\",\"MPN\",\"\")","v":""}]
[{"$f":"IF(Benchsheet!A144>1,\"result\",\"\")","v":""},{"$f":"IF(Benchsheet!A144>1,\"STATE\",\"\")","v":""},{"$f":"IF(Benchsheet!A144>1,\"00035\",\"\")","v":""},{"$f":"Benchsheet!A144","v":0},{"$f":"IF(Benchsheet!C144=1121057,\"VA1121057\",IF(Benchsheet!C144=1121090,\"VA1121090\",IF(Benchsheet!C144=1121052,\"VA1121052\",IF(Benchsheet!C144=1121175,\"VA1121175\",IF(Benchsheet!C144=1121580,\"VA1121580\",IF(Benchsheet!C144=1121570,\"VA1121570\",IF(Benchsheet!C144=1121045,\"VA1121045\",IF(Benchsheet!C144=1121655,\"VA1121655\",IF(Benchsheet!C144=1121503,\"VA1121503\",IF(Benchsheet!C144=1121043,\"VA1121043\",IF(Benchsheet!C144=1121900,\"VA1121900\",IF(Benchsheet!C144=1121845,\"VA1121845\",IF(Benchsheet!C144=1121655,\"VA1121655\",IF(Benchsheet!C144=1121900,\"VA1121900\",IF(Benchsheet!C144<1,\"\")))))))))))))))","v":""},{"$f":"IF(WORKSHEET!B141=\"MPN\",\"3000\",IF(WORKSHEET!B141=\"TC\",\"3100\",\"\"))","v":""},{"$f":"IF(Benchsheet!A144>1,\"SM 9223B\",\"\")","v":""},{"$f":"Benchsheet!U144","v":"00:00:00"},{"$f":"IF(Benchsheet!J144>1,\"A\",\"\")","v":""},{"$f":"Benchsheet!L144","v":0},{"$f":"IF(WORKSHEET!A144=\"-1\",\"\",IF(WORKSHEET!A144=0,\"0\",WORKSHEET!A144))","v":""},"",{"$f":"IF(WORKSHEET!B141=\"MPN\",\"MPN\",\"\")","v":""}]
[{"$f":"IF(Benchsheet!A144>1,\"result\",\"\")","v":""},{"$f":"IF(Benchsheet!A144>1,\"STATE\",\"\")","v":""},{"$f":"IF(Benchsheet!A144>1,\"00035\",\"\")","v":""},{"$f":"Benchsheet!A144","v":0},{"$f":"IF(Benchsheet!C144=1121057,\"VA1121057\",IF(Benchsheet!C144=1121090,\"VA1121090\",IF(Benchsheet!C144=1121052,\"VA1121052\",IF(Benchsheet!C144=1121175,\"VA1121175\",IF(Benchsheet!C144=1121580,\"VA1121580\",IF(Benchsheet!C144=1121570,\"VA1121570\",IF(Benchsheet!C144=1121045,\"VA1121045\",IF(Benchsheet!C144=1121655,\"VA1121655\",IF(Benchsheet!C144=1121503,\"VA1121503\",IF(Benchsheet!C144=1121043,\"VA1121043\",IF(Benchsheet!C144=1121900,\"VA1121900\",IF(Benchsheet!C144=1121845,\"VA1121845\",IF(Benchsheet!C144=1121655,\"VA1121655\",IF(Benchsheet!C144=1121900,\"VA1121900\",IF(Benchsheet!C144<1,\"\")))))))))))))))","v":""},{"$f":"WORKSHEET!C141","v":""},{"$f":"IF(Benchsheet!A144>1,\"SM 9223B\",\"\")","v":""},{"$f":"Benchsheet!U144","v":"00:00:00"},{"$f":"IF(Benchsheet!J144>1,\"A\",\"\")","v":""},{"$f":"Benchsheet!M144","v":0},{"$f":"IF(WORKSHEET!A145=\"-1\",\"\",IF(WORKSHEET!A145=0,\"0\",WORKSHEET!A145))","v":""},"",{"$f":"IF(WORKSHEET!B142=\"MPN\",\"MPN\",\"\")","v":""}]
[{"$f":"IF(Benchsheet!A145>1,\"result\",\"\")","v":""},{"$f":"IF(Benchsheet!A145>1,\"STATE\",\"\")","v":""},{"$f":"IF(Benchsheet!A145>1,\"00035\",\"\")","v":""},{"$f":"Benchsheet!A145","v":0},{"$f":"IF(Benchsheet!C145=1121057,\"VA1121057\",IF(Benchsheet!C145=1121090,\"VA1121090\",IF(Benchsheet!C145=1121052,\"VA1121052\",IF(Benchsheet!C145=1121175,\"VA1121175\",IF(Benchsheet!C145=1121580,\"VA1121580\",IF(Benchsheet!C145=1121570,\"VA1121570\",IF(Benchsheet!C145=1121045,\"VA1121045\",IF(Benchsheet!C145=1121655,\"VA1121655\",IF(Benchsheet!C145=1121503,\"VA1121503\",IF(Benchsheet!C145=1121043,\"VA1121043\",IF(Benchsheet!C145=1121900,\"VA1121900\",IF(Benchsheet!C145=1121845,\"VA1121845\",IF(Benchsheet!C145=1121655,\"VA1121655\",IF(Benchsheet!C145=1121900,\"VA1121900\",IF(Benchsheet!C145<1,\"\")))))))))))))))","v":""},{"$f":"IF(WORKSHEET!B142=\"MPN\",\"3000\",IF(WORKSHEET!B142=\"TC\",\"3100\",\"\"))","v":""},{"$f":"IF(Benchsheet!A145>1,\"SM 9223B\",\"\")","v":""},{"$f":"Benchsheet!U145","v":"00:00:00"},{"$f":"IF(Benchsheet!J145>1,\"A\",\"\")","v":""},{"$f":"Benchsheet!L145","v":0},{"$f":"IF(WORKSHEET!A145=\"-1\",\"\",IF(WORKSHEET!A145=0,\"0\",WORKSHEET!A145))","v":""},"",{"$f":"IF(WORKSHEET!B142=\"MPN\",\"MPN\",\"\")","v":""}]
[{"$f":"IF(Benchsheet!A145>1,\"result\",\"\")","v":""},{"$f":"IF(Benchsheet!A145>1,\"STATE\",\"\")","v":""},{"$f":"IF(Benchsheet!A145>1,\"00035\",\"\")","v":""},{"$f":"Benchsheet!A145","v":0},{"$f":"IF(Benchsheet!C145=1121057,\"VA1121057\",IF(Benchsheet!C145=1121090,\"VA1121090\",IF(Benchsheet!C145=1121052,\"VA1121052\",IF(Benchsheet!C145=1121175,\"VA1121175\",IF(Benchsheet!C145=1121580,\"VA1121580\",IF(Benchsheet!C145=1121570,\"VA1121570\",IF(Benchsheet!C145=1121045,\"VA1121045\",IF(Benchsheet!C145=1121655,\"VA1121655\",IF(Benchsheet!C145=1121503,\"VA1121503\",IF(Benchsheet!C145=1121043,\"VA1121043\",IF(Benchsheet!C145=1121900,\"VA1121900\",IF(Benchsheet!C145=1121845,\"VA1121845\",IF(Benchsheet!C145=1121655,\"VA1121655\",IF(Benchsheet!C145=1121900,\"VA1121900\",IF(Benchsheet!C145<1,\"\")))))))))))))))","v":""},{"$f":"WORKSHEET!C142","v":""},{"$f":"IF(Benchsheet!A145>1,\"SM 9223B\",\"\")","v":""},{"$f":"Benchsheet!U145","v":"00:00:00"},{"$f":"IF(Benchsheet!J145>1,\"A\",\"\")","v":""},{"$f":"Benchsheet!M145","v":0},{"$f":"IF(WORKSHEET!A146=\"-1\",\"\",IF(WORKSHEET!A146=0,\"0\",WORKSHEET!A146))","v":""},"",{"$f":"IF(WORKSHEET!B143=\"MPN\",\"MPN\",\"\")","v":""}]
[{"$f":"IF(Benchsheet!A146>1,\"result\",\"\")","v":""},{"$f":"IF(Benchsheet!A146>1,\"STATE\",\"\")","v":""},{"$f":"IF(Benchsheet!A146>1,\"00035\",\"\")","v":""},{"$f":"Benchsheet!A146","v":0},{"$f":"IF(Benchsheet!C146=1121057,\"VA1121057\",IF(Benchsheet!C146=1121090,\"VA1121090\",IF(Benchsheet!C146=1121052,\"VA1121052\",IF(Benchsheet!C146=1121175,\"VA1121175\",IF(Benchsheet!C146=1121580,\"VA1121580\",IF(Benchsheet!C146=1121570,\"VA1121570\",IF(Benchsheet!C146=1121045,\"VA1121045\",IF(Benchsheet!C146=1121655,\"VA1121655\",IF(Benchsheet!C146=1121503,\"VA1121503\",IF(Benchsheet!C146=1121043,\"VA1121043\",IF(Benchsheet!C146=1121900,\"VA1121900\",IF(Benchsheet!C146=1121845,\"VA1121845\",IF(Benchsheet!C146=1121655,\"VA1121655\",IF(Benchsheet!C146=1121900,\"VA1121900\",IF(Benchsheet!C146<1,\"\")))))))))))))))","v":""},{"$f":"IF(WORKSHEET!B143=\"MPN\",\"3000\",IF(WORKSHEET!B143=\"TC\",\"3100\",\"\"))","v":""},{"$f":"IF(Benchsheet!A146>1,\"SM 9223B\",\"\")","v":""},{"$f":"Benchsheet!U146","v":"00:00:00"},{"$f":"IF(Benchsheet!J146>1,\"A\",\"\")","v":""},{"$f":"Benchsheet!L146","v":0},{"$f":"IF(WORKSHEET!A146=\"-1\",\"\",IF(WORKSHEET!A146=0,\"0\",WORKSHEET!A146))","v":""},"",{"$f":"IF(WORKSHEET!B143=\"MPN\",\"MPN\",\"\")","v":""}]
[{"$f":"IF(Benchsheet!A146>1,\"result\",\"\")","v":""},{"$f":"IF(Benchsheet!A146>1,\"STATE\",\"\")","v":""},{"$f":"IF(Benchsheet!A146>1,\"00035\",\"\")","v":""},{"$f":"Benchsheet!A146","v":0},{"$f":"IF(Benchsheet!C146=1121057,\"VA1121057\",IF(Benchsheet!C146=1121090,\"VA1121090\",IF(Benchsheet!C146=1121052,\"VA1121052\",IF(Benchsheet!C146=1121175,\"VA1121175\",IF(Benchsheet!C146=1121580,\"VA1121580\",IF(Benchsheet!C146=1121570,\"VA1121570\",IF(Benchsheet!C146=1121045,\"VA1121045\",IF(Benchsheet!C146=1121655,\"VA1121655\",IF(Benchsheet!C146=1121503,\"VA1121503\",IF(Benchsheet!C146=1121043,\"VA1121043\",IF(Benchsheet!C146=1121900,\"VA1121900\",IF(Benchsheet!C146=1121845,\"VA1121845\",IF(Benchsheet!C146=1121655,\"VA1121655\",IF(Benchsheet!C146=1121900,\"VA1121900\",IF(Benchsheet!C146<1,\"\")))))))))))))))","v":""},{"$f":"WORKSHEET!C143","v":""},{"$f":"IF(Benchsheet!A146>1,\"SM 9223B\",\"\")","v":""},{"$f":"Benchsheet!U146","v":"00:00:00"},{"$f":"IF(Benchsheet!J146>1,\"A\",\"\")","v":""},{"$f":"Benchsheet!M146","v":0},{"$f":"IF(WORKSHEET!A147=\"-1\",\"\",IF(WORKSHEET!A147=0,\"0\",WORKSHEET!A147))","v":""},"",{"$f":"IF(WORKSHEET!B144=\"MPN\",\"MPN\",\"\")","v":""}]
[{"$f":"IF(Benchsheet!A147>1,\"result\",\"\")","v":""},{"$f":"IF(Benchsheet!A147>1,\"STATE\",\"\")","v":""},{"$f":"IF(Benchsheet!A147>1,\"00035\",\"\")","v":""},{"$f":"Benchsheet!A147","v":0},{"$f":"IF(Benchsheet!C147=1121057,\"VA1121057\",IF(Benchsheet!C147=1121090,\"VA1121090\",IF(Benchsheet!C147=1121052,\"VA1121052\",IF(Benchsheet!C147=1121175,\"VA1121175\",IF(Benchsheet!C147=1121580,\"VA1121580\",IF(Benchsheet!C147=1121570,\"VA1121570\",IF(Benchsheet!C147=1121045,\"VA1121045\",IF(Benchsheet!C147=1121655,\"VA1121655\",IF(Benchsheet!C147=1121503,\"VA1121503\",IF(Benchsheet!C147=1121043,\"VA1121043\",IF(Benchsheet!C147=1121900,\"VA1121900\",IF(Benchsheet!C147=1121845,\"VA1121845\",IF(Benchsheet!C147=1121655,\"VA1121655\",IF(Benchsheet!C147=1121900,\"VA1121900\",IF(Benchsheet!C147<1,\"\")))))))))))))))","v":""},{"$f":"IF(WORKSHEET!B144=\"MPN\",\"3000\",IF(WORKSHEET!B144=\"TC\",\"3100\",\"\"))","v":""},{"$f":"IF(Benchsheet!A147>1,\"SM 9223B\",\"\")","v":""},{"$f":"Benchsheet!U147","v":"00:00:00"},{"$f":"IF(Benchsheet!J147>1,\"A\",\"\")","v":""},{"$f":"Benchsheet!L147","v":0},{"$f":"IF(WORKSHEET!A147=\"-1\",\"\",IF(WORKSHEET!A147=0,\"0\",WORKSHEET!A147))","v":""},"",{"$f":"IF(WORKSHEET!B144=\"MPN\",\"MPN\",\"\")","v":""}]
[{"$f":"IF(Benchsheet!A147>1,\"result\",\"\")","v":""},{"$f":"IF(Benchsheet!A147>1,\"STATE\",\"\")","v":""},{"$f":"IF(Benchsheet!A147>1,\"00035\",\"\")","v":""},{"$f":"Benchsheet!A147","v":0},{"$f":"IF(Benchsheet!C147=1121057,\"VA1121057\",IF(Benchsheet!C147=1121090,\"VA1121090\",IF(Benchsheet!C147=1121052,\"VA1121052\",IF(Benchsheet!C147=1121175,\"VA1121175\",IF(Benchsheet!C147=1121580,\"VA1121580\",IF(Benchsheet!C147=1121570,\"VA1121570\",IF(Benchsheet!C147=1121045,\"VA1121045\",IF(Benchsheet!C147=1121655,\"VA1121655\",IF(Benchsheet!C147=1121503,\"VA1121503\",IF(Benchsheet!C147=1121043,\"VA1121043\",IF(Benchsheet!C147=1121900,\"VA1121900\",IF(Benchsheet!C147=1121845,\"VA1121845\",IF(Benchsheet!C147=1121655,\"VA1121655\",IF(Benchsheet!C147=1121900,\"VA1121900\",IF(Benchsheet!C147<1,\"\")))))))))))))))","v":""},{"$f":"WORKSHEET!C144","v":""},{"$f":"IF(Benchsheet!A147>1,\"SM 9223B\",\"\")","v":""},{"$f":"Benchsheet!U147","v":"00:00:00"},{"$f":"IF(Benchsheet!J147>1,\"A\",\"\")","v":""},{"$f":"Benchsheet!M147","v":0},{"$f":"IF(WORKSHEET!A148=\"-1\",\"\",IF(WORKSHEET!A148=0,\"0\",WORKSHEET!A148))","v":""},"",{"$f":"IF(WORKSHEET!B145=\"MPN\",\"MPN\",\"\")","v":""}]
[{"$f":"IF(Benchsheet!A148>1,\"result\",\"\")","v":""},{"$f":"IF(Benchsheet!A148>1,\"STATE\",\"\")","v":""},{"$f":"IF(Benchsheet!A148>1,\"00035\",\"\")","v":""},{"$f":"Benchsheet!A148","v":0},{"$f":"IF(Benchsheet!C148=1121057,\"VA1121057\",IF(Benchsheet!C148=1121090,\"VA1121090\",IF(Benchsheet!C148=1121052,\"VA1121052\",IF(Benchsheet!C148=1121175,\"VA1121175\",IF(Benchsheet!C148=1121580,\"VA1121580\",IF(Benchsheet!C148=1121570,\"VA1121570\",IF(Benchsheet!C148=1121045,\"VA1121045\",IF(Benchsheet!C148=1121655,\"VA1121655\",IF(Benchsheet!C148=1121503,\"VA1121503\",IF(Benchsheet!C148=1121043,\"VA1121043\",IF(Benchsheet!C148=1121900,\"VA1121900\",IF(Benchsheet!C148=1121845,\"VA1121845\",IF(Benchsheet!C148=1121655,\"VA1121655\",IF(Benchsheet!C148=1121900,\"VA1121900\",IF(Benchsheet!C148<1,\"\")))))))))))))))","v":""},{"$f":"IF(WORKSHEET!B145=\"MPN\",\"3000\",IF(WORKSHEET!B145=\"TC\",\"3100\",\"\"))","v":""},{"$f":"IF(Benchsheet!A148>1,\"SM 9223B\",\"\")","v":""},{"$f":"Benchsheet!U148","v":"00:00:00"},{"$f":"IF(Benchsheet!J148>1,\"A\",\"\")","v":""},{"$f":"Benchsheet!L148","v":0},{"$f":"IF(WORKSHEET!A148=\"-1\",\"\",IF(WORKSHEET!A148=0,\"0\",WORKSHEET!A148))","v":""},"",{"$f":"IF(WORKSHEET!B145=\"MPN\",\"MPN\",\"\")","v":""}]
[{"$f":"IF(Benchsheet!A148>1,\"result\",\"\")","v":""},{"$f":"IF(Benchsheet!A148>1,\"STATE\",\"\")","v":""},{"$f":"IF(Benchsheet!A148>1,\"00035\",\"\")","v":""},{"$f":"Benchsheet!A148","v":0},{"$f":"IF(Benchsheet!C148=1121057,\"VA1121057\",IF(Benchsheet!C148=1121090,\"VA1121090\",IF(Benchsheet!C148=1121052,\"VA1121052\",IF(Benchsheet!C148=1121175,\"VA1121175\",IF(Benchsheet!C148=1121580,\"VA1121580\",IF(Benchsheet!C148=1121570,\"VA1121570\",IF(Benchsheet!C148=1121045,\"VA1121045\",IF(Benchsheet!C148=1121655,\"VA1121655\",IF(Benchsheet!C148=1121503,\"VA1121503\",IF(Benchsheet!C148=1121043,\"VA1121043\",IF(Benchsheet!C148=1121900,\"VA1121900\",IF(Benchsheet!C148=1121845,\"VA1121845\",IF(Benchsheet!C148=1121655,\"VA1121655\",IF(Benchsheet!C148=1121900,\"VA1121900\",IF(Benchsheet!C148<1,\"\")))))))))))))))","v":""},{"$f":"WORKSHEET!C145","v":""},{"$f":"IF(Benchsheet!A148>1,\"SM 9223B\",\"\")","v":""},{"$f":"Benchsheet!U148","v":"00:00:00"},{"$f":"IF(Benchsheet!J148>1,\"A\",\"\")","v":""},{"$f":"Benchsheet!M148","v":0},{"$f":"IF(WORKSHEET!A149=\"-1\",\"\",IF(WORKSHEET!A149=0,\"0\",WORKSHEET!A149))","v":""},"",{"$f":"IF(WORKSHEET!B146=\"MPN\",\"MPN\",\"\")","v":""}]
[{"$f":"IF(Benchsheet!A149>1,\"result\",\"\")","v":""},{"$f":"IF(Benchsheet!A149>1,\"STATE\",\"\")","v":""},{"$f":"IF(Benchsheet!A149>1,\"00035\",\"\")","v":""},{"$f":"Benchsheet!A149","v":0},{"$f":"IF(Benchsheet!C149=1121057,\"VA1121057\",IF(Benchsheet!C149=1121090,\"VA1121090\",IF(Benchsheet!C149=1121052,\"VA1121052\",IF(Benchsheet!C149=1121175,\"VA1121175\",IF(Benchsheet!C149=1121580,\"VA1121580\",IF(Benchsheet!C149=1121570,\"VA1121570\",IF(Benchsheet!C149=1121045,\"VA1121045\",IF(Benchsheet!C149=1121655,\"VA1121655\",IF(Benchsheet!C149=1121503,\"VA1121503\",IF(Benchsheet!C149=1121043,\"VA1121043\",IF(Benchsheet!C149=1121900,\"VA1121900\",IF(Benchsheet!C149=1121845,\"VA1121845\",IF(Benchsheet!C149=1121655,\"VA1121655\",IF(Benchsheet!C149=1121900,\"VA1121900\",IF(Benchsheet!C149<1,\"\")))))))))))))))","v":""},{"$f":"IF(WORKSHEET!B146=\"MPN\",\"3000\",IF(WORKSHEET!B146=\"TC\",\"3100\",\"\"))","v":""},{"$f":"IF(Benchsheet!A149>1,\"SM 9223B\",\"\")","v":""},{"$f":"Benchsheet!U149","v":"00:00:00"},{"$f":"IF(Benchsheet!J149>1,\"A\",\"\")","v":""},{"$f":"Benchsheet!L149","v":0},{"$f":"IF(WORKSHEET!A149=\"-1\",\"\",IF(WORKSHEET!A149=0,\"0\",WORKSHEET!A149))","v":""},"",{"$f":"IF(WORKSHEET!B146=\"MPN\",\"MPN\",\"\")","v":""}]
[{"$f":"IF(Benchsheet!A149>1,\"result\",\"\")","v":""},{"$f":"IF(Benchsheet!A149>1,\"STATE\",\"\")","v":""},{"$f":"IF(Benchsheet!A149>1,\"00035\",\"\")","v":""},{"$f":"Benchsheet!A149","v":0},{"$f":"IF(Benchsheet!C149=1121057,\"VA1121057\",IF(Benchsheet!C149=1121090,\"VA1121090\",IF(Benchsheet!C149=1121052,\"VA1121052\",IF(Benchsheet!C149=1121175,\"VA1121175\",IF(Benchsheet!C149=1121580,\"VA1121580\",IF(Benchsheet!C149=1121570,\"VA1121570\",IF(Benchsheet!C149=1121045,\"VA1121045\",IF(Benchsheet!C149=1121655,\"VA1121655\",IF(Benchsheet!C149=1121503,\"VA1121503\",IF(Benchsheet!C149=1121043,\"VA1121043\",IF(Benchsheet!C149=1121900,\"VA1121900\",IF(Benchsheet!C149=1121845,\"VA1121845\",IF(Benchsheet!C149=1121655,\"VA1121655\",IF(Benchsheet!C149=1121900,\"VA1121900\",IF(Benchsheet!C149<1,\"\")))))))))))))))","v":""},{"$f":"WORKSHEET!C146","v":""},{"$f":"IF(Benchsheet!A149>1,\"SM 9223B\",\"\")","v":""},{"$f":"Benchsheet!U149","v":"00:00:00"},{"$f":"IF(Benchsheet!J149>1,\"A\",\"\")","v":""},{"$f":"Benchsheet!M149","v":0},{"$f":"IF(WORKSHEET!A150=\"-1\",\"\",IF(WORKSHEET!A150=0,\"0\",WORKSHEET!A150))","v":""},"",{"$f":"IF(WORKSHEET!B147=\"MPN\",\"MPN\",\"\")","v":""}]
[{"$f":"IF(Benchsheet!A150>1,\"result\",\"\")","v":""},{"$f":"IF(Benchsheet!A150>1,\"STATE\",\"\")","v":""},{"$f":"IF(Benchsheet!A150>1,\"00035\",\"\")","v":""},{"$f":"Benchsheet!A150","v":0},{"$f":"IF(Benchsheet!C150=1121057,\"VA1121057\",IF(Benchsheet!C150=1121090,\"VA1121090\",IF(Benchsheet!C150=1121052,\"VA1121052\",IF(Benchsheet!C150=1121175,\"VA1121175\",IF(Benchsheet!C150=1121580,\"VA1121580\",IF(Benchsheet!C150=1121570,\"VA1121570\",IF(Benchsheet!C150=1121045,\"VA1121045\",IF(Benchsheet!C150=1121655,\"VA1121655\",IF(Benchsheet!C150=1121503,\"VA1121503\",IF(Benchsheet!C150=1121043,\"VA1121043\",IF(Benchsheet!C150=1121900,\"VA1121900\",IF(Benchsheet!C150=1121845,\"VA1121845\",IF(Benchsheet!C150=1121655,\"VA1121655\",IF(Benchsheet!C150=1121900,\"VA1121900\",IF(Benchsheet!C150<1,\"\")))))))))))))))","v":""},{"$f":"IF(WORKSHEET!B147=\"MPN\",\"3000\",IF(WORKSHEET!B147=\"TC\",\"3100\",\"\"))","v":""},{"$f":"IF(Benchsheet!A150>1,\"SM 9223B\",\"\")","v":""},{"$f":"Benchsheet!U150","v":"00:00:00"},{"$f":"IF(Benchsheet!J150>1,\"A\",\"\")","v":""},{"$f":"Benchsheet!L150","v":0},{"$f":"IF(WORKSHEET!A150=\"-1\",\"\",IF(WORKSHEET!A150=0,\"0\",WORKSHEET!A150))","v":""},"",{"$f":"IF(WORKSHEET!B147=\"MPN\",\"MPN\",\"\")","v":""}]
[{"$f":"IF(Benchsheet!A150>1,\"result\",\"\")","v":""},{"$f":"IF(Benchsheet!A150>1,\"STATE\",\"\")","v":""},{"$f":"IF(Benchsheet!A150>1,\"00035\",\"\")","v":""},{"$f":"Benchsheet!A150","v":0},{"$f":"IF(Benchsheet!C150=1121057,\"VA1121057\",IF(Benchsheet!C150=1121090,\"VA1121090\",IF(Benchsheet!C150=1121052,\"VA1121052\",IF(Benchsheet!C150=1121175,\"VA1121175\",IF(Benchsheet!C150=1121580,\"VA1121580\",IF(Benchsheet!C150=1121570,\"VA1121570\",IF(Benchsheet!C150=1121045,\"VA1121045\",IF(Benchsheet!C150=1121655,\"VA1121655\",IF(Benchsheet!C150=1121503,\"VA1121503\",IF(Benchsheet!C150=1121043,\"VA1121043\",IF(Benchsheet!C150=1121900,\"VA1121900\",IF(Benchsheet!C150=1121845,\"VA1121845\",IF(Benchsheet!C150=1121655,\"VA1121655\",IF(Benchsheet!C150=1121900,\"VA1121900\",IF(Benchsheet!C150<1,\"\")))))))))))))))","v":""},{"$f":"WORKSHEET!C147","v":""},{"$f":"IF(Benchsheet!A150>1,\"SM 9223B\",\"\")","v":""},{"$f":"Benchsheet!U150","v":"00:00:00"},{"$f":"IF(Benchsheet!J150>1,\"A\",\"\")","v":""},{"$f":"Benchsheet!M150","v":0},{"$f":"IF(WORKSHEET!A151=\"-1\",\"\",IF(WORKSHEET!A151=0,\"0\",WORKSHEET!A151))","v":""},"",{"$f":"IF(WORKSHEET!B148=\"MPN\",\"MPN\",\"\")","v":""}]
[{"$f":"IF(Benchsheet!A151>1,\"result\",\"\")","v":""},{"$f":"IF(Benchsheet!A151>1,\"STATE\",\"\")","v":""},{"$f":"IF(Benchsheet!A151>1,\"00035\",\"\")","v":""},{"$f":"Benchsheet!A151","v":0},{"$f":"IF(Benchsheet!C151=1121057,\"VA1121057\",IF(Benchsheet!C151=1121090,\"VA1121090\",IF(Benchsheet!C151=1121052,\"VA1121052\",IF(Benchsheet!C151=1121175,\"VA1121175\",IF(Benchsheet!C151=1121580,\"VA1121580\",IF(Benchsheet!C151=1121570,\"VA1121570\",IF(Benchsheet!C151=1121045,\"VA1121045\",IF(Benchsheet!C151=1121655,\"VA1121655\",IF(Benchsheet!C151=1121503,\"VA1121503\",IF(Benchsheet!C151=1121043,\"VA1121043\",IF(Benchsheet!C151=1121900,\"VA1121900\",IF(Benchsheet!C151=1121845,\"VA1121845\",IF(Benchsheet!C151=1121655,\"VA1121655\",IF(Benchsheet!C151=1121900,\"VA1121900\",IF(Benchsheet!C151<1,\"\")))))))))))))))","v":""},{"$f":"IF(WORKSHEET!B148=\"MPN\",\"3000\",IF(WORKSHEET!B148=\"TC\",\"3100\",\"\"))","v":""},{"$f":"IF(Benchsheet!A151>1,\"SM 9223B\",\"\")","v":""},{"$f":"Benchsheet!U151","v":"00:00:00"},{"$f":"IF(Benchsheet!J151>1,\"A\",\"\")","v":""},{"$f":"Benchsheet!L151","v":0},{"$f":"IF(WORKSHEET!A151=\"-1\",\"\",IF(WORKSHEET!A151=0,\"0\",WORKSHEET!A151))","v":""},"",{"$f":"IF(WORKSHEET!B148=\"MPN\",\"MPN\",\"\")","v":""}]
[{"$f":"IF(Benchsheet!A151>1,\"result\",\"\")","v":""},{"$f":"IF(Benchsheet!A151>1,\"STATE\",\"\")","v":""},{"$f":"IF(Benchsheet!A151>1,\"00035\",\"\")","v":""},{"$f":"Benchsheet!A151","v":0},{"$f":"IF(Benchsheet!C151=1121057,\"VA1121057\",IF(Benchsheet!C151=1121090,\"VA1121090\",IF(Benchsheet!C151=1121052,\"VA1121052\",IF(Benchsheet!C151=1121175,\"VA1121175\",IF(Benchsheet!C151=1121580,\"VA1121580\",IF(Benchsheet!C151=1121570,\"VA1121570\",IF(Benchsheet!C151=1121045,\"VA1121045\",IF(Benchsheet!C151=1121655,\"VA1121655\",IF(Benchsheet!C151=1121503,\"VA1121503\",IF(Benchsheet!C151=1121043,\"VA1121043\",IF(Benchsheet!C151=1121900,\"VA1121900\",IF(Benchsheet!C151=1121845,\"VA1121845\",IF(Benchsheet!C151=1121655,\"VA1121655\",IF(Benchsheet!C151=1121900,\"VA1121900\",IF(Benchsheet!C151<1,\"\")))))))))))))))","v":""},{"$f":"WORKSHEET!C148","v":""},{"$f":"IF(Benchsheet!A151>1,\"SM 9223B\",\"\")","v":""},{"$f":"Benchsheet!U151","v":"00:00:00"},{"$f":"IF(Benchsheet!J151>1,\"A\",\"\")","v":""},{"$f":"Benchsheet!M151","v":0},{"$f":"IF(WORKSHEET!A152=\"-1\",\"\",IF(WORKSHEET!A152=0,\"0\",WORKSHEET!A152))","v":""},"",{"$f":"IF(WORKSHEET!B149=\"MPN\",\"MPN\",\"\")","v":""}]
[{"$f":"IF(Benchsheet!A152>1,\"result\",\"\")","v":""},{"$f":"IF(Benchsheet!A152>1,\"STATE\",\"\")","v":""},{"$f":"IF(Benchsheet!A152>1,\"00035\",\"\")","v":""},{"$f":"Benchsheet!A152","v":0},{"$f":"IF(Benchsheet!C152=1121057,\"VA1121057\",IF(Benchsheet!C152=1121090,\"VA1121090\",IF(Benchsheet!C152=1121052,\"VA1121052\",IF(Benchsheet!C152=1121175,\"VA1121175\",IF(Benchsheet!C152=1121580,\"VA1121580\",IF(Benchsheet!C152=1121570,\"VA1121570\",IF(Benchsheet!C152=1121045,\"VA1121045\",IF(Benchsheet!C152=1121655,\"VA1121655\",IF(Benchsheet!C152=1121503,\"VA1121503\",IF(Benchsheet!C152=1121043,\"VA1121043\",IF(Benchsheet!C152=1121900,\"VA1121900\",IF(Benchsheet!C152=1121845,\"VA1121845\",IF(Benchsheet!C152=1121655,\"VA1121655\",IF(Benchsheet!C152=1121900,\"VA1121900\",IF(Benchsheet!C152<1,\"\")))))))))))))))","v":""},{"$f":"IF(WORKSHEET!B149=\"MPN\",\"3000\",IF(WORKSHEET!B149=\"TC\",\"3100\",\"\"))","v":""},{"$f":"IF(Benchsheet!A152>1,\"SM 9223B\",\"\")","v":""},{"$f":"Benchsheet!U152","v":"00:00:00"},{"$f":"IF(Benchsheet!J152>1,\"A\",\"\")","v":""},{"$f":"Benchsheet!L152","v":0},{"$f":"IF(WORKSHEET!A152=\"-1\",\"\",IF(WORKSHEET!A152=0,\"0\",WORKSHEET!A152))","v":""},"",{"$f":"IF(WORKSHEET!B149=\"MPN\",\"MPN\",\"\")","v":""}]
[{"$f":"IF(Benchsheet!A152>1,\"result\",\"\")","v":""},{"$f":"IF(Benchsheet!A152>1,\"STATE\",\"\")","v":""},{"$f":"IF(Benchsheet!A152>1,\"00035\",\"\")","v":""},{"$f":"Benchsheet!A152","v":0},{"$f":"IF(Benchsheet!C152=1121057,\"VA1121057\",IF(Benchsheet!C152=1121090,\"VA1121090\",IF(Benchsheet!C152=1121052,\"VA1121052\",IF(Benchsheet!C152=1121175,\"VA1121175\",IF(Benchsheet!C152=1121580,\"VA1121580\",IF(Benchsheet!C152=1121570,\"VA1121570\",IF(Benchsheet!C152=1121045,\"VA1121045\",IF(Benchsheet!C152=1121655,\"VA1121655\",IF(Benchsheet!C152=1121503,\"VA1121503\",IF(Benchsheet!C152=1121043,\"VA1121043\",IF(Benchsheet!C152=1121900,\"VA1121900\",IF(Benchsheet!C152=1121845,\"VA1121845\",IF(Benchsheet!C152=1121655,\"VA1121655\",IF(Benchsheet!C152=1121900,\"VA1121900\",IF(Benchsheet!C152<1,\"\")))))))))))))))","v":""},{"$f":"WORKSHEET!C149","v":""},{"$f":"IF(Benchsheet!A152>1,\"SM 9223B\",\"\")","v":""},{"$f":"Benchsheet!U152","v":"00:00:00"},{"$f":"IF(Benchsheet!J152>1,\"A\",\"\")","v":""},{"$f":"Benchsheet!M152","v":0},{"$f":"IF(WORKSHEET!A153=\"-1\",\"\",IF(WORKSHEET!A153=0,\"0\",WORKSHEET!A153))","v":""},"",{"$f":"IF(WORKSHEET!B150=\"MPN\",\"MPN\",\"\")","v":""}]
[{"$f":"IF(Benchsheet!A153>1,\"result\",\"\")","v":""},{"$f":"IF(Benchsheet!A153>1,\"STATE\",\"\")","v":""},{"$f":"IF(Benchsheet!A153>1,\"00035\",\"\")","v":""},{"$f":"Benchsheet!A153","v":0},{"$f":"IF(Benchsheet!C153=1121057,\"VA1121057\",IF(Benchsheet!C153=1121090,\"VA1121090\",IF(Benchsheet!C153=1121052,\"VA1121052\",IF(Benchsheet!C153=1121175,\"VA1121175\",IF(Benchsheet!C153=1121580,\"VA1121580\",IF(Benchsheet!C153=1121570,\"VA1121570\",IF(Benchsheet!C153=1121045,\"VA1121045\",IF(Benchsheet!C153=1121655,\"VA1121655\",IF(Benchsheet!C153=1121503,\"VA1121503\",IF(Benchsheet!C153=1121043,\"VA1121043\",IF(Benchsheet!C153=1121900,\"VA1121900\",IF(Benchsheet!C153=1121845,\"VA1121845\",IF(Benchsheet!C153=1121655,\"VA1121655\",IF(Benchsheet!C153=1121900,\"VA1121900\",IF(Benchsheet!C153<1,\"\")))))))))))))))","v":""},{"$f":"IF(WORKSHEET!B150=\"MPN\",\"3000\",IF(WORKSHEET!B150=\"TC\",\"3100\",\"\"))","v":""},{"$f":"IF(Benchsheet!A153>1,\"SM 9223B\",\"\")","v":""},{"$f":"Benchsheet!U153","v":"00:00:00"},{"$f":"IF(Benchsheet!J153>1,\"A\",\"\")","v":""},{"$f":"Benchsheet!L153","v":0},{"$f":"IF(WORKSHEET!A153=\"-1\",\"\",IF(WORKSHEET!A153=0,\"0\",WORKSHEET!A153))","v":""},"",{"$f":"IF(WORKSHEET!B150=\"MPN\",\"MPN\",\"\")","v":""}]
[{"$f":"IF(Benchsheet!A153>1,\"result\",\"\")","v":""},{"$f":"IF(Benchsheet!A153>1,\"STATE\",\"\")","v":""},{"$f":"IF(Benchsheet!A153>1,\"00035\",\"\")","v":""},{"$f":"Benchsheet!A153","v":0},{"$f":"IF(Benchsheet!C153=1121057,\"VA1121057\",IF(Benchsheet!C153=1121090,\"VA1121090\",IF(Benchsheet!C153=1121052,\"VA1121052\",IF(Benchsheet!C153=1121175,\"VA1121175\",IF(Benchsheet!C153=1121580,\"VA1121580\",IF(Benchsheet!C153=1121570,\"VA1121570\",IF(Benchsheet!C153=1121045,\"VA1121045\",IF(Benchsheet!C153=1121655,\"VA1121655\",IF(Benchsheet!C153=1121503,\"VA1121503\",IF(Benchsheet!C153=1121043,\"VA1121043\",IF(Benchsheet!C153=1121900,\"VA1121900\",IF(Benchsheet!C153=1121845,\"VA1121845\",IF(Benchsheet!C153=1121655,\"VA1121655\",IF(Benchsheet!C153=1121900,\"VA1121900\",IF(Benchsheet!C153<1,\"\")))))))))))))))","v":""},{"$f":"WORKSHEET!C150","v":""},{"$f":"IF(Benchsheet!A153>1,\"SM 9223B\",\"\")","v":""},{"$f":"Benchsheet!U153","v":"00:00:00"},{"$f":"IF(Benchsheet!J153>1,\"A\",\"\")","v":""},{"$f":"Benchsheet!M153","v":0},{"$f":"IF(WORKSHEET!A154=\"-1\",\"\",IF(WORKSHEET!A154=0,\"0\",WORKSHEET!A154))","v":""},"",{"$f":"IF(WORKSHEET!B151=\"MPN\",\"MPN\",\"\")","v":""}]
[{"$f":"IF(Benchsheet!A154>1,\"result\",\"\")","v":""},{"$f":"IF(Benchsheet!A154>1,\"STATE\",\"\")","v":""},{"$f":"IF(Benchsheet!A154>1,\"00035\",\"\")","v":""},{"$f":"Benchsheet!A154","v":0},{"$f":"IF(Benchsheet!C154=1121057,\"VA1121057\",IF(Benchsheet!C154=1121090,\"VA1121090\",IF(Benchsheet!C154=1121052,\"VA1121052\",IF(Benchsheet!C154=1121175,\"VA1121175\",IF(Benchsheet!C154=1121580,\"VA1121580\",IF(Benchsheet!C154=1121570,\"VA1121570\",IF(Benchsheet!C154=1121045,\"VA1121045\",IF(Benchsheet!C154=1121655,\"VA1121655\",IF(Benchsheet!C154=1121503,\"VA1121503\",IF(Benchsheet!C154=1121043,\"VA1121043\",IF(Benchsheet!C154=1121900,\"VA1121900\",IF(Benchsheet!C154=1121845,\"VA1121845\",IF(Benchsheet!C154=1121655,\"VA1121655\",IF(Benchsheet!C154=1121900,\"VA1121900\",IF(Benchsheet!C154<1,\"\")))))))))))))))","v":""},{"$f":"IF(WORKSHEET!B151=\"MPN\",\"3000\",IF(WORKSHEET!B151=\"TC\",\"3100\",\"\"))","v":""},{"$f":"IF(Benchsheet!A154>1,\"SM 9223B\",\"\")","v":""},{"$f":"Benchsheet!U154","v":"00:00:00"},{"$f":"IF(Benchsheet!J154>1,\"A\",\"\")","v":""},{"$f":"Benchsheet!L154","v":0},{"$f":"IF(WORKSHEET!A154=\"-1\",\"\",IF(WORKSHEET!A154=0,\"0\",WORKSHEET!A154))","v":""},"",{"$f":"IF(WORKSHEET!B151=\"MPN\",\"MPN\",\"\")","v":""}]
[{"$f":"IF(Benchsheet!A154>1,\"result\",\"\")","v":""},{"$f":"IF(Benchsheet!A154>1,\"STATE\",\"\")","v":""},{"$f":"IF(Benchsheet!A154>1,\"00035\",\"\")","v":""},{"$f":"Benchsheet!A154","v":0},{"$f":"IF(Benchsheet!C154=1121057,\"VA1121057\",IF(Benchsheet!C154=1121090,\"VA1121090\",IF(Benchsheet!C154=1121052,\"VA1121052\",IF(Benchsheet!C154=1121175,\"VA1121175\",IF(Benchsheet!C154=1121580,\"VA1121580\",IF(Benchsheet!C154=1121570,\"VA1121570\",IF(Benchsheet!C154=1121045,\"VA1121045\",IF(Benchsheet!C154=1121655,\"VA1121655\",IF(Benchsheet!C154=1121503,\"VA1121503\",IF(Benchsheet!C154=1121043,\"VA1121043\",IF(Benchsheet!C154=1121900,\"VA1121900\",IF(Benchsheet!C154=1121845,\"VA1121845\",IF(Benchsheet!C154=1121655,\"VA1121655\",IF(Benchsheet!C154=1121900,\"VA1121900\",IF(Benchsheet!C154<1,\"\")))))))))))))))","v":""},{"$f":"WORKSHEET!C151","v":""},{"$f":"IF(Benchsheet!A154>1,\"SM 9223B\",\"\")","v":""},{"$f":"Benchsheet!U154","v":"00:00:00"},{"$f":"IF(Benchsheet!J154>1,\"A\",\"\")","v":""},{"$f":"Benchsheet!M154","v":0},{"$f":"IF(WORKSHEET!A155=\"-1\",\"\",IF(WORKSHEET!A155=0,\"0\",WORKSHEET!A155))","v":""},"",{"$f":"IF(WORKSHEET!B152=\"MPN\",\"MPN\",\"\")","v":""}]
[{"$f":"IF(Benchsheet!A155>1,\"result\",\"\")","v":""},{"$f":"IF(Benchsheet!A155>1,\"STATE\",\"\")","v":""},{"$f":"IF(Benchsheet!A155>1,\"00035\",\"\")","v":""},{"$f":"Benchsheet!A155","v":0},{"$f":"IF(Benchsheet!C155=1121057,\"VA1121057\",IF(Benchsheet!C155=1121090,\"VA1121090\",IF(Benchsheet!C155=1121052,\"VA1121052\",IF(Benchsheet!C155=1121175,\"VA1121175\",IF(Benchsheet!C155=1121580,\"VA1121580\",IF(Benchsheet!C155=1121570,\"VA1121570\",IF(Benchsheet!C155=1121045,\"VA1121045\",IF(Benchsheet!C155=1121655,\"VA1121655\",IF(Benchsheet!C155=1121503,\"VA1121503\",IF(Benchsheet!C155=1121043,\"VA1121043\",IF(Benchsheet!C155=1121900,\"VA1121900\",IF(Benchsheet!C155=1121845,\"VA1121845\",IF(Benchsheet!C155=1121655,\"VA1121655\",IF(Benchsheet!C155=1121900,\"VA1121900\",IF(Benchsheet!C155<1,\"\")))))))))))))))","v":""},{"$f":"IF(WORKSHEET!B152=\"MPN\",\"3000\",IF(WORKSHEET!B152=\"TC\",\"3100\",\"\"))","v":""},{"$f":"IF(Benchsheet!A155>1,\"SM 9223B\",\"\")","v":""},{"$f":"Benchsheet!U155","v":"00:00:00"},{"$f":"IF(Benchsheet!J155>1,\"A\",\"\")","v":""},{"$f":"Benchsheet!L155","v":0},{"$f":"IF(WORKSHEET!A155=\"-1\",\"\",IF(WORKSHEET!A155=0,\"0\",WORKSHEET!A155))","v":""},"",{"$f":"IF(WORKSHEET!B152=\"MPN\",\"MPN\",\"\")","v":""}]
[{"$f":"IF(Benchsheet!A155>1,\"result\",\"\")","v":""},{"$f":"IF(Benchsheet!A155>1,\"STATE\",\"\")","v":""},{"$f":"IF(Benchsheet!A155>1,\"00035\",\"\")","v":""},{"$f":"Benchsheet!A155","v":0},{"$f":"IF(Benchsheet!C155=1121057,\"VA1121057\",IF(Benchsheet!C155=1121090,\"VA1121090\",IF(Benchsheet!C155=1121052,\"VA1121052\",IF(Benchsheet!C155=1121175,\"VA1121175\",IF(Benchsheet!C155=1121580,\"VA1121580\",IF(Benchsheet!C155=1121570,\"VA1121570\",IF(Benchsheet!C155=1121045,\"VA1121045\",IF(Benchsheet!C155=1121655,\"VA1121655\",IF(Benchsheet!C155=1121503,\"VA1121503\",IF(Benchsheet!C155=1121043,\"VA1121043\",IF(Benchsheet!C155=1121900,\"VA1121900\",IF(Benchsheet!C155=1121845,\"VA1121845\",IF(Benchsheet!C155=1121655,\"VA1121655\",IF(Benchsheet!C155=1121900,\"VA1121900\",IF(Benchsheet!C155<1,\"\")))))))))))))))","v":""},{"$f":"WORKSHEET!C152","v":""},{"$f":"IF(Benchsheet!A155>1,\"SM 9223B\",\"\")","v":""},{"$f":"Benchsheet!U155","v":"00:00:00"},{"$f":"IF(Benchsheet!J155>1,\"A\",\"\")","v":""},{"$f":"Benchsheet!M155","v":0},{"$f":"IF(WORKSHEET!A155=\"-1\",\"\",IF(WORKSHEET!A155=0,\"0\",WORKSHEET!A155))","v":""},"",{"$f":"IF(WORKSHEET!B153=\"MPN\",\"MPN\",\"\")","v":""}]
[{"$f":"IF(Benchsheet!A156>1,\"result\",\"\")","v":""},{"$f":"IF(Benchsheet!A156>1,\"STATE\",\"\")","v":""},{"$f":"IF(Benchsheet!A156>1,\"00035\",\"\")","v":""},{"$f":"Benchsheet!A156","v":0},{"$f":"IF(Benchsheet!C156=1121057,\"VA1121057\",IF(Benchsheet!C156=1121090,\"VA1121090\",IF(Benchsheet!C156=1121052,\"VA1121052\",IF(Benchsheet!C156=1121175,\"VA1121175\",IF(Benchsheet!C156=1121580,\"VA1121580\",IF(Benchsheet!C156=1121570,\"VA1121570\",IF(Benchsheet!C156=1121045,\"VA1121045\",IF(Benchsheet!C156=1121655,\"VA1121655\",IF(Benchsheet!C156=1121503,\"VA1121503\",IF(Benchsheet!C156=1121043,\"VA1121043\",IF(Benchsheet!C156=1121900,\"VA1121900\",IF(Benchsheet!C156=1121845,\"VA1121845\",IF(Benchsheet!C156=1121655,\"VA1121655\",IF(Benchsheet!C156=1121900,\"VA1121900\",IF(Benchsheet!C156<1,\"\")))))))))))))))","v":""},{"$f":"IF(WORKSHEET!B153=\"MPN\",\"3000\",IF(WORKSHEET!B153=\"TC\",\"3100\",\"\"))","v":""},{"$f":"IF(Benchsheet!A156>1,\"SM 9223B\",\"\")","v":""},{"$f":"Benchsheet!U156","v":"00:00:00"},{"$f":"IF(Benchsheet!J156>1,\"A\",\"\")","v":""},{"$f":"Benchsheet!L156","v":0},{"$f":"IF(WORKSHEET!A156=\"-1\",\"\",IF(WORKSHEET!A156=0,\"0\",WORKSHEET!A156))","v":""},"",{"$f":"IF(WORKSHEET!B153=\"MPN\",\"MPN\",\"\")","v":""}]
[{"$f":"IF(Benchsheet!A156>1,\"result\",\"\")","v":""},{"$f":"IF(Benchsheet!A156>1,\"STATE\",\"\")","v":""},{"$f":"IF(Benchsheet!A156>1,\"00035\",\"\")","v":""},{"$f":"Benchsheet!A156","v":0},{"$f":"IF(Benchsheet!C156=1121057,\"VA1121057\",IF(Benchsheet!C156=1121090,\"VA1121090\",IF(Benchsheet!C156=1121052,\"VA1121052\",IF(Benchsheet!C156=1121175,\"VA1121175\",IF(Benchsheet!C156=1121580,\"VA1121580\",IF(Benchsheet!C156=1121570,\"VA1121570\",IF(Benchsheet!C156=1121045,\"VA1121045\",IF(Benchsheet!C156=1121655,\"VA1121655\",IF(Benchsheet!C156=1121503,\"VA1121503\",IF(Benchsheet!C156=1121043,\"VA1121043\",IF(Benchsheet!C156=1121900,\"VA1121900\",IF(Benchsheet!C156=1121845,\"VA1121845\",IF(Benchsheet!C156=1121655,\"VA1121655\",IF(Benchsheet!C156=1121900,\"VA1121900\",IF(Benchsheet!C156<1,\"\")))))))))))))))","v":""},{"$f":"WORKSHEET!C153","v":""},{"$f":"IF(Benchsheet!A156>1,\"SM 9223B\",\"\")","v":""},{"$f":"Benchsheet!U156","v":"00:00:00"},{"$f":"IF(Benchsheet!J156>1,\"A\",\"\")","v":""},{"$f":"Benchsheet!M156","v":0},{"$f":"IF(WORKSHEET!A156=\"-1\",\"\",IF(WORKSHEET!A156=0,\"0\",WORKSHEET!A156))","v":""},"",{"$f":"IF(WORKSHEET!B154=\"MPN\",\"MPN\",\"\")","v":""}]
[{"$f":"IF(Benchsheet!A157>1,\"result\",\"\")","v":""},{"$f":"IF(Benchsheet!A157>1,\"STATE\",\"\")","v":""},{"$f":"IF(Benchsheet!A157>1,\"00035\",\"\")","v":""},{"$f":"Benchsheet!A157","v":0},{"$f":"IF(Benchsheet!C157=1121057,\"VA1121057\",IF(Benchsheet!C157=1121090,\"VA1121090\",IF(Benchsheet!C157=1121052,\"VA1121052\",IF(Benchsheet!C157=1121175,\"VA1121175\",IF(Benchsheet!C157=1121580,\"VA1121580\",IF(Benchsheet!C157=1121570,\"VA1121570\",IF(Benchsheet!C157=1121045,\"VA1121045\",IF(Benchsheet!C157=1121655,\"VA1121655\",IF(Benchsheet!C157=1121503,\"VA1121503\",IF(Benchsheet!C157=1121043,\"VA1121043\",IF(Benchsheet!C157=1121900,\"VA1121900\",IF(Benchsheet!C157=1121845,\"VA1121845\",IF(Benchsheet!C157=1121655,\"VA1121655\",IF(Benchsheet!C157=1121900,\"VA1121900\",IF(Benchsheet!C157<1,\"\")))))))))))))))","v":""},{"$f":"IF(WORKSHEET!B154=\"MPN\",\"3000\",IF(WORKSHEET!B154=\"TC\",\"3100\",\"\"))","v":""},{"$f":"IF(Benchsheet!A157>1,\"SM 9223B\",\"\")","v":""},{"$f":"Benchsheet!U157","v":"00:00:00"},{"$f":"IF(Benchsheet!J157>1,\"A\",\"\")","v":""},{"$f":"Benchsheet!L157","v":0},{"$f":"IF(WORKSHEET!A157=\"-1\",\"\",IF(WORKSHEET!A157=0,\"0\",WORKSHEET!A157))","v":""},"",{"$f":"IF(WORKSHEET!B154=\"MPN\",\"MPN\",\"\")","v":""}]
[{"$f":"IF(Benchsheet!A157>1,\"result\",\"\")","v":""},{"$f":"IF(Benchsheet!A157>1,\"STATE\",\"\")","v":""},{"$f":"IF(Benchsheet!A157>1,\"00035\",\"\")","v":""},{"$f":"Benchsheet!A157","v":0},{"$f":"IF(Benchsheet!C157=1121057,\"VA1121057\",IF(Benchsheet!C157=1121090,\"VA1121090\",IF(Benchsheet!C157=1121052,\"VA1121052\",IF(Benchsheet!C157=1121175,\"VA1121175\",IF(Benchsheet!C157=1121580,\"VA1121580\",IF(Benchsheet!C157=1121570,\"VA1121570\",IF(Benchsheet!C157=1121045,\"VA1121045\",IF(Benchsheet!C157=1121655,\"VA1121655\",IF(Benchsheet!C157=1121503,\"VA1121503\",IF(Benchsheet!C157=1121043,\"VA1121043\",IF(Benchsheet!C157=1121900,\"VA1121900\",IF(Benchsheet!C157=1121845,\"VA1121845\",IF(Benchsheet!C157=1121655,\"VA1121655\",IF(Benchsheet!C157=1121900,\"VA1121900\",IF(Benchsheet!C157<1,\"\")))))))))))))))","v":""},{"$f":"WORKSHEET!C154","v":""},{"$f":"IF(Benchsheet!A157>1,\"SM 9223B\",\"\")","v":""},{"$f":"Benchsheet!U157","v":"00:00:00"},{"$f":"IF(Benchsheet!J157>1,\"A\",\"\")","v":""},{"$f":"Benchsheet!M157","v":0},{"$f":"IF(WORKSHEET!A157=\"-1\",\"\",IF(WORKSHEET!A157=0,\"0\",WORKSHEET!A157))","v":""},"",{"$f":"IF(WORKSHEET!B155=\"MPN\",\"MPN\",\"\")","v":""}]
[{"$f":"IF(Benchsheet!A158>1,\"result\",\"\")","v":""},{"$f":"IF(Benchsheet!A158>1,\"STATE\",\"\")","v":""},{"$f":"IF(Benchsheet!A158>1,\"00035\",\"\")","v":""},{"$f":"Benchsheet!A158","v":0},{"$f":"IF(Benchsheet!C158=1121057,\"VA1121057\",IF(Benchsheet!C158=1121090,\"VA1121090\",IF(Benchsheet!C158=1121052,\"VA1121052\",IF(Benchsheet!C158=1121175,\"VA1121175\",IF(Benchsheet!C158=1121580,\"VA1121580\",IF(Benchsheet!C158=1121570,\"VA1121570\",IF(Benchsheet!C158=1121045,\"VA1121045\",IF(Benchsheet!C158=1121655,\"VA1121655\",IF(Benchsheet!C158=1121503,\"VA1121503\",IF(Benchsheet!C158=1121043,\"VA1121043\",IF(Benchsheet!C158=1121900,\"VA1121900\",IF(Benchsheet!C158=1121845,\"VA1121845\",IF(Benchsheet!C158=1121655,\"VA1121655\",IF(Benchsheet!C158=1121900,\"VA1121900\",IF(Benchsheet!C158<1,\"\")))))))))))))))","v":""},{"$f":"IF(WORKSHEET!B155=\"MPN\",\"3000\",IF(WORKSHEET!B155=\"TC\",\"3100\",\"\"))","v":""},{"$f":"IF(Benchsheet!A158>1,\"SM 9223B\",\"\")","v":""},{"$f":"Benchsheet!U158","v":"00:00:00"},{"$f":"IF(Benchsheet!J158>1,\"A\",\"\")","v":""},{"$f":"Benchsheet!L158","v":0},{"$f":"IF(WORKSHEET!A158=\"-1\",\"\",IF(WORKSHEET!A158=0,\"0\",WORKSHEET!A158))","v":""},"",{"$f":"IF(WORKSHEET!B155=\"MPN\",\"MPN\",\"\")","v":""}]
[{"$f":"IF(Benchsheet!A158>1,\"result\",\"\")","v":""},{"$f":"IF(Benchsheet!A158>1,\"STATE\",\"\")","v":""},{"$f":"IF(Benchsheet!A158>1,\"00035\",\"\")","v":""},{"$f":"Benchsheet!A158","v":0},{"$f":"IF(Benchsheet!C158=1121057,\"VA1121057\",IF(Benchsheet!C158=1121090,\"VA1121090\",IF(Benchsheet!C158=1121052,\"VA1121052\",IF(Benchsheet!C158=1121175,\"VA1121175\",IF(Benchsheet!C158=1121580,\"VA1121580\",IF(Benchsheet!C158=1121570,\"VA1121570\",IF(Benchsheet!C158=1121045,\"VA1121045\",IF(Benchsheet!C158=1121655,\"VA1121655\",IF(Benchsheet!C158=1121503,\"VA1121503\",IF(Benchsheet!C158=1121043,\"VA1121043\",IF(Benchsheet!C158=1121900,\"VA1121900\",IF(Benchsheet!C158=1121845,\"VA1121845\",IF(Benchsheet!C158=1121655,\"VA1121655\",IF(Benchsheet!C158=1121900,\"VA1121900\",IF(Benchsheet!C158<1,\"\")))))))))))))))","v":""},{"$f":"WORKSHEET!C155","v":""},{"$f":"IF(Benchsheet!A158>1,\"SM 9223B\",\"\")","v":""},{"$f":"Benchsheet!U158","v":"00:00:00"},{"$f":"IF(Benchsheet!J158>1,\"A\",\"\")","v":""},{"$f":"Benchsheet!M158","v":0},{"$f":"IF(WORKSHEET!A158=\"-1\",\"\",IF(WORKSHEET!A158=0,\"0\",WORKSHEET!A158))","v":""},"",{"$f":"IF(WORKSHEET!B156=\"MPN\",\"MPN\",\"\")","v":""}]
[{"$f":"IF(Benchsheet!A159>1,\"result\",\"\")","v":""},{"$f":"IF(Benchsheet!A159>1,\"STATE\",\"\")","v":""},{"$f":"IF(Benchsheet!A159>1,\"00035\",\"\")","v":""},{"$f":"Benchsheet!A159","v":0},{"$f":"IF(Benchsheet!C159=1121057,\"VA1121057\",IF(Benchsheet!C159=1121090,\"VA1121090\",IF(Benchsheet!C159=1121052,\"VA1121052\",IF(Benchsheet!C159=1121175,\"VA1121175\",IF(Benchsheet!C159=1121580,\"VA1121580\",IF(Benchsheet!C159=1121570,\"VA1121570\",IF(Benchsheet!C159=1121045,\"VA1121045\",IF(Benchsheet!C159=1121655,\"VA1121655\",IF(Benchsheet!C159=1121503,\"VA1121503\",IF(Benchsheet!C159=1121043,\"VA1121043\",IF(Benchsheet!C159=1121900,\"VA1121900\",IF(Benchsheet!C159=1121845,\"VA1121845\",IF(Benchsheet!C159=1121655,\"VA1121655\",IF(Benchsheet!C159=1121900,\"VA1121900\",IF(Benchsheet!C159<1,\"\")))))))))))))))","v":""},{"$f":"IF(WORKSHEET!B156=\"MPN\",\"3000\",IF(WORKSHEET!B156=\"TC\",\"3100\",\"\"))","v":""},{"$f":"IF(Benchsheet!A159>1,\"SM 9223B\",\"\")","v":""},{"$f":"Benchsheet!U159","v":"00:00:00"},{"$f":"IF(Benchsheet!J159>1,\"A\",\"\")","v":""},{"$f":"Benchsheet!L159","v":0},{"$f":"IF(WORKSHEET!A159=\"-1\",\"\",IF(WORKSHEET!A159=0,\"0\",WORKSHEET!A159))","v":""},"",{"$f":"IF(WORKSHEET!B156=\"MPN\",\"MPN\",\"\")","v":""}]
[{"$f":"IF(Benchsheet!A159>1,\"result\",\"\")","v":""},{"$f":"IF(Benchsheet!A159>1,\"STATE\",\"\")","v":""},{"$f":"IF(Benchsheet!A159>1,\"00035\",\"\")","v":""},{"$f":"Benchsheet!A159","v":0},{"$f":"IF(Benchsheet!C159=1121057,\"VA1121057\",IF(Benchsheet!C159=1121090,\"VA1121090\",IF(Benchsheet!C159=1121052,\"VA1121052\",IF(Benchsheet!C159=1121175,\"VA1121175\",IF(Benchsheet!C159=1121580,\"VA1121580\",IF(Benchsheet!C159=1121570,\"VA1121570\",IF(Benchsheet!C159=1121045,\"VA1121045\",IF(Benchsheet!C159=1121655,\"VA1121655\",IF(Benchsheet!C159=1121503,\"VA1121503\",IF(Benchsheet!C159=1121043,\"VA1121043\",IF(Benchsheet!C159=1121900,\"VA1121900\",IF(Benchsheet!C159=1121845,\"VA1121845\",IF(Benchsheet!C159=1121655,\"VA1121655\",IF(Benchsheet!C159=1121900,\"VA1121900\",IF(Benchsheet!C159<1,\"\")))))))))))))))","v":""},{"$f":"WORKSHEET!C156","v":""},{"$f":"IF(Benchsheet!A159>1,\"SM 9223B\",\"\")","v":""},{"$f":"Benchsheet!U159","v":"00:00:00"},{"$f":"IF(Benchsheet!J159>1,\"A\",\"\")","v":""},{"$f":"Benchsheet!M159","v":0},{"$f":"IF(WORKSHEET!A159=\"-1\",\"\",IF(WORKSHEET!A159=0,\"0\",WORKSHEET!A159))","v":""},"",{"$f":"IF(WORKSHEET!B157=\"MPN\",\"MPN\",\"\")","v":""}]
[{"$f":"IF(Benchsheet!A160>1,\"result\",\"\")","v":""},{"$f":"IF(Benchsheet!A160>1,\"STATE\",\"\")","v":""},{"$f":"IF(Benchsheet!A160>1,\"00035\",\"\")","v":""},{"$f":"Benchsheet!A160","v":0},{"$f":"IF(Benchsheet!C160=1121057,\"VA1121057\",IF(Benchsheet!C160=1121090,\"VA1121090\",IF(Benchsheet!C160=1121052,\"VA1121052\",IF(Benchsheet!C160=1121175,\"VA1121175\",IF(Benchsheet!C160=1121580,\"VA1121580\",IF(Benchsheet!C160=1121570,\"VA1121570\",IF(Benchsheet!C160=1121045,\"VA1121045\",IF(Benchsheet!C160=1121655,\"VA1121655\",IF(Benchsheet!C160=1121503,\"VA1121503\",IF(Benchsheet!C160=1121043,\"VA1121043\",IF(Benchsheet!C160=1121900,\"VA1121900\",IF(Benchsheet!C160=1121845,\"VA1121845\",IF(Benchsheet!C160=1121655,\"VA1121655\",IF(Benchsheet!C160=1121900,\"VA1121900\",IF(Benchsheet!C160<1,\"\")))))))))))))))","v":""},{"$f":"IF(WORKSHEET!B157=\"MPN\",\"3000\",IF(WORKSHEET!B157=\"TC\",\"3100\",\"\"))","v":""},{"$f":"IF(Benchsheet!A160>1,\"SM 9223B\",\"\")","v":""},{"$f":"Benchsheet!U160","v":"00:00:00"},{"$f":"IF(Benchsheet!J160>1,\"A\",\"\")","v":""},{"$f":"Benchsheet!L160","v":0},{"$f":"IF(WORKSHEET!A160=\"-1\",\"\",IF(WORKSHEET!A160=0,\"0\",WORKSHEET!A160))","v":""},"",{"$f":"IF(WORKSHEET!B157=\"MPN\",\"MPN\",\"\")","v":""}]
[{"$f":"IF(Benchsheet!A160>1,\"result\",\"\")","v":""},{"$f":"IF(Benchsheet!A160>1,\"STATE\",\"\")","v":""},{"$f":"IF(Benchsheet!A160>1,\"00035\",\"\")","v":""},{"$f":"Benchsheet!A160","v":0},{"$f":"IF(Benchsheet!C160=1121057,\"VA1121057\",IF(Benchsheet!C160=1121090,\"VA1121090\",IF(Benchsheet!C160=1121052,\"VA1121052\",IF(Benchsheet!C160=1121175,\"VA1121175\",IF(Benchsheet!C160=1121580,\"VA1121580\",IF(Benchsheet!C160=1121570,\"VA1121570\",IF(Benchsheet!C160=1121045,\"VA1121045\",IF(Benchsheet!C160=1121655,\"VA1121655\",IF(Benchsheet!C160=1121503,\"VA1121503\",IF(Benchsheet!C160=1121043,\"VA1121043\",IF(Benchsheet!C160=1121900,\"VA1121900\",IF(Benchsheet!C160=1121845,\"VA1121845\",IF(Benchsheet!C160=1121655,\"VA1121655\",IF(Benchsheet!C160=1121900,\"VA1121900\",IF(Benchsheet!C160<1,\"\")))))))))))))))","v":""},{"$f":"WORKSHEET!C157","v":""},{"$f":"IF(Benchsheet!A160>1,\"SM 9223B\",\"\")","v":""},{"$f":"Benchsheet!U160","v":"00:00:00"},{"$f":"IF(Benchsheet!J160>1,\"A\",\"\")","v":""},{"$f":"Benchsheet!M160","v":0},{"$f":"IF(WORKSHEET!A160=\"-1\",\"\",IF(WORKSHEET!A160=0,\"0\",WORKSHEET!A160))","v":""},"",{"$f":"IF(WORKSHEET!B158=\"MPN\",\"MPN\",\"\")","v":""}]
[{"$f":"IF(Benchsheet!A161>1,\"result\",\"\")","v":""},{"$f":"IF(Benchsheet!A161>1,\"STATE\",\"\")","v":""},{"$f":"IF(Benchsheet!A161>1,\"00035\",\"\")","v":""},{"$f":"Benchsheet!A161","v":0},{"$f":"IF(Benchsheet!C161=1121057,\"VA1121057\",IF(Benchsheet!C161=1121090,\"VA1121090\",IF(Benchsheet!C161=1121052,\"VA1121052\",IF(Benchsheet!C161=1121175,\"VA1121175\",IF(Benchsheet!C161=1121580,\"VA1121580\",IF(Benchsheet!C161=1121570,\"VA1121570\",IF(Benchsheet!C161=1121045,\"VA1121045\",IF(Benchsheet!C161=1121655,\"VA1121655\",IF(Benchsheet!C161=1121503,\"VA1121503\",IF(Benchsheet!C161=1121043,\"VA1121043\",IF(Benchsheet!C161=1121900,\"VA1121900\",IF(Benchsheet!C161=1121845,\"VA1121845\",IF(Benchsheet!C161=1121655,\"VA1121655\",IF(Benchsheet!C161=1121900,\"VA1121900\",IF(Benchsheet!C161<1,\"\")))))))))))))))","v":""},{"$f":"IF(WORKSHEET!B158=\"MPN\",\"3000\",IF(WORKSHEET!B158=\"TC\",\"3100\",\"\"))","v":""},{"$f":"IF(Benchsheet!A161>1,\"SM 9223B\",\"\")","v":""},{"$f":"Benchsheet!U161","v":"00:00:00"},{"$f":"IF(Benchsheet!J161>1,\"A\",\"\")","v":""},{"$f":"Benchsheet!L161","v":0},{"$f":"IF(WORKSHEET!A161=\"-1\",\"\",IF(WORKSHEET!A161=0,\"0\",WORKSHEET!A161))","v":""},"",{"$f":"IF(WORKSHEET!B158=\"MPN\",\"MPN\",\"\")","v":""}]
[{"$f":"IF(Benchsheet!A161>1,\"result\",\"\")","v":""},{"$f":"IF(Benchsheet!A161>1,\"STATE\",\"\")","v":""},{"$f":"IF(Benchsheet!A161>1,\"00035\",\"\")","v":""},{"$f":"Benchsheet!A161","v":0},{"$f":"IF(Benchsheet!C161=1121057,\"VA1121057\",IF(Benchsheet!C161=1121090,\"VA1121090\",IF(Benchsheet!C161=1121052,\"VA1121052\",IF(Benchsheet!C161=1121175,\"VA1121175\",IF(Benchsheet!C161=1121580,\"VA1121580\",IF(Benchsheet!C161=1121570,\"VA1121570\",IF(Benchsheet!C161=1121045,\"VA1121045\",IF(Benchsheet!C161=1121655,\"VA1121655\",IF(Benchsheet!C161=1121503,\"VA1121503\",IF(Benchsheet!C161=1121043,\"VA1121043\",IF(Benchsheet!C161=1121900,\"VA1121900\",IF(Benchsheet!C161=1121845,\"VA1121845\",IF(Benchsheet!C161=1121655,\"VA1121655\",IF(Benchsheet!C161=1121900,\"VA1121900\",IF(Benchsheet!C161<1,\"\")))))))))))))))","v":""},{"$f":"WORKSHEET!C158","v":""},{"$f":"IF(Benchsheet!A161>1,\"SM 9223B\",\"\")","v":""},{"$f":"Benchsheet!U161","v":"00:00:00"},{"$f":"IF(Benchsheet!J161>1,\"A\",\"\")","v":""},{"$f":"Benchsheet!M161","v":0},{"$f":"IF(WORKSHEET!A161=\"-1\",\"\",IF(WORKSHEET!A161=0,\"0\",WORKSHEET!A161))","v":""},"",{"$f":"IF(WORKSHEET!B159=\"MPN\",\"MPN\",\"\")","v":""}]
[{"$f":"IF(Benchsheet!A162>1,\"result\",\"\")","v":""},{"$f":"IF(Benchsheet!A162>1,\"STATE\",\"\")","v":""},{"$f":"IF(Benchsheet!A162>1,\"00035\",\"\")","v":""},{"$f":"Benchsheet!A162","v":0},{"$f":"IF(Benchsheet!C162=1121057,\"VA1121057\",IF(Benchsheet!C162=1121090,\"VA1121090\",IF(Benchsheet!C162=1121052,\"VA1121052\",IF(Benchsheet!C162=1121175,\"VA1121175\",IF(Benchsheet!C162=1121580,\"VA1121580\",IF(Benchsheet!C162=1121570,\"VA1121570\",IF(Benchsheet!C162=1121045,\"VA1121045\",IF(Benchsheet!C162=1121655,\"VA1121655\",IF(Benchsheet!C162=1121503,\"VA1121503\",IF(Benchsheet!C162=1121043,\"VA1121043\",IF(Benchsheet!C162=1121900,\"VA1121900\",IF(Benchsheet!C162=1121845,\"VA1121845\",IF(Benchsheet!C162=1121655,\"VA1121655\",IF(Benchsheet!C162=1121900,\"VA1121900\",IF(Benchsheet!C162<1,\"\")))))))))))))))","v":""},{"$f":"IF(WORKSHEET!B159=\"MPN\",\"3000\",IF(WORKSHEET!B159=\"TC\",\"3100\",\"\"))","v":""},{"$f":"IF(Benchsheet!A162>1,\"SM 9223B\",\"\")","v":""},{"$f":"Benchsheet!U162","v":"00:00:00"},{"$f":"IF(Benchsheet!J162>1,\"A\",\"\")","v":""},{"$f":"Benchsheet!L162","v":0},{"$f":"IF(WORKSHEET!A162=\"-1\",\"\",IF(WORKSHEET!A162=0,\"0\",WORKSHEET!A162))","v":""},"",{"$f":"IF(WORKSHEET!B159=\"MPN\",\"MPN\",\"\")","v":""}]
[{"$f":"IF(Benchsheet!A162>1,\"result\",\"\")","v":""},{"$f":"IF(Benchsheet!A162>1,\"STATE\",\"\")","v":""},{"$f":"IF(Benchsheet!A162>1,\"00035\",\"\")","v":""},{"$f":"Benchsheet!A162","v":0},{"$f":"IF(Benchsheet!C162=1121057,\"VA1121057\",IF(Benchsheet!C162=1121090,\"VA1121090\",IF(Benchsheet!C162=1121052,\"VA1121052\",IF(Benchsheet!C162=1121175,\"VA1121175\",IF(Benchsheet!C162=1121580,\"VA1121580\",IF(Benchsheet!C162=1121570,\"VA1121570\",IF(Benchsheet!C162=1121045,\"VA1121045\",IF(Benchsheet!C162=1121655,\"VA1121655\",IF(Benchsheet!C162=1121503,\"VA1121503\",IF(Benchsheet!C162=1121043,\"VA1121043\",IF(Benchsheet!C162=1121900,\"VA1121900\",IF(Benchsheet!C162=1121845,\"VA1121845\",IF(Benchsheet!C162=1121655,\"VA1121655\",IF(Benchsheet!C162=1121900,\"VA1121900\",IF(Benchsheet!C162<1,\"\")))))))))))))))","v":""},{"$f":"WORKSHEET!C159","v":""},{"$f":"IF(Benchsheet!A162>1,\"SM 9223B\",\"\")","v":""},{"$f":"Benchsheet!U162","v":"00:00:00"},{"$f":"IF(Benchsheet!J162>1,\"A\",\"\")","v":""},{"$f":"Benchsheet!M162","v":0},{"$f":"IF(WORKSHEET!A162=\"-1\",\"\",IF(WORKSHEET!A162=0,\"0\",WORKSHEET!A162))","v":""},"",{"$f":"IF(WORKSHEET!B160=\"MPN\",\"MPN\",\"\")","v":""}]
[{"$f":"IF(Benchsheet!A163>1,\"result\",\"\")","v":""},{"$f":"IF(Benchsheet!A163>1,\"STATE\",\"\")","v":""},{"$f":"IF(Benchsheet!A163>1,\"00035\",\"\")","v":""},{"$f":"Benchsheet!A163","v":0},{"$f":"IF(Benchsheet!C163=1121057,\"VA1121057\",IF(Benchsheet!C163=1121090,\"VA1121090\",IF(Benchsheet!C163=1121052,\"VA1121052\",IF(Benchsheet!C163=1121175,\"VA1121175\",IF(Benchsheet!C163=1121580,\"VA1121580\",IF(Benchsheet!C163=1121570,\"VA1121570\",IF(Benchsheet!C163=1121045,\"VA1121045\",IF(Benchsheet!C163=1121655,\"VA1121655\",IF(Benchsheet!C163=1121503,\"VA1121503\",IF(Benchsheet!C163=1121043,\"VA1121043\",IF(Benchsheet!C163=1121900,\"VA1121900\",IF(Benchsheet!C163=1121845,\"VA1121845\",IF(Benchsheet!C163=1121655,\"VA1121655\",IF(Benchsheet!C163=1121900,\"VA1121900\",IF(Benchsheet!C163<1,\"\")))))))))))))))","v":""},{"$f":"IF(WORKSHEET!B160=\"MPN\",\"3000\",IF(WORKSHEET!B160=\"TC\",\"3100\",\"\"))","v":""},{"$f":"IF(Benchsheet!A163>1,\"SM 9223B\",\"\")","v":""},{"$f":"Benchsheet!U163","v":"00:00:00"},{"$f":"IF(Benchsheet!J163>1,\"A\",\"\")","v":""},{"$f":"Benchsheet!L163","v":0},{"$f":"IF(WORKSHEET!A163=\"-1\",\"\",IF(WORKSHEET!A163=0,\"0\",WORKSHEET!A163))","v":""},"",{"$f":"IF(WORKSHEET!B160=\"MPN\",\"MPN\",\"\")","v":""}]
[{"$f":"IF(Benchsheet!A163>1,\"result\",\"\")","v":""},{"$f":"IF(Benchsheet!A163>1,\"STATE\",\"\")","v":""},{"$f":"IF(Benchsheet!A163>1,\"00035\",\"\")","v":""},{"$f":"Benchsheet!A163","v":0},{"$f":"IF(Benchsheet!C163=1121057,\"VA1121057\",IF(Benchsheet!C163=1121090,\"VA1121090\",IF(Benchsheet!C163=1121052,\"VA1121052\",IF(Benchsheet!C163=1121175,\"VA1121175\",IF(Benchsheet!C163=1121580,\"VA1121580\",IF(Benchsheet!C163=1121570,\"VA1121570\",IF(Benchsheet!C163=1121045,\"VA1121045\",IF(Benchsheet!C163=1121655,\"VA1121655\",IF(Benchsheet!C163=1121503,\"VA1121503\",IF(Benchsheet!C163=1121043,\"VA1121043\",IF(Benchsheet!C163=1121900,\"VA1121900\",IF(Benchsheet!C163=1121845,\"VA1121845\",IF(Benchsheet!C163=1121655,\"VA1121655\",IF(Benchsheet!C163=1121900,\"VA1121900\",IF(Benchsheet!C163<1,\"\")))))))))))))))","v":""},{"$f":"WORKSHEET!C160","v":""},{"$f":"IF(Benchsheet!A163>1,\"SM 9223B\",\"\")","v":""},{"$f":"Benchsheet!U163","v":"00:00:00"},{"$f":"IF(Benchsheet!J163>1,\"A\",\"\")","v":""},{"$f":"Benchsheet!M163","v":0},{"$f":"IF(WORKSHEET!A163=\"-1\",\"\",IF(WORKSHEET!A163=0,\"0\",WORKSHEET!A163))","v":""},"",{"$f":"IF(WORKSHEET!B161=\"MPN\",\"MPN\",\"\")","v":""}]
[{"$f":"IF(Benchsheet!A164>1,\"result\",\"\")","v":""},{"$f":"IF(Benchsheet!A164>1,\"STATE\",\"\")","v":""},{"$f":"IF(Benchsheet!A164>1,\"00035\",\"\")","v":""},{"$f":"Benchsheet!A164","v":0},{"$f":"IF(Benchsheet!C164=1121057,\"VA1121057\",IF(Benchsheet!C164=1121090,\"VA1121090\",IF(Benchsheet!C164=1121052,\"VA1121052\",IF(Benchsheet!C164=1121175,\"VA1121175\",IF(Benchsheet!C164=1121580,\"VA1121580\",IF(Benchsheet!C164=1121570,\"VA1121570\",IF(Benchsheet!C164=1121045,\"VA1121045\",IF(Benchsheet!C164=1121655,\"VA1121655\",IF(Benchsheet!C164=1121503,\"VA1121503\",IF(Benchsheet!C164=1121043,\"VA1121043\",IF(Benchsheet!C164=1121900,\"VA1121900\",IF(Benchsheet!C164=1121845,\"VA1121845\",IF(Benchsheet!C164=1121655,\"VA1121655\",IF(Benchsheet!C164=1121900,\"VA1121900\",IF(Benchsheet!C164<1,\"\")))))))))))))))","v":""},{"$f":"IF(WORKSHEET!B161=\"MPN\",\"3000\",IF(WORKSHEET!B161=\"TC\",\"3100\",\"\"))","v":""},{"$f":"IF(Benchsheet!A164>1,\"SM 9223B\",\"\")","v":""},{"$f":"Benchsheet!U164","v":"00:00:00"},{"$f":"IF(Benchsheet!J164>1,\"A\",\"\")","v":""},{"$f":"Benchsheet!L164","v":0},{"$f":"IF(WORKSHEET!A164=\"-1\",\"\",IF(WORKSHEET!A164=0,\"0\",WORKSHEET!A164))","v":""},"",{"$f":"IF(WORKSHEET!B161=\"MPN\",\"MPN\",\"\")","v":""}]
[{"$f":"IF(Benchsheet!A164>1,\"result\",\"\")","v":""},{"$f":"IF(Benchsheet!A164>1,\"STATE\",\"\")","v":""},{"$f":"IF(Benchsheet!A164>1,\"00035\",\"\")","v":""},{"$f":"Benchsheet!A164","v":0},{"$f":"IF(Benchsheet!C164=1121057,\"VA1121057\",IF(Benchsheet!C164=1121090,\"VA1121090\",IF(Benchsheet!C164=1121052,\"VA1121052\",IF(Benchsheet!C164=1121175,\"VA1121175\",IF(Benchsheet!C164=1121580,\"VA1121580\",IF(Benchsheet!C164=1121570,\"VA1121570\",IF(Benchsheet!C164=1121045,\"VA1121045\",IF(Benchsheet!C164=1121655,\"VA1121655\",IF(Benchsheet!C164=1121503,\"VA1121503\",IF(Benchsheet!C164=1121043,\"VA1121043\",IF(Benchsheet!C164=1121900,\"VA1121900\",IF(Benchsheet!C164=1121845,\"VA1121845\",IF(Benchsheet!C164=1121655,\"VA1121655\",IF(Benchsheet!C164=1121900,\"VA1121900\",IF(Benchsheet!C164<1,\"\")))))))))))))))","v":""},{"$f":"WORKSHEET!C161","v":""},{"$f":"IF(Benchsheet!A164>1,\"SM 9223B\",\"\")","v":""},{"$f":"Benchsheet!U164","v":"00:00:00"},{"$f":"IF(Benchsheet!J164>1,\"A\",\"\")","v":""},{"$f":"Benchsheet!M164","v":0},{"$f":"IF(WORKSHEET!A164=\"-1\",\"\",IF(WORKSHEET!A164=0,\"0\",WORKSHEET!A164))","v":""},"",{"$f":"IF(WORKSHEET!B162=\"MPN\",\"MPN\",\"\")","v":""}]
[{"$f":"IF(Benchsheet!A165>1,\"result\",\"\")","v":""},{"$f":"IF(Benchsheet!A165>1,\"STATE\",\"\")","v":""},{"$f":"IF(Benchsheet!A165>1,\"00035\",\"\")","v":""},{"$f":"Benchsheet!A165","v":0},{"$f":"IF(Benchsheet!C165=1121057,\"VA1121057\",IF(Benchsheet!C165=1121090,\"VA1121090\",IF(Benchsheet!C165=1121052,\"VA1121052\",IF(Benchsheet!C165=1121175,\"VA1121175\",IF(Benchsheet!C165=1121580,\"VA1121580\",IF(Benchsheet!C165=1121570,\"VA1121570\",IF(Benchsheet!C165=1121045,\"VA1121045\",IF(Benchsheet!C165=1121655,\"VA1121655\",IF(Benchsheet!C165=1121503,\"VA1121503\",IF(Benchsheet!C165=1121043,\"VA1121043\",IF(Benchsheet!C165=1121900,\"VA1121900\",IF(Benchsheet!C165=1121845,\"VA1121845\",IF(Benchsheet!C165=1121655,\"VA1121655\",IF(Benchsheet!C165=1121900,\"VA1121900\",IF(Benchsheet!C165<1,\"\")))))))))))))))","v":""},{"$f":"IF(WORKSHEET!B162=\"MPN\",\"3000\",IF(WORKSHEET!B162=\"TC\",\"3100\",\"\"))","v":""},{"$f":"IF(Benchsheet!A165>1,\"SM 9223B\",\"\")","v":""},{"$f":"Benchsheet!U165","v":"00:00:00"},{"$f":"IF(Benchsheet!J165>1,\"A\",\"\")","v":""},{"$f":"Benchsheet!L165","v":0},{"$f":"IF(WORKSHEET!A165=\"-1\",\"\",IF(WORKSHEET!A165=0,\"0\",WORKSHEET!A165))","v":""},"",{"$f":"IF(WORKSHEET!B162=\"MPN\",\"MPN\",\"\")","v":""}]
[{"$f":"IF(Benchsheet!A165>1,\"result\",\"\")","v":""},{"$f":"IF(Benchsheet!A165>1,\"STATE\",\"\")","v":""},{"$f":"IF(Benchsheet!A165>1,\"00035\",\"\")","v":""},{"$f":"Benchsheet!A165","v":0},{"$f":"IF(Benchsheet!C165=1121057,\"VA1121057\",IF(Benchsheet!C165=1121090,\"VA1121090\",IF(Benchsheet!C165=1121052,\"VA1121052\",IF(Benchsheet!C165=1121175,\"VA1121175\",IF(Benchsheet!C165=1121580,\"VA1121580\",IF(Benchsheet!C165=1121570,\"VA1121570\",IF(Benchsheet!C165=1121045,\"VA1121045\",IF(Benchsheet!C165=1121655,\"VA1121655\",IF(Benchsheet!C165=1121503,\"VA1121503\",IF(Benchsheet!C165=1121043,\"VA1121043\",IF(Benchsheet!C165=1121900,\"VA1121900\",IF(Benchsheet!C165=1121845,\"VA1121845\",IF(Benchsheet!C165=1121655,\"VA1121655\",IF(Benchsheet!C165=1121900,\"VA1121900\",IF(Benchsheet!C165<1,\"\")))))))))))))))","v":""},{"$f":"WORKSHEET!C162","v":""},{"$f":"IF(Benchsheet!A165>1,\"SM 9223B\",\"\")","v":""},{"$f":"Benchsheet!U165","v":"00:00:00"},{"$f":"IF(Benchsheet!J165>1,\"A\",\"\")","v":""},{"$f":"Benchsheet!M165","v":0},{"$f":"IF(WORKSHEET!A165=\"-1\",\"\",IF(WORKSHEET!A165=0,\"0\",WORKSHEET!A165))","v":""},{"$f":"IF(M323=\"MPN\",\"100ML\",\"\")","v":""},{"$f":"IF(WORKSHEET!B163=\"MPN\",\"MPN\",\"\")","v":""}]
[{"$f":"IF(Benchsheet!A166>1,\"result\",\"\")","v":""},{"$f":"IF(Benchsheet!A166>1,\"STATE\",\"\")","v":""},{"$f":"IF(Benchsheet!A166>1,\"00035\",\"\")","v":""},{"$f":"Benchsheet!A166","v":0},{"$f":"IF(Benchsheet!C166=1121057,\"VA1121057\",IF(Benchsheet!C166=1121090,\"VA1121090\",IF(Benchsheet!C166=1121052,\"VA1121052\",IF(Benchsheet!C166=1121175,\"VA1121175\",IF(Benchsheet!C166=1121580,\"VA1121580\",IF(Benchsheet!C166=1121570,\"VA1121570\",IF(Benchsheet!C166=1121045,\"VA1121045\",IF(Benchsheet!C166=1121655,\"VA1121655\",IF(Benchsheet!C166=1121503,\"VA1121503\",IF(Benchsheet!C166=1121043,\"VA1121043\",IF(Benchsheet!C166=1121900,\"VA1121900\",IF(Benchsheet!C166=1121845,\"VA1121845\",IF(Benchsheet!C166=1121655,\"VA1121655\",IF(Benchsheet!C166=1121900,\"VA1121900\",IF(Benchsheet!C166<1,\"\")))))))))))))))","v":""},{"$f":"IF(WORKSHEET!B163=\"MPN\",\"3000\",IF(WORKSHEET!B163=\"TC\",\"3100\",\"\"))","v":""},{"$f":"IF(Benchsheet!A166>1,\"SM 9223B\",\"\")","v":""},{"$f":"Benchsheet!U166","v":"00:00:00"},{"$f":"IF(Benchsheet!J166>1,\"A\",\"\")","v":""},{"$f":"Benchsheet!L166","v":0},{"$f":"IF(WORKSHEET!A166=\"-1\",\"\",IF(WORKSHEET!A166=0,\"0\",WORKSHEET!A166))","v":""},"",{"$f":"IF(WORKSHEET!B163=\"MPN\",\"MPN\",\"\")","v":""}]
[{"$f":"IF(Benchsheet!A166>1,\"result\",\"\")","v":""},{"$f":"IF(Benchsheet!A166>1,\"STATE\",\"\")","v":""},{"$f":"IF(Benchsheet!A166>1,\"00035\",\"\")","v":""},{"$f":"Benchsheet!A166","v":0},{"$f":"IF(Benchsheet!C166=1121057,\"VA1121057\",IF(Benchsheet!C166=1121090,\"VA1121090\",IF(Benchsheet!C166=1121052,\"VA1121052\",IF(Benchsheet!C166=1121175,\"VA1121175\",IF(Benchsheet!C166=1121580,\"VA1121580\",IF(Benchsheet!C166=1121570,\"VA1121570\",IF(Benchsheet!C166=1121045,\"VA1121045\",IF(Benchsheet!C166=1121655,\"VA1121655\",IF(Benchsheet!C166=1121503,\"VA1121503\",IF(Benchsheet!C166=1121043,\"VA1121043\",IF(Benchsheet!C166=1121900,\"VA1121900\",IF(Benchsheet!C166=1121845,\"VA1121845\",IF(Benchsheet!C166=1121655,\"VA1121655\",IF(Benchsheet!C166=1121900,\"VA1121900\",IF(Benchsheet!C166<1,\"\")))))))))))))))","v":""},{"$f":"WORKSHEET!C163","v":""},{"$f":"IF(Benchsheet!A166>1,\"SM 9223B\",\"\")","v":""},{"$f":"Benchsheet!U166","v":"00:00:00"},{"$f":"IF(Benchsheet!J166>1,\"A\",\"\")","v":""},{"$f":"Benchsheet!M166","v":0},{"$f":"IF(WORKSHEET!A166=\"-1\",\"\",IF(WORKSHEET!A166=0,\"0\",WORKSHEET!A166))","v":""},"",{"$f":"IF(WORKSHEET!B164=\"MPN\",\"MPN\",\"\")","v":""}]
[{"$f":"IF(Benchsheet!A167>1,\"result\",\"\")","v":""},{"$f":"IF(Benchsheet!A167>1,\"STATE\",\"\")","v":""},{"$f":"IF(Benchsheet!A167>1,\"00035\",\"\")","v":""},{"$f":"Benchsheet!A167","v":0},{"$f":"IF(Benchsheet!C167=1121057,\"VA1121057\",IF(Benchsheet!C167=1121090,\"VA1121090\",IF(Benchsheet!C167=1121052,\"VA1121052\",IF(Benchsheet!C167=1121175,\"VA1121175\",IF(Benchsheet!C167=1121580,\"VA1121580\",IF(Benchsheet!C167=1121570,\"VA1121570\",IF(Benchsheet!C167=1121045,\"VA1121045\",IF(Benchsheet!C167=1121655,\"VA1121655\",IF(Benchsheet!C167=1121503,\"VA1121503\",IF(Benchsheet!C167=1121043,\"VA1121043\",IF(Benchsheet!C167=1121900,\"VA1121900\",IF(Benchsheet!C167=1121845,\"VA1121845\",IF(Benchsheet!C167=1121655,\"VA1121655\",IF(Benchsheet!C167=1121900,\"VA1121900\",IF(Benchsheet!C167<1,\"\")))))))))))))))","v":""},{"$f":"IF(WORKSHEET!B164=\"MPN\",\"3000\",IF(WORKSHEET!B164=\"TC\",\"3100\",\"\"))","v":""},{"$f":"IF(Benchsheet!A167>1,\"SM 9223B\",\"\")","v":""},{"$f":"Benchsheet!U167","v":"00:00:00"},{"$f":"IF(Benchsheet!J167>1,\"A\",\"\")","v":""},{"$f":"Benchsheet!L167","v":0},{"$f":"IF(WORKSHEET!A167=\"-1\",\"\",IF(WORKSHEET!A167=0,\"0\",WORKSHEET!A167))","v":""},"",{"$f":"IF(WORKSHEET!B164=\"MPN\",\"MPN\",\"\")","v":""}]
[{"$f":"IF(Benchsheet!A167>1,\"result\",\"\")","v":""},{"$f":"IF(Benchsheet!A167>1,\"STATE\",\"\")","v":""},{"$f":"IF(Benchsheet!A167>1,\"00035\",\"\")","v":""},{"$f":"Benchsheet!A167","v":0},{"$f":"IF(Benchsheet!C167=1121057,\"VA1121057\",IF(Benchsheet!C167=1121090,\"VA1121090\",IF(Benchsheet!C167=1121052,\"VA1121052\",IF(Benchsheet!C167=1121175,\"VA1121175\",IF(Benchsheet!C167=1121580,\"VA1121580\",IF(Benchsheet!C167=1121570,\"VA1121570\",IF(Benchsheet!C167=1121045,\"VA1121045\",IF(Benchsheet!C167=1121655,\"VA1121655\",IF(Benchsheet!C167=1121503,\"VA1121503\",IF(Benchsheet!C167=1121043,\"VA1121043\",IF(Benchsheet!C167=1121900,\"VA1121900\",IF(Benchsheet!C167=1121845,\"VA1121845\",IF(Benchsheet!C167=1121655,\"VA1121655\",IF(Benchsheet!C167=1121900,\"VA1121900\",IF(Benchsheet!C167<1,\"\")))))))))))))))","v":""},{"$f":"WORKSHEET!C164","v":""},{"$f":"IF(Benchsheet!A167>1,\"SM 9223B\",\"\")","v":""},{"$f":"Benchsheet!U167","v":"00:00:00"},{"$f":"IF(Benchsheet!J167>1,\"A\",\"\")","v":""},{"$f":"Benchsheet!M167","v":0},{"$f":"IF(WORKSHEET!A167=\"-1\",\"\",IF(WORKSHEET!A167=0,\"0\",WORKSHEET!A167))","v":""},"",{"$f":"IF(WORKSHEET!B165=\"MPN\",\"MPN\",\"\")","v":""}]
[{"$f":"IF(Benchsheet!A168>1,\"result\",\"\")","v":""},{"$f":"IF(Benchsheet!A168>1,\"STATE\",\"\")","v":""},{"$f":"IF(Benchsheet!A168>1,\"00035\",\"\")","v":""},{"$f":"Benchsheet!A168","v":0},{"$f":"IF(Benchsheet!C168=1121057,\"VA1121057\",IF(Benchsheet!C168=1121090,\"VA1121090\",IF(Benchsheet!C168=1121052,\"VA1121052\",IF(Benchsheet!C168=1121175,\"VA1121175\",IF(Benchsheet!C168=1121580,\"VA1121580\",IF(Benchsheet!C168=1121570,\"VA1121570\",IF(Benchsheet!C168=1121045,\"VA1121045\",IF(Benchsheet!C168=1121655,\"VA1121655\",IF(Benchsheet!C168=1121503,\"VA1121503\",IF(Benchsheet!C168=1121043,\"VA1121043\",IF(Benchsheet!C168=1121900,\"VA1121900\",IF(Benchsheet!C168=1121845,\"VA1121845\",IF(Benchsheet!C168=1121655,\"VA1121655\",IF(Benchsheet!C168=1121900,\"VA1121900\",IF(Benchsheet!C168<1,\"\")))))))))))))))","v":""},{"$f":"IF(WORKSHEET!B165=\"MPN\",\"3000\",IF(WORKSHEET!B165=\"TC\",\"3100\",\"\"))","v":""},{"$f":"IF(Benchsheet!A168>1,\"SM 9223B\",\"\")","v":""},{"$f":"Benchsheet!U168","v":"00:00:00"},{"$f":"IF(Benchsheet!J168>1,\"A\",\"\")","v":""},{"$f":"Benchsheet!L168","v":0},{"$f":"IF(WORKSHEET!A168=\"-1\",\"\",IF(WORKSHEET!A168=0,\"0\",WORKSHEET!A168))","v":""},"",{"$f":"IF(WORKSHEET!B165=\"MPN\",\"MPN\",\"\")","v":""}]
[{"$f":"IF(Benchsheet!A168>1,\"result\",\"\")","v":""},{"$f":"IF(Benchsheet!A168>1,\"STATE\",\"\")","v":""},{"$f":"IF(Benchsheet!A168>1,\"00035\",\"\")","v":""},{"$f":"Benchsheet!A168","v":0},{"$f":"IF(Benchsheet!C168=1121057,\"VA1121057\",IF(Benchsheet!C168=1121090,\"VA1121090\",IF(Benchsheet!C168=1121052,\"VA1121052\",IF(Benchsheet!C168=1121175,\"VA1121175\",IF(Benchsheet!C168=1121580,\"VA1121580\",IF(Benchsheet!C168=1121570,\"VA1121570\",IF(Benchsheet!C168=1121045,\"VA1121045\",IF(Benchsheet!C168=1121655,\"VA1121655\",IF(Benchsheet!C168=1121503,\"VA1121503\",IF(Benchsheet!C168=1121043,\"VA1121043\",IF(Benchsheet!C168=1121900,\"VA1121900\",IF(Benchsheet!C168=1121845,\"VA1121845\",IF(Benchsheet!C168=1121655,\"VA1121655\",IF(Benchsheet!C168=1121900,\"VA1121900\",IF(Benchsheet!C168<1,\"\")))))))))))))))","v":""},{"$f":"WORKSHEET!C165","v":""},{"$f":"IF(Benchsheet!A168>1,\"SM 9223B\",\"\")","v":""},{"$f":"Benchsheet!U168","v":"00:00:00"},{"$f":"IF(Benchsheet!J168>1,\"A\",\"\")","v":""},{"$f":"Benchsheet!M168","v":0},{"$f":"IF(WORKSHEET!A168=\"-1\",\"\",IF(WORKSHEET!A168=0,\"0\",WORKSHEET!A168))","v":""},"",{"$f":"IF(WORKSHEET!B166=\"MPN\",\"MPN\",\"\")","v":""}]
[{"$f":"IF(Benchsheet!A169>1,\"result\",\"\")","v":""},{"$f":"IF(Benchsheet!A169>1,\"STATE\",\"\")","v":""},{"$f":"IF(Benchsheet!A169>1,\"00035\",\"\")","v":""},{"$f":"Benchsheet!A169","v":0},{"$f":"IF(Benchsheet!C169=1121057,\"VA1121057\",IF(Benchsheet!C169=1121090,\"VA1121090\",IF(Benchsheet!C169=1121052,\"VA1121052\",IF(Benchsheet!C169=1121175,\"VA1121175\",IF(Benchsheet!C169=1121580,\"VA1121580\",IF(Benchsheet!C169=1121570,\"VA1121570\",IF(Benchsheet!C169=1121045,\"VA1121045\",IF(Benchsheet!C169=1121655,\"VA1121655\",IF(Benchsheet!C169=1121503,\"VA1121503\",IF(Benchsheet!C169=1121043,\"VA1121043\",IF(Benchsheet!C169=1121900,\"VA1121900\",IF(Benchsheet!C169=1121845,\"VA1121845\",IF(Benchsheet!C169=1121655,\"VA1121655\",IF(Benchsheet!C169=1121900,\"VA1121900\",IF(Benchsheet!C169<1,\"\")))))))))))))))","v":""},{"$f":"IF(WORKSHEET!B166=\"MPN\",\"3000\",IF(WORKSHEET!B166=\"TC\",\"3100\",\"\"))","v":""},{"$f":"IF(Benchsheet!A169>1,\"SM 9223B\",\"\")","v":""},{"$f":"Benchsheet!U169","v":"00:00:00"},{"$f":"IF(Benchsheet!J169>1,\"A\",\"\")","v":""},{"$f":"Benchsheet!L169","v":0},{"$f":"IF(WORKSHEET!A169=\"-1\",\"\",IF(WORKSHEET!A169=0,\"0\",WORKSHEET!A169))","v":""},"",{"$f":"IF(WORKSHEET!B166=\"MPN\",\"MPN\",\"\")","v":""}]
[{"$f":"IF(Benchsheet!A169>1,\"result\",\"\")","v":""},{"$f":"IF(Benchsheet!A169>1,\"STATE\",\"\")","v":""},{"$f":"IF(Benchsheet!A169>1,\"00035\",\"\")","v":""},{"$f":"Benchsheet!A169","v":0},{"$f":"IF(Benchsheet!C169=1121057,\"VA1121057\",IF(Benchsheet!C169=1121090,\"VA1121090\",IF(Benchsheet!C169=1121052,\"VA1121052\",IF(Benchsheet!C169=1121175,\"VA1121175\",IF(Benchsheet!C169=1121580,\"VA1121580\",IF(Benchsheet!C169=1121570,\"VA1121570\",IF(Benchsheet!C169=1121045,\"VA1121045\",IF(Benchsheet!C169=1121655,\"VA1121655\",IF(Benchsheet!C169=1121503,\"VA1121503\",IF(Benchsheet!C169=1121043,\"VA1121043\",IF(Benchsheet!C169=1121900,\"VA1121900\",IF(Benchsheet!C169=1121845,\"VA1121845\",IF(Benchsheet!C169=1121655,\"VA1121655\",IF(Benchsheet!C169=1121900,\"VA1121900\",IF(Benchsheet!C169<1,\"\")))))))))))))))","v":""},{"$f":"WORKSHEET!C166","v":""},{"$f":"IF(Benchsheet!A169>1,\"SM 9223B\",\"\")","v":""},{"$f":"Benchsheet!U169","v":"00:00:00"},{"$f":"IF(Benchsheet!J169>1,\"A\",\"\")","v":""},{"$f":"Benchsheet!M169","v":0},{"$f":"IF(WORKSHEET!A169=\"-1\",\"\",IF(WORKSHEET!A169=0,\"0\",WORKSHEET!A169))","v":""},"",{"$f":"IF(WORKSHEET!B167=\"MPN\",\"MPN\",\"\")","v":""}]
[{"$f":"IF(Benchsheet!A170>1,\"result\",\"\")","v":""},{"$f":"IF(Benchsheet!A170>1,\"STATE\",\"\")","v":""},{"$f":"IF(Benchsheet!A170>1,\"00035\",\"\")","v":""},{"$f":"Benchsheet!A170","v":0},{"$f":"IF(Benchsheet!C170=1121057,\"VA1121057\",IF(Benchsheet!C170=1121090,\"VA1121090\",IF(Benchsheet!C170=1121052,\"VA1121052\",IF(Benchsheet!C170=1121175,\"VA1121175\",IF(Benchsheet!C170=1121580,\"VA1121580\",IF(Benchsheet!C170=1121570,\"VA1121570\",IF(Benchsheet!C170=1121045,\"VA1121045\",IF(Benchsheet!C170=1121655,\"VA1121655\",IF(Benchsheet!C170=1121503,\"VA1121503\",IF(Benchsheet!C170=1121043,\"VA1121043\",IF(Benchsheet!C170=1121900,\"VA1121900\",IF(Benchsheet!C170=1121845,\"VA1121845\",IF(Benchsheet!C170=1121655,\"VA1121655\",IF(Benchsheet!C170=1121900,\"VA1121900\",IF(Benchsheet!C170<1,\"\")))))))))))))))","v":""},{"$f":"IF(WORKSHEET!B167=\"MPN\",\"3000\",IF(WORKSHEET!B167=\"TC\",\"3100\",\"\"))","v":""},{"$f":"IF(Benchsheet!A170>1,\"SM 9223B\",\"\")","v":""},{"$f":"Benchsheet!U170","v":"00:00:00"},{"$f":"IF(Benchsheet!J170>1,\"A\",\"\")","v":""},{"$f":"Benchsheet!L170","v":0},{"$f":"IF(WORKSHEET!A170=\"-1\",\"\",IF(WORKSHEET!A170=0,\"0\",WORKSHEET!A170))","v":""},"",{"$f":"IF(WORKSHEET!B167=\"MPN\",\"MPN\",\"\")","v":""}]
[{"$f":"IF(Benchsheet!A170>1,\"result\",\"\")","v":""},{"$f":"IF(Benchsheet!A170>1,\"STATE\",\"\")","v":""},{"$f":"IF(Benchsheet!A170>1,\"00035\",\"\")","v":""},{"$f":"Benchsheet!A170","v":0},{"$f":"IF(Benchsheet!C170=1121057,\"VA1121057\",IF(Benchsheet!C170=1121090,\"VA1121090\",IF(Benchsheet!C170=1121052,\"VA1121052\",IF(Benchsheet!C170=1121175,\"VA1121175\",IF(Benchsheet!C170=1121580,\"VA1121580\",IF(Benchsheet!C170=1121570,\"VA1121570\",IF(Benchsheet!C170=1121045,\"VA1121045\",IF(Benchsheet!C170=1121655,\"VA1121655\",IF(Benchsheet!C170=1121503,\"VA1121503\",IF(Benchsheet!C170=1121043,\"VA1121043\",IF(Benchsheet!C170=1121900,\"VA1121900\",IF(Benchsheet!C170=1121845,\"VA1121845\",IF(Benchsheet!C170=1121655,\"VA1121655\",IF(Benchsheet!C170=1121900,\"VA1121900\",IF(Benchsheet!C170<1,\"\")))))))))))))))","v":""},{"$f":"WORKSHEET!C167","v":""},{"$f":"IF(Benchsheet!A170>1,\"SM 9223B\",\"\")","v":""},{"$f":"Benchsheet!U170","v":"00:00:00"},{"$f":"IF(Benchsheet!J170>1,\"A\",\"\")","v":""},{"$f":"Benchsheet!M170","v":0},{"$f":"IF(WORKSHEET!A170=\"-1\",\"\",IF(WORKSHEET!A170=0,\"0\",WORKSHEET!A170))","v":""},"",{"$f":"IF(WORKSHEET!B168=\"MPN\",\"MPN\",\"\")","v":""}]
[{"$f":"IF(Benchsheet!A171>1,\"result\",\"\")","v":""},{"$f":"IF(Benchsheet!A171>1,\"STATE\",\"\")","v":""},{"$f":"IF(Benchsheet!A171>1,\"00035\",\"\")","v":""},{"$f":"Benchsheet!A171","v":0},{"$f":"IF(Benchsheet!C171=1121057,\"VA1121057\",IF(Benchsheet!C171=1121090,\"VA1121090\",IF(Benchsheet!C171=1121052,\"VA1121052\",IF(Benchsheet!C171=1121175,\"VA1121175\",IF(Benchsheet!C171=1121580,\"VA1121580\",IF(Benchsheet!C171=1121570,\"VA1121570\",IF(Benchsheet!C171=1121045,\"VA1121045\",IF(Benchsheet!C171=1121655,\"VA1121655\",IF(Benchsheet!C171=1121503,\"VA1121503\",IF(Benchsheet!C171=1121043,\"VA1121043\",IF(Benchsheet!C171=1121900,\"VA1121900\",IF(Benchsheet!C171=1121845,\"VA1121845\",IF(Benchsheet!C171=1121655,\"VA1121655\",IF(Benchsheet!C171=1121900,\"VA1121900\",IF(Benchsheet!C171<1,\"\")))))))))))))))","v":""},{"$f":"IF(WORKSHEET!B168=\"MPN\",\"3000\",IF(WORKSHEET!B168=\"TC\",\"3100\",\"\"))","v":""},{"$f":"IF(Benchsheet!A171>1,\"SM 9223B\",\"\")","v":""},{"$f":"Benchsheet!U171","v":"00:00:00"},{"$f":"IF(Benchsheet!J171>1,\"A\",\"\")","v":""},{"$f":"Benchsheet!L171","v":0},{"$f":"IF(WORKSHEET!A171=\"-1\",\"\",IF(WORKSHEET!A171=0,\"0\",WORKSHEET!A171))","v":""},"",{"$f":"IF(WORKSHEET!B168=\"MPN\",\"MPN\",\"\")","v":""}]
[{"$f":"IF(Benchsheet!A171>1,\"result\",\"\")","v":""},{"$f":"IF(Benchsheet!A171>1,\"STATE\",\"\")","v":""},{"$f":"IF(Benchsheet!A171>1,\"00035\",\"\")","v":""},{"$f":"Benchsheet!A171","v":0},{"$f":"IF(Benchsheet!C171=1121057,\"VA1121057\",IF(Benchsheet!C171=1121090,\"VA1121090\",IF(Benchsheet!C171=1121052,\"VA1121052\",IF(Benchsheet!C171=1121175,\"VA1121175\",IF(Benchsheet!C171=1121580,\"VA1121580\",IF(Benchsheet!C171=1121570,\"VA1121570\",IF(Benchsheet!C171=1121045,\"VA1121045\",IF(Benchsheet!C171=1121655,\"VA1121655\",IF(Benchsheet!C171=1121503,\"VA1121503\",IF(Benchsheet!C171=1121043,\"VA1121043\",IF(Benchsheet!C171=1121900,\"VA1121900\",IF(Benchsheet!C171=1121845,\"VA1121845\",IF(Benchsheet!C171=1121655,\"VA1121655\",IF(Benchsheet!C171=1121900,\"VA1121900\",IF(Benchsheet!C171<1,\"\")))))))))))))))","v":""},{"$f":"WORKSHEET!C168","v":""},{"$f":"IF(Benchsheet!A171>1,\"SM 9223B\",\"\")","v":""},{"$f":"Benchsheet!U171","v":"00:00:00"},{"$f":"IF(Benchsheet!J171>1,\"A\",\"\")","v":""},{"$f":"Benchsheet!M171","v":0},{"$f":"IF(WORKSHEET!A171=\"-1\",\"\",IF(WORKSHEET!A171=0,\"0\",WORKSHEET!A171))","v":""},"",{"$f":"IF(WORKSHEET!B169=\"MPN\",\"MPN\",\"\")","v":""}]
[{"$f":"IF(Benchsheet!A172>1,\"result\",\"\")","v":""},{"$f":"IF(Benchsheet!A172>1,\"STATE\",\"\")","v":""},{"$f":"IF(Benchsheet!A172>1,\"00035\",\"\")","v":""},{"$f":"Benchsheet!A172","v":0},{"$f":"IF(Benchsheet!C172=1121057,\"VA1121057\",IF(Benchsheet!C172=1121090,\"VA1121090\",IF(Benchsheet!C172=1121052,\"VA1121052\",IF(Benchsheet!C172=1121175,\"VA1121175\",IF(Benchsheet!C172=1121580,\"VA1121580\",IF(Benchsheet!C172=1121570,\"VA1121570\",IF(Benchsheet!C172=1121045,\"VA1121045\",IF(Benchsheet!C172=1121655,\"VA1121655\",IF(Benchsheet!C172=1121503,\"VA1121503\",IF(Benchsheet!C172=1121043,\"VA1121043\",IF(Benchsheet!C172=1121900,\"VA1121900\",IF(Benchsheet!C172=1121845,\"VA1121845\",IF(Benchsheet!C172=1121655,\"VA1121655\",IF(Benchsheet!C172=1121900,\"VA1121900\",IF(Benchsheet!C172<1,\"\")))))))))))))))","v":""},{"$f":"IF(WORKSHEET!B169=\"MPN\",\"3000\",IF(WORKSHEET!B169=\"TC\",\"3100\",\"\"))","v":""},{"$f":"IF(Benchsheet!A172>1,\"SM 9223B\",\"\")","v":""},{"$f":"Benchsheet!U172","v":"00:00:00"},{"$f":"IF(Benchsheet!J172>1,\"A\",\"\")","v":""},{"$f":"Benchsheet!L172","v":0},{"$f":"IF(WORKSHEET!A172=\"-1\",\"\",IF(WORKSHEET!A172=0,\"0\",WORKSHEET!A172))","v":""},"",{"$f":"IF(WORKSHEET!B169=\"MPN\",\"MPN\",\"\")","v":""}]
[{"$f":"IF(Benchsheet!A172>1,\"result\",\"\")","v":""},{"$f":"IF(Benchsheet!A172>1,\"STATE\",\"\")","v":""},{"$f":"IF(Benchsheet!A172>1,\"00035\",\"\")","v":""},{"$f":"Benchsheet!A172","v":0},{"$f":"IF(Benchsheet!C172=1121057,\"VA1121057\",IF(Benchsheet!C172=1121090,\"VA1121090\",IF(Benchsheet!C172=1121052,\"VA1121052\",IF(Benchsheet!C172=1121175,\"VA1121175\",IF(Benchsheet!C172=1121580,\"VA1121580\",IF(Benchsheet!C172=1121570,\"VA1121570\",IF(Benchsheet!C172=1121045,\"VA1121045\",IF(Benchsheet!C172=1121655,\"VA1121655\",IF(Benchsheet!C172=1121503,\"VA1121503\",IF(Benchsheet!C172=1121043,\"VA1121043\",IF(Benchsheet!C172=1121900,\"VA1121900\",IF(Benchsheet!C172=1121845,\"VA1121845\",IF(Benchsheet!C172=1121655,\"VA1121655\",IF(Benchsheet!C172=1121900,\"VA1121900\",IF(Benchsheet!C172<1,\"\")))))))))))))))","v":""},{"$f":"WORKSHEET!C169","v":""},{"$f":"IF(Benchsheet!A172>1,\"SM 9223B\",\"\")","v":""},{"$f":"Benchsheet!U172","v":"00:00:00"},{"$f":"IF(Benchsheet!J172>1,\"A\",\"\")","v":""},{"$f":"Benchsheet!M172","v":0},{"$f":"IF(WORKSHEET!A172=\"-1\",\"\",IF(WORKSHEET!A172=0,\"0\",WORKSHEET!A172))","v":""},"",{"$f":"IF(WORKSHEET!B170=\"MPN\",\"MPN\",\"\")","v":""}]
[{"$f":"IF(Benchsheet!A173>1,\"result\",\"\")","v":""},{"$f":"IF(Benchsheet!A173>1,\"STATE\",\"\")","v":""},{"$f":"IF(Benchsheet!A173>1,\"00035\",\"\")","v":""},{"$f":"Benchsheet!A173","v":0},{"$f":"IF(Benchsheet!C173=1121057,\"VA1121057\",IF(Benchsheet!C173=1121090,\"VA1121090\",IF(Benchsheet!C173=1121052,\"VA1121052\",IF(Benchsheet!C173=1121175,\"VA1121175\",IF(Benchsheet!C173=1121580,\"VA1121580\",IF(Benchsheet!C173=1121570,\"VA1121570\",IF(Benchsheet!C173=1121045,\"VA1121045\",IF(Benchsheet!C173=1121655,\"VA1121655\",IF(Benchsheet!C173=1121503,\"VA1121503\",IF(Benchsheet!C173=1121043,\"VA1121043\",IF(Benchsheet!C173=1121900,\"VA1121900\",IF(Benchsheet!C173=1121845,\"VA1121845\",IF(Benchsheet!C173=1121655,\"VA1121655\",IF(Benchsheet!C173=1121900,\"VA1121900\",IF(Benchsheet!C173<1,\"\")))))))))))))))","v":""},{"$f":"IF(WORKSHEET!B170=\"MPN\",\"3000\",IF(WORKSHEET!B170=\"TC\",\"3100\",\"\"))","v":""},{"$f":"IF(Benchsheet!A173>1,\"SM 9223B\",\"\")","v":""},{"$f":"Benchsheet!U173","v":"00:00:00"},{"$f":"IF(Benchsheet!J173>1,\"A\",\"\")","v":""},{"$f":"Benchsheet!L173","v":0},{"$f":"IF(WORKSHEET!A173=\"-1\",\"\",IF(WORKSHEET!A173=0,\"0\",WORKSHEET!A173))","v":""},"",{"$f":"IF(WORKSHEET!B170=\"MPN\",\"MPN\",\"\")","v":""}]
[{"$f":"IF(Benchsheet!A173>1,\"result\",\"\")","v":""},{"$f":"IF(Benchsheet!A173>1,\"STATE\",\"\")","v":""},{"$f":"IF(Benchsheet!A173>1,\"00035\",\"\")","v":""},{"$f":"Benchsheet!A173","v":0},{"$f":"IF(Benchsheet!C173=1121057,\"VA1121057\",IF(Benchsheet!C173=1121090,\"VA1121090\",IF(Benchsheet!C173=1121052,\"VA1121052\",IF(Benchsheet!C173=1121175,\"VA1121175\",IF(Benchsheet!C173=1121580,\"VA1121580\",IF(Benchsheet!C173=1121570,\"VA1121570\",IF(Benchsheet!C173=1121045,\"VA1121045\",IF(Benchsheet!C173=1121655,\"VA1121655\",IF(Benchsheet!C173=1121503,\"VA1121503\",IF(Benchsheet!C173=1121043,\"VA1121043\",IF(Benchsheet!C173=1121900,\"VA1121900\",IF(Benchsheet!C173=1121845,\"VA1121845\",IF(Benchsheet!C173=1121655,\"VA1121655\",IF(Benchsheet!C173=1121900,\"VA1121900\",IF(Benchsheet!C173<1,\"\")))))))))))))))","v":""},{"$f":"WORKSHEET!C170","v":""},{"$f":"IF(Benchsheet!A173>1,\"SM 9223B\",\"\")","v":""},{"$f":"Benchsheet!U173","v":"00:00:00"},{"$f":"IF(Benchsheet!J173>1,\"A\",\"\")","v":""},{"$f":"Benchsheet!M173","v":0},{"$f":"IF(WORKSHEET!A173=\"-1\",\"\",IF(WORKSHEET!A173=0,\"0\",WORKSHEET!A173))","v":""},"",{"$f":"IF(WORKSHEET!B171=\"MPN\",\"MPN\",\"\")","v":""}]
[{"$f":"IF(Benchsheet!A174>1,\"result\",\"\")","v":""},{"$f":"IF(Benchsheet!A174>1,\"STATE\",\"\")","v":""},{"$f":"IF(Benchsheet!A174>1,\"00035\",\"\")","v":""},{"$f":"Benchsheet!A174","v":0},{"$f":"IF(Benchsheet!C174=1121057,\"VA1121057\",IF(Benchsheet!C174=1121090,\"VA1121090\",IF(Benchsheet!C174=1121052,\"VA1121052\",IF(Benchsheet!C174=1121175,\"VA1121175\",IF(Benchsheet!C174=1121580,\"VA1121580\",IF(Benchsheet!C174=1121570,\"VA1121570\",IF(Benchsheet!C174=1121045,\"VA1121045\",IF(Benchsheet!C174=1121655,\"VA1121655\",IF(Benchsheet!C174=1121503,\"VA1121503\",IF(Benchsheet!C174=1121043,\"VA1121043\",IF(Benchsheet!C174=1121900,\"VA1121900\",IF(Benchsheet!C174=1121845,\"VA1121845\",IF(Benchsheet!C174=1121655,\"VA1121655\",IF(Benchsheet!C174=1121900,\"VA1121900\",IF(Benchsheet!C174<1,\"\")))))))))))))))","v":""},{"$f":"IF(WORKSHEET!B171=\"MPN\",\"3000\",IF(WORKSHEET!B171=\"TC\",\"3100\",\"\"))","v":""},{"$f":"IF(Benchsheet!A174>1,\"SM 9223B\",\"\")","v":""},{"$f":"Benchsheet!U174","v":"00:00:00"},{"$f":"IF(Benchsheet!J174>1,\"A\",\"\")","v":""},{"$f":"Benchsheet!M174","v":0},{"$f":"IF(WORKSHEET!A174=\"-1\",\"\",IF(WORKSHEET!A174=0,\"0\",WORKSHEET!A174))","v":""},"",{"$f":"IF(WORKSHEET!B171=\"MPN\",\"MPN\",\"\")","v":""}]
[{"$f":"IF(Benchsheet!A175>1,\"result\",\"\")","v":""},{"$f":"IF(Benchsheet!A175>1,\"STATE\",\"\")","v":""},{"$f":"IF(Benchsheet!A175>1,\"00035\",\"\")","v":""},{"$f":"Benchsheet!A175","v":0},{"$f":"IF(Benchsheet!C174=1121057,\"VA1121057\",IF(Benchsheet!C174=1121090,\"VA1121090\",IF(Benchsheet!C174=1121052,\"VA1121052\",IF(Benchsheet!C174=1121175,\"VA1121175\",IF(Benchsheet!C174=1121580,\"VA1121580\",IF(Benchsheet!C174=1121570,\"VA1121570\",IF(Benchsheet!C174=1121045,\"VA1121045\",IF(Benchsheet!C174=1121655,\"VA1121655\",IF(Benchsheet!C174=1121503,\"VA1121503\",IF(Benchsheet!C174=1121043,\"VA1121043\",IF(Benchsheet!C174=1121900,\"VA1121900\",IF(Benchsheet!C174=1121845,\"VA1121845\",IF(Benchsheet!C174=1121655,\"VA1121655\",IF(Benchsheet!C174=1121900,\"VA1121900\",IF(Benchsheet!C174<1,\"\")))))))))))))))","v":""},{"$f":"WORKSHEET!C171","v":""},{"$f":"IF(Benchsheet!A175>1,\"SM 9223B\",\"\")","v":""},{"$f":"Benchsheet!U175","v":"00:00:00"},{"$f":"IF(Benchsheet!J175>1,\"A\",\"\")","v":""},{"$f":"Benchsheet!L175","v":0},{"$f":"IF(WORKSHEET!A174=\"-1\",\"\",IF(WORKSHEET!A174=0,\"0\",WORKSHEET!A174))","v":""},"",{"$f":"IF(WORKSHEET!B172=\"MPN\",\"MPN\",\"\")","v":""}]
[{"$f":"IF(Benchsheet!A175>1,\"result\",\"\")","v":""},{"$f":"IF(Benchsheet!A175>1,\"STATE\",\"\")","v":""},{"$f":"IF(Benchsheet!A175>1,\"00035\",\"\")","v":""},{"$f":"Benchsheet!A175","v":0},{"$f":"IF(Benchsheet!C175=1121057,\"VA1121057\",IF(Benchsheet!C175=1121090,\"VA1121090\",IF(Benchsheet!C175=1121052,\"VA1121052\",IF(Benchsheet!C175=1121175,\"VA1121175\",IF(Benchsheet!C175=1121580,\"VA1121580\",IF(Benchsheet!C175=1121570,\"VA1121570\",IF(Benchsheet!C175=1121045,\"VA1121045\",IF(Benchsheet!C175=1121655,\"VA1121655\",IF(Benchsheet!C175=1121503,\"VA1121503\",IF(Benchsheet!C175=1121043,\"VA1121043\",IF(Benchsheet!C175=1121900,\"VA1121900\",IF(Benchsheet!C175=1121845,\"VA1121845\",IF(Benchsheet!C175=1121655,\"VA1121655\",IF(Benchsheet!C175=1121900,\"VA1121900\",IF(Benchsheet!C175<1,\"\")))))))))))))))","v":""},{"$f":"IF(WORKSHEET!B172=\"MPN\",\"3000\",IF(WORKSHEET!B172=\"TC\",\"3100\",\"\"))","v":""},{"$f":"IF(Benchsheet!A175>1,\"SM 9223B\",\"\")","v":""},{"$f":"Benchsheet!U175","v":"00:00:00"},{"$f":"IF(Benchsheet!J175>1,\"A\",\"\")","v":""},{"$f":"Benchsheet!M175","v":0},{"$f":"IF(WORKSHEET!A175=\"-1\",\"\",IF(WORKSHEET!A175=0,\"0\",WORKSHEET!A175))","v":""},"",{"$f":"IF(WORKSHEET!B172=\"MPN\",\"MPN\",\"\")","v":""}]
[{"$f":"IF(Benchsheet!A176>1,\"result\",\"\")","v":""},{"$f":"IF(Benchsheet!A176>1,\"STATE\",\"\")","v":""},{"$f":"IF(Benchsheet!A176>1,\"00035\",\"\")","v":""},{"$f":"Benchsheet!A176","v":0},{"$f":"IF(Benchsheet!C175=1121057,\"VA1121057\",IF(Benchsheet!C175=1121090,\"VA1121090\",IF(Benchsheet!C175=1121052,\"VA1121052\",IF(Benchsheet!C175=1121175,\"VA1121175\",IF(Benchsheet!C175=1121580,\"VA1121580\",IF(Benchsheet!C175=1121570,\"VA1121570\",IF(Benchsheet!C175=1121045,\"VA1121045\",IF(Benchsheet!C175=1121655,\"VA1121655\",IF(Benchsheet!C175=1121503,\"VA1121503\",IF(Benchsheet!C175=1121043,\"VA1121043\",IF(Benchsheet!C175=1121900,\"VA1121900\",IF(Benchsheet!C175=1121845,\"VA1121845\",IF(Benchsheet!C175=1121655,\"VA1121655\",IF(Benchsheet!C175=1121900,\"VA1121900\",IF(Benchsheet!C175<1,\"\")))))))))))))))","v":""},{"$f":"WORKSHEET!C172","v":""},{"$f":"IF(Benchsheet!A176>1,\"SM 9223B\",\"\")","v":""},{"$f":"Benchsheet!U176","v":"00:00:00"},{"$f":"IF(Benchsheet!J176>1,\"A\",\"\")","v":""},{"$f":"Benchsheet!L176","v":0},{"$f":"IF(WORKSHEET!A175=\"-1\",\"\",IF(WORKSHEET!A175=0,\"0\",WORKSHEET!A175))","v":""},"",{"$f":"IF(WORKSHEET!B173=\"MPN\",\"MPN\",\"\")","v":""}]
[{"$f":"IF(Benchsheet!A176>1,\"result\",\"\")","v":""},{"$f":"IF(Benchsheet!A176>1,\"STATE\",\"\")","v":""},{"$f":"IF(Benchsheet!A176>1,\"00035\",\"\")","v":""},{"$f":"Benchsheet!A176","v":0},{"$f":"IF(Benchsheet!C176=1121057,\"VA1121057\",IF(Benchsheet!C176=1121090,\"VA1121090\",IF(Benchsheet!C176=1121052,\"VA1121052\",IF(Benchsheet!C176=1121175,\"VA1121175\",IF(Benchsheet!C176=1121580,\"VA1121580\",IF(Benchsheet!C176=1121570,\"VA1121570\",IF(Benchsheet!C176=1121045,\"VA1121045\",IF(Benchsheet!C176=1121655,\"VA1121655\",IF(Benchsheet!C176=1121503,\"VA1121503\",IF(Benchsheet!C176=1121043,\"VA1121043\",IF(Benchsheet!C176=1121900,\"VA1121900\",IF(Benchsheet!C176=1121845,\"VA1121845\",IF(Benchsheet!C176=1121655,\"VA1121655\",IF(Benchsheet!C176=1121900,\"VA1121900\",IF(Benchsheet!C176<1,\"\")))))))))))))))","v":""},{"$f":"IF(WORKSHEET!B173=\"MPN\",\"3000\",IF(WORKSHEET!B173=\"TC\",\"3100\",\"\"))","v":""},{"$f":"IF(Benchsheet!A176>1,\"SM 9223B\",\"\")","v":""},{"$f":"Benchsheet!U176","v":"00:00:00"},{"$f":"IF(Benchsheet!J176>1,\"A\",\"\")","v":""},{"$f":"Benchsheet!M176","v":0},{"$f":"IF(WORKSHEET!A176=\"-1\",\"\",IF(WORKSHEET!A176=0,\"0\",WORKSHEET!A176))","v":""},"",{"$f":"IF(WORKSHEET!B173=\"MPN\",\"MPN\",\"\")","v":""}]
[{"$f":"IF(Benchsheet!A177>1,\"result\",\"\")","v":""},{"$f":"IF(Benchsheet!A177>1,\"STATE\",\"\")","v":""},{"$f":"IF(Benchsheet!A177>1,\"00035\",\"\")","v":""},{"$f":"Benchsheet!A177","v":0},{"$f":"IF(Benchsheet!C176=1121057,\"VA1121057\",IF(Benchsheet!C176=1121090,\"VA1121090\",IF(Benchsheet!C176=1121052,\"VA1121052\",IF(Benchsheet!C176=1121175,\"VA1121175\",IF(Benchsheet!C176=1121580,\"VA1121580\",IF(Benchsheet!C176=1121570,\"VA1121570\",IF(Benchsheet!C176=1121045,\"VA1121045\",IF(Benchsheet!C176=1121655,\"VA1121655\",IF(Benchsheet!C176=1121503,\"VA1121503\",IF(Benchsheet!C176=1121043,\"VA1121043\",IF(Benchsheet!C176=1121900,\"VA1121900\",IF(Benchsheet!C176=1121845,\"VA1121845\",IF(Benchsheet!C176=1121655,\"VA1121655\",IF(Benchsheet!C176=1121900,\"VA1121900\",IF(Benchsheet!C176<1,\"\")))))))))))))))","v":""},{"$f":"WORKSHEET!C173","v":""},{"$f":"IF(Benchsheet!A177>1,\"SM 9223B\",\"\")","v":""},{"$f":"Benchsheet!U177","v":"00:00:00"},{"$f":"IF(Benchsheet!J177>1,\"A\",\"\")","v":""},{"$f":"Benchsheet!L177","v":0},{"$f":"IF(WORKSHEET!A176=\"-1\",\"\",IF(WORKSHEET!A176=0,\"0\",WORKSHEET!A176))","v":""},"",{"$f":"IF(WORKSHEET!B174=\"MPN\",\"MPN\",\"\")","v":""}]
[{"$f":"IF(Benchsheet!A177>1,\"result\",\"\")","v":""},{"$f":"IF(Benchsheet!A177>1,\"STATE\",\"\")","v":""},{"$f":"IF(Benchsheet!A177>1,\"00035\",\"\")","v":""},{"$f":"Benchsheet!A177","v":0},{"$f":"IF(Benchsheet!C177=1121057,\"VA1121057\",IF(Benchsheet!C177=1121090,\"VA1121090\",IF(Benchsheet!C177=1121052,\"VA1121052\",IF(Benchsheet!C177=1121175,\"VA1121175\",IF(Benchsheet!C177=1121580,\"VA1121580\",IF(Benchsheet!C177=1121570,\"VA1121570\",IF(Benchsheet!C177=1121045,\"VA1121045\",IF(Benchsheet!C177=1121655,\"VA1121655\",IF(Benchsheet!C177=1121503,\"VA1121503\",IF(Benchsheet!C177=1121043,\"VA1121043\",IF(Benchsheet!C177=1121900,\"VA1121900\",IF(Benchsheet!C177=1121845,\"VA1121845\",IF(Benchsheet!C177=1121655,\"VA1121655\",IF(Benchsheet!C177=1121900,\"VA1121900\",IF(Benchsheet!C177<1,\"\")))))))))))))))","v":""},{"$f":"IF(WORKSHEET!B174=\"MPN\",\"3000\",IF(WORKSHEET!B174=\"TC\",\"3100\",\"\"))","v":""},{"$f":"IF(Benchsheet!A177>1,\"SM 9223B\",\"\")","v":""},{"$f":"Benchsheet!U177","v":"00:00:00"},{"$f":"IF(Benchsheet!J177>1,\"A\",\"\")","v":""},{"$f":"Benchsheet!M177","v":0},{"$f":"IF(WORKSHEET!A177=\"-1\",\"\",IF(WORKSHEET!A177=0,\"0\",WORKSHEET!A177))","v":""},"",{"$f":"IF(WORKSHEET!B174=\"MPN\",\"MPN\",\"\")","v":""}]
[{"$f":"IF(Benchsheet!A178>1,\"result\",\"\")","v":""},{"$f":"IF(Benchsheet!A178>1,\"STATE\",\"\")","v":""},{"$f":"IF(Benchsheet!A178>1,\"00035\",\"\")","v":""},{"$f":"Benchsheet!A178","v":0},{"$f":"IF(Benchsheet!C177=1121057,\"VA1121057\",IF(Benchsheet!C177=1121090,\"VA1121090\",IF(Benchsheet!C177=1121052,\"VA1121052\",IF(Benchsheet!C177=1121175,\"VA1121175\",IF(Benchsheet!C177=1121580,\"VA1121580\",IF(Benchsheet!C177=1121570,\"VA1121570\",IF(Benchsheet!C177=1121045,\"VA1121045\",IF(Benchsheet!C177=1121655,\"VA1121655\",IF(Benchsheet!C177=1121503,\"VA1121503\",IF(Benchsheet!C177=1121043,\"VA1121043\",IF(Benchsheet!C177=1121900,\"VA1121900\",IF(Benchsheet!C177=1121845,\"VA1121845\",IF(Benchsheet!C177=1121655,\"VA1121655\",IF(Benchsheet!C177=1121900,\"VA1121900\",IF(Benchsheet!C177<1,\"\")))))))))))))))","v":""},{"$f":"WORKSHEET!C174","v":""},{"$f":"IF(Benchsheet!A178>1,\"SM 9223B\",\"\")","v":""},{"$f":"Benchsheet!U178","v":"00:00:00"},{"$f":"IF(Benchsheet!J178>1,\"A\",\"\")","v":""},{"$f":"Benchsheet!L178","v":0},{"$f":"IF(WORKSHEET!A177=\"-1\",\"\",IF(WORKSHEET!A177=0,\"0\",WORKSHEET!A177))","v":""},"",{"$f":"IF(WORKSHEET!B175=\"MPN\",\"MPN\",\"\")","v":""}]
[{"$f":"IF(Benchsheet!A178>1,\"result\",\"\")","v":""},{"$f":"IF(Benchsheet!A178>1,\"STATE\",\"\")","v":""},{"$f":"IF(Benchsheet!A178>1,\"00035\",\"\")","v":""},{"$f":"Benchsheet!A178","v":0},{"$f":"IF(Benchsheet!C178=1121057,\"VA1121057\",IF(Benchsheet!C178=1121090,\"VA1121090\",IF(Benchsheet!C178=1121052,\"VA1121052\",IF(Benchsheet!C178=1121175,\"VA1121175\",IF(Benchsheet!C178=1121580,\"VA1121580\",IF(Benchsheet!C178=1121570,\"VA1121570\",IF(Benchsheet!C178=1121045,\"VA1121045\",IF(Benchsheet!C178=1121655,\"VA1121655\",IF(Benchsheet!C178=1121503,\"VA1121503\",IF(Benchsheet!C178=1121043,\"VA1121043\",IF(Benchsheet!C178=1121900,\"VA1121900\",IF(Benchsheet!C178=1121845,\"VA1121845\",IF(Benchsheet!C178=1121655,\"VA1121655\",IF(Benchsheet!C178=1121900,\"VA1121900\",IF(Benchsheet!C178<1,\"\")))))))))))))))","v":""},{"$f":"IF(WORKSHEET!B175=\"MPN\",\"3000\",IF(WORKSHEET!B175=\"TC\",\"3100\",\"\"))","v":""},{"$f":"IF(Benchsheet!A178>1,\"SM 9223B\",\"\")","v":""},{"$f":"Benchsheet!U178","v":"00:00:00"},{"$f":"IF(Benchsheet!J178>1,\"A\",\"\")","v":""},{"$f":"Benchsheet!M178","v":0},{"$f":"IF(WORKSHEET!A178=\"-1\",\"\",IF(WORKSHEET!A178=0,\"0\",WORKSHEET!A178))","v":""},"",{"$f":"IF(WORKSHEET!B175=\"MPN\",\"MPN\",\"\")","v":""}]
[{"$f":"IF(Benchsheet!A179>1,\"result\",\"\")","v":""},{"$f":"IF(Benchsheet!A179>1,\"STATE\",\"\")","v":""},{"$f":"IF(Benchsheet!A179>1,\"00035\",\"\")","v":""},{"$f":"Benchsheet!A179","v":0},{"$f":"IF(Benchsheet!C178=1121057,\"VA1121057\",IF(Benchsheet!C178=1121090,\"VA1121090\",IF(Benchsheet!C178=1121052,\"VA1121052\",IF(Benchsheet!C178=1121175,\"VA1121175\",IF(Benchsheet!C178=1121580,\"VA1121580\",IF(Benchsheet!C178=1121570,\"VA1121570\",IF(Benchsheet!C178=1121045,\"VA1121045\",IF(Benchsheet!C178=1121655,\"VA1121655\",IF(Benchsheet!C178=1121503,\"VA1121503\",IF(Benchsheet!C178=1121043,\"VA1121043\",IF(Benchsheet!C178=1121900,\"VA1121900\",IF(Benchsheet!C178=1121845,\"VA1121845\",IF(Benchsheet!C178=1121655,\"VA1121655\",IF(Benchsheet!C178=1121900,\"VA1121900\",IF(Benchsheet!C178<1,\"\")))))))))))))))","v":""},{"$f":"WORKSHEET!C175","v":""},{"$f":"IF(Benchsheet!A179>1,\"SM 9223B\",\"\")","v":""},{"$f":"Benchsheet!U179","v":"00:00:00"},{"$f":"IF(Benchsheet!J179>1,\"A\",\"\")","v":""},{"$f":"Benchsheet!L179","v":0},{"$f":"IF(WORKSHEET!A178=\"-1\",\"\",IF(WORKSHEET!A178=0,\"0\",WORKSHEET!A178))","v":""},"",{"$f":"IF(WORKSHEET!B176=\"MPN\",\"MPN\",\"\")","v":""}]
[{"$f":"IF(Benchsheet!A179>1,\"result\",\"\")","v":""},{"$f":"IF(Benchsheet!A179>1,\"STATE\",\"\")","v":""},{"$f":"IF(Benchsheet!A179>1,\"00035\",\"\")","v":""},{"$f":"Benchsheet!A179","v":0},{"$f":"IF(Benchsheet!C179=1121057,\"VA1121057\",IF(Benchsheet!C179=1121090,\"VA1121090\",IF(Benchsheet!C179=1121052,\"VA1121052\",IF(Benchsheet!C179=1121175,\"VA1121175\",IF(Benchsheet!C179=1121580,\"VA1121580\",IF(Benchsheet!C179=1121570,\"VA1121570\",IF(Benchsheet!C179=1121045,\"VA1121045\",IF(Benchsheet!C179=1121655,\"VA1121655\",IF(Benchsheet!C179=1121503,\"VA1121503\",IF(Benchsheet!C179=1121043,\"VA1121043\",IF(Benchsheet!C179=1121900,\"VA1121900\",IF(Benchsheet!C179=1121845,\"VA1121845\",IF(Benchsheet!C179=1121655,\"VA1121655\",IF(Benchsheet!C179=1121900,\"VA1121900\",IF(Benchsheet!C179<1,\"\")))))))))))))))","v":""},{"$f":"IF(WORKSHEET!B176=\"MPN\",\"3000\",IF(WORKSHEET!B176=\"TC\",\"3100\",\"\"))","v":""},{"$f":"IF(Benchsheet!A179>1,\"SM 9223B\",\"\")","v":""},{"$f":"Benchsheet!U179","v":"00:00:00"},{"$f":"IF(Benchsheet!J179>1,\"A\",\"\")","v":""},{"$f":"Benchsheet!M179","v":0},{"$f":"IF(WORKSHEET!A179=\"-1\",\"\",IF(WORKSHEET!A179=0,\"0\",WORKSHEET!A179))","v":""},"",{"$f":"IF(WORKSHEET!B176=\"MPN\",\"MPN\",\"\")","v":""}]
[{"$f":"IF(Benchsheet!A180>1,\"result\",\"\")","v":""},{"$f":"IF(Benchsheet!A180>1,\"STATE\",\"\")","v":""},{"$f":"IF(Benchsheet!A180>1,\"00035\",\"\")","v":""},{"$f":"Benchsheet!A180","v":0},{"$f":"IF(Benchsheet!C179=1121057,\"VA1121057\",IF(Benchsheet!C179=1121090,\"VA1121090\",IF(Benchsheet!C179=1121052,\"VA1121052\",IF(Benchsheet!C179=1121175,\"VA1121175\",IF(Benchsheet!C179=1121580,\"VA1121580\",IF(Benchsheet!C179=1121570,\"VA1121570\",IF(Benchsheet!C179=1121045,\"VA1121045\",IF(Benchsheet!C179=1121655,\"VA1121655\",IF(Benchsheet!C179=1121503,\"VA1121503\",IF(Benchsheet!C179=1121043,\"VA1121043\",IF(Benchsheet!C179=1121900,\"VA1121900\",IF(Benchsheet!C179=1121845,\"VA1121845\",IF(Benchsheet!C179=1121655,\"VA1121655\",IF(Benchsheet!C179=1121900,\"VA1121900\",IF(Benchsheet!C179<1,\"\")))))))))))))))","v":""},{"$f":"WORKSHEET!C176","v":""},{"$f":"IF(Benchsheet!A180>1,\"SM 9223B\",\"\")","v":""},{"$f":"Benchsheet!U180","v":"00:00:00"},{"$f":"IF(Benchsheet!J180>1,\"A\",\"\")","v":""},{"$f":"Benchsheet!L180","v":0},{"$f":"IF(WORKSHEET!A179=\"-1\",\"\",IF(WORKSHEET!A179=0,\"0\",WORKSHEET!A179))","v":""},"",{"$f":"IF(WORKSHEET!B177=\"MPN\",\"MPN\",\"\")","v":""}]
[{"$f":"IF(Benchsheet!A180>1,\"result\",\"\")","v":""},{"$f":"IF(Benchsheet!A180>1,\"STATE\",\"\")","v":""},{"$f":"IF(Benchsheet!A180>1,\"00035\",\"\")","v":""},{"$f":"Benchsheet!A180","v":0},{"$f":"IF(Benchsheet!C180=1121057,\"VA1121057\",IF(Benchsheet!C180=1121090,\"VA1121090\",IF(Benchsheet!C180=1121052,\"VA1121052\",IF(Benchsheet!C180=1121175,\"VA1121175\",IF(Benchsheet!C180=1121580,\"VA1121580\",IF(Benchsheet!C180=1121570,\"VA1121570\",IF(Benchsheet!C180=1121045,\"VA1121045\",IF(Benchsheet!C180=1121655,\"VA1121655\",IF(Benchsheet!C180=1121503,\"VA1121503\",IF(Benchsheet!C180=1121043,\"VA1121043\",IF(Benchsheet!C180=1121900,\"VA1121900\",IF(Benchsheet!C180=1121845,\"VA1121845\",IF(Benchsheet!C180=1121655,\"VA1121655\",IF(Benchsheet!C180=1121900,\"VA1121900\",IF(Benchsheet!C180<1,\"\")))))))))))))))","v":""},{"$f":"IF(WORKSHEET!B177=\"MPN\",\"3000\",IF(WORKSHEET!B177=\"TC\",\"3100\",\"\"))","v":""},{"$f":"IF(Benchsheet!A180>1,\"SM 9223B\",\"\")","v":""},{"$f":"Benchsheet!U180","v":"00:00:00"},{"$f":"IF(Benchsheet!J180>1,\"A\",\"\")","v":""},{"$f":"Benchsheet!M180","v":0},{"$f":"IF(WORKSHEET!A180=\"-1\",\"\",IF(WORKSHEET!A180=0,\"0\",WORKSHEET!A180))","v":""},"",{"$f":"IF(WORKSHEET!B177=\"MPN\",\"MPN\",\"\")","v":""}]
[{"$f":"IF(Benchsheet!A181>1,\"result\",\"\")","v":""},{"$f":"IF(Benchsheet!A181>1,\"STATE\",\"\")","v":""},{"$f":"IF(Benchsheet!A181>1,\"00035\",\"\")","v":""},{"$f":"Benchsheet!A181","v":0},{"$f":"IF(Benchsheet!C180=1121057,\"VA1121057\",IF(Benchsheet!C180=1121090,\"VA1121090\",IF(Benchsheet!C180=1121052,\"VA1121052\",IF(Benchsheet!C180=1121175,\"VA1121175\",IF(Benchsheet!C180=1121580,\"VA1121580\",IF(Benchsheet!C180=1121570,\"VA1121570\",IF(Benchsheet!C180=1121045,\"VA1121045\",IF(Benchsheet!C180=1121655,\"VA1121655\",IF(Benchsheet!C180=1121503,\"VA1121503\",IF(Benchsheet!C180=1121043,\"VA1121043\",IF(Benchsheet!C180=1121900,\"VA1121900\",IF(Benchsheet!C180=1121845,\"VA1121845\",IF(Benchsheet!C180=1121655,\"VA1121655\",IF(Benchsheet!C180=1121900,\"VA1121900\",IF(Benchsheet!C180<1,\"\")))))))))))))))","v":""},{"$f":"WORKSHEET!C177","v":""},{"$f":"IF(Benchsheet!A181>1,\"SM 9223B\",\"\")","v":""},{"$f":"Benchsheet!U181","v":"00:00:00"},{"$f":"IF(Benchsheet!J181>1,\"A\",\"\")","v":""},{"$f":"Benchsheet!L181","v":0},{"$f":"IF(WORKSHEET!A180=\"-1\",\"\",IF(WORKSHEET!A180=0,\"0\",WORKSHEET!A180))","v":""},"",{"$f":"IF(WORKSHEET!B178=\"MPN\",\"MPN\",\"\")","v":""}]
[{"$f":"IF(Benchsheet!A181>1,\"result\",\"\")","v":""},{"$f":"IF(Benchsheet!A181>1,\"STATE\",\"\")","v":""},{"$f":"IF(Benchsheet!A181>1,\"00035\",\"\")","v":""},{"$f":"Benchsheet!A181","v":0},{"$f":"IF(Benchsheet!C181=1121057,\"VA1121057\",IF(Benchsheet!C181=1121090,\"VA1121090\",IF(Benchsheet!C181=1121052,\"VA1121052\",IF(Benchsheet!C181=1121175,\"VA1121175\",IF(Benchsheet!C181=1121580,\"VA1121580\",IF(Benchsheet!C181=1121570,\"VA1121570\",IF(Benchsheet!C181=1121045,\"VA1121045\",IF(Benchsheet!C181=1121655,\"VA1121655\",IF(Benchsheet!C181=1121503,\"VA1121503\",IF(Benchsheet!C181=1121043,\"VA1121043\",IF(Benchsheet!C181=1121900,\"VA1121900\",IF(Benchsheet!C181=1121845,\"VA1121845\",IF(Benchsheet!C181=1121655,\"VA1121655\",IF(Benchsheet!C181=1121900,\"VA1121900\",IF(Benchsheet!C181<1,\"\")))))))))))))))","v":""},{"$f":"IF(WORKSHEET!B178=\"MPN\",\"3000\",IF(WORKSHEET!B178=\"TC\",\"3100\",\"\"))","v":""},{"$f":"IF(Benchsheet!A181>1,\"SM 9223B\",\"\")","v":""},{"$f":"Benchsheet!U181","v":"00:00:00"},{"$f":"IF(Benchsheet!J181>1,\"A\",\"\")","v":""},{"$f":"Benchsheet!M181","v":0},{"$f":"IF(WORKSHEET!A181=\"-1\",\"\",IF(WORKSHEET!A181=0,\"0\",WORKSHEET!A181))","v":""},"",{"$f":"IF(WORKSHEET!B178=\"MPN\",\"MPN\",\"\")","v":""}]
[{"$f":"IF(Benchsheet!A182>1,\"result\",\"\")","v":""},{"$f":"IF(Benchsheet!A182>1,\"STATE\",\"\")","v":""},{"$f":"IF(Benchsheet!A182>1,\"00035\",\"\")","v":""},{"$f":"Benchsheet!A182","v":0},{"$f":"IF(Benchsheet!C181=1121057,\"VA1121057\",IF(Benchsheet!C181=1121090,\"VA1121090\",IF(Benchsheet!C181=1121052,\"VA1121052\",IF(Benchsheet!C181=1121175,\"VA1121175\",IF(Benchsheet!C181=1121580,\"VA1121580\",IF(Benchsheet!C181=1121570,\"VA1121570\",IF(Benchsheet!C181=1121045,\"VA1121045\",IF(Benchsheet!C181=1121655,\"VA1121655\",IF(Benchsheet!C181=1121503,\"VA1121503\",IF(Benchsheet!C181=1121043,\"VA1121043\",IF(Benchsheet!C181=1121900,\"VA1121900\",IF(Benchsheet!C181=1121845,\"VA1121845\",IF(Benchsheet!C181=1121655,\"VA1121655\",IF(Benchsheet!C181=1121900,\"VA1121900\",IF(Benchsheet!C181<1,\"\")))))))))))))))","v":""},{"$f":"WORKSHEET!C178","v":""},{"$f":"IF(Benchsheet!A182>1,\"SM 9223B\",\"\")","v":""},{"$f":"Benchsheet!U182","v":"00:00:00"},{"$f":"IF(Benchsheet!J182>1,\"A\",\"\")","v":""},{"$f":"Benchsheet!L182","v":0},{"$f":"IF(WORKSHEET!A181=\"-1\",\"\",IF(WORKSHEET!A181=0,\"0\",WORKSHEET!A181))","v":""},"",{"$f":"IF(WORKSHEET!B179=\"MPN\",\"MPN\",\"\")","v":""}]
[{"$f":"IF(Benchsheet!A182>1,\"result\",\"\")","v":""},{"$f":"IF(Benchsheet!A182>1,\"STATE\",\"\")","v":""},{"$f":"IF(Benchsheet!A182>1,\"00035\",\"\")","v":""},{"$f":"Benchsheet!A182","v":0},{"$f":"IF(Benchsheet!C182=1121057,\"VA1121057\",IF(Benchsheet!C182=1121090,\"VA1121090\",IF(Benchsheet!C182=1121052,\"VA1121052\",IF(Benchsheet!C182=1121175,\"VA1121175\",IF(Benchsheet!C182=1121580,\"VA1121580\",IF(Benchsheet!C182=1121570,\"VA1121570\",IF(Benchsheet!C182=1121045,\"VA1121045\",IF(Benchsheet!C182=1121655,\"VA1121655\",IF(Benchsheet!C182=1121503,\"VA1121503\",IF(Benchsheet!C182=1121043,\"VA1121043\",IF(Benchsheet!C182=1121900,\"VA1121900\",IF(Benchsheet!C182=1121845,\"VA1121845\",IF(Benchsheet!C182=1121655,\"VA1121655\",IF(Benchsheet!C182=1121900,\"VA1121900\",IF(Benchsheet!C182<1,\"\")))))))))))))))","v":""},{"$f":"IF(WORKSHEET!B179=\"MPN\",\"3000\",IF(WORKSHEET!B179=\"TC\",\"3100\",\"\"))","v":""},{"$f":"IF(Benchsheet!A182>1,\"SM 9223B\",\"\")","v":""},{"$f":"Benchsheet!U182","v":"00:00:00"},{"$f":"IF(Benchsheet!J182>1,\"A\",\"\")","v":""},{"$f":"Benchsheet!M182","v":0},{"$f":"IF(WORKSHEET!A182=\"-1\",\"\",IF(WORKSHEET!A182=0,\"0\",WORKSHEET!A182))","v":""},"",{"$f":"IF(WORKSHEET!B179=\"MPN\",\"MPN\",\"\")","v":""}]
[{"$f":"IF(Benchsheet!A183>1,\"result\",\"\")","v":""},{"$f":"IF(Benchsheet!A183>1,\"STATE\",\"\")","v":""},{"$f":"IF(Benchsheet!A183>1,\"00035\",\"\")","v":""},{"$f":"Benchsheet!A183","v":0},{"$f":"IF(Benchsheet!C182=1121057,\"VA1121057\",IF(Benchsheet!C182=1121090,\"VA1121090\",IF(Benchsheet!C182=1121052,\"VA1121052\",IF(Benchsheet!C182=1121175,\"VA1121175\",IF(Benchsheet!C182=1121580,\"VA1121580\",IF(Benchsheet!C182=1121570,\"VA1121570\",IF(Benchsheet!C182=1121045,\"VA1121045\",IF(Benchsheet!C182=1121655,\"VA1121655\",IF(Benchsheet!C182=1121503,\"VA1121503\",IF(Benchsheet!C182=1121043,\"VA1121043\",IF(Benchsheet!C182=1121900,\"VA1121900\",IF(Benchsheet!C182=1121845,\"VA1121845\",IF(Benchsheet!C182=1121655,\"VA1121655\",IF(Benchsheet!C182=1121900,\"VA1121900\",IF(Benchsheet!C182<1,\"\")))))))))))))))","v":""},{"$f":"WORKSHEET!C179","v":""},{"$f":"IF(Benchsheet!A183>1,\"SM 9223B\",\"\")","v":""},{"$f":"Benchsheet!U183","v":"00:00:00"},{"$f":"IF(Benchsheet!J183>1,\"A\",\"\")","v":""},{"$f":"Benchsheet!L183","v":0},{"$f":"IF(WORKSHEET!A182=\"-1\",\"\",IF(WORKSHEET!A182=0,\"0\",WORKSHEET!A182))","v":""},"",{"$f":"IF(WORKSHEET!B180=\"MPN\",\"MPN\",\"\")","v":""}]
[{"$f":"IF(Benchsheet!A183>1,\"result\",\"\")","v":""},{"$f":"IF(Benchsheet!A183>1,\"STATE\",\"\")","v":""},{"$f":"IF(Benchsheet!A183>1,\"00035\",\"\")","v":""},{"$f":"Benchsheet!A183","v":0},{"$f":"IF(Benchsheet!C183=1121057,\"VA1121057\",IF(Benchsheet!C183=1121090,\"VA1121090\",IF(Benchsheet!C183=1121052,\"VA1121052\",IF(Benchsheet!C183=1121175,\"VA1121175\",IF(Benchsheet!C183=1121580,\"VA1121580\",IF(Benchsheet!C183=1121570,\"VA1121570\",IF(Benchsheet!C183=1121045,\"VA1121045\",IF(Benchsheet!C183=1121655,\"VA1121655\",IF(Benchsheet!C183=1121503,\"VA1121503\",IF(Benchsheet!C183=1121043,\"VA1121043\",IF(Benchsheet!C183=1121900,\"VA1121900\",IF(Benchsheet!C183=1121845,\"VA1121845\",IF(Benchsheet!C183=1121655,\"VA1121655\",IF(Benchsheet!C183=1121900,\"VA1121900\",IF(Benchsheet!C183<1,\"\")))))))))))))))","v":""},{"$f":"IF(WORKSHEET!B180=\"MPN\",\"3000\",IF(WORKSHEET!B180=\"TC\",\"3100\",\"\"))","v":""},{"$f":"IF(Benchsheet!A183>1,\"SM 9223B\",\"\")","v":""},{"$f":"Benchsheet!U183","v":"00:00:00"},{"$f":"IF(Benchsheet!J183>1,\"A\",\"\")","v":""},{"$f":"Benchsheet!M183","v":0},{"$f":"IF(WORKSHEET!A183=\"-1\",\"\",IF(WORKSHEET!A183=0,\"0\",WORKSHEET!A183))","v":""},"",{"$f":"IF(WORKSHEET!B180=\"MPN\",\"MPN\",\"\")","v":""}]
[{"$f":"IF(Benchsheet!A184>1,\"result\",\"\")","v":""},{"$f":"IF(Benchsheet!A184>1,\"STATE\",\"\")","v":""},{"$f":"IF(Benchsheet!A184>1,\"00035\",\"\")","v":""},{"$f":"Benchsheet!A184","v":0},{"$f":"IF(Benchsheet!C183=1121057,\"VA1121057\",IF(Benchsheet!C183=1121090,\"VA1121090\",IF(Benchsheet!C183=1121052,\"VA1121052\",IF(Benchsheet!C183=1121175,\"VA1121175\",IF(Benchsheet!C183=1121580,\"VA1121580\",IF(Benchsheet!C183=1121570,\"VA1121570\",IF(Benchsheet!C183=1121045,\"VA1121045\",IF(Benchsheet!C183=1121655,\"VA1121655\",IF(Benchsheet!C183=1121503,\"VA1121503\",IF(Benchsheet!C183=1121043,\"VA1121043\",IF(Benchsheet!C183=1121900,\"VA1121900\",IF(Benchsheet!C183=1121845,\"VA1121845\",IF(Benchsheet!C183=1121655,\"VA1121655\",IF(Benchsheet!C183=1121900,\"VA1121900\",IF(Benchsheet!C183<1,\"\")))))))))))))))","v":""},{"$f":"WORKSHEET!C180","v":""},{"$f":"IF(Benchsheet!A184>1,\"SM 9223B\",\"\")","v":""},{"$f":"Benchsheet!U184","v":"00:00:00"},{"$f":"IF(Benchsheet!J184>1,\"A\",\"\")","v":""},{"$f":"Benchsheet!L184","v":0},{"$f":"IF(WORKSHEET!A183=\"-1\",\"\",IF(WORKSHEET!A183=0,\"0\",WORKSHEET!A183))","v":""},"",{"$f":"IF(WORKSHEET!B181=\"MPN\",\"MPN\",\"\")","v":""}]
[{"$f":"IF(Benchsheet!A184>1,\"result\",\"\")","v":""},{"$f":"IF(Benchsheet!A184>1,\"STATE\",\"\")","v":""},{"$f":"IF(Benchsheet!A184>1,\"00035\",\"\")","v":""},{"$f":"Benchsheet!A184","v":0},{"$f":"IF(Benchsheet!C184=1121057,\"VA1121057\",IF(Benchsheet!C184=1121090,\"VA1121090\",IF(Benchsheet!C184=1121052,\"VA1121052\",IF(Benchsheet!C184=1121175,\"VA1121175\",IF(Benchsheet!C184=1121580,\"VA1121580\",IF(Benchsheet!C184=1121570,\"VA1121570\",IF(Benchsheet!C184=1121045,\"VA1121045\",IF(Benchsheet!C184=1121655,\"VA1121655\",IF(Benchsheet!C184=1121503,\"VA1121503\",IF(Benchsheet!C184=1121043,\"VA1121043\",IF(Benchsheet!C184=1121900,\"VA1121900\",IF(Benchsheet!C184=1121845,\"VA1121845\",IF(Benchsheet!C184=1121655,\"VA1121655\",IF(Benchsheet!C184=1121900,\"VA1121900\",IF(Benchsheet!C184<1,\"\")))))))))))))))","v":""},{"$f":"IF(WORKSHEET!B181=\"MPN\",\"3000\",IF(WORKSHEET!B181=\"TC\",\"3100\",\"\"))","v":""},{"$f":"IF(Benchsheet!A184>1,\"SM 9223B\",\"\")","v":""},{"$f":"Benchsheet!U184","v":"00:00:00"},{"$f":"IF(Benchsheet!J184>1,\"A\",\"\")","v":""},{"$f":"Benchsheet!M184","v":0},{"$f":"IF(WORKSHEET!A184=\"-1\",\"\",IF(WORKSHEET!A184=0,\"0\",WORKSHEET!A184))","v":""},"",{"$f":"IF(WORKSHEET!B181=\"MPN\",\"MPN\",\"\")","v":""}]
[{"$f":"IF(Benchsheet!A185>1,\"result\",\"\")","v":""},{"$f":"IF(Benchsheet!A185>1,\"STATE\",\"\")","v":""},{"$f":"IF(Benchsheet!A185>1,\"00035\",\"\")","v":""},{"$f":"Benchsheet!A185","v":0},{"$f":"IF(Benchsheet!C184=1121057,\"VA1121057\",IF(Benchsheet!C184=1121090,\"VA1121090\",IF(Benchsheet!C184=1121052,\"VA1121052\",IF(Benchsheet!C184=1121175,\"VA1121175\",IF(Benchsheet!C184=1121580,\"VA1121580\",IF(Benchsheet!C184=1121570,\"VA1121570\",IF(Benchsheet!C184=1121045,\"VA1121045\",IF(Benchsheet!C184=1121655,\"VA1121655\",IF(Benchsheet!C184=1121503,\"VA1121503\",IF(Benchsheet!C184=1121043,\"VA1121043\",IF(Benchsheet!C184=1121900,\"VA1121900\",IF(Benchsheet!C184=1121845,\"VA1121845\",IF(Benchsheet!C184=1121655,\"VA1121655\",IF(Benchsheet!C184=1121900,\"VA1121900\",IF(Benchsheet!C184<1,\"\")))))))))))))))","v":""},{"$f":"WORKSHEET!C181","v":""},{"$f":"IF(Benchsheet!A185>1,\"SM 9223B\",\"\")","v":""},{"$f":"Benchsheet!U185","v":"00:00:00"},{"$f":"IF(Benchsheet!J185>1,\"A\",\"\")","v":""},{"$f":"Benchsheet!L185","v":0},{"$f":"IF(WORKSHEET!A184=\"-1\",\"\",IF(WORKSHEET!A184=0,\"0\",WORKSHEET!A184))","v":""},"",{"$f":"IF(WORKSHEET!B182=\"MPN\",\"MPN\",\"\")","v":""}]
[{"$f":"IF(Benchsheet!A185>1,\"result\",\"\")","v":""},{"$f":"IF(Benchsheet!A185>1,\"STATE\",\"\")","v":""},{"$f":"IF(Benchsheet!A185>1,\"00035\",\"\")","v":""},{"$f":"Benchsheet!A185","v":0},{"$f":"IF(Benchsheet!C185=1121057,\"VA1121057\",IF(Benchsheet!C185=1121090,\"VA1121090\",IF(Benchsheet!C185=1121052,\"VA1121052\",IF(Benchsheet!C185=1121175,\"VA1121175\",IF(Benchsheet!C185=1121580,\"VA1121580\",IF(Benchsheet!C185=1121570,\"VA1121570\",IF(Benchsheet!C185=1121045,\"VA1121045\",IF(Benchsheet!C185=1121655,\"VA1121655\",IF(Benchsheet!C185=1121503,\"VA1121503\",IF(Benchsheet!C185=1121043,\"VA1121043\",IF(Benchsheet!C185=1121900,\"VA1121900\",IF(Benchsheet!C185=1121845,\"VA1121845\",IF(Benchsheet!C185=1121655,\"VA1121655\",IF(Benchsheet!C185=1121900,\"VA1121900\",IF(Benchsheet!C185<1,\"\")))))))))))))))","v":""},{"$f":"IF(WORKSHEET!B182=\"MPN\",\"3000\",IF(WORKSHEET!B182=\"TC\",\"3100\",\"\"))","v":""},{"$f":"IF(Benchsheet!A185>1,\"SM 9223B\",\"\")","v":""},{"$f":"Benchsheet!U185","v":"00:00:00"},{"$f":"IF(Benchsheet!J185>1,\"A\",\"\")","v":""},{"$f":"Benchsheet!M185","v":0},{"$f":"IF(WORKSHEET!A185=\"-1\",\"\",IF(WORKSHEET!A185=0,\"0\",WORKSHEET!A185))","v":""},"",{"$f":"IF(WORKSHEET!B182=\"MPN\",\"MPN\",\"\")","v":""}]
[{"$f":"IF(Benchsheet!A186>1,\"result\",\"\")","v":""},{"$f":"IF(Benchsheet!A186>1,\"STATE\",\"\")","v":""},{"$f":"IF(Benchsheet!A186>1,\"00035\",\"\")","v":""},{"$f":"Benchsheet!A186","v":0},{"$f":"IF(Benchsheet!C185=1121057,\"VA1121057\",IF(Benchsheet!C185=1121090,\"VA1121090\",IF(Benchsheet!C185=1121052,\"VA1121052\",IF(Benchsheet!C185=1121175,\"VA1121175\",IF(Benchsheet!C185=1121580,\"VA1121580\",IF(Benchsheet!C185=1121570,\"VA1121570\",IF(Benchsheet!C185=1121045,\"VA1121045\",IF(Benchsheet!C185=1121655,\"VA1121655\",IF(Benchsheet!C185=1121503,\"VA1121503\",IF(Benchsheet!C185=1121043,\"VA1121043\",IF(Benchsheet!C185=1121900,\"VA1121900\",IF(Benchsheet!C185=1121845,\"VA1121845\",IF(Benchsheet!C185=1121655,\"VA1121655\",IF(Benchsheet!C185=1121900,\"VA1121900\",IF(Benchsheet!C185<1,\"\")))))))))))))))","v":""},{"$f":"WORKSHEET!C182","v":""},{"$f":"IF(Benchsheet!A186>1,\"SM 9223B\",\"\")","v":""},{"$f":"Benchsheet!U186","v":"00:00:00"},{"$f":"IF(Benchsheet!J186>1,\"A\",\"\")","v":""},{"$f":"Benchsheet!L186","v":0},{"$f":"IF(WORKSHEET!A185=\"-1\",\"\",IF(WORKSHEET!A185=0,\"0\",WORKSHEET!A185))","v":""},"",{"$f":"IF(WORKSHEET!B183=\"MPN\",\"MPN\",\"\")","v":""}]
[{"$f":"IF(Benchsheet!A186>1,\"result\",\"\")","v":""},{"$f":"IF(Benchsheet!A186>1,\"STATE\",\"\")","v":""},{"$f":"IF(Benchsheet!A186>1,\"00035\",\"\")","v":""},{"$f":"Benchsheet!A186","v":0},{"$f":"IF(Benchsheet!C186=1121057,\"VA1121057\",IF(Benchsheet!C186=1121090,\"VA1121090\",IF(Benchsheet!C186=1121052,\"VA1121052\",IF(Benchsheet!C186=1121175,\"VA1121175\",IF(Benchsheet!C186=1121580,\"VA1121580\",IF(Benchsheet!C186=1121570,\"VA1121570\",IF(Benchsheet!C186=1121045,\"VA1121045\",IF(Benchsheet!C186=1121655,\"VA1121655\",IF(Benchsheet!C186=1121503,\"VA1121503\",IF(Benchsheet!C186=1121043,\"VA1121043\",IF(Benchsheet!C186=1121900,\"VA1121900\",IF(Benchsheet!C186=1121845,\"VA1121845\",IF(Benchsheet!C186=1121655,\"VA1121655\",IF(Benchsheet!C186=1121900,\"VA1121900\",IF(Benchsheet!C186<1,\"\")))))))))))))))","v":""},{"$f":"IF(WORKSHEET!B183=\"MPN\",\"3000\",IF(WORKSHEET!B183=\"TC\",\"3100\",\"\"))","v":""},{"$f":"IF(Benchsheet!A186>1,\"SM 9223B\",\"\")","v":""},{"$f":"Benchsheet!U186","v":"00:00:00"},{"$f":"IF(Benchsheet!J186>1,\"A\",\"\")","v":""},{"$f":"Benchsheet!M186","v":0},{"$f":"IF(WORKSHEET!A186=\"-1\",\"\",IF(WORKSHEET!A186=0,\"0\",WORKSHEET!A186))","v":""},"",{"$f":"IF(WORKSHEET!B183=\"MPN\",\"MPN\",\"\")","v":""}]
[{"$f":"IF(Benchsheet!A187>1,\"result\",\"\")","v":""},{"$f":"IF(Benchsheet!A187>1,\"STATE\",\"\")","v":""},{"$f":"IF(Benchsheet!A187>1,\"00035\",\"\")","v":""},{"$f":"Benchsheet!A187","v":0},{"$f":"IF(Benchsheet!C186=1121057,\"VA1121057\",IF(Benchsheet!C186=1121090,\"VA1121090\",IF(Benchsheet!C186=1121052,\"VA1121052\",IF(Benchsheet!C186=1121175,\"VA1121175\",IF(Benchsheet!C186=1121580,\"VA1121580\",IF(Benchsheet!C186=1121570,\"VA1121570\",IF(Benchsheet!C186=1121045,\"VA1121045\",IF(Benchsheet!C186=1121655,\"VA1121655\",IF(Benchsheet!C186=1121503,\"VA1121503\",IF(Benchsheet!C186=1121043,\"VA1121043\",IF(Benchsheet!C186=1121900,\"VA1121900\",IF(Benchsheet!C186=1121845,\"VA1121845\",IF(Benchsheet!C186=1121655,\"VA1121655\",IF(Benchsheet!C186=1121900,\"VA1121900\",IF(Benchsheet!C186<1,\"\")))))))))))))))","v":""},{"$f":"WORKSHEET!C183","v":""},{"$f":"IF(Benchsheet!A187>1,\"SM 9223B\",\"\")","v":""},{"$f":"Benchsheet!U187","v":"00:00:00"},{"$f":"IF(Benchsheet!J187>1,\"A\",\"\")","v":""},{"$f":"Benchsheet!L187","v":0},{"$f":"IF(WORKSHEET!A186=\"-1\",\"\",IF(WORKSHEET!A186=0,\"0\",WORKSHEET!A186))","v":""},"",{"$f":"IF(WORKSHEET!B184=\"MPN\",\"MPN\",\"\")","v":""}]
[{"$f":"IF(Benchsheet!A187>1,\"result\",\"\")","v":""},{"$f":"IF(Benchsheet!A187>1,\"STATE\",\"\")","v":""},{"$f":"IF(Benchsheet!A187>1,\"00035\",\"\")","v":""},{"$f":"Benchsheet!A187","v":0},{"$f":"IF(Benchsheet!C187=1121057,\"VA1121057\",IF(Benchsheet!C187=1121090,\"VA1121090\",IF(Benchsheet!C187=1121052,\"VA1121052\",IF(Benchsheet!C187=1121175,\"VA1121175\",IF(Benchsheet!C187=1121580,\"VA1121580\",IF(Benchsheet!C187=1121570,\"VA1121570\",IF(Benchsheet!C187=1121045,\"VA1121045\",IF(Benchsheet!C187=1121655,\"VA1121655\",IF(Benchsheet!C187=1121503,\"VA1121503\",IF(Benchsheet!C187=1121043,\"VA1121043\",IF(Benchsheet!C187=1121900,\"VA1121900\",IF(Benchsheet!C187=1121845,\"VA1121845\",IF(Benchsheet!C187=1121655,\"VA1121655\",IF(Benchsheet!C187=1121900,\"VA1121900\",IF(Benchsheet!C187<1,\"\")))))))))))))))","v":""},{"$f":"IF(WORKSHEET!B184=\"MPN\",\"3000\",IF(WORKSHEET!B184=\"TC\",\"3100\",\"\"))","v":""},{"$f":"IF(Benchsheet!A187>1,\"SM 9223B\",\"\")","v":""},{"$f":"Benchsheet!U187","v":"00:00:00"},{"$f":"IF(Benchsheet!J187>1,\"A\",\"\")","v":""},{"$f":"Benchsheet!M187","v":0},{"$f":"IF(WORKSHEET!A187=\"-1\",\"\",IF(WORKSHEET!A187=0,\"0\",WORKSHEET!A187))","v":""},"",{"$f":"IF(WORKSHEET!B184=\"MPN\",\"MPN\",\"\")","v":""}]
[{"$f":"IF(Benchsheet!A188>1,\"result\",\"\")","v":""},{"$f":"IF(Benchsheet!A188>1,\"STATE\",\"\")","v":""},{"$f":"IF(Benchsheet!A188>1,\"00035\",\"\")","v":""},{"$f":"Benchsheet!A188","v":0},{"$f":"IF(Benchsheet!C187=1121057,\"VA1121057\",IF(Benchsheet!C187=1121090,\"VA1121090\",IF(Benchsheet!C187=1121052,\"VA1121052\",IF(Benchsheet!C187=1121175,\"VA1121175\",IF(Benchsheet!C187=1121580,\"VA1121580\",IF(Benchsheet!C187=1121570,\"VA1121570\",IF(Benchsheet!C187=1121045,\"VA1121045\",IF(Benchsheet!C187=1121655,\"VA1121655\",IF(Benchsheet!C187=1121503,\"VA1121503\",IF(Benchsheet!C187=1121043,\"VA1121043\",IF(Benchsheet!C187=1121900,\"VA1121900\",IF(Benchsheet!C187=1121845,\"VA1121845\",IF(Benchsheet!C187=1121655,\"VA1121655\",IF(Benchsheet!C187=1121900,\"VA1121900\",IF(Benchsheet!C187<1,\"\")))))))))))))))","v":""},{"$f":"WORKSHEET!C184","v":""},{"$f":"IF(Benchsheet!A188>1,\"SM 9223B\",\"\")","v":""},{"$f":"Benchsheet!U188","v":"00:00:00"},{"$f":"IF(Benchsheet!J188>1,\"A\",\"\")","v":""},{"$f":"Benchsheet!L188","v":0},{"$f":"IF(WORKSHEET!A187=\"-1\",\"\",IF(WORKSHEET!A187=0,\"0\",WORKSHEET!A187))","v":""},"",{"$f":"IF(WORKSHEET!B185=\"MPN\",\"MPN\",\"\")","v":""}]
[{"$f":"IF(Benchsheet!A188>1,\"result\",\"\")","v":""},{"$f":"IF(Benchsheet!A188>1,\"STATE\",\"\")","v":""},{"$f":"IF(Benchsheet!A188>1,\"00035\",\"\")","v":""},{"$f":"Benchsheet!A188","v":0},{"$f":"IF(Benchsheet!C188=1121057,\"VA1121057\",IF(Benchsheet!C188=1121090,\"VA1121090\",IF(Benchsheet!C188=1121052,\"VA1121052\",IF(Benchsheet!C188=1121175,\"VA1121175\",IF(Benchsheet!C188=1121580,\"VA1121580\",IF(Benchsheet!C188=1121570,\"VA1121570\",IF(Benchsheet!C188=1121045,\"VA1121045\",IF(Benchsheet!C188=1121655,\"VA1121655\",IF(Benchsheet!C188=1121503,\"VA1121503\",IF(Benchsheet!C188=1121043,\"VA1121043\",IF(Benchsheet!C188=1121900,\"VA1121900\",IF(Benchsheet!C188=1121845,\"VA1121845\",IF(Benchsheet!C188=1121655,\"VA1121655\",IF(Benchsheet!C188=1121900,\"VA1121900\",IF(Benchsheet!C188<1,\"\")))))))))))))))","v":""},{"$f":"IF(WORKSHEET!B185=\"MPN\",\"3000\",IF(WORKSHEET!B185=\"TC\",\"3100\",\"\"))","v":""},{"$f":"IF(Benchsheet!A188>1,\"SM 9223B\",\"\")","v":""},{"$f":"Benchsheet!U188","v":"00:00:00"},{"$f":"IF(Benchsheet!J188>1,\"A\",\"\")","v":""},{"$f":"Benchsheet!M188","v":0},{"$f":"IF(WORKSHEET!A188=\"-1\",\"\",IF(WORKSHEET!A188=0,\"0\",WORKSHEET!A188))","v":""},"",{"$f":"IF(WORKSHEET!B185=\"MPN\",\"MPN\",\"\")","v":""}]
[{"$f":"IF(Benchsheet!A189>1,\"result\",\"\")","v":""},{"$f":"IF(Benchsheet!A189>1,\"STATE\",\"\")","v":""},{"$f":"IF(Benchsheet!A189>1,\"00035\",\"\")","v":""},{"$f":"Benchsheet!A189","v":0},{"$f":"IF(Benchsheet!C188=1121057,\"VA1121057\",IF(Benchsheet!C188=1121090,\"VA1121090\",IF(Benchsheet!C188=1121052,\"VA1121052\",IF(Benchsheet!C188=1121175,\"VA1121175\",IF(Benchsheet!C188=1121580,\"VA1121580\",IF(Benchsheet!C188=1121570,\"VA1121570\",IF(Benchsheet!C188=1121045,\"VA1121045\",IF(Benchsheet!C188=1121655,\"VA1121655\",IF(Benchsheet!C188=1121503,\"VA1121503\",IF(Benchsheet!C188=1121043,\"VA1121043\",IF(Benchsheet!C188=1121900,\"VA1121900\",IF(Benchsheet!C188=1121845,\"VA1121845\",IF(Benchsheet!C188=1121655,\"VA1121655\",IF(Benchsheet!C188=1121900,\"VA1121900\",IF(Benchsheet!C188<1,\"\")))))))))))))))","v":""},{"$f":"WORKSHEET!C185","v":""},{"$f":"IF(Benchsheet!A189>1,\"SM 9223B\",\"\")","v":""},{"$f":"Benchsheet!U189","v":"00:00:00"},{"$f":"IF(Benchsheet!J189>1,\"A\",\"\")","v":""},{"$f":"Benchsheet!L189","v":0},{"$f":"IF(WORKSHEET!A188=\"-1\",\"\",IF(WORKSHEET!A188=0,\"0\",WORKSHEET!A188))","v":""},"",{"$f":"IF(WORKSHEET!B186=\"MPN\",\"MPN\",\"\")","v":""}]
[{"$f":"IF(Benchsheet!A189>1,\"result\",\"\")","v":""},{"$f":"IF(Benchsheet!A189>1,\"STATE\",\"\")","v":""},{"$f":"IF(Benchsheet!A189>1,\"00035\",\"\")","v":""},{"$f":"Benchsheet!A189","v":0},{"$f":"IF(Benchsheet!C189=1121057,\"VA1121057\",IF(Benchsheet!C189=1121090,\"VA1121090\",IF(Benchsheet!C189=1121052,\"VA1121052\",IF(Benchsheet!C189=1121175,\"VA1121175\",IF(Benchsheet!C189=1121580,\"VA1121580\",IF(Benchsheet!C189=1121570,\"VA1121570\",IF(Benchsheet!C189=1121045,\"VA1121045\",IF(Benchsheet!C189=1121655,\"VA1121655\",IF(Benchsheet!C189=1121503,\"VA1121503\",IF(Benchsheet!C189=1121043,\"VA1121043\",IF(Benchsheet!C189=1121900,\"VA1121900\",IF(Benchsheet!C189=1121845,\"VA1121845\",IF(Benchsheet!C189=1121655,\"VA1121655\",IF(Benchsheet!C189=1121900,\"VA1121900\",IF(Benchsheet!C189<1,\"\")))))))))))))))","v":""},{"$f":"IF(WORKSHEET!B186=\"MPN\",\"3000\",IF(WORKSHEET!B186=\"TC\",\"3100\",\"\"))","v":""},{"$f":"IF(Benchsheet!A189>1,\"SM 9223B\",\"\")","v":""},{"$f":"Benchsheet!U189","v":"00:00:00"},{"$f":"IF(Benchsheet!J189>1,\"A\",\"\")","v":""},{"$f":"Benchsheet!M189","v":0},{"$f":"IF(WORKSHEET!A189=\"-1\",\"\",IF(WORKSHEET!A189=0,\"0\",WORKSHEET!A189))","v":""},"",{"$f":"IF(WORKSHEET!B186=\"MPN\",\"MPN\",\"\")","v":""}]
[{"$f":"IF(Benchsheet!A190>1,\"result\",\"\")","v":""},{"$f":"IF(Benchsheet!A190>1,\"STATE\",\"\")","v":""},{"$f":"IF(Benchsheet!A190>1,\"00035\",\"\")","v":""},{"$f":"Benchsheet!A190","v":0},{"$f":"IF(Benchsheet!C189=1121057,\"VA1121057\",IF(Benchsheet!C189=1121090,\"VA1121090\",IF(Benchsheet!C189=1121052,\"VA1121052\",IF(Benchsheet!C189=1121175,\"VA1121175\",IF(Benchsheet!C189=1121580,\"VA1121580\",IF(Benchsheet!C189=1121570,\"VA1121570\",IF(Benchsheet!C189=1121045,\"VA1121045\",IF(Benchsheet!C189=1121655,\"VA1121655\",IF(Benchsheet!C189=1121503,\"VA1121503\",IF(Benchsheet!C189=1121043,\"VA1121043\",IF(Benchsheet!C189=1121900,\"VA1121900\",IF(Benchsheet!C189=1121845,\"VA1121845\",IF(Benchsheet!C189=1121655,\"VA1121655\",IF(Benchsheet!C189=1121900,\"VA1121900\",IF(Benchsheet!C189<1,\"\")))))))))))))))","v":""},{"$f":"WORKSHEET!C186","v":""},{"$f":"IF(Benchsheet!A190>1,\"SM 9223B\",\"\")","v":""},{"$f":"Benchsheet!U190","v":"00:00:00"},{"$f":"IF(Benchsheet!J190>1,\"A\",\"\")","v":""},{"$f":"Benchsheet!M190","v":0},{"$f":"IF(WORKSHEET!A189=\"-1\",\"\",IF(WORKSHEET!A189=0,\"0\",WORKSHEET!A189))","v":""},"",{"$f":"IF(WORKSHEET!B187=\"MPN\",\"MPN\",\"\")","v":""}]
[{"$f":"IF(Benchsheet!A191>1,\"result\",\"\")","v":""},{"$f":"IF(Benchsheet!A191>1,\"STATE\",\"\")","v":""},{"$f":"IF(Benchsheet!A191>1,\"00035\",\"\")","v":""},{"$f":"Benchsheet!A191","v":0},{"$f":"IF(Benchsheet!C190=1121057,\"VA1121057\",IF(Benchsheet!C190=1121090,\"VA1121090\",IF(Benchsheet!C190=1121052,\"VA1121052\",IF(Benchsheet!C190=1121175,\"VA1121175\",IF(Benchsheet!C190=1121580,\"VA1121580\",IF(Benchsheet!C190=1121570,\"VA1121570\",IF(Benchsheet!C190=1121045,\"VA1121045\",IF(Benchsheet!C190=1121655,\"VA1121655\",IF(Benchsheet!C190=1121503,\"VA1121503\",IF(Benchsheet!C190=1121043,\"VA1121043\",IF(Benchsheet!C190=1121900,\"VA1121900\",IF(Benchsheet!C190=1121845,\"VA1121845\",IF(Benchsheet!C190=1121655,\"VA1121655\",IF(Benchsheet!C190=1121900,\"VA1121900\",IF(Benchsheet!C190<1,\"\")))))))))))))))","v":""},{"$f":"IF(WORKSHEET!B187=\"MPN\",\"3000\",IF(WORKSHEET!B187=\"TC\",\"3100\",\"\"))","v":""},{"$f":"IF(Benchsheet!A191>1,\"SM 9223B\",\"\")","v":""},{"$f":"Benchsheet!U191","v":"00:00:00"},{"$f":"IF(Benchsheet!J191>1,\"A\",\"\")","v":""},{"$f":"Benchsheet!L191","v":0},{"$f":"IF(WORKSHEET!A190=\"-1\",\"\",IF(WORKSHEET!A190=0,\"0\",WORKSHEET!A190))","v":""},"",{"$f":"IF(WORKSHEET!B187=\"MPN\",\"MPN\",\"\")","v":""}]
[{"$f":"IF(Benchsheet!A191>1,\"result\",\"\")","v":""},{"$f":"IF(Benchsheet!A191>1,\"STATE\",\"\")","v":""},{"$f":"IF(Benchsheet!A191>1,\"00035\",\"\")","v":""},{"$f":"Benchsheet!A191","v":0},{"$f":"IF(Benchsheet!C190=1121057,\"VA1121057\",IF(Benchsheet!C190=1121090,\"VA1121090\",IF(Benchsheet!C190=1121052,\"VA1121052\",IF(Benchsheet!C190=1121175,\"VA1121175\",IF(Benchsheet!C190=1121580,\"VA1121580\",IF(Benchsheet!C190=1121570,\"VA1121570\",IF(Benchsheet!C190=1121045,\"VA1121045\",IF(Benchsheet!C190=1121655,\"VA1121655\",IF(Benchsheet!C190=1121503,\"VA1121503\",IF(Benchsheet!C190=1121043,\"VA1121043\",IF(Benchsheet!C190=1121900,\"VA1121900\",IF(Benchsheet!C190=1121845,\"VA1121845\",IF(Benchsheet!C190=1121655,\"VA1121655\",IF(Benchsheet!C190=1121900,\"VA1121900\",IF(Benchsheet!C190<1,\"\")))))))))))))))","v":""},{"$f":"WORKSHEET!C187","v":""},{"$f":"IF(Benchsheet!A191>1,\"SM 9223B\",\"\")","v":""},{"$f":"Benchsheet!U191","v":"00:00:00"},{"$f":"IF(Benchsheet!J191>1,\"A\",\"\")","v":""},{"$f":"Benchsheet!M191","v":0},{"$f":"IF(WORKSHEET!A190=\"-1\",\"\",IF(WORKSHEET!A190=0,\"0\",WORKSHEET!A190))","v":""},"",{"$f":"IF(WORKSHEET!B188=\"MPN\",\"MPN\",\"\")","v":""}]
[{"$f":"IF(Benchsheet!A192>1,\"result\",\"\")","v":""},{"$f":"IF(Benchsheet!A192>1,\"STATE\",\"\")","v":""},{"$f":"IF(Benchsheet!A192>1,\"00035\",\"\")","v":""},{"$f":"Benchsheet!A192","v":0},{"$f":"IF(Benchsheet!C191=1121057,\"VA1121057\",IF(Benchsheet!C191=1121090,\"VA1121090\",IF(Benchsheet!C191=1121052,\"VA1121052\",IF(Benchsheet!C191=1121175,\"VA1121175\",IF(Benchsheet!C191=1121580,\"VA1121580\",IF(Benchsheet!C191=1121570,\"VA1121570\",IF(Benchsheet!C191=1121045,\"VA1121045\",IF(Benchsheet!C191=1121655,\"VA1121655\",IF(Benchsheet!C191=1121503,\"VA1121503\",IF(Benchsheet!C191=1121043,\"VA1121043\",IF(Benchsheet!C191=1121900,\"VA1121900\",IF(Benchsheet!C191=1121845,\"VA1121845\",IF(Benchsheet!C191=1121655,\"VA1121655\",IF(Benchsheet!C191=1121900,\"VA1121900\",IF(Benchsheet!C191<1,\"\")))))))))))))))","v":""},{"$f":"IF(WORKSHEET!B188=\"MPN\",\"3000\",IF(WORKSHEET!B188=\"TC\",\"3100\",\"\"))","v":""},{"$f":"IF(Benchsheet!A192>1,\"SM 9223B\",\"\")","v":""},{"$f":"Benchsheet!U192","v":"00:00:00"},{"$f":"IF(Benchsheet!J192>1,\"A\",\"\")","v":""},{"$f":"Benchsheet!L192","v":0},{"$f":"IF(WORKSHEET!A191=\"-1\",\"\",IF(WORKSHEET!A191=0,\"0\",WORKSHEET!A191))","v":""},"",{"$f":"IF(WORKSHEET!B188=\"MPN\",\"MPN\",\"\")","v":""}]
[{"$f":"IF(Benchsheet!A192>1,\"result\",\"\")","v":""},{"$f":"IF(Benchsheet!A192>1,\"STATE\",\"\")","v":""},{"$f":"IF(Benchsheet!A192>1,\"00035\",\"\")","v":""},{"$f":"Benchsheet!A192","v":0},{"$f":"IF(Benchsheet!C191=1121057,\"VA1121057\",IF(Benchsheet!C191=1121090,\"VA1121090\",IF(Benchsheet!C191=1121052,\"VA1121052\",IF(Benchsheet!C191=1121175,\"VA1121175\",IF(Benchsheet!C191=1121580,\"VA1121580\",IF(Benchsheet!C191=1121570,\"VA1121570\",IF(Benchsheet!C191=1121045,\"VA1121045\",IF(Benchsheet!C191=1121655,\"VA1121655\",IF(Benchsheet!C191=1121503,\"VA1121503\",IF(Benchsheet!C191=1121043,\"VA1121043\",IF(Benchsheet!C191=1121900,\"VA1121900\",IF(Benchsheet!C191=1121845,\"VA1121845\",IF(Benchsheet!C191=1121655,\"VA1121655\",IF(Benchsheet!C191=1121900,\"VA1121900\",IF(Benchsheet!C191<1,\"\")))))))))))))))","v":""},{"$f":"WORKSHEET!C188","v":""},{"$f":"IF(Benchsheet!A192>1,\"SM 9223B\",\"\")","v":""},{"$f":"Benchsheet!U192","v":"00:00:00"},{"$f":"IF(Benchsheet!J192>1,\"A\",\"\")","v":""},{"$f":"Benchsheet!M192","v":0},{"$f":"IF(WORKSHEET!A191=\"-1\",\"\",IF(WORKSHEET!A191=0,\"0\",WORKSHEET!A191))","v":""},"",{"$f":"IF(WORKSHEET!B189=\"MPN\",\"MPN\",\"\")","v":""}]
[{"$f":"IF(Benchsheet!A193>1,\"result\",\"\")","v":""},{"$f":"IF(Benchsheet!A193>1,\"STATE\",\"\")","v":""},{"$f":"IF(Benchsheet!A193>1,\"00035\",\"\")","v":""},{"$f":"Benchsheet!A193","v":0},{"$f":"IF(Benchsheet!C192=1121057,\"VA1121057\",IF(Benchsheet!C192=1121090,\"VA1121090\",IF(Benchsheet!C192=1121052,\"VA1121052\",IF(Benchsheet!C192=1121175,\"VA1121175\",IF(Benchsheet!C192=1121580,\"VA1121580\",IF(Benchsheet!C192=1121570,\"VA1121570\",IF(Benchsheet!C192=1121045,\"VA1121045\",IF(Benchsheet!C192=1121655,\"VA1121655\",IF(Benchsheet!C192=1121503,\"VA1121503\",IF(Benchsheet!C192=1121043,\"VA1121043\",IF(Benchsheet!C192=1121900,\"VA1121900\",IF(Benchsheet!C192=1121845,\"VA1121845\",IF(Benchsheet!C192=1121655,\"VA1121655\",IF(Benchsheet!C192=1121900,\"VA1121900\",IF(Benchsheet!C192<1,\"\")))))))))))))))","v":""},{"$f":"IF(WORKSHEET!B189=\"MPN\",\"3000\",IF(WORKSHEET!B189=\"TC\",\"3100\",\"\"))","v":""},{"$f":"IF(Benchsheet!A193>1,\"SM 9223B\",\"\")","v":""},{"$f":"Benchsheet!U193","v":"00:00:00"},{"$f":"IF(Benchsheet!J193>1,\"A\",\"\")","v":""},{"$f":"Benchsheet!L193","v":0},{"$f":"IF(WORKSHEET!A192=\"-1\",\"\",IF(WORKSHEET!A192=0,\"0\",WORKSHEET!A192))","v":""},"",{"$f":"IF(WORKSHEET!B189=\"MPN\",\"MPN\",\"\")","v":""}]
[{"$f":"IF(Benchsheet!A193>1,\"result\",\"\")","v":""},{"$f":"IF(Benchsheet!A193>1,\"STATE\",\"\")","v":""},{"$f":"IF(Benchsheet!A193>1,\"00035\",\"\")","v":""},{"$f":"Benchsheet!A193","v":0},{"$f":"IF(Benchsheet!C192=1121057,\"VA1121057\",IF(Benchsheet!C192=1121090,\"VA1121090\",IF(Benchsheet!C192=1121052,\"VA1121052\",IF(Benchsheet!C192=1121175,\"VA1121175\",IF(Benchsheet!C192=1121580,\"VA1121580\",IF(Benchsheet!C192=1121570,\"VA1121570\",IF(Benchsheet!C192=1121045,\"VA1121045\",IF(Benchsheet!C192=1121655,\"VA1121655\",IF(Benchsheet!C192=1121503,\"VA1121503\",IF(Benchsheet!C192=1121043,\"VA1121043\",IF(Benchsheet!C192=1121900,\"VA1121900\",IF(Benchsheet!C192=1121845,\"VA1121845\",IF(Benchsheet!C192=1121655,\"VA1121655\",IF(Benchsheet!C192=1121900,\"VA1121900\",IF(Benchsheet!C192<1,\"\")))))))))))))))","v":""},{"$f":"WORKSHEET!C189","v":""},{"$f":"IF(Benchsheet!A193>1,\"SM 9223B\",\"\")","v":""},{"$f":"Benchsheet!U193","v":"00:00:00"},{"$f":"IF(Benchsheet!J193>1,\"A\",\"\")","v":""},{"$f":"Benchsheet!M193","v":0},{"$f":"IF(WORKSHEET!A192=\"-1\",\"\",IF(WORKSHEET!A192=0,\"0\",WORKSHEET!A192))","v":""},"",{"$f":"IF(WORKSHEET!B190=\"MPN\",\"MPN\",\"\")","v":""}]
[{"$f":"IF(Benchsheet!A194>1,\"result\",\"\")","v":""},{"$f":"IF(Benchsheet!A194>1,\"STATE\",\"\")","v":""},{"$f":"IF(Benchsheet!A194>1,\"00035\",\"\")","v":""},{"$f":"Benchsheet!A194","v":0},{"$f":"IF(Benchsheet!C193=1121057,\"VA1121057\",IF(Benchsheet!C193=1121090,\"VA1121090\",IF(Benchsheet!C193=1121052,\"VA1121052\",IF(Benchsheet!C193=1121175,\"VA1121175\",IF(Benchsheet!C193=1121580,\"VA1121580\",IF(Benchsheet!C193=1121570,\"VA1121570\",IF(Benchsheet!C193=1121045,\"VA1121045\",IF(Benchsheet!C193=1121655,\"VA1121655\",IF(Benchsheet!C193=1121503,\"VA1121503\",IF(Benchsheet!C193=1121043,\"VA1121043\",IF(Benchsheet!C193=1121900,\"VA1121900\",IF(Benchsheet!C193=1121845,\"VA1121845\",IF(Benchsheet!C193=1121655,\"VA1121655\",IF(Benchsheet!C193=1121900,\"VA1121900\",IF(Benchsheet!C193<1,\"\")))))))))))))))","v":""},{"$f":"IF(WORKSHEET!B190=\"MPN\",\"3000\",IF(WORKSHEET!B190=\"TC\",\"3100\",\"\"))","v":""},{"$f":"IF(Benchsheet!A194>1,\"SM 9223B\",\"\")","v":""},{"$f":"Benchsheet!U194","v":"00:00:00"},{"$f":"IF(Benchsheet!J194>1,\"A\",\"\")","v":""},{"$f":"Benchsheet!L194","v":0},{"$f":"IF(WORKSHEET!A193=\"-1\",\"\",IF(WORKSHEET!A193=0,\"0\",WORKSHEET!A193))","v":""},"",{"$f":"IF(WORKSHEET!B190=\"MPN\",\"MPN\",\"\")","v":""}]
[{"$f":"IF(Benchsheet!A194>1,\"result\",\"\")","v":""},{"$f":"IF(Benchsheet!A194>1,\"STATE\",\"\")","v":""},{"$f":"IF(Benchsheet!A194>1,\"00035\",\"\")","v":""},{"$f":"Benchsheet!A194","v":0},{"$f":"IF(Benchsheet!C193=1121057,\"VA1121057\",IF(Benchsheet!C193=1121090,\"VA1121090\",IF(Benchsheet!C193=1121052,\"VA1121052\",IF(Benchsheet!C193=1121175,\"VA1121175\",IF(Benchsheet!C193=1121580,\"VA1121580\",IF(Benchsheet!C193=1121570,\"VA1121570\",IF(Benchsheet!C193=1121045,\"VA1121045\",IF(Benchsheet!C193=1121655,\"VA1121655\",IF(Benchsheet!C193=1121503,\"VA1121503\",IF(Benchsheet!C193=1121043,\"VA1121043\",IF(Benchsheet!C193=1121900,\"VA1121900\",IF(Benchsheet!C193=1121845,\"VA1121845\",IF(Benchsheet!C193=1121655,\"VA1121655\",IF(Benchsheet!C193=1121900,\"VA1121900\",IF(Benchsheet!C193<1,\"\")))))))))))))))","v":""},{"$f":"WORKSHEET!C190","v":""},{"$f":"IF(Benchsheet!A194>1,\"SM 9223B\",\"\")","v":""},{"$f":"Benchsheet!U194","v":"00:00:00"},{"$f":"IF(Benchsheet!J194>1,\"A\",\"\")","v":""},{"$f":"Benchsheet!M194","v":0},{"$f":"IF(WORKSHEET!A193=\"-1\",\"\",IF(WORKSHEET!A193=0,\"0\",WORKSHEET!A193))","v":""},"",{"$f":"IF(WORKSHEET!B191=\"MPN\",\"MPN\",\"\")","v":""}]
[{"$f":"IF(Benchsheet!A195>1,\"result\",\"\")","v":""},{"$f":"IF(Benchsheet!A195>1,\"STATE\",\"\")","v":""},{"$f":"IF(Benchsheet!A195>1,\"00035\",\"\")","v":""},{"$f":"Benchsheet!A195","v":0},{"$f":"IF(Benchsheet!C194=1121057,\"VA1121057\",IF(Benchsheet!C194=1121090,\"VA1121090\",IF(Benchsheet!C194=1121052,\"VA1121052\",IF(Benchsheet!C194=1121175,\"VA1121175\",IF(Benchsheet!C194=1121580,\"VA1121580\",IF(Benchsheet!C194=1121570,\"VA1121570\",IF(Benchsheet!C194=1121045,\"VA1121045\",IF(Benchsheet!C194=1121655,\"VA1121655\",IF(Benchsheet!C194=1121503,\"VA1121503\",IF(Benchsheet!C194=1121043,\"VA1121043\",IF(Benchsheet!C194=1121900,\"VA1121900\",IF(Benchsheet!C194=1121845,\"VA1121845\",IF(Benchsheet!C194=1121655,\"VA1121655\",IF(Benchsheet!C194=1121900,\"VA1121900\",IF(Benchsheet!C194<1,\"\")))))))))))))))","v":""},{"$f":"IF(WORKSHEET!B191=\"MPN\",\"3000\",IF(WORKSHEET!B191=\"TC\",\"3100\",\"\"))","v":""},{"$f":"IF(Benchsheet!A195>1,\"SM 9223B\",\"\")","v":""},{"$f":"Benchsheet!U195","v":"00:00:00"},{"$f":"IF(Benchsheet!J195>1,\"A\",\"\")","v":""},{"$f":"Benchsheet!L195","v":0},{"$f":"IF(WORKSHEET!A194=\"-1\",\"\",IF(WORKSHEET!A194=0,\"0\",WORKSHEET!A194))","v":""},"",{"$f":"IF(WORKSHEET!B191=\"MPN\",\"MPN\",\"\")","v":""}]
[{"$f":"IF(Benchsheet!A195>1,\"result\",\"\")","v":""},{"$f":"IF(Benchsheet!A195>1,\"STATE\",\"\")","v":""},{"$f":"IF(Benchsheet!A195>1,\"00035\",\"\")","v":""},{"$f":"Benchsheet!A195","v":0},{"$f":"IF(Benchsheet!C194=1121057,\"VA1121057\",IF(Benchsheet!C194=1121090,\"VA1121090\",IF(Benchsheet!C194=1121052,\"VA1121052\",IF(Benchsheet!C194=1121175,\"VA1121175\",IF(Benchsheet!C194=1121580,\"VA1121580\",IF(Benchsheet!C194=1121570,\"VA1121570\",IF(Benchsheet!C194=1121045,\"VA1121045\",IF(Benchsheet!C194=1121655,\"VA1121655\",IF(Benchsheet!C194=1121503,\"VA1121503\",IF(Benchsheet!C194=1121043,\"VA1121043\",IF(Benchsheet!C194=1121900,\"VA1121900\",IF(Benchsheet!C194=1121845,\"VA1121845\",IF(Benchsheet!C194=1121655,\"VA1121655\",IF(Benchsheet!C194=1121900,\"VA1121900\",IF(Benchsheet!C194<1,\"\")))))))))))))))","v":""},{"$f":"WORKSHEET!C191","v":""},{"$f":"IF(Benchsheet!A195>1,\"SM 9223B\",\"\")","v":""},{"$f":"Benchsheet!U195","v":"00:00:00"},{"$f":"IF(Benchsheet!J195>1,\"A\",\"\")","v":""},{"$f":"Benchsheet!M195","v":0},{"$f":"IF(WORKSHEET!A194=\"-1\",\"\",IF(WORKSHEET!A194=0,\"0\",WORKSHEET!A194))","v":""},"",{"$f":"IF(WORKSHEET!B192=\"MPN\",\"MPN\",\"\")","v":""}]
[{"$f":"IF(Benchsheet!A196>1,\"result\",\"\")","v":""},{"$f":"IF(Benchsheet!A196>1,\"STATE\",\"\")","v":""},{"$f":"IF(Benchsheet!A196>1,\"00035\",\"\")","v":""},{"$f":"Benchsheet!A196","v":0},{"$f":"IF(Benchsheet!C195=1121057,\"VA1121057\",IF(Benchsheet!C195=1121090,\"VA1121090\",IF(Benchsheet!C195=1121052,\"VA1121052\",IF(Benchsheet!C195=1121175,\"VA1121175\",IF(Benchsheet!C195=1121580,\"VA1121580\",IF(Benchsheet!C195=1121570,\"VA1121570\",IF(Benchsheet!C195=1121045,\"VA1121045\",IF(Benchsheet!C195=1121655,\"VA1121655\",IF(Benchsheet!C195=1121503,\"VA1121503\",IF(Benchsheet!C195=1121043,\"VA1121043\",IF(Benchsheet!C195=1121900,\"VA1121900\",IF(Benchsheet!C195=1121845,\"VA1121845\",IF(Benchsheet!C195=1121655,\"VA1121655\",IF(Benchsheet!C195=1121900,\"VA1121900\",IF(Benchsheet!C195<1,\"\")))))))))))))))","v":""},{"$f":"IF(WORKSHEET!B192=\"MPN\",\"3000\",IF(WORKSHEET!B192=\"TC\",\"3100\",\"\"))","v":""},{"$f":"IF(Benchsheet!A196>1,\"SM 9223B\",\"\")","v":""},{"$f":"Benchsheet!U196","v":"00:00:00"},{"$f":"IF(Benchsheet!J196>1,\"A\",\"\")","v":""},{"$f":"Benchsheet!L196","v":0},{"$f":"IF(WORKSHEET!A195=\"-1\",\"\",IF(WORKSHEET!A195=0,\"0\",WORKSHEET!A195))","v":""},"",{"$f":"IF(WORKSHEET!B192=\"MPN\",\"MPN\",\"\")","v":""}]
[{"$f":"IF(Benchsheet!A196>1,\"result\",\"\")","v":""},{"$f":"IF(Benchsheet!A196>1,\"STATE\",\"\")","v":""},{"$f":"IF(Benchsheet!A196>1,\"00035\",\"\")","v":""},{"$f":"Benchsheet!A196","v":0},{"$f":"IF(Benchsheet!C195=1121057,\"VA1121057\",IF(Benchsheet!C195=1121090,\"VA1121090\",IF(Benchsheet!C195=1121052,\"VA1121052\",IF(Benchsheet!C195=1121175,\"VA1121175\",IF(Benchsheet!C195=1121580,\"VA1121580\",IF(Benchsheet!C195=1121570,\"VA1121570\",IF(Benchsheet!C195=1121045,\"VA1121045\",IF(Benchsheet!C195=1121655,\"VA1121655\",IF(Benchsheet!C195=1121503,\"VA1121503\",IF(Benchsheet!C195=1121043,\"VA1121043\",IF(Benchsheet!C195=1121900,\"VA1121900\",IF(Benchsheet!C195=1121845,\"VA1121845\",IF(Benchsheet!C195=1121655,\"VA1121655\",IF(Benchsheet!C195=1121900,\"VA1121900\",IF(Benchsheet!C195<1,\"\")))))))))))))))","v":""},{"$f":"WORKSHEET!C192","v":""},{"$f":"IF(Benchsheet!A196>1,\"SM 9223B\",\"\")","v":""},{"$f":"Benchsheet!U196","v":"00:00:00"},{"$f":"IF(Benchsheet!J196>1,\"A\",\"\")","v":""},{"$f":"Benchsheet!M196","v":0},{"$f":"IF(WORKSHEET!A195=\"-1\",\"\",IF(WORKSHEET!A195=0,\"0\",WORKSHEET!A195))","v":""},"",{"$f":"IF(WORKSHEET!B193=\"MPN\",\"MPN\",\"\")","v":""}]
[{"$f":"IF(Benchsheet!A197>1,\"result\",\"\")","v":""},{"$f":"IF(Benchsheet!A197>1,\"STATE\",\"\")","v":""},{"$f":"IF(Benchsheet!A197>1,\"00035\",\"\")","v":""},{"$f":"Benchsheet!A197","v":0},{"$f":"IF(Benchsheet!C196=1121057,\"VA1121057\",IF(Benchsheet!C196=1121090,\"VA1121090\",IF(Benchsheet!C196=1121052,\"VA1121052\",IF(Benchsheet!C196=1121175,\"VA1121175\",IF(Benchsheet!C196=1121580,\"VA1121580\",IF(Benchsheet!C196=1121570,\"VA1121570\",IF(Benchsheet!C196=1121045,\"VA1121045\",IF(Benchsheet!C196=1121655,\"VA1121655\",IF(Benchsheet!C196=1121503,\"VA1121503\",IF(Benchsheet!C196=1121043,\"VA1121043\",IF(Benchsheet!C196=1121900,\"VA1121900\",IF(Benchsheet!C196=1121845,\"VA1121845\",IF(Benchsheet!C196=1121655,\"VA1121655\",IF(Benchsheet!C196=1121900,\"VA1121900\",IF(Benchsheet!C196<1,\"\")))))))))))))))","v":""},{"$f":"IF(WORKSHEET!B193=\"MPN\",\"3000\",IF(WORKSHEET!B193=\"TC\",\"3100\",\"\"))","v":""},{"$f":"IF(Benchsheet!A197>1,\"SM 9223B\",\"\")","v":""},{"$f":"Benchsheet!U197","v":"00:00:00"},{"$f":"IF(Benchsheet!J197>1,\"A\",\"\")","v":""},{"$f":"Benchsheet!L197","v":0},{"$f":"IF(WORKSHEET!A196=\"-1\",\"\",IF(WORKSHEET!A196=0,\"0\",WORKSHEET!A196))","v":""},"",{"$f":"IF(WORKSHEET!B193=\"MPN\",\"MPN\",\"\")","v":""}]
[{"$f":"IF(Benchsheet!A197>1,\"result\",\"\")","v":""},{"$f":"IF(Benchsheet!A197>1,\"STATE\",\"\")","v":""},{"$f":"IF(Benchsheet!A197>1,\"00035\",\"\")","v":""},{"$f":"Benchsheet!A197","v":0},{"$f":"IF(Benchsheet!C196=1121057,\"VA1121057\",IF(Benchsheet!C196=1121090,\"VA1121090\",IF(Benchsheet!C196=1121052,\"VA1121052\",IF(Benchsheet!C196=1121175,\"VA1121175\",IF(Benchsheet!C196=1121580,\"VA1121580\",IF(Benchsheet!C196=1121570,\"VA1121570\",IF(Benchsheet!C196=1121045,\"VA1121045\",IF(Benchsheet!C196=1121655,\"VA1121655\",IF(Benchsheet!C196=1121503,\"VA1121503\",IF(Benchsheet!C196=1121043,\"VA1121043\",IF(Benchsheet!C196=1121900,\"VA1121900\",IF(Benchsheet!C196=1121845,\"VA1121845\",IF(Benchsheet!C196=1121655,\"VA1121655\",IF(Benchsheet!C196=1121900,\"VA1121900\",IF(Benchsheet!C196<1,\"\")))))))))))))))","v":""},{"$f":"WORKSHEET!C193","v":""},{"$f":"IF(Benchsheet!A197>1,\"SM 9223B\",\"\")","v":""},{"$f":"Benchsheet!U197","v":"00:00:00"},{"$f":"IF(Benchsheet!J197>1,\"A\",\"\")","v":""},{"$f":"Benchsheet!M197","v":0},{"$f":"IF(WORKSHEET!A196=\"-1\",\"\",IF(WORKSHEET!A196=0,\"0\",WORKSHEET!A196))","v":""},"",{"$f":"IF(WORKSHEET!B194=\"MPN\",\"MPN\",\"\")","v":""}]
[{"$f":"IF(Benchsheet!A198>1,\"result\",\"\")","v":""},{"$f":"IF(Benchsheet!A198>1,\"STATE\",\"\")","v":""},{"$f":"IF(Benchsheet!A198>1,\"00035\",\"\")","v":""},{"$f":"Benchsheet!A198","v":0},{"$f":"IF(Benchsheet!C197=1121057,\"VA1121057\",IF(Benchsheet!C197=1121090,\"VA1121090\",IF(Benchsheet!C197=1121052,\"VA1121052\",IF(Benchsheet!C197=1121175,\"VA1121175\",IF(Benchsheet!C197=1121580,\"VA1121580\",IF(Benchsheet!C197=1121570,\"VA1121570\",IF(Benchsheet!C197=1121045,\"VA1121045\",IF(Benchsheet!C197=1121655,\"VA1121655\",IF(Benchsheet!C197=1121503,\"VA1121503\",IF(Benchsheet!C197=1121043,\"VA1121043\",IF(Benchsheet!C197=1121900,\"VA1121900\",IF(Benchsheet!C197=1121845,\"VA1121845\",IF(Benchsheet!C197=1121655,\"VA1121655\",IF(Benchsheet!C197=1121900,\"VA1121900\",IF(Benchsheet!C197<1,\"\")))))))))))))))","v":""},{"$f":"IF(WORKSHEET!B194=\"MPN\",\"3000\",IF(WORKSHEET!B194=\"TC\",\"3100\",\"\"))","v":""},{"$f":"IF(Benchsheet!A198>1,\"SM 9223B\",\"\")","v":""},{"$f":"Benchsheet!U198","v":"00:00:00"},{"$f":"IF(Benchsheet!J198>1,\"A\",\"\")","v":""},{"$f":"Benchsheet!L198","v":0},{"$f":"IF(WORKSHEET!A197=\"-1\",\"\",IF(WORKSHEET!A197=0,\"0\",WORKSHEET!A197))","v":""},"",{"$f":"IF(WORKSHEET!B194=\"MPN\",\"MPN\",\"\")","v":""}]
[{"$f":"IF(Benchsheet!A198>1,\"result\",\"\")","v":""},{"$f":"IF(Benchsheet!A198>1,\"STATE\",\"\")","v":""},{"$f":"IF(Benchsheet!A198>1,\"00035\",\"\")","v":""},{"$f":"Benchsheet!A198","v":0},{"$f":"IF(Benchsheet!C197=1121057,\"VA1121057\",IF(Benchsheet!C197=1121090,\"VA1121090\",IF(Benchsheet!C197=1121052,\"VA1121052\",IF(Benchsheet!C197=1121175,\"VA1121175\",IF(Benchsheet!C197=1121580,\"VA1121580\",IF(Benchsheet!C197=1121570,\"VA1121570\",IF(Benchsheet!C197=1121045,\"VA1121045\",IF(Benchsheet!C197=1121655,\"VA1121655\",IF(Benchsheet!C197=1121503,\"VA1121503\",IF(Benchsheet!C197=1121043,\"VA1121043\",IF(Benchsheet!C197=1121900,\"VA1121900\",IF(Benchsheet!C197=1121845,\"VA1121845\",IF(Benchsheet!C197=1121655,\"VA1121655\",IF(Benchsheet!C197=1121900,\"VA1121900\",IF(Benchsheet!C197<1,\"\")))))))))))))))","v":""},{"$f":"WORKSHEET!C194","v":""},{"$f":"IF(Benchsheet!A198>1,\"SM 9223B\",\"\")","v":""},{"$f":"Benchsheet!U198","v":"00:00:00"},{"$f":"IF(Benchsheet!J198>1,\"A\",\"\")","v":""},{"$f":"Benchsheet!M198","v":0},{"$f":"IF(WORKSHEET!A197=\"-1\",\"\",IF(WORKSHEET!A197=0,\"0\",WORKSHEET!A197))","v":""},{"$f":"IF(M387=\"MPN\",\"100ML\",\"\")","v":""},{"$f":"IF(WORKSHEET!B195=\"MPN\",\"MPN\",\"\")","v":""}]
[{"$f":"IF(Benchsheet!A199>1,\"result\",\"\")","v":""},{"$f":"IF(Benchsheet!A199>1,\"STATE\",\"\")","v":""},{"$f":"IF(Benchsheet!A199>1,\"00035\",\"\")","v":""},{"$f":"Benchsheet!A199","v":0},{"$f":"IF(Benchsheet!C198=1121057,\"VA1121057\",IF(Benchsheet!C198=1121090,\"VA1121090\",IF(Benchsheet!C198=1121052,\"VA1121052\",IF(Benchsheet!C198=1121175,\"VA1121175\",IF(Benchsheet!C198=1121580,\"VA1121580\",IF(Benchsheet!C198=1121570,\"VA1121570\",IF(Benchsheet!C198=1121045,\"VA1121045\",IF(Benchsheet!C198=1121655,\"VA1121655\",IF(Benchsheet!C198=1121503,\"VA1121503\",IF(Benchsheet!C198=1121043,\"VA1121043\",IF(Benchsheet!C198=1121900,\"VA1121900\",IF(Benchsheet!C198=1121845,\"VA1121845\",IF(Benchsheet!C198=1121655,\"VA1121655\",IF(Benchsheet!C198=1121900,\"VA1121900\",IF(Benchsheet!C198<1,\"\")))))))))))))))","v":""},{"$f":"IF(WORKSHEET!B195=\"MPN\",\"3000\",IF(WORKSHEET!B195=\"TC\",\"3100\",\"\"))","v":""},{"$f":"IF(Benchsheet!A199>1,\"SM 9223B\",\"\")","v":""},{"$f":"Benchsheet!U199","v":"00:00:00"},{"$f":"IF(Benchsheet!J199>1,\"A\",\"\")","v":""},{"$f":"Benchsheet!L199","v":0},{"$f":"IF(WORKSHEET!A198=\"-1\",\"\",IF(WORKSHEET!A198=0,\"0\",WORKSHEET!A198))","v":""},"",{"$f":"IF(WORKSHEET!B195=\"MPN\",\"MPN\",\"\")","v":""}]
[{"$f":"IF(Benchsheet!A199>1,\"result\",\"\")","v":""},{"$f":"IF(Benchsheet!A199>1,\"STATE\",\"\")","v":""},{"$f":"IF(Benchsheet!A199>1,\"00035\",\"\")","v":""},{"$f":"Benchsheet!A199","v":0},{"$f":"IF(Benchsheet!C198=1121057,\"VA1121057\",IF(Benchsheet!C198=1121090,\"VA1121090\",IF(Benchsheet!C198=1121052,\"VA1121052\",IF(Benchsheet!C198=1121175,\"VA1121175\",IF(Benchsheet!C198=1121580,\"VA1121580\",IF(Benchsheet!C198=1121570,\"VA1121570\",IF(Benchsheet!C198=1121045,\"VA1121045\",IF(Benchsheet!C198=1121655,\"VA1121655\",IF(Benchsheet!C198=1121503,\"VA1121503\",IF(Benchsheet!C198=1121043,\"VA1121043\",IF(Benchsheet!C198=1121900,\"VA1121900\",IF(Benchsheet!C198=1121845,\"VA1121845\",IF(Benchsheet!C198=1121655,\"VA1121655\",IF(Benchsheet!C198=1121900,\"VA1121900\",IF(Benchsheet!C198<1,\"\")))))))))))))))","v":""},{"$f":"WORKSHEET!C195","v":""},{"$f":"IF(Benchsheet!A199>1,\"SM 9223B\",\"\")","v":""},{"$f":"Benchsheet!U199","v":"00:00:00"},{"$f":"IF(Benchsheet!J199>1,\"A\",\"\")","v":""},{"$f":"Benchsheet!M199","v":0},{"$f":"IF(WORKSHEET!A198=\"-1\",\"\",IF(WORKSHEET!A198=0,\"0\",WORKSHEET!A198))","v":""},"",{"$f":"IF(WORKSHEET!B196=\"MPN\",\"MPN\",\"\")","v":""}]
[{"$f":"IF(Benchsheet!A200>1,\"result\",\"\")","v":""},{"$f":"IF(Benchsheet!A200>1,\"STATE\",\"\")","v":""},{"$f":"IF(Benchsheet!A200>1,\"00035\",\"\")","v":""},{"$f":"Benchsheet!A200","v":0},{"$f":"IF(Benchsheet!C199=1121057,\"VA1121057\",IF(Benchsheet!C199=1121090,\"VA1121090\",IF(Benchsheet!C199=1121052,\"VA1121052\",IF(Benchsheet!C199=1121175,\"VA1121175\",IF(Benchsheet!C199=1121580,\"VA1121580\",IF(Benchsheet!C199=1121570,\"VA1121570\",IF(Benchsheet!C199=1121045,\"VA1121045\",IF(Benchsheet!C199=1121655,\"VA1121655\",IF(Benchsheet!C199=1121503,\"VA1121503\",IF(Benchsheet!C199=1121043,\"VA1121043\",IF(Benchsheet!C199=1121900,\"VA1121900\",IF(Benchsheet!C199=1121845,\"VA1121845\",IF(Benchsheet!C199=1121655,\"VA1121655\",IF(Benchsheet!C199=1121900,\"VA1121900\",IF(Benchsheet!C199<1,\"\")))))))))))))))","v":""},{"$f":"IF(WORKSHEET!B196=\"MPN\",\"3000\",IF(WORKSHEET!B196=\"TC\",\"3100\",\"\"))","v":""},{"$f":"IF(Benchsheet!A200>1,\"SM 9223B\",\"\")","v":""},{"$f":"Benchsheet!U200","v":"00:00:00"},{"$f":"IF(Benchsheet!J200>1,\"A\",\"\")","v":""},{"$f":"Benchsheet!L200","v":0},{"$f":"IF(WORKSHEET!A199=\"-1\",\"\",IF(WORKSHEET!A199=0,\"0\",WORKSHEET!A199))","v":""},"",{"$f":"IF(WORKSHEET!B196=\"MPN\",\"MPN\",\"\")","v":""}]
[{"$f":"IF(Benchsheet!A200>1,\"result\",\"\")","v":""},{"$f":"IF(Benchsheet!A200>1,\"STATE\",\"\")","v":""},{"$f":"IF(Benchsheet!A200>1,\"00035\",\"\")","v":""},{"$f":"Benchsheet!A200","v":0},{"$f":"IF(Benchsheet!C199=1121057,\"VA1121057\",IF(Benchsheet!C199=1121090,\"VA1121090\",IF(Benchsheet!C199=1121052,\"VA1121052\",IF(Benchsheet!C199=1121175,\"VA1121175\",IF(Benchsheet!C199=1121580,\"VA1121580\",IF(Benchsheet!C199=1121570,\"VA1121570\",IF(Benchsheet!C199=1121045,\"VA1121045\",IF(Benchsheet!C199=1121655,\"VA1121655\",IF(Benchsheet!C199=1121503,\"VA1121503\",IF(Benchsheet!C199=1121043,\"VA1121043\",IF(Benchsheet!C199=1121900,\"VA1121900\",IF(Benchsheet!C199=1121845,\"VA1121845\",IF(Benchsheet!C199=1121655,\"VA1121655\",IF(Benchsheet!C199=1121900,\"VA1121900\",IF(Benchsheet!C199<1,\"\")))))))))))))))","v":""},{"$f":"WORKSHEET!C196","v":""},{"$f":"IF(Benchsheet!A200>1,\"SM 9223B\",\"\")","v":""},{"$f":"Benchsheet!U200","v":"00:00:00"},{"$f":"IF(Benchsheet!J200>1,\"A\",\"\")","v":""},{"$f":"Benchsheet!M200","v":0},{"$f":"IF(WORKSHEET!A199=\"-1\",\"\",IF(WORKSHEET!A199=0,\"0\",WORKSHEET!A199))","v":""},"",{"$f":"IF(WORKSHEET!B197=\"MPN\",\"MPN\",\"\")","v":""}]
[{"$f":"IF(Benchsheet!A201>1,\"result\",\"\")","v":""},{"$f":"IF(Benchsheet!A201>1,\"STATE\",\"\")","v":""},{"$f":"IF(Benchsheet!A201>1,\"00035\",\"\")","v":""},{"$f":"Benchsheet!A201","v":0},{"$f":"IF(Benchsheet!C200=1121057,\"VA1121057\",IF(Benchsheet!C200=1121090,\"VA1121090\",IF(Benchsheet!C200=1121052,\"VA1121052\",IF(Benchsheet!C200=1121175,\"VA1121175\",IF(Benchsheet!C200=1121580,\"VA1121580\",IF(Benchsheet!C200=1121570,\"VA1121570\",IF(Benchsheet!C200=1121045,\"VA1121045\",IF(Benchsheet!C200=1121655,\"VA1121655\",IF(Benchsheet!C200=1121503,\"VA1121503\",IF(Benchsheet!C200=1121043,\"VA1121043\",IF(Benchsheet!C200=1121900,\"VA1121900\",IF(Benchsheet!C200=1121845,\"VA1121845\",IF(Benchsheet!C200=1121655,\"VA1121655\",IF(Benchsheet!C200=1121900,\"VA1121900\",IF(Benchsheet!C200<1,\"\")))))))))))))))","v":""},{"$f":"IF(WORKSHEET!B197=\"MPN\",\"3000\",IF(WORKSHEET!B197=\"TC\",\"3100\",\"\"))","v":""},{"$f":"IF(Benchsheet!A201>1,\"SM 9223B\",\"\")","v":""},{"$f":"Benchsheet!U201","v":"00:00:00"},{"$f":"IF(Benchsheet!J201>1,\"A\",\"\")","v":""},{"$f":"Benchsheet!L201","v":0},{"$f":"IF(WORKSHEET!A200=\"-1\",\"\",IF(WORKSHEET!A200=0,\"0\",WORKSHEET!A200))","v":""},"",{"$f":"IF(WORKSHEET!B197=\"MPN\",\"MPN\",\"\")","v":""}]
[{"$f":"IF(Benchsheet!A201>1,\"result\",\"\")","v":""},{"$f":"IF(Benchsheet!A201>1,\"STATE\",\"\")","v":""},{"$f":"IF(Benchsheet!A201>1,\"00035\",\"\")","v":""},{"$f":"Benchsheet!A201","v":0},{"$f":"IF(Benchsheet!C200=1121057,\"VA1121057\",IF(Benchsheet!C200=1121090,\"VA1121090\",IF(Benchsheet!C200=1121052,\"VA1121052\",IF(Benchsheet!C200=1121175,\"VA1121175\",IF(Benchsheet!C200=1121580,\"VA1121580\",IF(Benchsheet!C200=1121570,\"VA1121570\",IF(Benchsheet!C200=1121045,\"VA1121045\",IF(Benchsheet!C200=1121655,\"VA1121655\",IF(Benchsheet!C200=1121503,\"VA1121503\",IF(Benchsheet!C200=1121043,\"VA1121043\",IF(Benchsheet!C200=1121900,\"VA1121900\",IF(Benchsheet!C200=1121845,\"VA1121845\",IF(Benchsheet!C200=1121655,\"VA1121655\",IF(Benchsheet!C200=1121900,\"VA1121900\",IF(Benchsheet!C200<1,\"\")))))))))))))))","v":""},{"$f":"WORKSHEET!C197","v":""},{"$f":"IF(Benchsheet!A201>1,\"SM 9223B\",\"\")","v":""},{"$f":"Benchsheet!U201","v":"00:00:00"},{"$f":"IF(Benchsheet!J201>1,\"A\",\"\")","v":""},{"$f":"Benchsheet!M201","v":0},{"$f":"IF(WORKSHEET!A200=\"-1\",\"\",IF(WORKSHEET!A200=0,\"0\",WORKSHEET!A200))","v":""},"",{"$f":"IF(WORKSHEET!B198=\"MPN\",\"MPN\",\"\")","v":""}]
[{"$f":"IF(Benchsheet!A202>1,\"result\",\"\")","v":""},{"$f":"IF(Benchsheet!A202>1,\"STATE\",\"\")","v":""},{"$f":"IF(Benchsheet!A202>1,\"00035\",\"\")","v":""},{"$f":"Benchsheet!A202","v":0},{"$f":"IF(Benchsheet!C201=1121057,\"VA1121057\",IF(Benchsheet!C201=1121090,\"VA1121090\",IF(Benchsheet!C201=1121052,\"VA1121052\",IF(Benchsheet!C201=1121175,\"VA1121175\",IF(Benchsheet!C201=1121580,\"VA1121580\",IF(Benchsheet!C201=1121570,\"VA1121570\",IF(Benchsheet!C201=1121045,\"VA1121045\",IF(Benchsheet!C201=1121655,\"VA1121655\",IF(Benchsheet!C201=1121503,\"VA1121503\",IF(Benchsheet!C201=1121043,\"VA1121043\",IF(Benchsheet!C201=1121900,\"VA1121900\",IF(Benchsheet!C201=1121845,\"VA1121845\",IF(Benchsheet!C201=1121655,\"VA1121655\",IF(Benchsheet!C201=1121900,\"VA1121900\",IF(Benchsheet!C201<1,\"\")))))))))))))))","v":""},{"$f":"IF(WORKSHEET!B198=\"MPN\",\"3000\",IF(WORKSHEET!B198=\"TC\",\"3100\",\"\"))","v":""},{"$f":"IF(Benchsheet!A202>1,\"SM 9223B\",\"\")","v":""},{"$f":"Benchsheet!U202","v":"00:00:00"},{"$f":"IF(Benchsheet!J202>1,\"A\",\"\")","v":""},{"$f":"Benchsheet!L202","v":0},{"$f":"IF(WORKSHEET!A201=\"-1\",\"\",IF(WORKSHEET!A201=0,\"0\",WORKSHEET!A201))","v":""},"",{"$f":"IF(WORKSHEET!B198=\"MPN\",\"MPN\",\"\")","v":""}]
[{"$f":"IF(Benchsheet!A202>1,\"result\",\"\")","v":""},{"$f":"IF(Benchsheet!A202>1,\"STATE\",\"\")","v":""},{"$f":"IF(Benchsheet!A202>1,\"00035\",\"\")","v":""},{"$f":"Benchsheet!A202","v":0},{"$f":"IF(Benchsheet!C201=1121057,\"VA1121057\",IF(Benchsheet!C201=1121090,\"VA1121090\",IF(Benchsheet!C201=1121052,\"VA1121052\",IF(Benchsheet!C201=1121175,\"VA1121175\",IF(Benchsheet!C201=1121580,\"VA1121580\",IF(Benchsheet!C201=1121570,\"VA1121570\",IF(Benchsheet!C201=1121045,\"VA1121045\",IF(Benchsheet!C201=1121655,\"VA1121655\",IF(Benchsheet!C201=1121503,\"VA1121503\",IF(Benchsheet!C201=1121043,\"VA1121043\",IF(Benchsheet!C201=1121900,\"VA1121900\",IF(Benchsheet!C201=1121845,\"VA1121845\",IF(Benchsheet!C201=1121655,\"VA1121655\",IF(Benchsheet!C201=1121900,\"VA1121900\",IF(Benchsheet!C201<1,\"\")))))))))))))))","v":""},{"$f":"WORKSHEET!C198","v":""},{"$f":"IF(Benchsheet!A202>1,\"SM 9223B\",\"\")","v":""},{"$f":"Benchsheet!U202","v":"00:00:00"},{"$f":"IF(Benchsheet!J202>1,\"A\",\"\")","v":""},{"$f":"Benchsheet!M202","v":0},{"$f":"IF(WORKSHEET!A201=\"-1\",\"\",IF(WORKSHEET!A201=0,\"0\",WORKSHEET!A201))","v":""},"",{"$f":"IF(WORKSHEET!B199=\"MPN\",\"MPN\",\"\")","v":""}]
[{"$f":"IF(Benchsheet!A203>1,\"result\",\"\")","v":""},{"$f":"IF(Benchsheet!A203>1,\"STATE\",\"\")","v":""},{"$f":"IF(Benchsheet!A203>1,\"00035\",\"\")","v":""},{"$f":"Benchsheet!A203","v":0},{"$f":"IF(Benchsheet!C202=1121057,\"VA1121057\",IF(Benchsheet!C202=1121090,\"VA1121090\",IF(Benchsheet!C202=1121052,\"VA1121052\",IF(Benchsheet!C202=1121175,\"VA1121175\",IF(Benchsheet!C202=1121580,\"VA1121580\",IF(Benchsheet!C202=1121570,\"VA1121570\",IF(Benchsheet!C202=1121045,\"VA1121045\",IF(Benchsheet!C202=1121655,\"VA1121655\",IF(Benchsheet!C202=1121503,\"VA1121503\",IF(Benchsheet!C202=1121043,\"VA1121043\",IF(Benchsheet!C202=1121900,\"VA1121900\",IF(Benchsheet!C202=1121845,\"VA1121845\",IF(Benchsheet!C202=1121655,\"VA1121655\",IF(Benchsheet!C202=1121900,\"VA1121900\",IF(Benchsheet!C202<1,\"\")))))))))))))))","v":""},{"$f":"IF(WORKSHEET!B199=\"MPN\",\"3000\",IF(WORKSHEET!B199=\"TC\",\"3100\",\"\"))","v":""},{"$f":"IF(Benchsheet!A203>1,\"SM 9223B\",\"\")","v":""},{"$f":"Benchsheet!U203","v":"00:00:00"},{"$f":"IF(Benchsheet!J203>1,\"A\",\"\")","v":""},{"$f":"Benchsheet!L203","v":0},{"$f":"IF(WORKSHEET!A202=\"-1\",\"\",IF(WORKSHEET!A202=0,\"0\",WORKSHEET!A202))","v":""},"",{"$f":"IF(WORKSHEET!B199=\"MPN\",\"MPN\",\"\")","v":""}]
[{"$f":"IF(Benchsheet!A203>1,\"result\",\"\")","v":""},{"$f":"IF(Benchsheet!A203>1,\"STATE\",\"\")","v":""},{"$f":"IF(Benchsheet!A203>1,\"00035\",\"\")","v":""},{"$f":"Benchsheet!A203","v":0},{"$f":"IF(Benchsheet!C202=1121057,\"VA1121057\",IF(Benchsheet!C202=1121090,\"VA1121090\",IF(Benchsheet!C202=1121052,\"VA1121052\",IF(Benchsheet!C202=1121175,\"VA1121175\",IF(Benchsheet!C202=1121580,\"VA1121580\",IF(Benchsheet!C202=1121570,\"VA1121570\",IF(Benchsheet!C202=1121045,\"VA1121045\",IF(Benchsheet!C202=1121655,\"VA1121655\",IF(Benchsheet!C202=1121503,\"VA1121503\",IF(Benchsheet!C202=1121043,\"VA1121043\",IF(Benchsheet!C202=1121900,\"VA1121900\",IF(Benchsheet!C202=1121845,\"VA1121845\",IF(Benchsheet!C202=1121655,\"VA1121655\",IF(Benchsheet!C202=1121900,\"VA1121900\",IF(Benchsheet!C202<1,\"\")))))))))))))))","v":""},{"$f":"WORKSHEET!C199","v":""},{"$f":"IF(Benchsheet!A203>1,\"SM 9223B\",\"\")","v":""},{"$f":"Benchsheet!U203","v":"00:00:00"},{"$f":"IF(Benchsheet!J203>1,\"A\",\"\")","v":""},{"$f":"Benchsheet!M203","v":0},{"$f":"IF(WORKSHEET!A202=\"-1\",\"\",IF(WORKSHEET!A202=0,\"0\",WORKSHEET!A202))","v":""},"",{"$f":"IF(WORKSHEET!B200=\"MPN\",\"MPN\",\"\")","v":""}]
[{"$f":"IF(Benchsheet!A204>1,\"result\",\"\")","v":""},{"$f":"IF(Benchsheet!A204>1,\"STATE\",\"\")","v":""},{"$f":"IF(Benchsheet!A204>1,\"00035\",\"\")","v":""},{"$f":"Benchsheet!A204","v":0},{"$f":"IF(Benchsheet!C203=1121057,\"VA1121057\",IF(Benchsheet!C203=1121090,\"VA1121090\",IF(Benchsheet!C203=1121052,\"VA1121052\",IF(Benchsheet!C203=1121175,\"VA1121175\",IF(Benchsheet!C203=1121580,\"VA1121580\",IF(Benchsheet!C203=1121570,\"VA1121570\",IF(Benchsheet!C203=1121045,\"VA1121045\",IF(Benchsheet!C203=1121655,\"VA1121655\",IF(Benchsheet!C203=1121503,\"VA1121503\",IF(Benchsheet!C203=1121043,\"VA1121043\",IF(Benchsheet!C203=1121900,\"VA1121900\",IF(Benchsheet!C203=1121845,\"VA1121845\",IF(Benchsheet!C203=1121655,\"VA1121655\",IF(Benchsheet!C203=1121900,\"VA1121900\",IF(Benchsheet!C203<1,\"\")))))))))))))))","v":""},{"$f":"IF(WORKSHEET!B200=\"MPN\",\"3000\",IF(WORKSHEET!B200=\"TC\",\"3100\",\"\"))","v":""},{"$f":"IF(Benchsheet!A204>1,\"SM 9223B\",\"\")","v":""},{"$f":"Benchsheet!U204","v":"00:00:00"},{"$f":"IF(Benchsheet!J204>1,\"A\",\"\")","v":""},{"$f":"Benchsheet!L204","v":0},{"$f":"IF(WORKSHEET!A203=\"-1\",\"\",IF(WORKSHEET!A203=0,\"0\",WORKSHEET!A203))","v":""},"",{"$f":"IF(WORKSHEET!B200=\"MPN\",\"MPN\",\"\")","v":""}]
[{"$f":"IF(Benchsheet!A204>1,\"result\",\"\")","v":""},{"$f":"IF(Benchsheet!A204>1,\"STATE\",\"\")","v":""},{"$f":"IF(Benchsheet!A204>1,\"00035\",\"\")","v":""},{"$f":"Benchsheet!A204","v":0},{"$f":"IF(Benchsheet!C203=1121057,\"VA1121057\",IF(Benchsheet!C203=1121090,\"VA1121090\",IF(Benchsheet!C203=1121052,\"VA1121052\",IF(Benchsheet!C203=1121175,\"VA1121175\",IF(Benchsheet!C203=1121580,\"VA1121580\",IF(Benchsheet!C203=1121570,\"VA1121570\",IF(Benchsheet!C203=1121045,\"VA1121045\",IF(Benchsheet!C203=1121655,\"VA1121655\",IF(Benchsheet!C203=1121503,\"VA1121503\",IF(Benchsheet!C203=1121043,\"VA1121043\",IF(Benchsheet!C203=1121900,\"VA1121900\",IF(Benchsheet!C203=1121845,\"VA1121845\",IF(Benchsheet!C203=1121655,\"VA1121655\",IF(Benchsheet!C203=1121900,\"VA1121900\",IF(Benchsheet!C203<1,\"\")))))))))))))))","v":""},{"$f":"WORKSHEET!C200","v":""},{"$f":"IF(Benchsheet!A204>1,\"SM 9223B\",\"\")","v":""},{"$f":"Benchsheet!U204","v":"00:00:00"},{"$f":"IF(Benchsheet!J204>1,\"A\",\"\")","v":""},{"$f":"Benchsheet!M204","v":0},{"$f":"IF(WORKSHEET!A203=\"-1\",\"\",IF(WORKSHEET!A203=0,\"0\",WORKSHEET!A203))","v":""},"",{"$f":"IF(WORKSHEET!B201=\"MPN\",\"MPN\",\"\")","v":""}]
[{"$f":"IF(Benchsheet!A205>1,\"result\",\"\")","v":""},{"$f":"IF(Benchsheet!A205>1,\"STATE\",\"\")","v":""},{"$f":"IF(Benchsheet!A205>1,\"00035\",\"\")","v":""},{"$f":"Benchsheet!A205","v":0},{"$f":"IF(Benchsheet!C204=1121057,\"VA1121057\",IF(Benchsheet!C204=1121090,\"VA1121090\",IF(Benchsheet!C204=1121052,\"VA1121052\",IF(Benchsheet!C204=1121175,\"VA1121175\",IF(Benchsheet!C204=1121580,\"VA1121580\",IF(Benchsheet!C204=1121570,\"VA1121570\",IF(Benchsheet!C204=1121045,\"VA1121045\",IF(Benchsheet!C204=1121655,\"VA1121655\",IF(Benchsheet!C204=1121503,\"VA1121503\",IF(Benchsheet!C204=1121043,\"VA1121043\",IF(Benchsheet!C204=1121900,\"VA1121900\",IF(Benchsheet!C204=1121845,\"VA1121845\",IF(Benchsheet!C204=1121655,\"VA1121655\",IF(Benchsheet!C204=1121900,\"VA1121900\",IF(Benchsheet!C204<1,\"\")))))))))))))))","v":""},{"$f":"IF(WORKSHEET!B201=\"MPN\",\"3000\",IF(WORKSHEET!B201=\"TC\",\"3100\",\"\"))","v":""},{"$f":"IF(Benchsheet!A205>1,\"SM 9223B\",\"\")","v":""},{"$f":"Benchsheet!U205","v":"00:00:00"},{"$f":"IF(Benchsheet!J205>1,\"A\",\"\")","v":""},{"$f":"Benchsheet!L205","v":0},{"$f":"IF(WORKSHEET!A204=\"-1\",\"\",IF(WORKSHEET!A204=0,\"0\",WORKSHEET!A204))","v":""},"",{"$f":"IF(WORKSHEET!B201=\"MPN\",\"MPN\",\"\")","v":""}]
[{"$f":"IF(Benchsheet!A205>1,\"result\",\"\")","v":""},{"$f":"IF(Benchsheet!A205>1,\"STATE\",\"\")","v":""},{"$f":"IF(Benchsheet!A205>1,\"00035\",\"\")","v":""},{"$f":"Benchsheet!A205","v":0},{"$f":"IF(Benchsheet!C204=1121057,\"VA1121057\",IF(Benchsheet!C204=1121090,\"VA1121090\",IF(Benchsheet!C204=1121052,\"VA1121052\",IF(Benchsheet!C204=1121175,\"VA1121175\",IF(Benchsheet!C204=1121580,\"VA1121580\",IF(Benchsheet!C204=1121570,\"VA1121570\",IF(Benchsheet!C204=1121045,\"VA1121045\",IF(Benchsheet!C204=1121655,\"VA1121655\",IF(Benchsheet!C204=1121503,\"VA1121503\",IF(Benchsheet!C204=1121043,\"VA1121043\",IF(Benchsheet!C204=1121900,\"VA1121900\",IF(Benchsheet!C204=1121845,\"VA1121845\",IF(Benchsheet!C204=1121655,\"VA1121655\",IF(Benchsheet!C204=1121900,\"VA1121900\",IF(Benchsheet!C204<1,\"\")))))))))))))))","v":""},{"$f":"WORKSHEET!C201","v":""},{"$f":"IF(Benchsheet!A205>1,\"SM 9223B\",\"\")","v":""},{"$f":"Benchsheet!U205","v":"00:00:00"},{"$f":"IF(Benchsheet!J205>1,\"A\",\"\")","v":""},{"$f":"Benchsheet!M205","v":0},{"$f":"IF(WORKSHEET!A204=\"-1\",\"\",IF(WORKSHEET!A204=0,\"0\",WORKSHEET!A204))","v":""},"",{"$f":"IF(WORKSHEET!B202=\"MPN\",\"MPN\",\"\")","v":""}]
[{"$f":"IF(Benchsheet!A206>1,\"result\",\"\")","v":""},{"$f":"IF(Benchsheet!A206>1,\"STATE\",\"\")","v":""},{"$f":"IF(Benchsheet!A206>1,\"00035\",\"\")","v":""},{"$f":"Benchsheet!A206","v":0},{"$f":"IF(Benchsheet!C205=1121057,\"VA1121057\",IF(Benchsheet!C205=1121090,\"VA1121090\",IF(Benchsheet!C205=1121052,\"VA1121052\",IF(Benchsheet!C205=1121175,\"VA1121175\",IF(Benchsheet!C205=1121580,\"VA1121580\",IF(Benchsheet!C205=1121570,\"VA1121570\",IF(Benchsheet!C205=1121045,\"VA1121045\",IF(Benchsheet!C205=1121655,\"VA1121655\",IF(Benchsheet!C205=1121503,\"VA1121503\",IF(Benchsheet!C205=1121043,\"VA1121043\",IF(Benchsheet!C205=1121900,\"VA1121900\",IF(Benchsheet!C205=1121845,\"VA1121845\",IF(Benchsheet!C205=1121655,\"VA1121655\",IF(Benchsheet!C205=1121900,\"VA1121900\",IF(Benchsheet!C205<1,\"\")))))))))))))))","v":""},{"$f":"IF(WORKSHEET!B202=\"MPN\",\"3000\",IF(WORKSHEET!B202=\"TC\",\"3100\",\"\"))","v":""},{"$f":"IF(Benchsheet!A206>1,\"SM 9223B\",\"\")","v":""},{"$f":"Benchsheet!U206","v":"00:00:00"},{"$f":"IF(Benchsheet!J206>1,\"A\",\"\")","v":""},{"$f":"Benchsheet!L206","v":0},{"$f":"IF(WORKSHEET!A205=\"-1\",\"\",IF(WORKSHEET!A205=0,\"0\",WORKSHEET!A205))","v":""},"",{"$f":"IF(WORKSHEET!B202=\"MPN\",\"MPN\",\"\")","v":""}]
[{"$f":"IF(Benchsheet!A206>1,\"result\",\"\")","v":""},{"$f":"IF(Benchsheet!A206>1,\"STATE\",\"\")","v":""},{"$f":"IF(Benchsheet!A206>1,\"00035\",\"\")","v":""},{"$f":"Benchsheet!A206","v":0},{"$f":"IF(Benchsheet!C205=1121057,\"VA1121057\",IF(Benchsheet!C205=1121090,\"VA1121090\",IF(Benchsheet!C205=1121052,\"VA1121052\",IF(Benchsheet!C205=1121175,\"VA1121175\",IF(Benchsheet!C205=1121580,\"VA1121580\",IF(Benchsheet!C205=1121570,\"VA1121570\",IF(Benchsheet!C205=1121045,\"VA1121045\",IF(Benchsheet!C205=1121655,\"VA1121655\",IF(Benchsheet!C205=1121503,\"VA1121503\",IF(Benchsheet!C205=1121043,\"VA1121043\",IF(Benchsheet!C205=1121900,\"VA1121900\",IF(Benchsheet!C205=1121845,\"VA1121845\",IF(Benchsheet!C205=1121655,\"VA1121655\",IF(Benchsheet!C205=1121900,\"VA1121900\",IF(Benchsheet!C205<1,\"\")))))))))))))))","v":""},{"$f":"WORKSHEET!C202","v":""},{"$f":"IF(Benchsheet!A206>1,\"SM 9223B\",\"\")","v":""},{"$f":"Benchsheet!U206","v":"00:00:00"},{"$f":"IF(Benchsheet!J206>1,\"A\",\"\")","v":""},{"$f":"Benchsheet!M206","v":0},{"$f":"IF(WORKSHEET!A205=\"-1\",\"\",IF(WORKSHEET!A205=0,\"0\",WORKSHEET!A205))","v":""},"",{"$f":"IF(WORKSHEET!B203=\"MPN\",\"MPN\",\"\")","v":""}]
[{"$f":"IF(Benchsheet!A207>1,\"result\",\"\")","v":""},{"$f":"IF(Benchsheet!A207>1,\"STATE\",\"\")","v":""},{"$f":"IF(Benchsheet!A207>1,\"00035\",\"\")","v":""},{"$f":"Benchsheet!A207","v":0},{"$f":"IF(Benchsheet!C206=1121057,\"VA1121057\",IF(Benchsheet!C206=1121090,\"VA1121090\",IF(Benchsheet!C206=1121052,\"VA1121052\",IF(Benchsheet!C206=1121175,\"VA1121175\",IF(Benchsheet!C206=1121580,\"VA1121580\",IF(Benchsheet!C206=1121570,\"VA1121570\",IF(Benchsheet!C206=1121045,\"VA1121045\",IF(Benchsheet!C206=1121655,\"VA1121655\",IF(Benchsheet!C206=1121503,\"VA1121503\",IF(Benchsheet!C206=1121043,\"VA1121043\",IF(Benchsheet!C206=1121900,\"VA1121900\",IF(Benchsheet!C206=1121845,\"VA1121845\",IF(Benchsheet!C206=1121655,\"VA1121655\",IF(Benchsheet!C206=1121900,\"VA1121900\",IF(Benchsheet!C206<1,\"\")))))))))))))))","v":""},{"$f":"IF(WORKSHEET!B203=\"MPN\",\"3000\",IF(WORKSHEET!B203=\"TC\",\"3100\",\"\"))","v":""},{"$f":"IF(Benchsheet!A207>1,\"SM 9223B\",\"\")","v":""},{"$f":"Benchsheet!U207","v":"00:00:00"},{"$f":"IF(Benchsheet!J207>1,\"A\",\"\")","v":""},{"$f":"Benchsheet!L207","v":0},{"$f":"IF(WORKSHEET!A206=\"-1\",\"\",IF(WORKSHEET!A206=0,\"0\",WORKSHEET!A206))","v":""},"",{"$f":"IF(WORKSHEET!B203=\"MPN\",\"MPN\",\"\")","v":""}]
[{"$f":"IF(Benchsheet!A207>1,\"result\",\"\")","v":""},{"$f":"IF(Benchsheet!A207>1,\"STATE\",\"\")","v":""},{"$f":"IF(Benchsheet!A207>1,\"00035\",\"\")","v":""},{"$f":"Benchsheet!A207","v":0},{"$f":"IF(Benchsheet!C206=1121057,\"VA1121057\",IF(Benchsheet!C206=1121090,\"VA1121090\",IF(Benchsheet!C206=1121052,\"VA1121052\",IF(Benchsheet!C206=1121175,\"VA1121175\",IF(Benchsheet!C206=1121580,\"VA1121580\",IF(Benchsheet!C206=1121570,\"VA1121570\",IF(Benchsheet!C206=1121045,\"VA1121045\",IF(Benchsheet!C206=1121655,\"VA1121655\",IF(Benchsheet!C206=1121503,\"VA1121503\",IF(Benchsheet!C206=1121043,\"VA1121043\",IF(Benchsheet!C206=1121900,\"VA1121900\",IF(Benchsheet!C206=1121845,\"VA1121845\",IF(Benchsheet!C206=1121655,\"VA1121655\",IF(Benchsheet!C206=1121900,\"VA1121900\",IF(Benchsheet!C206<1,\"\")))))))))))))))","v":""},{"$f":"WORKSHEET!C203","v":""},{"$f":"IF(Benchsheet!A207>1,\"SM 9223B\",\"\")","v":""},{"$f":"Benchsheet!U207","v":"00:00:00"},{"$f":"IF(Benchsheet!J207>1,\"A\",\"\")","v":""},{"$f":"Benchsheet!M207","v":0},{"$f":"IF(WORKSHEET!A206=\"-1\",\"\",IF(WORKSHEET!A206=0,\"0\",WORKSHEET!A206))","v":""},"",{"$f":"IF(WORKSHEET!B204=\"MPN\",\"MPN\",\"\")","v":""}]
[{"$f":"IF(Benchsheet!A208>1,\"result\",\"\")","v":""},{"$f":"IF(Benchsheet!A208>1,\"STATE\",\"\")","v":""},{"$f":"IF(Benchsheet!A208>1,\"00035\",\"\")","v":""},{"$f":"Benchsheet!A208","v":0},{"$f":"IF(Benchsheet!C207=1121057,\"VA1121057\",IF(Benchsheet!C207=1121090,\"VA1121090\",IF(Benchsheet!C207=1121052,\"VA1121052\",IF(Benchsheet!C207=1121175,\"VA1121175\",IF(Benchsheet!C207=1121580,\"VA1121580\",IF(Benchsheet!C207=1121570,\"VA1121570\",IF(Benchsheet!C207=1121045,\"VA1121045\",IF(Benchsheet!C207=1121655,\"VA1121655\",IF(Benchsheet!C207=1121503,\"VA1121503\",IF(Benchsheet!C207=1121043,\"VA1121043\",IF(Benchsheet!C207=1121900,\"VA1121900\",IF(Benchsheet!C207=1121845,\"VA1121845\",IF(Benchsheet!C207=1121655,\"VA1121655\",IF(Benchsheet!C207=1121900,\"VA1121900\",IF(Benchsheet!C207<1,\"\")))))))))))))))","v":""},{"$f":"IF(WORKSHEET!B204=\"MPN\",\"3000\",IF(WORKSHEET!B204=\"TC\",\"3100\",\"\"))","v":""},{"$f":"IF(Benchsheet!A208>1,\"SM 9223B\",\"\")","v":""},{"$f":"Benchsheet!U208","v":"00:00:00"},{"$f":"IF(Benchsheet!J208>1,\"A\",\"\")","v":""},{"$f":"Benchsheet!L208","v":0},{"$f":"IF(WORKSHEET!A207=\"-1\",\"\",IF(WORKSHEET!A207=0,\"0\",WORKSHEET!A207))","v":""},"",{"$f":"IF(WORKSHEET!B204=\"MPN\",\"MPN\",\"\")","v":""}]
[{"$f":"IF(Benchsheet!A208>1,\"result\",\"\")","v":""},{"$f":"IF(Benchsheet!A208>1,\"STATE\",\"\")","v":""},{"$f":"IF(Benchsheet!A208>1,\"00035\",\"\")","v":""},{"$f":"Benchsheet!A208","v":0},{"$f":"IF(Benchsheet!C207=1121057,\"VA1121057\",IF(Benchsheet!C207=1121090,\"VA1121090\",IF(Benchsheet!C207=1121052,\"VA1121052\",IF(Benchsheet!C207=1121175,\"VA1121175\",IF(Benchsheet!C207=1121580,\"VA1121580\",IF(Benchsheet!C207=1121570,\"VA1121570\",IF(Benchsheet!C207=1121045,\"VA1121045\",IF(Benchsheet!C207=1121655,\"VA1121655\",IF(Benchsheet!C207=1121503,\"VA1121503\",IF(Benchsheet!C207=1121043,\"VA1121043\",IF(Benchsheet!C207=1121900,\"VA1121900\",IF(Benchsheet!C207=1121845,\"VA1121845\",IF(Benchsheet!C207=1121655,\"VA1121655\",IF(Benchsheet!C207=1121900,\"VA1121900\",IF(Benchsheet!C207<1,\"\")))))))))))))))","v":""},{"$f":"WORKSHEET!C204","v":""},{"$f":"IF(Benchsheet!A208>1,\"SM 9223B\",\"\")","v":""},{"$f":"Benchsheet!U208","v":"00:00:00"},{"$f":"IF(Benchsheet!J208>1,\"A\",\"\")","v":""},{"$f":"Benchsheet!M208","v":0},{"$f":"IF(WORKSHEET!A207=\"-1\",\"\",IF(WORKSHEET!A207=0,\"0\",WORKSHEET!A207))","v":""},"",{"$f":"IF(WORKSHEET!B205=\"MPN\",\"MPN\",\"\")","v":""}]
[{"$f":"IF(Benchsheet!A209>1,\"result\",\"\")","v":""},{"$f":"IF(Benchsheet!A209>1,\"STATE\",\"\")","v":""},{"$f":"IF(Benchsheet!A209>1,\"00035\",\"\")","v":""},{"$f":"Benchsheet!A209","v":0},{"$f":"IF(Benchsheet!C208=1121057,\"VA1121057\",IF(Benchsheet!C208=1121090,\"VA1121090\",IF(Benchsheet!C208=1121052,\"VA1121052\",IF(Benchsheet!C208=1121175,\"VA1121175\",IF(Benchsheet!C208=1121580,\"VA1121580\",IF(Benchsheet!C208=1121570,\"VA1121570\",IF(Benchsheet!C208=1121045,\"VA1121045\",IF(Benchsheet!C208=1121655,\"VA1121655\",IF(Benchsheet!C208=1121503,\"VA1121503\",IF(Benchsheet!C208=1121043,\"VA1121043\",IF(Benchsheet!C208=1121900,\"VA1121900\",IF(Benchsheet!C208=1121845,\"VA1121845\",IF(Benchsheet!C208=1121655,\"VA1121655\",IF(Benchsheet!C208=1121900,\"VA1121900\",IF(Benchsheet!C208<1,\"\")))))))))))))))","v":""},{"$f":"IF(WORKSHEET!B205=\"MPN\",\"3000\",IF(WORKSHEET!B205=\"TC\",\"3100\",\"\"))","v":""},{"$f":"IF(Benchsheet!A209>1,\"SM 9223B\",\"\")","v":""},{"$f":"Benchsheet!U209","v":"00:00:00"},{"$f":"IF(Benchsheet!J209>1,\"A\",\"\")","v":""},{"$f":"Benchsheet!L209","v":0},{"$f":"IF(WORKSHEET!A208=\"-1\",\"\",IF(WORKSHEET!A208=0,\"0\",WORKSHEET!A208))","v":""},"",{"$f":"IF(WORKSHEET!B205=\"MPN\",\"MPN\",\"\")","v":""}]
[{"$f":"IF(Benchsheet!A209>1,\"result\",\"\")","v":""},{"$f":"IF(Benchsheet!A209>1,\"STATE\",\"\")","v":""},{"$f":"IF(Benchsheet!A209>1,\"00035\",\"\")","v":""},{"$f":"Benchsheet!A209","v":0},{"$f":"IF(Benchsheet!C208=1121057,\"VA1121057\",IF(Benchsheet!C208=1121090,\"VA1121090\",IF(Benchsheet!C208=1121052,\"VA1121052\",IF(Benchsheet!C208=1121175,\"VA1121175\",IF(Benchsheet!C208=1121580,\"VA1121580\",IF(Benchsheet!C208=1121570,\"VA1121570\",IF(Benchsheet!C208=1121045,\"VA1121045\",IF(Benchsheet!C208=1121655,\"VA1121655\",IF(Benchsheet!C208=1121503,\"VA1121503\",IF(Benchsheet!C208=1121043,\"VA1121043\",IF(Benchsheet!C208=1121900,\"VA1121900\",IF(Benchsheet!C208=1121845,\"VA1121845\",IF(Benchsheet!C208=1121655,\"VA1121655\",IF(Benchsheet!C208=1121900,\"VA1121900\",IF(Benchsheet!C208<1,\"\")))))))))))))))","v":""},{"$f":"WORKSHEET!C205","v":""},{"$f":"IF(Benchsheet!A209>1,\"SM 9223B\",\"\")","v":""},{"$f":"Benchsheet!U209","v":"00:00:00"},{"$f":"IF(Benchsheet!J209>1,\"A\",\"\")","v":""},{"$f":"Benchsheet!M209","v":0},{"$f":"IF(WORKSHEET!A208=\"-1\",\"\",IF(WORKSHEET!A208=0,\"0\",WORKSHEET!A208))","v":""},"",{"$f":"IF(WORKSHEET!B206=\"MPN\",\"MPN\",\"\")","v":""}]
[{"$f":"IF(Benchsheet!A210>1,\"result\",\"\")","v":""},{"$f":"IF(Benchsheet!A210>1,\"STATE\",\"\")","v":""},{"$f":"IF(Benchsheet!A210>1,\"00035\",\"\")","v":""},{"$f":"Benchsheet!A210","v":0},{"$f":"IF(Benchsheet!C209=1121057,\"VA1121057\",IF(Benchsheet!C209=1121090,\"VA1121090\",IF(Benchsheet!C209=1121052,\"VA1121052\",IF(Benchsheet!C209=1121175,\"VA1121175\",IF(Benchsheet!C209=1121580,\"VA1121580\",IF(Benchsheet!C209=1121570,\"VA1121570\",IF(Benchsheet!C209=1121045,\"VA1121045\",IF(Benchsheet!C209=1121655,\"VA1121655\",IF(Benchsheet!C209=1121503,\"VA1121503\",IF(Benchsheet!C209=1121043,\"VA1121043\",IF(Benchsheet!C209=1121900,\"VA1121900\",IF(Benchsheet!C209=1121845,\"VA1121845\",IF(Benchsheet!C209=1121655,\"VA1121655\",IF(Benchsheet!C209=1121900,\"VA1121900\",IF(Benchsheet!C209<1,\"\")))))))))))))))","v":""},{"$f":"IF(WORKSHEET!B206=\"MPN\",\"3000\",IF(WORKSHEET!B206=\"TC\",\"3100\",\"\"))","v":""},{"$f":"IF(Benchsheet!A210>1,\"SM 9223B\",\"\")","v":""},{"$f":"Benchsheet!U210","v":"00:00:00"},{"$f":"IF(Benchsheet!J210>1,\"A\",\"\")","v":""},{"$f":"Benchsheet!L210","v":0},{"$f":"IF(WORKSHEET!A209=\"-1\",\"\",IF(WORKSHEET!A209=0,\"0\",WORKSHEET!A209))","v":""},"",{"$f":"IF(WORKSHEET!B206=\"MPN\",\"MPN\",\"\")","v":""}]
[{"$f":"IF(Benchsheet!A210>1,\"result\",\"\")","v":""},{"$f":"IF(Benchsheet!A210>1,\"STATE\",\"\")","v":""},{"$f":"IF(Benchsheet!A210>1,\"00035\",\"\")","v":""},{"$f":"Benchsheet!A210","v":0},{"$f":"IF(Benchsheet!C209=1121057,\"VA1121057\",IF(Benchsheet!C209=1121090,\"VA1121090\",IF(Benchsheet!C209=1121052,\"VA1121052\",IF(Benchsheet!C209=1121175,\"VA1121175\",IF(Benchsheet!C209=1121580,\"VA1121580\",IF(Benchsheet!C209=1121570,\"VA1121570\",IF(Benchsheet!C209=1121045,\"VA1121045\",IF(Benchsheet!C209=1121655,\"VA1121655\",IF(Benchsheet!C209=1121503,\"VA1121503\",IF(Benchsheet!C209=1121043,\"VA1121043\",IF(Benchsheet!C209=1121900,\"VA1121900\",IF(Benchsheet!C209=1121845,\"VA1121845\",IF(Benchsheet!C209=1121655,\"VA1121655\",IF(Benchsheet!C209=1121900,\"VA1121900\",IF(Benchsheet!C209<1,\"\")))))))))))))))","v":""},{"$f":"WORKSHEET!C206","v":""},{"$f":"IF(Benchsheet!A210>1,\"SM 9223B\",\"\")","v":""},{"$f":"Benchsheet!U210","v":"00:00:00"},{"$f":"IF(Benchsheet!J210>1,\"A\",\"\")","v":""},{"$f":"Benchsheet!M210","v":0},{"$f":"IF(WORKSHEET!A209=\"-1\",\"\",IF(WORKSHEET!A209=0,\"0\",WORKSHEET!A209))","v":""},"",{"$f":"IF(WORKSHEET!B207=\"MPN\",\"MPN\",\"\")","v":""}]
[{"$f":"IF(Benchsheet!A211>1,\"result\",\"\")","v":""},{"$f":"IF(Benchsheet!A211>1,\"STATE\",\"\")","v":""},{"$f":"IF(Benchsheet!A211>1,\"00035\",\"\")","v":""},{"$f":"Benchsheet!A211","v":0},{"$f":"IF(Benchsheet!C210=1121057,\"VA1121057\",IF(Benchsheet!C210=1121090,\"VA1121090\",IF(Benchsheet!C210=1121052,\"VA1121052\",IF(Benchsheet!C210=1121175,\"VA1121175\",IF(Benchsheet!C210=1121580,\"VA1121580\",IF(Benchsheet!C210=1121570,\"VA1121570\",IF(Benchsheet!C210=1121045,\"VA1121045\",IF(Benchsheet!C210=1121655,\"VA1121655\",IF(Benchsheet!C210=1121503,\"VA1121503\",IF(Benchsheet!C210=1121043,\"VA1121043\",IF(Benchsheet!C210=1121900,\"VA1121900\",IF(Benchsheet!C210=1121845,\"VA1121845\",IF(Benchsheet!C210=1121655,\"VA1121655\",IF(Benchsheet!C210=1121900,\"VA1121900\",IF(Benchsheet!C210<1,\"\")))))))))))))))","v":""},{"$f":"IF(WORKSHEET!B207=\"MPN\",\"3000\",IF(WORKSHEET!B207=\"TC\",\"3100\",\"\"))","v":""},{"$f":"IF(Benchsheet!A211>1,\"SM 9223B\",\"\")","v":""},{"$f":"Benchsheet!U211","v":"00:00:00"},{"$f":"IF(Benchsheet!J211>1,\"A\",\"\")","v":""},{"$f":"Benchsheet!L211","v":0},{"$f":"IF(WORKSHEET!A210=\"-1\",\"\",IF(WORKSHEET!A210=0,\"0\",WORKSHEET!A210))","v":""},"",{"$f":"IF(WORKSHEET!B207=\"MPN\",\"MPN\",\"\")","v":""}]
[{"$f":"IF(Benchsheet!A211>1,\"result\",\"\")","v":""},{"$f":"IF(Benchsheet!A211>1,\"STATE\",\"\")","v":""},{"$f":"IF(Benchsheet!A211>1,\"00035\",\"\")","v":""},{"$f":"Benchsheet!A211","v":0},{"$f":"IF(Benchsheet!C210=1121057,\"VA1121057\",IF(Benchsheet!C210=1121090,\"VA1121090\",IF(Benchsheet!C210=1121052,\"VA1121052\",IF(Benchsheet!C210=1121175,\"VA1121175\",IF(Benchsheet!C210=1121580,\"VA1121580\",IF(Benchsheet!C210=1121570,\"VA1121570\",IF(Benchsheet!C210=1121045,\"VA1121045\",IF(Benchsheet!C210=1121655,\"VA1121655\",IF(Benchsheet!C210=1121503,\"VA1121503\",IF(Benchsheet!C210=1121043,\"VA1121043\",IF(Benchsheet!C210=1121900,\"VA1121900\",IF(Benchsheet!C210=1121845,\"VA1121845\",IF(Benchsheet!C210=1121655,\"VA1121655\",IF(Benchsheet!C210=1121900,\"VA1121900\",IF(Benchsheet!C210<1,\"\")))))))))))))))","v":""},{"$f":"WORKSHEET!C207","v":""},{"$f":"IF(Benchsheet!A211>1,\"SM 9223B\",\"\")","v":""},{"$f":"Benchsheet!U211","v":"00:00:00"},{"$f":"IF(Benchsheet!J211>1,\"A\",\"\")","v":""},{"$f":"Benchsheet!M211","v":0},{"$f":"IF(WORKSHEET!A210=\"-1\",\"\",IF(WORKSHEET!A210=0,\"0\",WORKSHEET!A210))","v":""},"",{"$f":"IF(WORKSHEET!B208=\"MPN\",\"MPN\",\"\")","v":""}]
[{"$f":"IF(Benchsheet!A212>1,\"result\",\"\")","v":""},{"$f":"IF(Benchsheet!A212>1,\"STATE\",\"\")","v":""},{"$f":"IF(Benchsheet!A212>1,\"00035\",\"\")","v":""},{"$f":"Benchsheet!A212","v":0},{"$f":"IF(Benchsheet!C211=1121057,\"VA1121057\",IF(Benchsheet!C211=1121090,\"VA1121090\",IF(Benchsheet!C211=1121052,\"VA1121052\",IF(Benchsheet!C211=1121175,\"VA1121175\",IF(Benchsheet!C211=1121580,\"VA1121580\",IF(Benchsheet!C211=1121570,\"VA1121570\",IF(Benchsheet!C211=1121045,\"VA1121045\",IF(Benchsheet!C211=1121655,\"VA1121655\",IF(Benchsheet!C211=1121503,\"VA1121503\",IF(Benchsheet!C211=1121043,\"VA1121043\",IF(Benchsheet!C211=1121900,\"VA1121900\",IF(Benchsheet!C211=1121845,\"VA1121845\",IF(Benchsheet!C211=1121655,\"VA1121655\",IF(Benchsheet!C211=1121900,\"VA1121900\",IF(Benchsheet!C211<1,\"\")))))))))))))))","v":""},{"$f":"IF(WORKSHEET!B208=\"MPN\",\"3000\",IF(WORKSHEET!B208=\"TC\",\"3100\",\"\"))","v":""},{"$f":"IF(Benchsheet!A212>1,\"SM 9223B\",\"\")","v":""},{"$f":"Benchsheet!U212","v":"00:00:00"},{"$f":"IF(Benchsheet!J212>1,\"A\",\"\")","v":""},{"$f":"Benchsheet!L212","v":0},{"$f":"IF(WORKSHEET!A211=\"-1\",\"\",IF(WORKSHEET!A211=0,\"0\",WORKSHEET!A211))","v":""},"",{"$f":"IF(WORKSHEET!B208=\"MPN\",\"MPN\",\"\")","v":""}]
[{"$f":"IF(Benchsheet!A212>1,\"result\",\"\")","v":""},{"$f":"IF(Benchsheet!A212>1,\"STATE\",\"\")","v":""},{"$f":"IF(Benchsheet!A212>1,\"00035\",\"\")","v":""},{"$f":"Benchsheet!A212","v":0},{"$f":"IF(Benchsheet!C211=1121057,\"VA1121057\",IF(Benchsheet!C211=1121090,\"VA1121090\",IF(Benchsheet!C211=1121052,\"VA1121052\",IF(Benchsheet!C211=1121175,\"VA1121175\",IF(Benchsheet!C211=1121580,\"VA1121580\",IF(Benchsheet!C211=1121570,\"VA1121570\",IF(Benchsheet!C211=1121045,\"VA1121045\",IF(Benchsheet!C211=1121655,\"VA1121655\",IF(Benchsheet!C211=1121503,\"VA1121503\",IF(Benchsheet!C211=1121043,\"VA1121043\",IF(Benchsheet!C211=1121900,\"VA1121900\",IF(Benchsheet!C211=1121845,\"VA1121845\",IF(Benchsheet!C211=1121655,\"VA1121655\",IF(Benchsheet!C211=1121900,\"VA1121900\",IF(Benchsheet!C211<1,\"\")))))))))))))))","v":""},{"$f":"WORKSHEET!C208","v":""},{"$f":"IF(Benchsheet!A212>1,\"SM 9223B\",\"\")","v":""},{"$f":"Benchsheet!U212","v":"00:00:00"},{"$f":"IF(Benchsheet!J212>1,\"A\",\"\")","v":""},{"$f":"Benchsheet!M212","v":0},{"$f":"IF(WORKSHEET!A211=\"-1\",\"\",IF(WORKSHEET!A211=0,\"0\",WORKSHEET!A211))","v":""},"",{"$f":"IF(WORKSHEET!B209=\"MPN\",\"MPN\",\"\")","v":""}]
[{"$f":"IF(Benchsheet!A213>1,\"result\",\"\")","v":""},{"$f":"IF(Benchsheet!A213>1,\"STATE\",\"\")","v":""},{"$f":"IF(Benchsheet!A213>1,\"00035\",\"\")","v":""},{"$f":"Benchsheet!A213","v":0},{"$f":"IF(Benchsheet!C212=1121057,\"VA1121057\",IF(Benchsheet!C212=1121090,\"VA1121090\",IF(Benchsheet!C212=1121052,\"VA1121052\",IF(Benchsheet!C212=1121175,\"VA1121175\",IF(Benchsheet!C212=1121580,\"VA1121580\",IF(Benchsheet!C212=1121570,\"VA1121570\",IF(Benchsheet!C212=1121045,\"VA1121045\",IF(Benchsheet!C212=1121655,\"VA1121655\",IF(Benchsheet!C212=1121503,\"VA1121503\",IF(Benchsheet!C212=1121043,\"VA1121043\",IF(Benchsheet!C212=1121900,\"VA1121900\",IF(Benchsheet!C212=1121845,\"VA1121845\",IF(Benchsheet!C212=1121655,\"VA1121655\",IF(Benchsheet!C212=1121900,\"VA1121900\",IF(Benchsheet!C212<1,\"\")))))))))))))))","v":""},{"$f":"IF(WORKSHEET!B209=\"MPN\",\"3000\",IF(WORKSHEET!B209=\"TC\",\"3100\",\"\"))","v":""},{"$f":"IF(Benchsheet!A213>1,\"SM 9223B\",\"\")","v":""},{"$f":"Benchsheet!U213","v":"00:00:00"},{"$f":"IF(Benchsheet!J213>1,\"A\",\"\")","v":""},{"$f":"Benchsheet!L213","v":0},{"$f":"IF(WORKSHEET!A212=\"-1\",\"\",IF(WORKSHEET!A212=0,\"0\",WORKSHEET!A212))","v":""},"",{"$f":"IF(WORKSHEET!B209=\"MPN\",\"MPN\",\"\")","v":""}]
[{"$f":"IF(Benchsheet!A213>1,\"result\",\"\")","v":""},{"$f":"IF(Benchsheet!A213>1,\"STATE\",\"\")","v":""},{"$f":"IF(Benchsheet!A213>1,\"00035\",\"\")","v":""},{"$f":"Benchsheet!A213","v":0},{"$f":"IF(Benchsheet!C212=1121057,\"VA1121057\",IF(Benchsheet!C212=1121090,\"VA1121090\",IF(Benchsheet!C212=1121052,\"VA1121052\",IF(Benchsheet!C212=1121175,\"VA1121175\",IF(Benchsheet!C212=1121580,\"VA1121580\",IF(Benchsheet!C212=1121570,\"VA1121570\",IF(Benchsheet!C212=1121045,\"VA1121045\",IF(Benchsheet!C212=1121655,\"VA1121655\",IF(Benchsheet!C212=1121503,\"VA1121503\",IF(Benchsheet!C212=1121043,\"VA1121043\",IF(Benchsheet!C212=1121900,\"VA1121900\",IF(Benchsheet!C212=1121845,\"VA1121845\",IF(Benchsheet!C212=1121655,\"VA1121655\",IF(Benchsheet!C212=1121900,\"VA1121900\",IF(Benchsheet!C212<1,\"\")))))))))))))))","v":""},{"$f":"WORKSHEET!C209","v":""},{"$f":"IF(Benchsheet!A213>1,\"SM 9223B\",\"\")","v":""},{"$f":"Benchsheet!U213","v":"00:00:00"},{"$f":"IF(Benchsheet!J213>1,\"A\",\"\")","v":""},{"$f":"Benchsheet!M213","v":0},{"$f":"IF(WORKSHEET!A212=\"-1\",\"\",IF(WORKSHEET!A212=0,\"0\",WORKSHEET!A212))","v":""},"",{"$f":"IF(WORKSHEET!B210=\"MPN\",\"MPN\",\"\")","v":""}]
[{"$f":"IF(Benchsheet!A214>1,\"result\",\"\")","v":""},{"$f":"IF(Benchsheet!A214>1,\"STATE\",\"\")","v":""},{"$f":"IF(Benchsheet!A214>1,\"00035\",\"\")","v":""},{"$f":"Benchsheet!A214","v":0},{"$f":"IF(Benchsheet!C213=1121057,\"VA1121057\",IF(Benchsheet!C213=1121090,\"VA1121090\",IF(Benchsheet!C213=1121052,\"VA1121052\",IF(Benchsheet!C213=1121175,\"VA1121175\",IF(Benchsheet!C213=1121580,\"VA1121580\",IF(Benchsheet!C213=1121570,\"VA1121570\",IF(Benchsheet!C213=1121045,\"VA1121045\",IF(Benchsheet!C213=1121655,\"VA1121655\",IF(Benchsheet!C213=1121503,\"VA1121503\",IF(Benchsheet!C213=1121043,\"VA1121043\",IF(Benchsheet!C213=1121900,\"VA1121900\",IF(Benchsheet!C213=1121845,\"VA1121845\",IF(Benchsheet!C213=1121655,\"VA1121655\",IF(Benchsheet!C213=1121900,\"VA1121900\",IF(Benchsheet!C213<1,\"\")))))))))))))))","v":""},{"$f":"IF(WORKSHEET!B210=\"MPN\",\"3000\",IF(WORKSHEET!B210=\"TC\",\"3100\",\"\"))","v":""},{"$f":"IF(Benchsheet!A214>1,\"SM 9223B\",\"\")","v":""},{"$f":"Benchsheet!U214","v":"00:00:00"},{"$f":"IF(Benchsheet!J214>1,\"A\",\"\")","v":""},{"$f":"Benchsheet!L214","v":0},{"$f":"IF(WORKSHEET!A213=\"-1\",\"\",IF(WORKSHEET!A213=0,\"0\",WORKSHEET!A213))","v":""},"",{"$f":"IF(WORKSHEET!B210=\"MPN\",\"MPN\",\"\")","v":""}]
[{"$f":"IF(Benchsheet!A214>1,\"result\",\"\")","v":""},{"$f":"IF(Benchsheet!A214>1,\"STATE\",\"\")","v":""},{"$f":"IF(Benchsheet!A214>1,\"00035\",\"\")","v":""},{"$f":"Benchsheet!A214","v":0},{"$f":"IF(Benchsheet!C213=1121057,\"VA1121057\",IF(Benchsheet!C213=1121090,\"VA1121090\",IF(Benchsheet!C213=1121052,\"VA1121052\",IF(Benchsheet!C213=1121175,\"VA1121175\",IF(Benchsheet!C213=1121580,\"VA1121580\",IF(Benchsheet!C213=1121570,\"VA1121570\",IF(Benchsheet!C213=1121045,\"VA1121045\",IF(Benchsheet!C213=1121655,\"VA1121655\",IF(Benchsheet!C213=1121503,\"VA1121503\",IF(Benchsheet!C213=1121043,\"VA1121043\",IF(Benchsheet!C213=1121900,\"VA1121900\",IF(Benchsheet!C213=1121845,\"VA1121845\",IF(Benchsheet!C213=1121655,\"VA1121655\",IF(Benchsheet!C213=1121900,\"VA1121900\",IF(Benchsheet!C213<1,\"\")))))))))))))))","v":""},{"$f":"WORKSHEET!C210","v":""},{"$f":"IF(Benchsheet!A214>1,\"SM 9223B\",\"\")","v":""},{"$f":"Benchsheet!U214","v":"00:00:00"},{"$f":"IF(Benchsheet!J214>1,\"A\",\"\")","v":""},{"$f":"Benchsheet!M214","v":0},{"$f":"IF(WORKSHEET!A213=\"-1\",\"\",IF(WORKSHEET!A213=0,\"0\",WORKSHEET!A213))","v":""},"",{"$f":"IF(WORKSHEET!B211=\"MPN\",\"MPN\",\"\")","v":""}]
[{"$f":"IF(Benchsheet!A215>1,\"result\",\"\")","v":""},{"$f":"IF(Benchsheet!A215>1,\"STATE\",\"\")","v":""},{"$f":"IF(Benchsheet!A215>1,\"00035\",\"\")","v":""},{"$f":"Benchsheet!A215","v":0},{"$f":"IF(Benchsheet!C214=1121057,\"VA1121057\",IF(Benchsheet!C214=1121090,\"VA1121090\",IF(Benchsheet!C214=1121052,\"VA1121052\",IF(Benchsheet!C214=1121175,\"VA1121175\",IF(Benchsheet!C214=1121580,\"VA1121580\",IF(Benchsheet!C214=1121570,\"VA1121570\",IF(Benchsheet!C214=1121045,\"VA1121045\",IF(Benchsheet!C214=1121655,\"VA1121655\",IF(Benchsheet!C214=1121503,\"VA1121503\",IF(Benchsheet!C214=1121043,\"VA1121043\",IF(Benchsheet!C214=1121900,\"VA1121900\",IF(Benchsheet!C214=1121845,\"VA1121845\",IF(Benchsheet!C214=1121655,\"VA1121655\",IF(Benchsheet!C214=1121900,\"VA1121900\",IF(Benchsheet!C214<1,\"\")))))))))))))))","v":""},{"$f":"IF(WORKSHEET!B211=\"MPN\",\"3000\",IF(WORKSHEET!B211=\"TC\",\"3100\",\"\"))","v":""},{"$f":"IF(Benchsheet!A215>1,\"SM 9223B\",\"\")","v":""},{"$f":"Benchsheet!U215","v":"00:00:00"},{"$f":"IF(Benchsheet!J215>1,\"A\",\"\")","v":""},{"$f":"Benchsheet!L215","v":0},{"$f":"IF(WORKSHEET!A214=\"-1\",\"\",IF(WORKSHEET!A214=0,\"0\",WORKSHEET!A214))","v":""},"",{"$f":"IF(WORKSHEET!B211=\"MPN\",\"MPN\",\"\")","v":""}]
[{"$f":"IF(Benchsheet!A215>1,\"result\",\"\")","v":""},{"$f":"IF(Benchsheet!A215>1,\"STATE\",\"\")","v":""},{"$f":"IF(Benchsheet!A215>1,\"00035\",\"\")","v":""},{"$f":"Benchsheet!A215","v":0},{"$f":"IF(Benchsheet!C214=1121057,\"VA1121057\",IF(Benchsheet!C214=1121090,\"VA1121090\",IF(Benchsheet!C214=1121052,\"VA1121052\",IF(Benchsheet!C214=1121175,\"VA1121175\",IF(Benchsheet!C214=1121580,\"VA1121580\",IF(Benchsheet!C214=1121570,\"VA1121570\",IF(Benchsheet!C214=1121045,\"VA1121045\",IF(Benchsheet!C214=1121655,\"VA1121655\",IF(Benchsheet!C214=1121503,\"VA1121503\",IF(Benchsheet!C214=1121043,\"VA1121043\",IF(Benchsheet!C214=1121900,\"VA1121900\",IF(Benchsheet!C214=1121845,\"VA1121845\",IF(Benchsheet!C214=1121655,\"VA1121655\",IF(Benchsheet!C214=1121900,\"VA1121900\",IF(Benchsheet!C214<1,\"\")))))))))))))))","v":""},{"$f":"WORKSHEET!C211","v":""},{"$f":"IF(Benchsheet!A215>1,\"SM 9223B\",\"\")","v":""},{"$f":"Benchsheet!U215","v":"00:00:00"},{"$f":"IF(Benchsheet!J215>1,\"A\",\"\")","v":""},{"$f":"Benchsheet!M215","v":0},{"$f":"IF(WORKSHEET!A214=\"-1\",\"\",IF(WORKSHEET!A214=0,\"0\",WORKSHEET!A214))","v":""},"",{"$f":"IF(WORKSHEET!B212=\"MPN\",\"MPN\",\"\")","v":""}]
[{"$f":"IF(Benchsheet!A216>1,\"result\",\"\")","v":""},{"$f":"IF(Benchsheet!A216>1,\"STATE\",\"\")","v":""},{"$f":"IF(Benchsheet!A216>1,\"00035\",\"\")","v":""},{"$f":"Benchsheet!A216","v":0},{"$f":"IF(Benchsheet!C215=1121057,\"VA1121057\",IF(Benchsheet!C215=1121090,\"VA1121090\",IF(Benchsheet!C215=1121052,\"VA1121052\",IF(Benchsheet!C215=1121175,\"VA1121175\",IF(Benchsheet!C215=1121580,\"VA1121580\",IF(Benchsheet!C215=1121570,\"VA1121570\",IF(Benchsheet!C215=1121045,\"VA1121045\",IF(Benchsheet!C215=1121655,\"VA1121655\",IF(Benchsheet!C215=1121503,\"VA1121503\",IF(Benchsheet!C215=1121043,\"VA1121043\",IF(Benchsheet!C215=1121900,\"VA1121900\",IF(Benchsheet!C215=1121845,\"VA1121845\",IF(Benchsheet!C215=1121655,\"VA1121655\",IF(Benchsheet!C215=1121900,\"VA1121900\",IF(Benchsheet!C215<1,\"\")))))))))))))))","v":""},{"$f":"IF(WORKSHEET!B212=\"MPN\",\"3000\",IF(WORKSHEET!B212=\"TC\",\"3100\",\"\"))","v":""},{"$f":"IF(Benchsheet!A216>1,\"SM 9223B\",\"\")","v":""},{"$f":"Benchsheet!U216","v":"00:00:00"},{"$f":"IF(Benchsheet!J216>1,\"A\",\"\")","v":""},{"$f":"Benchsheet!L216","v":0},{"$f":"IF(WORKSHEET!A215=\"-1\",\"\",IF(WORKSHEET!A215=0,\"0\",WORKSHEET!A215))","v":""},"",{"$f":"IF(WORKSHEET!B212=\"MPN\",\"MPN\",\"\")","v":""}]
[{"$f":"IF(Benchsheet!A216>1,\"result\",\"\")","v":""},{"$f":"IF(Benchsheet!A216>1,\"STATE\",\"\")","v":""},{"$f":"IF(Benchsheet!A216>1,\"00035\",\"\")","v":""},{"$f":"Benchsheet!A216","v":0},{"$f":"IF(Benchsheet!C215=1121057,\"VA1121057\",IF(Benchsheet!C215=1121090,\"VA1121090\",IF(Benchsheet!C215=1121052,\"VA1121052\",IF(Benchsheet!C215=1121175,\"VA1121175\",IF(Benchsheet!C215=1121580,\"VA1121580\",IF(Benchsheet!C215=1121570,\"VA1121570\",IF(Benchsheet!C215=1121045,\"VA1121045\",IF(Benchsheet!C215=1121655,\"VA1121655\",IF(Benchsheet!C215=1121503,\"VA1121503\",IF(Benchsheet!C215=1121043,\"VA1121043\",IF(Benchsheet!C215=1121900,\"VA1121900\",IF(Benchsheet!C215=1121845,\"VA1121845\",IF(Benchsheet!C215=1121655,\"VA1121655\",IF(Benchsheet!C215=1121900,\"VA1121900\",IF(Benchsheet!C215<1,\"\")))))))))))))))","v":""},{"$f":"WORKSHEET!C212","v":""},{"$f":"IF(Benchsheet!A216>1,\"SM 9223B\",\"\")","v":""},{"$f":"Benchsheet!U216","v":"00:00:00"},{"$f":"IF(Benchsheet!J216>1,\"A\",\"\")","v":""},{"$f":"Benchsheet!M216","v":0},{"$f":"IF(WORKSHEET!A215=\"-1\",\"\",IF(WORKSHEET!A215=0,\"0\",WORKSHEET!A215))","v":""},"",{"$f":"IF(WORKSHEET!B213=\"MPN\",\"MPN\",\"\")","v":""}]
[{"$f":"IF(Benchsheet!A217>1,\"result\",\"\")","v":""},{"$f":"IF(Benchsheet!A217>1,\"STATE\",\"\")","v":""},{"$f":"IF(Benchsheet!A217>1,\"00035\",\"\")","v":""},{"$f":"Benchsheet!A217","v":0},{"$f":"IF(Benchsheet!C216=1121057,\"VA1121057\",IF(Benchsheet!C216=1121090,\"VA1121090\",IF(Benchsheet!C216=1121052,\"VA1121052\",IF(Benchsheet!C216=1121175,\"VA1121175\",IF(Benchsheet!C216=1121580,\"VA1121580\",IF(Benchsheet!C216=1121570,\"VA1121570\",IF(Benchsheet!C216=1121045,\"VA1121045\",IF(Benchsheet!C216=1121655,\"VA1121655\",IF(Benchsheet!C216=1121503,\"VA1121503\",IF(Benchsheet!C216=1121043,\"VA1121043\",IF(Benchsheet!C216=1121900,\"VA1121900\",IF(Benchsheet!C216=1121845,\"VA1121845\",IF(Benchsheet!C216=1121655,\"VA1121655\",IF(Benchsheet!C216=1121900,\"VA1121900\",IF(Benchsheet!C216<1,\"\")))))))))))))))","v":""},{"$f":"IF(WORKSHEET!B213=\"MPN\",\"3000\",IF(WORKSHEET!B213=\"TC\",\"3100\",\"\"))","v":""},{"$f":"IF(Benchsheet!A217>1,\"SM 9223B\",\"\")","v":""},{"$f":"Benchsheet!U217","v":"00:00:00"},{"$f":"IF(Benchsheet!J217>1,\"A\",\"\")","v":""},{"$f":"Benchsheet!L217","v":0},{"$f":"IF(WORKSHEET!A216=\"-1\",\"\",IF(WORKSHEET!A216=0,\"0\",WORKSHEET!A216))","v":""},"",{"$f":"IF(WORKSHEET!B213=\"MPN\",\"MPN\",\"\")","v":""}]
[{"$f":"IF(Benchsheet!A217>1,\"result\",\"\")","v":""},{"$f":"IF(Benchsheet!A217>1,\"STATE\",\"\")","v":""},{"$f":"IF(Benchsheet!A217>1,\"00035\",\"\")","v":""},{"$f":"Benchsheet!A217","v":0},{"$f":"IF(Benchsheet!C216=1121057,\"VA1121057\",IF(Benchsheet!C216=1121090,\"VA1121090\",IF(Benchsheet!C216=1121052,\"VA1121052\",IF(Benchsheet!C216=1121175,\"VA1121175\",IF(Benchsheet!C216=1121580,\"VA1121580\",IF(Benchsheet!C216=1121570,\"VA1121570\",IF(Benchsheet!C216=1121045,\"VA1121045\",IF(Benchsheet!C216=1121655,\"VA1121655\",IF(Benchsheet!C216=1121503,\"VA1121503\",IF(Benchsheet!C216=1121043,\"VA1121043\",IF(Benchsheet!C216=1121900,\"VA1121900\",IF(Benchsheet!C216=1121845,\"VA1121845\",IF(Benchsheet!C216=1121655,\"VA1121655\",IF(Benchsheet!C216=1121900,\"VA1121900\",IF(Benchsheet!C216<1,\"\")))))))))))))))","v":""},{"$f":"WORKSHEET!C213","v":""},{"$f":"IF(Benchsheet!A217>1,\"SM 9223B\",\"\")","v":""},{"$f":"Benchsheet!U217","v":"00:00:00"},{"$f":"IF(Benchsheet!J217>1,\"A\",\"\")","v":""},{"$f":"Benchsheet!M217","v":0},{"$f":"IF(WORKSHEET!A216=\"-1\",\"\",IF(WORKSHEET!A216=0,\"0\",WORKSHEET!A216))","v":""},"",{"$f":"IF(WORKSHEET!B214=\"MPN\",\"MPN\",\"\")","v":""}]
[{"$f":"IF(Benchsheet!A218>1,\"result\",\"\")","v":""},{"$f":"IF(Benchsheet!A218>1,\"STATE\",\"\")","v":""},{"$f":"IF(Benchsheet!A218>1,\"00035\",\"\")","v":""},{"$f":"Benchsheet!A218","v":0},{"$f":"IF(Benchsheet!C217=1121057,\"VA1121057\",IF(Benchsheet!C217=1121090,\"VA1121090\",IF(Benchsheet!C217=1121052,\"VA1121052\",IF(Benchsheet!C217=1121175,\"VA1121175\",IF(Benchsheet!C217=1121580,\"VA1121580\",IF(Benchsheet!C217=1121570,\"VA1121570\",IF(Benchsheet!C217=1121045,\"VA1121045\",IF(Benchsheet!C217=1121655,\"VA1121655\",IF(Benchsheet!C217=1121503,\"VA1121503\",IF(Benchsheet!C217=1121043,\"VA1121043\",IF(Benchsheet!C217=1121900,\"VA1121900\",IF(Benchsheet!C217=1121845,\"VA1121845\",IF(Benchsheet!C217=1121655,\"VA1121655\",IF(Benchsheet!C217=1121900,\"VA1121900\",IF(Benchsheet!C217<1,\"\")))))))))))))))","v":""},{"$f":"IF(WORKSHEET!B214=\"MPN\",\"3000\",IF(WORKSHEET!B214=\"TC\",\"3100\",\"\"))","v":""},{"$f":"IF(Benchsheet!A218>1,\"SM 9223B\",\"\")","v":""},{"$f":"Benchsheet!U218","v":"00:00:00"},{"$f":"IF(Benchsheet!J218>1,\"A\",\"\")","v":""},{"$f":"Benchsheet!L218","v":0},{"$f":"IF(WORKSHEET!A217=\"-1\",\"\",IF(WORKSHEET!A217=0,\"0\",WORKSHEET!A217))","v":""},"",{"$f":"IF(WORKSHEET!B214=\"MPN\",\"MPN\",\"\")","v":""}]
[{"$f":"IF(Benchsheet!A218>1,\"result\",\"\")","v":""},{"$f":"IF(Benchsheet!A218>1,\"STATE\",\"\")","v":""},{"$f":"IF(Benchsheet!A218>1,\"00035\",\"\")","v":""},{"$f":"Benchsheet!A218","v":0},{"$f":"IF(Benchsheet!C217=1121057,\"VA1121057\",IF(Benchsheet!C217=1121090,\"VA1121090\",IF(Benchsheet!C217=1121052,\"VA1121052\",IF(Benchsheet!C217=1121175,\"VA1121175\",IF(Benchsheet!C217=1121580,\"VA1121580\",IF(Benchsheet!C217=1121570,\"VA1121570\",IF(Benchsheet!C217=1121045,\"VA1121045\",IF(Benchsheet!C217=1121655,\"VA1121655\",IF(Benchsheet!C217=1121503,\"VA1121503\",IF(Benchsheet!C217=1121043,\"VA1121043\",IF(Benchsheet!C217=1121900,\"VA1121900\",IF(Benchsheet!C217=1121845,\"VA1121845\",IF(Benchsheet!C217=1121655,\"VA1121655\",IF(Benchsheet!C217=1121900,\"VA1121900\",IF(Benchsheet!C217<1,\"\")))))))))))))))","v":""},{"$f":"WORKSHEET!C214","v":""},{"$f":"IF(Benchsheet!A218>1,\"SM 9223B\",\"\")","v":""},{"$f":"Benchsheet!U218","v":"00:00:00"},{"$f":"IF(Benchsheet!J218>1,\"A\",\"\")","v":""},{"$f":"Benchsheet!M218","v":0},{"$f":"IF(WORKSHEET!A217=\"-1\",\"\",IF(WORKSHEET!A217=0,\"0\",WORKSHEET!A217))","v":""},""]
[{"$f":"IF(Benchsheet!A219>1,\"result\",\"\")","v":""},{"$f":"IF(Benchsheet!A219>1,\"STATE\",\"\")","v":""},{"$f":"IF(Benchsheet!A219>1,\"00035\",\"\")","v":""},{"$f":"Benchsheet!A219","v":0},{"$f":"IF(Benchsheet!C218=1121057,\"VA1121057\",IF(Benchsheet!C218=1121090,\"VA1121090\",IF(Benchsheet!C218=1121052,\"VA1121052\",IF(Benchsheet!C218=1121175,\"VA1121175\",IF(Benchsheet!C218=1121580,\"VA1121580\",IF(Benchsheet!C218=1121570,\"VA1121570\",IF(Benchsheet!C218=1121045,\"VA1121045\",IF(Benchsheet!C218=1121655,\"VA1121655\",IF(Benchsheet!C218=1121503,\"VA1121503\",IF(Benchsheet!C218=1121043,\"VA1121043\",IF(Benchsheet!C218=1121900,\"VA1121900\",IF(Benchsheet!C218=1121845,\"VA1121845\",IF(Benchsheet!C218=1121655,\"VA1121655\",IF(Benchsheet!C218=1121900,\"VA1121900\",IF(Benchsheet!C218<1,\"\")))))))))))))))","v":""},{"$f":"IF(WORKSHEET!B215=\"MPN\",\"3000\",IF(WORKSHEET!B215=\"TC\",\"3100\",\"\"))","v":""},{"$f":"IF(Benchsheet!A219>1,\"SM 9223B\",\"\")","v":""},{"$f":"Benchsheet!U219","v":"00:00:00"},{"$f":"IF(Benchsheet!J219>1,\"A\",\"\")","v":""},{"$f":"Benchsheet!L219","v":0},{"$f":"IF(WORKSHEET!A218=\"-1\",\"\",IF(WORKSHEET!A218=0,\"0\",WORKSHEET!A218))","v":""},"",{"$f":"IF(WORKSHEET!B238=\"MPN\",\"MPN\",\"\")","v":""}]
[{"$f":"IF(Benchsheet!A219>1,\"result\",\"\")","v":""},{"$f":"IF(Benchsheet!A219>1,\"STATE\",\"\")","v":""},{"$f":"IF(Benchsheet!A219>1,\"00035\",\"\")","v":""},{"$f":"Benchsheet!A219","v":0},{"$f":"IF(Benchsheet!C218=1121057,\"VA1121057\",IF(Benchsheet!C218=1121090,\"VA1121090\",IF(Benchsheet!C218=1121052,\"VA1121052\",IF(Benchsheet!C218=1121175,\"VA1121175\",IF(Benchsheet!C218=1121580,\"VA1121580\",IF(Benchsheet!C218=1121570,\"VA1121570\",IF(Benchsheet!C218=1121045,\"VA1121045\",IF(Benchsheet!C218=1121655,\"VA1121655\",IF(Benchsheet!C218=1121503,\"VA1121503\",IF(Benchsheet!C218=1121043,\"VA1121043\",IF(Benchsheet!C218=1121900,\"VA1121900\",IF(Benchsheet!C218=1121845,\"VA1121845\",IF(Benchsheet!C218=1121655,\"VA1121655\",IF(Benchsheet!C218=1121900,\"VA1121900\",IF(Benchsheet!C218<1,\"\")))))))))))))))","v":""},{"$f":"WORKSHEET!C215","v":""},{"$f":"IF(Benchsheet!A219>1,\"SM 9223B\",\"\")","v":""},{"$f":"Benchsheet!U219","v":"00:00:00"},{"$f":"IF(Benchsheet!J219>1,\"A\",\"\")","v":""},{"$f":"Benchsheet!M219","v":0},{"$f":"IF(WORKSHEET!A218=\"-1\",\"\",IF(WORKSHEET!A218=0,\"0\",WORKSHEET!A218))","v":""},"",{"$f":"IF(WORKSHEET!B238=\"MPN\",\"MPN\",\"\")","v":""}]
[{"$f":"IF(Benchsheet!A220>1,\"result\",\"\")","v":""},{"$f":"IF(Benchsheet!A220>1,\"STATE\",\"\")","v":""},{"$f":"IF(Benchsheet!A220>1,\"00035\",\"\")","v":""},{"$f":"Benchsheet!A220","v":0},{"$f":"IF(Benchsheet!C219=1121057,\"VA1121057\",IF(Benchsheet!C219=1121090,\"VA1121090\",IF(Benchsheet!C219=1121052,\"VA1121052\",IF(Benchsheet!C219=1121175,\"VA1121175\",IF(Benchsheet!C219=1121580,\"VA1121580\",IF(Benchsheet!C219=1121570,\"VA1121570\",IF(Benchsheet!C219=1121045,\"VA1121045\",IF(Benchsheet!C219=1121655,\"VA1121655\",IF(Benchsheet!C219=1121503,\"VA1121503\",IF(Benchsheet!C219=1121043,\"VA1121043\",IF(Benchsheet!C219=1121900,\"VA1121900\",IF(Benchsheet!C219=1121845,\"VA1121845\",IF(Benchsheet!C219=1121655,\"VA1121655\",IF(Benchsheet!C219=1121900,\"VA1121900\",IF(Benchsheet!C219<1,\"\")))))))))))))))","v":""},{"$f":"IF(WORKSHEET!B216=\"MPN\",\"3000\",IF(WORKSHEET!B216=\"TC\",\"3100\",\"\"))","v":""},{"$f":"IF(Benchsheet!A220>1,\"SM 9223B\",\"\")","v":""},{"$f":"Benchsheet!U220","v":"00:00:00"},{"$f":"IF(Benchsheet!J220>1,\"A\",\"\")","v":""},{"$f":"Benchsheet!L220","v":0},{"$f":"IF(WORKSHEET!A219=\"-1\",\"\",IF(WORKSHEET!A219=0,\"0\",WORKSHEET!A219))","v":""},"",{"$f":"IF(WORKSHEET!B239=\"MPN\",\"MPN\",\"\")","v":""}]
[{"$f":"IF(Benchsheet!A220>1,\"result\",\"\")","v":""},{"$f":"IF(Benchsheet!A220>1,\"STATE\",\"\")","v":""},{"$f":"IF(Benchsheet!A220>1,\"00035\",\"\")","v":""},{"$f":"Benchsheet!A220","v":0},{"$f":"IF(Benchsheet!C219=1121057,\"VA1121057\",IF(Benchsheet!C219=1121090,\"VA1121090\",IF(Benchsheet!C219=1121052,\"VA1121052\",IF(Benchsheet!C219=1121175,\"VA1121175\",IF(Benchsheet!C219=1121580,\"VA1121580\",IF(Benchsheet!C219=1121570,\"VA1121570\",IF(Benchsheet!C219=1121045,\"VA1121045\",IF(Benchsheet!C219=1121655,\"VA1121655\",IF(Benchsheet!C219=1121503,\"VA1121503\",IF(Benchsheet!C219=1121043,\"VA1121043\",IF(Benchsheet!C219=1121900,\"VA1121900\",IF(Benchsheet!C219=1121845,\"VA1121845\",IF(Benchsheet!C219=1121655,\"VA1121655\",IF(Benchsheet!C219=1121900,\"VA1121900\",IF(Benchsheet!C219<1,\"\")))))))))))))))","v":""},{"$f":"WORKSHEET!C216","v":""},{"$f":"IF(Benchsheet!A220>1,\"SM 9223B\",\"\")","v":""},{"$f":"Benchsheet!U220","v":"00:00:00"},{"$f":"IF(Benchsheet!J220>1,\"A\",\"\")","v":""},{"$f":"Benchsheet!M220","v":0},{"$f":"IF(WORKSHEET!A219=\"-1\",\"\",IF(WORKSHEET!A219=0,\"0\",WORKSHEET!A219))","v":""},"",{"$f":"IF(WORKSHEET!B239=\"MPN\",\"MPN\",\"\")","v":""}]
[{"$f":"IF(Benchsheet!A221>1,\"result\",\"\")","v":""},{"$f":"IF(Benchsheet!A221>1,\"STATE\",\"\")","v":""},{"$f":"IF(Benchsheet!A221>1,\"00035\",\"\")","v":""},{"$f":"Benchsheet!A221","v":0},{"$f":"IF(Benchsheet!C220=1121057,\"VA1121057\",IF(Benchsheet!C220=1121090,\"VA1121090\",IF(Benchsheet!C220=1121052,\"VA1121052\",IF(Benchsheet!C220=1121175,\"VA1121175\",IF(Benchsheet!C220=1121580,\"VA1121580\",IF(Benchsheet!C220=1121570,\"VA1121570\",IF(Benchsheet!C220=1121045,\"VA1121045\",IF(Benchsheet!C220=1121655,\"VA1121655\",IF(Benchsheet!C220=1121503,\"VA1121503\",IF(Benchsheet!C220=1121043,\"VA1121043\",IF(Benchsheet!C220=1121900,\"VA1121900\",IF(Benchsheet!C220=1121845,\"VA1121845\",IF(Benchsheet!C220=1121655,\"VA1121655\",IF(Benchsheet!C220=1121900,\"VA1121900\",IF(Benchsheet!C220<1,\"\")))))))))))))))","v":""},{"$f":"IF(WORKSHEET!B217=\"MPN\",\"3000\",IF(WORKSHEET!B217=\"TC\",\"3100\",\"\"))","v":""},{"$f":"IF(Benchsheet!A221>1,\"SM 9223B\",\"\")","v":""},{"$f":"Benchsheet!U221","v":"00:00:00"},{"$f":"IF(Benchsheet!J221>1,\"A\",\"\")","v":""},{"$f":"Benchsheet!L221","v":0},{"$f":"IF(WORKSHEET!A220=\"-1\",\"\",IF(WORKSHEET!A220=0,\"0\",WORKSHEET!A220))","v":""},"",{"$f":"IF(WORKSHEET!B240=\"MPN\",\"MPN\",\"\")","v":""}]
[{"$f":"IF(Benchsheet!A221>1,\"result\",\"\")","v":""},{"$f":"IF(Benchsheet!A221>1,\"STATE\",\"\")","v":""},{"$f":"IF(Benchsheet!A221>1,\"00035\",\"\")","v":""},{"$f":"Benchsheet!A221","v":0},{"$f":"IF(Benchsheet!C220=1121057,\"VA1121057\",IF(Benchsheet!C220=1121090,\"VA1121090\",IF(Benchsheet!C220=1121052,\"VA1121052\",IF(Benchsheet!C220=1121175,\"VA1121175\",IF(Benchsheet!C220=1121580,\"VA1121580\",IF(Benchsheet!C220=1121570,\"VA1121570\",IF(Benchsheet!C220=1121045,\"VA1121045\",IF(Benchsheet!C220=1121655,\"VA1121655\",IF(Benchsheet!C220=1121503,\"VA1121503\",IF(Benchsheet!C220=1121043,\"VA1121043\",IF(Benchsheet!C220=1121900,\"VA1121900\",IF(Benchsheet!C220=1121845,\"VA1121845\",IF(Benchsheet!C220=1121655,\"VA1121655\",IF(Benchsheet!C220=1121900,\"VA1121900\",IF(Benchsheet!C220<1,\"\")))))))))))))))","v":""},{"$f":"WORKSHEET!C217","v":""},{"$f":"IF(Benchsheet!A221>1,\"SM 9223B\",\"\")","v":""},{"$f":"Benchsheet!U221","v":"00:00:00"},{"$f":"IF(Benchsheet!J221>1,\"A\",\"\")","v":""},{"$f":"Benchsheet!M221","v":0},{"$f":"IF(WORKSHEET!A220=\"-1\",\"\",IF(WORKSHEET!A220=0,\"0\",WORKSHEET!A220))","v":""},"",{"$f":"IF(WORKSHEET!B240=\"MPN\",\"MPN\",\"\")","v":""}]
[{"$f":"IF(Benchsheet!A222>1,\"result\",\"\")","v":""},{"$f":"IF(Benchsheet!A222>1,\"STATE\",\"\")","v":""},{"$f":"IF(Benchsheet!A222>1,\"00035\",\"\")","v":""},{"$f":"Benchsheet!A222","v":0},{"$f":"IF(Benchsheet!C221=1121057,\"VA1121057\",IF(Benchsheet!C221=1121090,\"VA1121090\",IF(Benchsheet!C221=1121052,\"VA1121052\",IF(Benchsheet!C221=1121175,\"VA1121175\",IF(Benchsheet!C221=1121580,\"VA1121580\",IF(Benchsheet!C221=1121570,\"VA1121570\",IF(Benchsheet!C221=1121045,\"VA1121045\",IF(Benchsheet!C221=1121655,\"VA1121655\",IF(Benchsheet!C221=1121503,\"VA1121503\",IF(Benchsheet!C221=1121043,\"VA1121043\",IF(Benchsheet!C221=1121900,\"VA1121900\",IF(Benchsheet!C221=1121845,\"VA1121845\",IF(Benchsheet!C221=1121655,\"VA1121655\",IF(Benchsheet!C221=1121900,\"VA1121900\",IF(Benchsheet!C221<1,\"\")))))))))))))))","v":""},{"$f":"IF(WORKSHEET!B218=\"MPN\",\"3000\",IF(WORKSHEET!B218=\"TC\",\"3100\",\"\"))","v":""},{"$f":"IF(Benchsheet!A222>1,\"SM 9223B\",\"\")","v":""},{"$f":"Benchsheet!U222","v":"00:00:00"},{"$f":"IF(Benchsheet!J222>1,\"A\",\"\")","v":""},{"$f":"Benchsheet!L222","v":0},{"$f":"IF(WORKSHEET!A221=\"-1\",\"\",IF(WORKSHEET!A221=0,\"0\",WORKSHEET!A221))","v":""},"",{"$f":"IF(WORKSHEET!B241=\"MPN\",\"MPN\",\"\")","v":""}]
[{"$f":"IF(Benchsheet!A222>1,\"result\",\"\")","v":""},{"$f":"IF(Benchsheet!A222>1,\"STATE\",\"\")","v":""},{"$f":"IF(Benchsheet!A222>1,\"00035\",\"\")","v":""},{"$f":"Benchsheet!A222","v":0},{"$f":"IF(Benchsheet!C221=1121057,\"VA1121057\",IF(Benchsheet!C221=1121090,\"VA1121090\",IF(Benchsheet!C221=1121052,\"VA1121052\",IF(Benchsheet!C221=1121175,\"VA1121175\",IF(Benchsheet!C221=1121580,\"VA1121580\",IF(Benchsheet!C221=1121570,\"VA1121570\",IF(Benchsheet!C221=1121045,\"VA1121045\",IF(Benchsheet!C221=1121655,\"VA1121655\",IF(Benchsheet!C221=1121503,\"VA1121503\",IF(Benchsheet!C221=1121043,\"VA1121043\",IF(Benchsheet!C221=1121900,\"VA1121900\",IF(Benchsheet!C221=1121845,\"VA1121845\",IF(Benchsheet!C221=1121655,\"VA1121655\",IF(Benchsheet!C221=1121900,\"VA1121900\",IF(Benchsheet!C221<1,\"\")))))))))))))))","v":""},{"$f":"WORKSHEET!C218","v":""},{"$f":"IF(Benchsheet!A222>1,\"SM 9223B\",\"\")","v":""},{"$f":"Benchsheet!U222","v":"00:00:00"},{"$f":"IF(Benchsheet!J222>1,\"A\",\"\")","v":""},{"$f":"Benchsheet!M222","v":0},{"$f":"IF(WORKSHEET!A221=\"-1\",\"\",IF(WORKSHEET!A221=0,\"0\",WORKSHEET!A221))","v":""},"",{"$f":"IF(WORKSHEET!B241=\"MPN\",\"MPN\",\"\")","v":""}]
[{"$f":"IF(Benchsheet!A223>1,\"result\",\"\")","v":""},{"$f":"IF(Benchsheet!A223>1,\"STATE\",\"\")","v":""},{"$f":"IF(Benchsheet!A223>1,\"00035\",\"\")","v":""},{"$f":"Benchsheet!A223","v":0},{"$f":"IF(Benchsheet!C222=1121057,\"VA1121057\",IF(Benchsheet!C222=1121090,\"VA1121090\",IF(Benchsheet!C222=1121052,\"VA1121052\",IF(Benchsheet!C222=1121175,\"VA1121175\",IF(Benchsheet!C222=1121580,\"VA1121580\",IF(Benchsheet!C222=1121570,\"VA1121570\",IF(Benchsheet!C222=1121045,\"VA1121045\",IF(Benchsheet!C222=1121655,\"VA1121655\",IF(Benchsheet!C222=1121503,\"VA1121503\",IF(Benchsheet!C222=1121043,\"VA1121043\",IF(Benchsheet!C222=1121900,\"VA1121900\",IF(Benchsheet!C222=1121845,\"VA1121845\",IF(Benchsheet!C222=1121655,\"VA1121655\",IF(Benchsheet!C222=1121900,\"VA1121900\",IF(Benchsheet!C222<1,\"\")))))))))))))))","v":""},{"$f":"IF(WORKSHEET!B219=\"MPN\",\"3000\",IF(WORKSHEET!B219=\"TC\",\"3100\",\"\"))","v":""},{"$f":"IF(Benchsheet!A223>1,\"SM 9223B\",\"\")","v":""},{"$f":"Benchsheet!U223","v":"00:00:00"},{"$f":"IF(Benchsheet!J223>1,\"A\",\"\")","v":""},{"$f":"Benchsheet!L223","v":0},{"$f":"IF(WORKSHEET!A222=\"-1\",\"\",IF(WORKSHEET!A222=0,\"0\",WORKSHEET!A222))","v":""},"",{"$f":"IF(WORKSHEET!B242=\"MPN\",\"MPN\",\"\")","v":""}]
[{"$f":"IF(Benchsheet!A223>1,\"result\",\"\")","v":""},{"$f":"IF(Benchsheet!A223>1,\"STATE\",\"\")","v":""},{"$f":"IF(Benchsheet!A223>1,\"00035\",\"\")","v":""},{"$f":"Benchsheet!A223","v":0},{"$f":"IF(Benchsheet!C222=1121057,\"VA1121057\",IF(Benchsheet!C222=1121090,\"VA1121090\",IF(Benchsheet!C222=1121052,\"VA1121052\",IF(Benchsheet!C222=1121175,\"VA1121175\",IF(Benchsheet!C222=1121580,\"VA1121580\",IF(Benchsheet!C222=1121570,\"VA1121570\",IF(Benchsheet!C222=1121045,\"VA1121045\",IF(Benchsheet!C222=1121655,\"VA1121655\",IF(Benchsheet!C222=1121503,\"VA1121503\",IF(Benchsheet!C222=1121043,\"VA1121043\",IF(Benchsheet!C222=1121900,\"VA1121900\",IF(Benchsheet!C222=1121845,\"VA1121845\",IF(Benchsheet!C222=1121655,\"VA1121655\",IF(Benchsheet!C222=1121900,\"VA1121900\",IF(Benchsheet!C222<1,\"\")))))))))))))))","v":""},{"$f":"WORKSHEET!C219","v":""},{"$f":"IF(Benchsheet!A223>1,\"SM 9223B\",\"\")","v":""},{"$f":"Benchsheet!U223","v":"00:00:00"},{"$f":"IF(Benchsheet!J223>1,\"A\",\"\")","v":""},{"$f":"Benchsheet!M223","v":0},{"$f":"IF(WORKSHEET!A222=\"-1\",\"\",IF(WORKSHEET!A222=0,\"0\",WORKSHEET!A222))","v":""},"",{"$f":"IF(WORKSHEET!B242=\"MPN\",\"MPN\",\"\")","v":""}]
[{"$f":"IF(Benchsheet!A224>1,\"result\",\"\")","v":""},{"$f":"IF(Benchsheet!A224>1,\"STATE\",\"\")","v":""},{"$f":"IF(Benchsheet!A224>1,\"00035\",\"\")","v":""},{"$f":"Benchsheet!A224","v":0},{"$f":"IF(Benchsheet!C223=1121057,\"VA1121057\",IF(Benchsheet!C223=1121090,\"VA1121090\",IF(Benchsheet!C223=1121052,\"VA1121052\",IF(Benchsheet!C223=1121175,\"VA1121175\",IF(Benchsheet!C223=1121580,\"VA1121580\",IF(Benchsheet!C223=1121570,\"VA1121570\",IF(Benchsheet!C223=1121045,\"VA1121045\",IF(Benchsheet!C223=1121655,\"VA1121655\",IF(Benchsheet!C223=1121503,\"VA1121503\",IF(Benchsheet!C223=1121043,\"VA1121043\",IF(Benchsheet!C223=1121900,\"VA1121900\",IF(Benchsheet!C223=1121845,\"VA1121845\",IF(Benchsheet!C223=1121655,\"VA1121655\",IF(Benchsheet!C223=1121900,\"VA1121900\",IF(Benchsheet!C223<1,\"\")))))))))))))))","v":""},{"$f":"IF(WORKSHEET!B220=\"MPN\",\"3000\",IF(WORKSHEET!B220=\"TC\",\"3100\",\"\"))","v":""},{"$f":"IF(Benchsheet!A224>1,\"SM 9223B\",\"\")","v":""},{"$f":"Benchsheet!U224","v":"00:00:00"},{"$f":"IF(Benchsheet!J224>1,\"A\",\"\")","v":""},{"$f":"Benchsheet!L224","v":0},{"$f":"IF(WORKSHEET!A223=\"-1\",\"\",IF(WORKSHEET!A223=0,\"0\",WORKSHEET!A223))","v":""},"",{"$f":"IF(WORKSHEET!B243=\"MPN\",\"MPN\",\"\")","v":""}]
[{"$f":"IF(Benchsheet!A224>1,\"result\",\"\")","v":""},{"$f":"IF(Benchsheet!A224>1,\"STATE\",\"\")","v":""},{"$f":"IF(Benchsheet!A224>1,\"00035\",\"\")","v":""},{"$f":"Benchsheet!A224","v":0},{"$f":"IF(Benchsheet!C223=1121057,\"VA1121057\",IF(Benchsheet!C223=1121090,\"VA1121090\",IF(Benchsheet!C223=1121052,\"VA1121052\",IF(Benchsheet!C223=1121175,\"VA1121175\",IF(Benchsheet!C223=1121580,\"VA1121580\",IF(Benchsheet!C223=1121570,\"VA1121570\",IF(Benchsheet!C223=1121045,\"VA1121045\",IF(Benchsheet!C223=1121655,\"VA1121655\",IF(Benchsheet!C223=1121503,\"VA1121503\",IF(Benchsheet!C223=1121043,\"VA1121043\",IF(Benchsheet!C223=1121900,\"VA1121900\",IF(Benchsheet!C223=1121845,\"VA1121845\",IF(Benchsheet!C223=1121655,\"VA1121655\",IF(Benchsheet!C223=1121900,\"VA1121900\",IF(Benchsheet!C223<1,\"\")))))))))))))))","v":""},{"$f":"WORKSHEET!C220","v":""},{"$f":"IF(Benchsheet!A224>1,\"SM 9223B\",\"\")","v":""},{"$f":"Benchsheet!U224","v":"00:00:00"},{"$f":"IF(Benchsheet!J224>1,\"A\",\"\")","v":""},{"$f":"Benchsheet!M224","v":0},{"$f":"IF(WORKSHEET!A223=\"-1\",\"\",IF(WORKSHEET!A223=0,\"0\",WORKSHEET!A223))","v":""},"",{"$f":"IF(WORKSHEET!B243=\"MPN\",\"MPN\",\"\")","v":""}]
[{"$f":"IF(Benchsheet!A225>1,\"result\",\"\")","v":""},{"$f":"IF(Benchsheet!A225>1,\"STATE\",\"\")","v":""},{"$f":"IF(Benchsheet!A225>1,\"00035\",\"\")","v":""},{"$f":"Benchsheet!A225","v":0},{"$f":"IF(Benchsheet!C224=1121057,\"VA1121057\",IF(Benchsheet!C224=1121090,\"VA1121090\",IF(Benchsheet!C224=1121052,\"VA1121052\",IF(Benchsheet!C224=1121175,\"VA1121175\",IF(Benchsheet!C224=1121580,\"VA1121580\",IF(Benchsheet!C224=1121570,\"VA1121570\",IF(Benchsheet!C224=1121045,\"VA1121045\",IF(Benchsheet!C224=1121655,\"VA1121655\",IF(Benchsheet!C224=1121503,\"VA1121503\",IF(Benchsheet!C224=1121043,\"VA1121043\",IF(Benchsheet!C224=1121900,\"VA1121900\",IF(Benchsheet!C224=1121845,\"VA1121845\",IF(Benchsheet!C224=1121655,\"VA1121655\",IF(Benchsheet!C224=1121900,\"VA1121900\",IF(Benchsheet!C224<1,\"\")))))))))))))))","v":""},{"$f":"IF(WORKSHEET!B221=\"MPN\",\"3000\",IF(WORKSHEET!B221=\"TC\",\"3100\",\"\"))","v":""},{"$f":"IF(Benchsheet!A225>1,\"SM 9223B\",\"\")","v":""},{"$f":"Benchsheet!U225","v":"00:00:00"},{"$f":"IF(Benchsheet!J225>1,\"A\",\"\")","v":""},{"$f":"Benchsheet!L225","v":0},{"$f":"IF(WORKSHEET!A224=\"-1\",\"\",IF(WORKSHEET!A224=0,\"0\",WORKSHEET!A224))","v":""},"",{"$f":"IF(WORKSHEET!B244=\"MPN\",\"MPN\",\"\")","v":""}]
[{"$f":"IF(Benchsheet!A225>1,\"result\",\"\")","v":""},{"$f":"IF(Benchsheet!A225>1,\"STATE\",\"\")","v":""},{"$f":"IF(Benchsheet!A225>1,\"00035\",\"\")","v":""},{"$f":"Benchsheet!A225","v":0},{"$f":"IF(Benchsheet!C224=1121057,\"VA1121057\",IF(Benchsheet!C224=1121090,\"VA1121090\",IF(Benchsheet!C224=1121052,\"VA1121052\",IF(Benchsheet!C224=1121175,\"VA1121175\",IF(Benchsheet!C224=1121580,\"VA1121580\",IF(Benchsheet!C224=1121570,\"VA1121570\",IF(Benchsheet!C224=1121045,\"VA1121045\",IF(Benchsheet!C224=1121655,\"VA1121655\",IF(Benchsheet!C224=1121503,\"VA1121503\",IF(Benchsheet!C224=1121043,\"VA1121043\",IF(Benchsheet!C224=1121900,\"VA1121900\",IF(Benchsheet!C224=1121845,\"VA1121845\",IF(Benchsheet!C224=1121655,\"VA1121655\",IF(Benchsheet!C224=1121900,\"VA1121900\",IF(Benchsheet!C224<1,\"\")))))))))))))))","v":""},{"$f":"WORKSHEET!C221","v":""},{"$f":"IF(Benchsheet!A225>1,\"SM 9223B\",\"\")","v":""},{"$f":"Benchsheet!U225","v":"00:00:00"},{"$f":"IF(Benchsheet!J225>1,\"A\",\"\")","v":""},{"$f":"Benchsheet!M225","v":0},{"$f":"IF(WORKSHEET!A224=\"-1\",\"\",IF(WORKSHEET!A224=0,\"0\",WORKSHEET!A224))","v":""},"",{"$f":"IF(WORKSHEET!B244=\"MPN\",\"MPN\",\"\")","v":""}]
[{"$f":"IF(Benchsheet!A226>1,\"result\",\"\")","v":""},{"$f":"IF(Benchsheet!A226>1,\"STATE\",\"\")","v":""},{"$f":"IF(Benchsheet!A226>1,\"00035\",\"\")","v":""},{"$f":"Benchsheet!A226","v":0},{"$f":"IF(Benchsheet!C225=1121057,\"VA1121057\",IF(Benchsheet!C225=1121090,\"VA1121090\",IF(Benchsheet!C225=1121052,\"VA1121052\",IF(Benchsheet!C225=1121175,\"VA1121175\",IF(Benchsheet!C225=1121580,\"VA1121580\",IF(Benchsheet!C225=1121570,\"VA1121570\",IF(Benchsheet!C225=1121045,\"VA1121045\",IF(Benchsheet!C225=1121655,\"VA1121655\",IF(Benchsheet!C225=1121503,\"VA1121503\",IF(Benchsheet!C225=1121043,\"VA1121043\",IF(Benchsheet!C225=1121900,\"VA1121900\",IF(Benchsheet!C225=1121845,\"VA1121845\",IF(Benchsheet!C225=1121655,\"VA1121655\",IF(Benchsheet!C225=1121900,\"VA1121900\",IF(Benchsheet!C225<1,\"\")))))))))))))))","v":""},{"$f":"IF(WORKSHEET!B222=\"MPN\",\"3000\",IF(WORKSHEET!B222=\"TC\",\"3100\",\"\"))","v":""},{"$f":"IF(Benchsheet!A226>1,\"SM 9223B\",\"\")","v":""},{"$f":"Benchsheet!U226","v":"00:00:00"},{"$f":"IF(Benchsheet!J226>1,\"A\",\"\")","v":""},{"$f":"Benchsheet!L226","v":0},{"$f":"IF(WORKSHEET!A225=\"-1\",\"\",IF(WORKSHEET!A225=0,\"0\",WORKSHEET!A225))","v":""},"",{"$f":"IF(WORKSHEET!B245=\"MPN\",\"MPN\",\"\")","v":""}]
[{"$f":"IF(Benchsheet!A226>1,\"result\",\"\")","v":""},{"$f":"IF(Benchsheet!A226>1,\"STATE\",\"\")","v":""},{"$f":"IF(Benchsheet!A226>1,\"00035\",\"\")","v":""},{"$f":"Benchsheet!A226","v":0},{"$f":"IF(Benchsheet!C225=1121057,\"VA1121057\",IF(Benchsheet!C225=1121090,\"VA1121090\",IF(Benchsheet!C225=1121052,\"VA1121052\",IF(Benchsheet!C225=1121175,\"VA1121175\",IF(Benchsheet!C225=1121580,\"VA1121580\",IF(Benchsheet!C225=1121570,\"VA1121570\",IF(Benchsheet!C225=1121045,\"VA1121045\",IF(Benchsheet!C225=1121655,\"VA1121655\",IF(Benchsheet!C225=1121503,\"VA1121503\",IF(Benchsheet!C225=1121043,\"VA1121043\",IF(Benchsheet!C225=1121900,\"VA1121900\",IF(Benchsheet!C225=1121845,\"VA1121845\",IF(Benchsheet!C225=1121655,\"VA1121655\",IF(Benchsheet!C225=1121900,\"VA1121900\",IF(Benchsheet!C225<1,\"\")))))))))))))))","v":""},{"$f":"WORKSHEET!C222","v":""},{"$f":"IF(Benchsheet!A226>1,\"SM 9223B\",\"\")","v":""},{"$f":"Benchsheet!U226","v":"00:00:00"},{"$f":"IF(Benchsheet!J226>1,\"A\",\"\")","v":""},{"$f":"Benchsheet!M226","v":0},{"$f":"IF(WORKSHEET!A225=\"-1\",\"\",IF(WORKSHEET!A225=0,\"0\",WORKSHEET!A225))","v":""},"",{"$f":"IF(WORKSHEET!B245=\"MPN\",\"MPN\",\"\")","v":""}]
[{"$f":"IF(Benchsheet!A227>1,\"result\",\"\")","v":""},{"$f":"IF(Benchsheet!A227>1,\"STATE\",\"\")","v":""},{"$f":"IF(Benchsheet!A227>1,\"00035\",\"\")","v":""},{"$f":"Benchsheet!A227","v":0},{"$f":"IF(Benchsheet!C226=1121057,\"VA1121057\",IF(Benchsheet!C226=1121090,\"VA1121090\",IF(Benchsheet!C226=1121052,\"VA1121052\",IF(Benchsheet!C226=1121175,\"VA1121175\",IF(Benchsheet!C226=1121580,\"VA1121580\",IF(Benchsheet!C226=1121570,\"VA1121570\",IF(Benchsheet!C226=1121045,\"VA1121045\",IF(Benchsheet!C226=1121655,\"VA1121655\",IF(Benchsheet!C226=1121503,\"VA1121503\",IF(Benchsheet!C226=1121043,\"VA1121043\",IF(Benchsheet!C226=1121900,\"VA1121900\",IF(Benchsheet!C226=1121845,\"VA1121845\",IF(Benchsheet!C226=1121655,\"VA1121655\",IF(Benchsheet!C226=1121900,\"VA1121900\",IF(Benchsheet!C226<1,\"\")))))))))))))))","v":""},{"$f":"IF(WORKSHEET!B223=\"MPN\",\"3000\",IF(WORKSHEET!B223=\"TC\",\"3100\",\"\"))","v":""},{"$f":"IF(Benchsheet!A227>1,\"SM 9223B\",\"\")","v":""},{"$f":"Benchsheet!U227","v":"00:00:00"},{"$f":"IF(Benchsheet!J227>1,\"A\",\"\")","v":""},{"$f":"Benchsheet!L227","v":0},{"$f":"IF(WORKSHEET!A226=\"-1\",\"\",IF(WORKSHEET!A226=0,\"0\",WORKSHEET!A226))","v":""},"",{"$f":"IF(WORKSHEET!B246=\"MPN\",\"MPN\",\"\")","v":""}]
[{"$f":"IF(Benchsheet!A227>1,\"result\",\"\")","v":""},{"$f":"IF(Benchsheet!A227>1,\"STATE\",\"\")","v":""},{"$f":"IF(Benchsheet!A227>1,\"00035\",\"\")","v":""},{"$f":"Benchsheet!A227","v":0},{"$f":"IF(Benchsheet!C226=1121057,\"VA1121057\",IF(Benchsheet!C226=1121090,\"VA1121090\",IF(Benchsheet!C226=1121052,\"VA1121052\",IF(Benchsheet!C226=1121175,\"VA1121175\",IF(Benchsheet!C226=1121580,\"VA1121580\",IF(Benchsheet!C226=1121570,\"VA1121570\",IF(Benchsheet!C226=1121045,\"VA1121045\",IF(Benchsheet!C226=1121655,\"VA1121655\",IF(Benchsheet!C226=1121503,\"VA1121503\",IF(Benchsheet!C226=1121043,\"VA1121043\",IF(Benchsheet!C226=1121900,\"VA1121900\",IF(Benchsheet!C226=1121845,\"VA1121845\",IF(Benchsheet!C226=1121655,\"VA1121655\",IF(Benchsheet!C226=1121900,\"VA1121900\",IF(Benchsheet!C226<1,\"\")))))))))))))))","v":""},{"$f":"WORKSHEET!C223","v":""},{"$f":"IF(Benchsheet!A227>1,\"SM 9223B\",\"\")","v":""},{"$f":"Benchsheet!U227","v":"00:00:00"},{"$f":"IF(Benchsheet!J227>1,\"A\",\"\")","v":""},{"$f":"Benchsheet!M227","v":0},{"$f":"IF(WORKSHEET!A226=\"-1\",\"\",IF(WORKSHEET!A226=0,\"0\",WORKSHEET!A226))","v":""},"",{"$f":"IF(WORKSHEET!B246=\"MPN\",\"MPN\",\"\")","v":""}]
[{"$f":"IF(Benchsheet!A228>1,\"result\",\"\")","v":""},{"$f":"IF(Benchsheet!A228>1,\"STATE\",\"\")","v":""},{"$f":"IF(Benchsheet!A228>1,\"00035\",\"\")","v":""},{"$f":"Benchsheet!A228","v":0},{"$f":"IF(Benchsheet!C227=1121057,\"VA1121057\",IF(Benchsheet!C227=1121090,\"VA1121090\",IF(Benchsheet!C227=1121052,\"VA1121052\",IF(Benchsheet!C227=1121175,\"VA1121175\",IF(Benchsheet!C227=1121580,\"VA1121580\",IF(Benchsheet!C227=1121570,\"VA1121570\",IF(Benchsheet!C227=1121045,\"VA1121045\",IF(Benchsheet!C227=1121655,\"VA1121655\",IF(Benchsheet!C227=1121503,\"VA1121503\",IF(Benchsheet!C227=1121043,\"VA1121043\",IF(Benchsheet!C227=1121900,\"VA1121900\",IF(Benchsheet!C227=1121845,\"VA1121845\",IF(Benchsheet!C227=1121655,\"VA1121655\",IF(Benchsheet!C227=1121900,\"VA1121900\",IF(Benchsheet!C227<1,\"\")))))))))))))))","v":""},{"$f":"IF(WORKSHEET!B224=\"MPN\",\"3000\",IF(WORKSHEET!B224=\"TC\",\"3100\",\"\"))","v":""},{"$f":"IF(Benchsheet!A228>1,\"SM 9223B\",\"\")","v":""},{"$f":"Benchsheet!U228","v":"00:00:00"},{"$f":"IF(Benchsheet!J228>1,\"A\",\"\")","v":""},{"$f":"Benchsheet!L228","v":0},{"$f":"IF(WORKSHEET!A227=\"-1\",\"\",IF(WORKSHEET!A227=0,\"0\",WORKSHEET!A227))","v":""},"",{"$f":"IF(WORKSHEET!B247=\"MPN\",\"MPN\",\"\")","v":""}]
[{"$f":"IF(Benchsheet!A228>1,\"result\",\"\")","v":""},{"$f":"IF(Benchsheet!A228>1,\"STATE\",\"\")","v":""},{"$f":"IF(Benchsheet!A228>1,\"00035\",\"\")","v":""},{"$f":"Benchsheet!A228","v":0},{"$f":"IF(Benchsheet!C227=1121057,\"VA1121057\",IF(Benchsheet!C227=1121090,\"VA1121090\",IF(Benchsheet!C227=1121052,\"VA1121052\",IF(Benchsheet!C227=1121175,\"VA1121175\",IF(Benchsheet!C227=1121580,\"VA1121580\",IF(Benchsheet!C227=1121570,\"VA1121570\",IF(Benchsheet!C227=1121045,\"VA1121045\",IF(Benchsheet!C227=1121655,\"VA1121655\",IF(Benchsheet!C227=1121503,\"VA1121503\",IF(Benchsheet!C227=1121043,\"VA1121043\",IF(Benchsheet!C227=1121900,\"VA1121900\",IF(Benchsheet!C227=1121845,\"VA1121845\",IF(Benchsheet!C227=1121655,\"VA1121655\",IF(Benchsheet!C227=1121900,\"VA1121900\",IF(Benchsheet!C227<1,\"\")))))))))))))))","v":""},{"$f":"WORKSHEET!C224","v":""},{"$f":"IF(Benchsheet!A228>1,\"SM 9223B\",\"\")","v":""},{"$f":"Benchsheet!U228","v":"00:00:00"},{"$f":"IF(Benchsheet!J228>1,\"A\",\"\")","v":""},{"$f":"Benchsheet!M228","v":0},{"$f":"IF(WORKSHEET!A227=\"-1\",\"\",IF(WORKSHEET!A227=0,\"0\",WORKSHEET!A227))","v":""},"",{"$f":"IF(WORKSHEET!B247=\"MPN\",\"MPN\",\"\")","v":""}]
[{"$f":"IF(Benchsheet!A229>1,\"result\",\"\")","v":""},{"$f":"IF(Benchsheet!A229>1,\"STATE\",\"\")","v":""},{"$f":"IF(Benchsheet!A229>1,\"00035\",\"\")","v":""},{"$f":"Benchsheet!A229","v":0},{"$f":"IF(Benchsheet!C228=1121057,\"VA1121057\",IF(Benchsheet!C228=1121090,\"VA1121090\",IF(Benchsheet!C228=1121052,\"VA1121052\",IF(Benchsheet!C228=1121175,\"VA1121175\",IF(Benchsheet!C228=1121580,\"VA1121580\",IF(Benchsheet!C228=1121570,\"VA1121570\",IF(Benchsheet!C228=1121045,\"VA1121045\",IF(Benchsheet!C228=1121655,\"VA1121655\",IF(Benchsheet!C228=1121503,\"VA1121503\",IF(Benchsheet!C228=1121043,\"VA1121043\",IF(Benchsheet!C228=1121900,\"VA1121900\",IF(Benchsheet!C228=1121845,\"VA1121845\",IF(Benchsheet!C228=1121655,\"VA1121655\",IF(Benchsheet!C228=1121900,\"VA1121900\",IF(Benchsheet!C228<1,\"\")))))))))))))))","v":""},{"$f":"IF(WORKSHEET!B225=\"MPN\",\"3000\",IF(WORKSHEET!B225=\"TC\",\"3100\",\"\"))","v":""},{"$f":"IF(Benchsheet!A229>1,\"SM 9223B\",\"\")","v":""},{"$f":"Benchsheet!U229","v":"00:00:00"},{"$f":"IF(Benchsheet!J229>1,\"A\",\"\")","v":""},{"$f":"Benchsheet!L229","v":0},{"$f":"IF(WORKSHEET!A228=\"-1\",\"\",IF(WORKSHEET!A228=0,\"0\",WORKSHEET!A228))","v":""},"",{"$f":"IF(WORKSHEET!B248=\"MPN\",\"MPN\",\"\")","v":""}]
[{"$f":"IF(Benchsheet!A229>1,\"result\",\"\")","v":""},{"$f":"IF(Benchsheet!A229>1,\"STATE\",\"\")","v":""},{"$f":"IF(Benchsheet!A229>1,\"00035\",\"\")","v":""},{"$f":"Benchsheet!A229","v":0},{"$f":"IF(Benchsheet!C228=1121057,\"VA1121057\",IF(Benchsheet!C228=1121090,\"VA1121090\",IF(Benchsheet!C228=1121052,\"VA1121052\",IF(Benchsheet!C228=1121175,\"VA1121175\",IF(Benchsheet!C228=1121580,\"VA1121580\",IF(Benchsheet!C228=1121570,\"VA1121570\",IF(Benchsheet!C228=1121045,\"VA1121045\",IF(Benchsheet!C228=1121655,\"VA1121655\",IF(Benchsheet!C228=1121503,\"VA1121503\",IF(Benchsheet!C228=1121043,\"VA1121043\",IF(Benchsheet!C228=1121900,\"VA1121900\",IF(Benchsheet!C228=1121845,\"VA1121845\",IF(Benchsheet!C228=1121655,\"VA1121655\",IF(Benchsheet!C228=1121900,\"VA1121900\",IF(Benchsheet!C228<1,\"\")))))))))))))))","v":""},{"$f":"WORKSHEET!C225","v":""},{"$f":"IF(Benchsheet!A229>1,\"SM 9223B\",\"\")","v":""},{"$f":"Benchsheet!U229","v":"00:00:00"},{"$f":"IF(Benchsheet!J229>1,\"A\",\"\")","v":""},{"$f":"Benchsheet!M229","v":0},{"$f":"IF(WORKSHEET!A228=\"-1\",\"\",IF(WORKSHEET!A228=0,\"0\",WORKSHEET!A228))","v":""},"",{"$f":"IF(WORKSHEET!B248=\"MPN\",\"MPN\",\"\")","v":""}]
[{"$f":"IF(Benchsheet!A230>1,\"result\",\"\")","v":""},{"$f":"IF(Benchsheet!A230>1,\"STATE\",\"\")","v":""},{"$f":"IF(Benchsheet!A230>1,\"00035\",\"\")","v":""},{"$f":"Benchsheet!A230","v":0},{"$f":"IF(Benchsheet!C229=1121057,\"VA1121057\",IF(Benchsheet!C229=1121090,\"VA1121090\",IF(Benchsheet!C229=1121052,\"VA1121052\",IF(Benchsheet!C229=1121175,\"VA1121175\",IF(Benchsheet!C229=1121580,\"VA1121580\",IF(Benchsheet!C229=1121570,\"VA1121570\",IF(Benchsheet!C229=1121045,\"VA1121045\",IF(Benchsheet!C229=1121655,\"VA1121655\",IF(Benchsheet!C229=1121503,\"VA1121503\",IF(Benchsheet!C229=1121043,\"VA1121043\",IF(Benchsheet!C229=1121900,\"VA1121900\",IF(Benchsheet!C229=1121845,\"VA1121845\",IF(Benchsheet!C229=1121655,\"VA1121655\",IF(Benchsheet!C229=1121900,\"VA1121900\",IF(Benchsheet!C229<1,\"\")))))))))))))))","v":""},{"$f":"IF(WORKSHEET!B226=\"MPN\",\"3000\",IF(WORKSHEET!B226=\"TC\",\"3100\",\"\"))","v":""},{"$f":"IF(Benchsheet!A230>1,\"SM 9223B\",\"\")","v":""},{"$f":"Benchsheet!U230","v":"00:00:00"},{"$f":"IF(Benchsheet!J230>1,\"A\",\"\")","v":""},{"$f":"Benchsheet!L230","v":0},{"$f":"IF(WORKSHEET!A229=\"-1\",\"\",IF(WORKSHEET!A229=0,\"0\",WORKSHEET!A229))","v":""},"",{"$f":"IF(WORKSHEET!B249=\"MPN\",\"MPN\",\"\")","v":""}]
[{"$f":"IF(Benchsheet!A230>1,\"result\",\"\")","v":""},{"$f":"IF(Benchsheet!A230>1,\"STATE\",\"\")","v":""},{"$f":"IF(Benchsheet!A230>1,\"00035\",\"\")","v":""},{"$f":"Benchsheet!A230","v":0},{"$f":"IF(Benchsheet!C229=1121057,\"VA1121057\",IF(Benchsheet!C229=1121090,\"VA1121090\",IF(Benchsheet!C229=1121052,\"VA1121052\",IF(Benchsheet!C229=1121175,\"VA1121175\",IF(Benchsheet!C229=1121580,\"VA1121580\",IF(Benchsheet!C229=1121570,\"VA1121570\",IF(Benchsheet!C229=1121045,\"VA1121045\",IF(Benchsheet!C229=1121655,\"VA1121655\",IF(Benchsheet!C229=1121503,\"VA1121503\",IF(Benchsheet!C229=1121043,\"VA1121043\",IF(Benchsheet!C229=1121900,\"VA1121900\",IF(Benchsheet!C229=1121845,\"VA1121845\",IF(Benchsheet!C229=1121655,\"VA1121655\",IF(Benchsheet!C229=1121900,\"VA1121900\",IF(Benchsheet!C229<1,\"\")))))))))))))))","v":""},{"$f":"WORKSHEET!C226","v":""},{"$f":"IF(Benchsheet!A230>1,\"SM 9223B\",\"\")","v":""},{"$f":"Benchsheet!U230","v":"00:00:00"},{"$f":"IF(Benchsheet!J230>1,\"A\",\"\")","v":""},{"$f":"Benchsheet!M230","v":0},{"$f":"IF(WORKSHEET!A229=\"-1\",\"\",IF(WORKSHEET!A229=0,\"0\",WORKSHEET!A229))","v":""},{"$f":"IF(M451=\"MPN\",\"100ML\",\"\")","v":""},{"$f":"IF(WORKSHEET!B249=\"MPN\",\"MPN\",\"\")","v":""}]
[{"$f":"IF(Benchsheet!A231>1,\"result\",\"\")","v":""},{"$f":"IF(Benchsheet!A231>1,\"STATE\",\"\")","v":""},{"$f":"IF(Benchsheet!A231>1,\"00035\",\"\")","v":""},{"$f":"Benchsheet!A231","v":0},{"$f":"IF(Benchsheet!C230=1121057,\"VA1121057\",IF(Benchsheet!C230=1121090,\"VA1121090\",IF(Benchsheet!C230=1121052,\"VA1121052\",IF(Benchsheet!C230=1121175,\"VA1121175\",IF(Benchsheet!C230=1121580,\"VA1121580\",IF(Benchsheet!C230=1121570,\"VA1121570\",IF(Benchsheet!C230=1121045,\"VA1121045\",IF(Benchsheet!C230=1121655,\"VA1121655\",IF(Benchsheet!C230=1121503,\"VA1121503\",IF(Benchsheet!C230=1121043,\"VA1121043\",IF(Benchsheet!C230=1121900,\"VA1121900\",IF(Benchsheet!C230=1121845,\"VA1121845\",IF(Benchsheet!C230=1121655,\"VA1121655\",IF(Benchsheet!C230=1121900,\"VA1121900\",IF(Benchsheet!C230<1,\"\")))))))))))))))","v":""},{"$f":"IF(WORKSHEET!B227=\"MPN\",\"3000\",IF(WORKSHEET!B227=\"TC\",\"3100\",\"\"))","v":""},{"$f":"IF(Benchsheet!A231>1,\"SM 9223B\",\"\")","v":""},{"$f":"Benchsheet!U231","v":"00:00:00"},{"$f":"IF(Benchsheet!J231>1,\"A\",\"\")","v":""},{"$f":"Benchsheet!L231","v":0},{"$f":"IF(WORKSHEET!A230=\"-1\",\"\",IF(WORKSHEET!A230=0,\"0\",WORKSHEET!A230))","v":""},"",{"$f":"IF(WORKSHEET!B250=\"MPN\",\"MPN\",\"\")","v":""}]
[{"$f":"IF(Benchsheet!A231>1,\"result\",\"\")","v":""},{"$f":"IF(Benchsheet!A231>1,\"STATE\",\"\")","v":""},{"$f":"IF(Benchsheet!A231>1,\"00035\",\"\")","v":""},{"$f":"Benchsheet!A231","v":0},{"$f":"IF(Benchsheet!C230=1121057,\"VA1121057\",IF(Benchsheet!C230=1121090,\"VA1121090\",IF(Benchsheet!C230=1121052,\"VA1121052\",IF(Benchsheet!C230=1121175,\"VA1121175\",IF(Benchsheet!C230=1121580,\"VA1121580\",IF(Benchsheet!C230=1121570,\"VA1121570\",IF(Benchsheet!C230=1121045,\"VA1121045\",IF(Benchsheet!C230=1121655,\"VA1121655\",IF(Benchsheet!C230=1121503,\"VA1121503\",IF(Benchsheet!C230=1121043,\"VA1121043\",IF(Benchsheet!C230=1121900,\"VA1121900\",IF(Benchsheet!C230=1121845,\"VA1121845\",IF(Benchsheet!C230=1121655,\"VA1121655\",IF(Benchsheet!C230=1121900,\"VA1121900\",IF(Benchsheet!C230<1,\"\")))))))))))))))","v":""},{"$f":"WORKSHEET!C227","v":""},{"$f":"IF(Benchsheet!A231>1,\"SM 9223B\",\"\")","v":""},{"$f":"Benchsheet!U231","v":"00:00:00"},{"$f":"IF(Benchsheet!J231>1,\"A\",\"\")","v":""},{"$f":"Benchsheet!M231","v":0},{"$f":"IF(WORKSHEET!A230=\"-1\",\"\",IF(WORKSHEET!A230=0,\"0\",WORKSHEET!A230))","v":""},"",{"$f":"IF(WORKSHEET!B250=\"MPN\",\"MPN\",\"\")","v":""}]
[{"$f":"IF(Benchsheet!A232>1,\"result\",\"\")","v":""},{"$f":"IF(Benchsheet!A232>1,\"STATE\",\"\")","v":""},{"$f":"IF(Benchsheet!A232>1,\"00035\",\"\")","v":""},{"$f":"Benchsheet!A232","v":0},{"$f":"IF(Benchsheet!C231=1121057,\"VA1121057\",IF(Benchsheet!C231=1121090,\"VA1121090\",IF(Benchsheet!C231=1121052,\"VA1121052\",IF(Benchsheet!C231=1121175,\"VA1121175\",IF(Benchsheet!C231=1121580,\"VA1121580\",IF(Benchsheet!C231=1121570,\"VA1121570\",IF(Benchsheet!C231=1121045,\"VA1121045\",IF(Benchsheet!C231=1121655,\"VA1121655\",IF(Benchsheet!C231=1121503,\"VA1121503\",IF(Benchsheet!C231=1121043,\"VA1121043\",IF(Benchsheet!C231=1121900,\"VA1121900\",IF(Benchsheet!C231=1121845,\"VA1121845\",IF(Benchsheet!C231=1121655,\"VA1121655\",IF(Benchsheet!C231=1121900,\"VA1121900\",IF(Benchsheet!C231<1,\"\")))))))))))))))","v":""},{"$f":"IF(WORKSHEET!B228=\"MPN\",\"3000\",IF(WORKSHEET!B228=\"TC\",\"3100\",\"\"))","v":""},{"$f":"IF(Benchsheet!A232>1,\"SM 9223B\",\"\")","v":""},{"$f":"Benchsheet!U232","v":"00:00:00"},{"$f":"IF(Benchsheet!J232>1,\"A\",\"\")","v":""},{"$f":"Benchsheet!L232","v":0},{"$f":"IF(WORKSHEET!A231=\"-1\",\"\",IF(WORKSHEET!A231=0,\"0\",WORKSHEET!A231))","v":""},"",{"$f":"IF(WORKSHEET!B251=\"MPN\",\"MPN\",\"\")","v":""}]
[{"$f":"IF(Benchsheet!A232>1,\"result\",\"\")","v":""},{"$f":"IF(Benchsheet!A232>1,\"STATE\",\"\")","v":""},{"$f":"IF(Benchsheet!A232>1,\"00035\",\"\")","v":""},{"$f":"Benchsheet!A232","v":0},{"$f":"IF(Benchsheet!C231=1121057,\"VA1121057\",IF(Benchsheet!C231=1121090,\"VA1121090\",IF(Benchsheet!C231=1121052,\"VA1121052\",IF(Benchsheet!C231=1121175,\"VA1121175\",IF(Benchsheet!C231=1121580,\"VA1121580\",IF(Benchsheet!C231=1121570,\"VA1121570\",IF(Benchsheet!C231=1121045,\"VA1121045\",IF(Benchsheet!C231=1121655,\"VA1121655\",IF(Benchsheet!C231=1121503,\"VA1121503\",IF(Benchsheet!C231=1121043,\"VA1121043\",IF(Benchsheet!C231=1121900,\"VA1121900\",IF(Benchsheet!C231=1121845,\"VA1121845\",IF(Benchsheet!C231=1121655,\"VA1121655\",IF(Benchsheet!C231=1121900,\"VA1121900\",IF(Benchsheet!C231<1,\"\")))))))))))))))","v":""},{"$f":"WORKSHEET!C228","v":""},{"$f":"IF(Benchsheet!A232>1,\"SM 9223B\",\"\")","v":""},{"$f":"Benchsheet!U232","v":"00:00:00"},{"$f":"IF(Benchsheet!J232>1,\"A\",\"\")","v":""},{"$f":"Benchsheet!M232","v":0},{"$f":"IF(WORKSHEET!A231=\"-1\",\"\",IF(WORKSHEET!A231=0,\"0\",WORKSHEET!A231))","v":""},"",{"$f":"IF(WORKSHEET!B251=\"MPN\",\"MPN\",\"\")","v":""}]
[{"$f":"IF(Benchsheet!A233>1,\"result\",\"\")","v":""},{"$f":"IF(Benchsheet!A233>1,\"STATE\",\"\")","v":""},{"$f":"IF(Benchsheet!A233>1,\"00035\",\"\")","v":""},{"$f":"Benchsheet!A233","v":0},{"$f":"IF(Benchsheet!C232=1121057,\"VA1121057\",IF(Benchsheet!C232=1121090,\"VA1121090\",IF(Benchsheet!C232=1121052,\"VA1121052\",IF(Benchsheet!C232=1121175,\"VA1121175\",IF(Benchsheet!C232=1121580,\"VA1121580\",IF(Benchsheet!C232=1121570,\"VA1121570\",IF(Benchsheet!C232=1121045,\"VA1121045\",IF(Benchsheet!C232=1121655,\"VA1121655\",IF(Benchsheet!C232=1121503,\"VA1121503\",IF(Benchsheet!C232=1121043,\"VA1121043\",IF(Benchsheet!C232=1121900,\"VA1121900\",IF(Benchsheet!C232=1121845,\"VA1121845\",IF(Benchsheet!C232=1121655,\"VA1121655\",IF(Benchsheet!C232=1121900,\"VA1121900\",IF(Benchsheet!C232<1,\"\")))))))))))))))","v":""},{"$f":"IF(WORKSHEET!B229=\"MPN\",\"3000\",IF(WORKSHEET!B229=\"TC\",\"3100\",\"\"))","v":""},{"$f":"IF(Benchsheet!A233>1,\"SM 9223B\",\"\")","v":""},{"$f":"Benchsheet!U233","v":"00:00:00"},{"$f":"IF(Benchsheet!J233>1,\"A\",\"\")","v":""},{"$f":"Benchsheet!L233","v":0},{"$f":"IF(WORKSHEET!A231=\"-1\",\"\",IF(WORKSHEET!A231=0,\"0\",WORKSHEET!A231))","v":""},"",{"$f":"IF(WORKSHEET!B252=\"MPN\",\"MPN\",\"\")","v":""}]
[{"$f":"IF(Benchsheet!A233>1,\"result\",\"\")","v":""},{"$f":"IF(Benchsheet!A233>1,\"STATE\",\"\")","v":""},{"$f":"IF(Benchsheet!A233>1,\"00035\",\"\")","v":""},{"$f":"Benchsheet!A233","v":0},{"$f":"IF(Benchsheet!C232=1121057,\"VA1121057\",IF(Benchsheet!C232=1121090,\"VA1121090\",IF(Benchsheet!C232=1121052,\"VA1121052\",IF(Benchsheet!C232=1121175,\"VA1121175\",IF(Benchsheet!C232=1121580,\"VA1121580\",IF(Benchsheet!C232=1121570,\"VA1121570\",IF(Benchsheet!C232=1121045,\"VA1121045\",IF(Benchsheet!C232=1121655,\"VA1121655\",IF(Benchsheet!C232=1121503,\"VA1121503\",IF(Benchsheet!C232=1121043,\"VA1121043\",IF(Benchsheet!C232=1121900,\"VA1121900\",IF(Benchsheet!C232=1121845,\"VA1121845\",IF(Benchsheet!C232=1121655,\"VA1121655\",IF(Benchsheet!C232=1121900,\"VA1121900\",IF(Benchsheet!C232<1,\"\")))))))))))))))","v":""},{"$f":"WORKSHEET!C229","v":""},{"$f":"IF(Benchsheet!A233>1,\"SM 9223B\",\"\")","v":""},{"$f":"Benchsheet!U233","v":"00:00:00"},{"$f":"IF(Benchsheet!J233>1,\"A\",\"\")","v":""},{"$f":"Benchsheet!M233","v":0},{"$f":"IF(WORKSHEET!A232=\"-1\",\"\",IF(WORKSHEET!A232=0,\"0\",WORKSHEET!A232))","v":""},"",{"$f":"IF(WORKSHEET!B252=\"MPN\",\"MPN\",\"\")","v":""}]
[{"$f":"IF(Benchsheet!A234>1,\"result\",\"\")","v":""},{"$f":"IF(Benchsheet!A234>1,\"STATE\",\"\")","v":""},{"$f":"IF(Benchsheet!A234>1,\"00035\",\"\")","v":""},{"$f":"Benchsheet!A234","v":0},{"$f":"IF(Benchsheet!C233=1121057,\"VA1121057\",IF(Benchsheet!C233=1121090,\"VA1121090\",IF(Benchsheet!C233=1121052,\"VA1121052\",IF(Benchsheet!C233=1121175,\"VA1121175\",IF(Benchsheet!C233=1121580,\"VA1121580\",IF(Benchsheet!C233=1121570,\"VA1121570\",IF(Benchsheet!C233=1121045,\"VA1121045\",IF(Benchsheet!C233=1121655,\"VA1121655\",IF(Benchsheet!C233=1121503,\"VA1121503\",IF(Benchsheet!C233=1121043,\"VA1121043\",IF(Benchsheet!C233=1121900,\"VA1121900\",IF(Benchsheet!C233=1121845,\"VA1121845\",IF(Benchsheet!C233=1121655,\"VA1121655\",IF(Benchsheet!C233=1121900,\"VA1121900\",IF(Benchsheet!C233<1,\"\")))))))))))))))","v":""},{"$f":"IF(WORKSHEET!B230=\"MPN\",\"3000\",IF(WORKSHEET!B230=\"TC\",\"3100\",\"\"))","v":""},{"$f":"IF(Benchsheet!A234>1,\"SM 9223B\",\"\")","v":""},{"$f":"Benchsheet!U234","v":"00:00:00"},{"$f":"IF(Benchsheet!J234>1,\"A\",\"\")","v":""},{"$f":"Benchsheet!L234","v":0},{"$f":"IF(WORKSHEET!A232=\"-1\",\"\",IF(WORKSHEET!A232=0,\"0\",WORKSHEET!A232))","v":""},"",{"$f":"IF(WORKSHEET!B253=\"MPN\",\"MPN\",\"\")","v":""}]
[{"$f":"IF(Benchsheet!A234>1,\"result\",\"\")","v":""},{"$f":"IF(Benchsheet!A234>1,\"STATE\",\"\")","v":""},{"$f":"IF(Benchsheet!A234>1,\"00035\",\"\")","v":""},{"$f":"Benchsheet!A234","v":0},{"$f":"IF(Benchsheet!C233=1121057,\"VA1121057\",IF(Benchsheet!C233=1121090,\"VA1121090\",IF(Benchsheet!C233=1121052,\"VA1121052\",IF(Benchsheet!C233=1121175,\"VA1121175\",IF(Benchsheet!C233=1121580,\"VA1121580\",IF(Benchsheet!C233=1121570,\"VA1121570\",IF(Benchsheet!C233=1121045,\"VA1121045\",IF(Benchsheet!C233=1121655,\"VA1121655\",IF(Benchsheet!C233=1121503,\"VA1121503\",IF(Benchsheet!C233=1121043,\"VA1121043\",IF(Benchsheet!C233=1121900,\"VA1121900\",IF(Benchsheet!C233=1121845,\"VA1121845\",IF(Benchsheet!C233=1121655,\"VA1121655\",IF(Benchsheet!C233=1121900,\"VA1121900\",IF(Benchsheet!C233<1,\"\")))))))))))))))","v":""},{"$f":"WORKSHEET!C230","v":""},{"$f":"IF(Benchsheet!A234>1,\"SM 9223B\",\"\")","v":""},{"$f":"Benchsheet!U234","v":"00:00:00"},{"$f":"IF(Benchsheet!J234>1,\"A\",\"\")","v":""},{"$f":"Benchsheet!M234","v":0},{"$f":"IF(WORKSHEET!A233=\"-1\",\"\",IF(WORKSHEET!A233=0,\"0\",WORKSHEET!A233))","v":""},"",{"$f":"IF(WORKSHEET!B253=\"MPN\",\"MPN\",\"\")","v":""}]
[{"$f":"IF(Benchsheet!A235>1,\"result\",\"\")","v":""},{"$f":"IF(Benchsheet!A235>1,\"STATE\",\"\")","v":""},{"$f":"IF(Benchsheet!A235>1,\"00035\",\"\")","v":""},{"$f":"Benchsheet!A235","v":0},{"$f":"IF(Benchsheet!C234=1121057,\"VA1121057\",IF(Benchsheet!C234=1121090,\"VA1121090\",IF(Benchsheet!C234=1121052,\"VA1121052\",IF(Benchsheet!C234=1121175,\"VA1121175\",IF(Benchsheet!C234=1121580,\"VA1121580\",IF(Benchsheet!C234=1121570,\"VA1121570\",IF(Benchsheet!C234=1121045,\"VA1121045\",IF(Benchsheet!C234=1121655,\"VA1121655\",IF(Benchsheet!C234=1121503,\"VA1121503\",IF(Benchsheet!C234=1121043,\"VA1121043\",IF(Benchsheet!C234=1121900,\"VA1121900\",IF(Benchsheet!C234=1121845,\"VA1121845\",IF(Benchsheet!C234=1121655,\"VA1121655\",IF(Benchsheet!C234=1121900,\"VA1121900\",IF(Benchsheet!C234<1,\"\")))))))))))))))","v":""},{"$f":"IF(WORKSHEET!B231=\"MPN\",\"3000\",IF(WORKSHEET!B231=\"TC\",\"3100\",\"\"))","v":""},{"$f":"IF(Benchsheet!A235>1,\"SM 9223B\",\"\")","v":""},{"$f":"Benchsheet!U235","v":"00:00:00"},{"$f":"IF(Benchsheet!J235>1,\"A\",\"\")","v":""},{"$f":"Benchsheet!L235","v":0},{"$f":"IF(WORKSHEET!A233=\"-1\",\"\",IF(WORKSHEET!A233=0,\"0\",WORKSHEET!A233))","v":""},"",{"$f":"IF(WORKSHEET!B254=\"MPN\",\"MPN\",\"\")","v":""}]
[{"$f":"IF(Benchsheet!A235>1,\"result\",\"\")","v":""},{"$f":"IF(Benchsheet!A235>1,\"STATE\",\"\")","v":""},{"$f":"IF(Benchsheet!A235>1,\"00035\",\"\")","v":""},{"$f":"Benchsheet!A235","v":0},{"$f":"IF(Benchsheet!C234=1121057,\"VA1121057\",IF(Benchsheet!C234=1121090,\"VA1121090\",IF(Benchsheet!C234=1121052,\"VA1121052\",IF(Benchsheet!C234=1121175,\"VA1121175\",IF(Benchsheet!C234=1121580,\"VA1121580\",IF(Benchsheet!C234=1121570,\"VA1121570\",IF(Benchsheet!C234=1121045,\"VA1121045\",IF(Benchsheet!C234=1121655,\"VA1121655\",IF(Benchsheet!C234=1121503,\"VA1121503\",IF(Benchsheet!C234=1121043,\"VA1121043\",IF(Benchsheet!C234=1121900,\"VA1121900\",IF(Benchsheet!C234=1121845,\"VA1121845\",IF(Benchsheet!C234=1121655,\"VA1121655\",IF(Benchsheet!C234=1121900,\"VA1121900\",IF(Benchsheet!C234<1,\"\")))))))))))))))","v":""},{"$f":"WORKSHEET!C231","v":""},{"$f":"IF(Benchsheet!A235>1,\"SM 9223B\",\"\")","v":""},{"$f":"Benchsheet!U235","v":"00:00:00"},{"$f":"IF(Benchsheet!J235>1,\"A\",\"\")","v":""},{"$f":"Benchsheet!M235","v":0},{"$f":"IF(WORKSHEET!A234=\"-1\",\"\",IF(WORKSHEET!A234=0,\"0\",WORKSHEET!A234))","v":""},"",{"$f":"IF(WORKSHEET!B254=\"MPN\",\"MPN\",\"\")","v":""}]
[{"$f":"IF(Benchsheet!A236>1,\"result\",\"\")","v":""},{"$f":"IF(Benchsheet!A236>1,\"STATE\",\"\")","v":""},{"$f":"IF(Benchsheet!A236>1,\"00035\",\"\")","v":""},{"$f":"Benchsheet!A236","v":0},{"$f":"IF(Benchsheet!C235=1121057,\"VA1121057\",IF(Benchsheet!C235=1121090,\"VA1121090\",IF(Benchsheet!C235=1121052,\"VA1121052\",IF(Benchsheet!C235=1121175,\"VA1121175\",IF(Benchsheet!C235=1121580,\"VA1121580\",IF(Benchsheet!C235=1121570,\"VA1121570\",IF(Benchsheet!C235=1121045,\"VA1121045\",IF(Benchsheet!C235=1121655,\"VA1121655\",IF(Benchsheet!C235=1121503,\"VA1121503\",IF(Benchsheet!C235=1121043,\"VA1121043\",IF(Benchsheet!C235=1121900,\"VA1121900\",IF(Benchsheet!C235=1121845,\"VA1121845\",IF(Benchsheet!C235=1121655,\"VA1121655\",IF(Benchsheet!C235=1121900,\"VA1121900\",IF(Benchsheet!C235<1,\"\")))))))))))))))","v":""},{"$f":"IF(WORKSHEET!B232=\"MPN\",\"3000\",IF(WORKSHEET!B232=\"TC\",\"3100\",\"\"))","v":""},{"$f":"IF(Benchsheet!A236>1,\"SM 9223B\",\"\")","v":""},{"$f":"Benchsheet!U236","v":"00:00:00"},{"$f":"IF(Benchsheet!J236>1,\"A\",\"\")","v":""},{"$f":"Benchsheet!L236","v":0},{"$f":"IF(WORKSHEET!A234=\"-1\",\"\",IF(WORKSHEET!A234=0,\"0\",WORKSHEET!A234))","v":""},"",{"$f":"IF(WORKSHEET!B255=\"MPN\",\"MPN\",\"\")","v":""}]
[{"$f":"IF(Benchsheet!A236>1,\"result\",\"\")","v":""},{"$f":"IF(Benchsheet!A236>1,\"STATE\",\"\")","v":""},{"$f":"IF(Benchsheet!A236>1,\"00035\",\"\")","v":""},{"$f":"Benchsheet!A236","v":0},{"$f":"IF(Benchsheet!C235=1121057,\"VA1121057\",IF(Benchsheet!C235=1121090,\"VA1121090\",IF(Benchsheet!C235=1121052,\"VA1121052\",IF(Benchsheet!C235=1121175,\"VA1121175\",IF(Benchsheet!C235=1121580,\"VA1121580\",IF(Benchsheet!C235=1121570,\"VA1121570\",IF(Benchsheet!C235=1121045,\"VA1121045\",IF(Benchsheet!C235=1121655,\"VA1121655\",IF(Benchsheet!C235=1121503,\"VA1121503\",IF(Benchsheet!C235=1121043,\"VA1121043\",IF(Benchsheet!C235=1121900,\"VA1121900\",IF(Benchsheet!C235=1121845,\"VA1121845\",IF(Benchsheet!C235=1121655,\"VA1121655\",IF(Benchsheet!C235=1121900,\"VA1121900\",IF(Benchsheet!C235<1,\"\")))))))))))))))","v":""},{"$f":"WORKSHEET!C232","v":""},{"$f":"IF(Benchsheet!A236>1,\"SM 9223B\",\"\")","v":""},{"$f":"Benchsheet!U236","v":"00:00:00"},{"$f":"IF(Benchsheet!J236>1,\"A\",\"\")","v":""},{"$f":"Benchsheet!M236","v":0},{"$f":"IF(WORKSHEET!A235=\"-1\",\"\",IF(WORKSHEET!A235=0,\"0\",WORKSHEET!A235))","v":""},"",{"$f":"IF(WORKSHEET!B255=\"MPN\",\"MPN\",\"\")","v":""}]
[{"$f":"IF(Benchsheet!A237>1,\"result\",\"\")","v":""},{"$f":"IF(Benchsheet!A237>1,\"STATE\",\"\")","v":""},{"$f":"IF(Benchsheet!A237>1,\"00035\",\"\")","v":""},{"$f":"Benchsheet!A237","v":0},{"$f":"IF(Benchsheet!C236=1121057,\"VA1121057\",IF(Benchsheet!C236=1121090,\"VA1121090\",IF(Benchsheet!C236=1121052,\"VA1121052\",IF(Benchsheet!C236=1121175,\"VA1121175\",IF(Benchsheet!C236=1121580,\"VA1121580\",IF(Benchsheet!C236=1121570,\"VA1121570\",IF(Benchsheet!C236=1121045,\"VA1121045\",IF(Benchsheet!C236=1121655,\"VA1121655\",IF(Benchsheet!C236=1121503,\"VA1121503\",IF(Benchsheet!C236=1121043,\"VA1121043\",IF(Benchsheet!C236=1121900,\"VA1121900\",IF(Benchsheet!C236=1121845,\"VA1121845\",IF(Benchsheet!C236=1121655,\"VA1121655\",IF(Benchsheet!C236=1121900,\"VA1121900\",IF(Benchsheet!C236<1,\"\")))))))))))))))","v":""},{"$f":"IF(WORKSHEET!B233=\"MPN\",\"3000\",IF(WORKSHEET!B233=\"TC\",\"3100\",\"\"))","v":""},{"$f":"IF(Benchsheet!A237>1,\"SM 9223B\",\"\")","v":""},{"$f":"Benchsheet!U237","v":"00:00:00"},{"$f":"IF(Benchsheet!J237>1,\"A\",\"\")","v":""},{"$f":"Benchsheet!L237","v":0},{"$f":"IF(WORKSHEET!A235=\"-1\",\"\",IF(WORKSHEET!A235=0,\"0\",WORKSHEET!A235))","v":""},"",{"$f":"IF(WORKSHEET!B256=\"MPN\",\"MPN\",\"\")","v":""}]
[{"$f":"IF(Benchsheet!A237>1,\"result\",\"\")","v":""},{"$f":"IF(Benchsheet!A237>1,\"STATE\",\"\")","v":""},{"$f":"IF(Benchsheet!A237>1,\"00035\",\"\")","v":""},{"$f":"Benchsheet!A237","v":0},{"$f":"IF(Benchsheet!C236=1121057,\"VA1121057\",IF(Benchsheet!C236=1121090,\"VA1121090\",IF(Benchsheet!C236=1121052,\"VA1121052\",IF(Benchsheet!C236=1121175,\"VA1121175\",IF(Benchsheet!C236=1121580,\"VA1121580\",IF(Benchsheet!C236=1121570,\"VA1121570\",IF(Benchsheet!C236=1121045,\"VA1121045\",IF(Benchsheet!C236=1121655,\"VA1121655\",IF(Benchsheet!C236=1121503,\"VA1121503\",IF(Benchsheet!C236=1121043,\"VA1121043\",IF(Benchsheet!C236=1121900,\"VA1121900\",IF(Benchsheet!C236=1121845,\"VA1121845\",IF(Benchsheet!C236=1121655,\"VA1121655\",IF(Benchsheet!C236=1121900,\"VA1121900\",IF(Benchsheet!C236<1,\"\")))))))))))))))","v":""},{"$f":"WORKSHEET!C233","v":""},{"$f":"IF(Benchsheet!A237>1,\"SM 9223B\",\"\")","v":""},{"$f":"Benchsheet!U237","v":"00:00:00"},{"$f":"IF(Benchsheet!J237>1,\"A\",\"\")","v":""},{"$f":"Benchsheet!M237","v":0},{"$f":"IF(WORKSHEET!A236=\"-1\",\"\",IF(WORKSHEET!A236=0,\"0\",WORKSHEET!A236))","v":""},"",{"$f":"IF(WORKSHEET!B256=\"MPN\",\"MPN\",\"\")","v":""}]
[{"$f":"IF(Benchsheet!A238>1,\"result\",\"\")","v":""},{"$f":"IF(Benchsheet!A238>1,\"STATE\",\"\")","v":""},{"$f":"IF(Benchsheet!A238>1,\"00035\",\"\")","v":""},{"$f":"Benchsheet!A238","v":0},{"$f":"IF(Benchsheet!C237=1121057,\"VA1121057\",IF(Benchsheet!C237=1121090,\"VA1121090\",IF(Benchsheet!C237=1121052,\"VA1121052\",IF(Benchsheet!C237=1121175,\"VA1121175\",IF(Benchsheet!C237=1121580,\"VA1121580\",IF(Benchsheet!C237=1121570,\"VA1121570\",IF(Benchsheet!C237=1121045,\"VA1121045\",IF(Benchsheet!C237=1121655,\"VA1121655\",IF(Benchsheet!C237=1121503,\"VA1121503\",IF(Benchsheet!C237=1121043,\"VA1121043\",IF(Benchsheet!C237=1121900,\"VA1121900\",IF(Benchsheet!C237=1121845,\"VA1121845\",IF(Benchsheet!C237=1121655,\"VA1121655\",IF(Benchsheet!C237=1121900,\"VA1121900\",IF(Benchsheet!C237<1,\"\")))))))))))))))","v":""},{"$f":"IF(WORKSHEET!B234=\"MPN\",\"3000\",IF(WORKSHEET!B234=\"TC\",\"3100\",\"\"))","v":""},{"$f":"IF(Benchsheet!A238>1,\"SM 9223B\",\"\")","v":""},{"$f":"Benchsheet!U238","v":"00:00:00"},{"$f":"IF(Benchsheet!J238>1,\"A\",\"\")","v":""},{"$f":"Benchsheet!L238","v":0},{"$f":"IF(WORKSHEET!A236=\"-1\",\"\",IF(WORKSHEET!A236=0,\"0\",WORKSHEET!A236))","v":""},"",{"$f":"IF(WORKSHEET!B257=\"MPN\",\"MPN\",\"\")","v":""}]
[{"$f":"IF(Benchsheet!A238>1,\"result\",\"\")","v":""},{"$f":"IF(Benchsheet!A238>1,\"STATE\",\"\")","v":""},{"$f":"IF(Benchsheet!A238>1,\"00035\",\"\")","v":""},{"$f":"Benchsheet!A238","v":0},{"$f":"IF(Benchsheet!C237=1121057,\"VA1121057\",IF(Benchsheet!C237=1121090,\"VA1121090\",IF(Benchsheet!C237=1121052,\"VA1121052\",IF(Benchsheet!C237=1121175,\"VA1121175\",IF(Benchsheet!C237=1121580,\"VA1121580\",IF(Benchsheet!C237=1121570,\"VA1121570\",IF(Benchsheet!C237=1121045,\"VA1121045\",IF(Benchsheet!C237=1121655,\"VA1121655\",IF(Benchsheet!C237=1121503,\"VA1121503\",IF(Benchsheet!C237=1121043,\"VA1121043\",IF(Benchsheet!C237=1121900,\"VA1121900\",IF(Benchsheet!C237=1121845,\"VA1121845\",IF(Benchsheet!C237=1121655,\"VA1121655\",IF(Benchsheet!C237=1121900,\"VA1121900\",IF(Benchsheet!C237<1,\"\")))))))))))))))","v":""},{"$f":"WORKSHEET!C234","v":""},{"$f":"IF(Benchsheet!A238>1,\"SM 9223B\",\"\")","v":""},{"$f":"Benchsheet!U238","v":"00:00:00"},{"$f":"IF(Benchsheet!J238>1,\"A\",\"\")","v":""},{"$f":"Benchsheet!M238","v":0},{"$f":"IF(WORKSHEET!A237=\"-1\",\"\",IF(WORKSHEET!A237=0,\"0\",WORKSHEET!A237))","v":""},"",{"$f":"IF(WORKSHEET!B257=\"MPN\",\"MPN\",\"\")","v":""}]
[{"$f":"IF(Benchsheet!A239>1,\"result\",\"\")","v":""},{"$f":"IF(Benchsheet!A239>1,\"STATE\",\"\")","v":""},{"$f":"IF(Benchsheet!A239>1,\"00035\",\"\")","v":""},{"$f":"Benchsheet!A239","v":0},{"$f":"IF(Benchsheet!C238=1121057,\"VA1121057\",IF(Benchsheet!C238=1121090,\"VA1121090\",IF(Benchsheet!C238=1121052,\"VA1121052\",IF(Benchsheet!C238=1121175,\"VA1121175\",IF(Benchsheet!C238=1121580,\"VA1121580\",IF(Benchsheet!C238=1121570,\"VA1121570\",IF(Benchsheet!C238=1121045,\"VA1121045\",IF(Benchsheet!C238=1121655,\"VA1121655\",IF(Benchsheet!C238=1121503,\"VA1121503\",IF(Benchsheet!C238=1121043,\"VA1121043\",IF(Benchsheet!C238=1121900,\"VA1121900\",IF(Benchsheet!C238=1121845,\"VA1121845\",IF(Benchsheet!C238=1121655,\"VA1121655\",IF(Benchsheet!C238=1121900,\"VA1121900\",IF(Benchsheet!C238<1,\"\")))))))))))))))","v":""},{"$f":"IF(WORKSHEET!B235=\"MPN\",\"3000\",IF(WORKSHEET!B235=\"TC\",\"3100\",\"\"))","v":""},{"$f":"IF(Benchsheet!A239>1,\"SM 9223B\",\"\")","v":""},{"$f":"Benchsheet!U239","v":"00:00:00"},{"$f":"IF(Benchsheet!J239>1,\"A\",\"\")","v":""},{"$f":"Benchsheet!L239","v":0},{"$f":"IF(WORKSHEET!A237=\"-1\",\"\",IF(WORKSHEET!A237=0,\"0\",WORKSHEET!A237))","v":""},"",{"$f":"IF(WORKSHEET!B258=\"MPN\",\"MPN\",\"\")","v":""}]
[{"$f":"IF(Benchsheet!A239>1,\"result\",\"\")","v":""},{"$f":"IF(Benchsheet!A239>1,\"STATE\",\"\")","v":""},{"$f":"IF(Benchsheet!A239>1,\"00035\",\"\")","v":""},{"$f":"Benchsheet!A239","v":0},{"$f":"IF(Benchsheet!C238=1121057,\"VA1121057\",IF(Benchsheet!C238=1121090,\"VA1121090\",IF(Benchsheet!C238=1121052,\"VA1121052\",IF(Benchsheet!C238=1121175,\"VA1121175\",IF(Benchsheet!C238=1121580,\"VA1121580\",IF(Benchsheet!C238=1121570,\"VA1121570\",IF(Benchsheet!C238=1121045,\"VA1121045\",IF(Benchsheet!C238=1121655,\"VA1121655\",IF(Benchsheet!C238=1121503,\"VA1121503\",IF(Benchsheet!C238=1121043,\"VA1121043\",IF(Benchsheet!C238=1121900,\"VA1121900\",IF(Benchsheet!C238=1121845,\"VA1121845\",IF(Benchsheet!C238=1121655,\"VA1121655\",IF(Benchsheet!C238=1121900,\"VA1121900\",IF(Benchsheet!C238<1,\"\")))))))))))))))","v":""},{"$f":"WORKSHEET!C235","v":""},{"$f":"IF(Benchsheet!A239>1,\"SM 9223B\",\"\")","v":""},{"$f":"Benchsheet!U239","v":"00:00:00"},{"$f":"IF(Benchsheet!J239>1,\"A\",\"\")","v":""},{"$f":"Benchsheet!M239","v":0},{"$f":"IF(WORKSHEET!A238=\"-1\",\"\",IF(WORKSHEET!A238=0,\"0\",WORKSHEET!A238))","v":""},"",{"$f":"IF(WORKSHEET!B258=\"MPN\",\"MPN\",\"\")","v":""}]
[{"$f":"IF(Benchsheet!A240>1,\"result\",\"\")","v":""},{"$f":"IF(Benchsheet!A240>1,\"STATE\",\"\")","v":""},{"$f":"IF(Benchsheet!A240>1,\"00035\",\"\")","v":""},{"$f":"Benchsheet!A240","v":0},{"$f":"IF(Benchsheet!C239=1121057,\"VA1121057\",IF(Benchsheet!C239=1121090,\"VA1121090\",IF(Benchsheet!C239=1121052,\"VA1121052\",IF(Benchsheet!C239=1121175,\"VA1121175\",IF(Benchsheet!C239=1121580,\"VA1121580\",IF(Benchsheet!C239=1121570,\"VA1121570\",IF(Benchsheet!C239=1121045,\"VA1121045\",IF(Benchsheet!C239=1121655,\"VA1121655\",IF(Benchsheet!C239=1121503,\"VA1121503\",IF(Benchsheet!C239=1121043,\"VA1121043\",IF(Benchsheet!C239=1121900,\"VA1121900\",IF(Benchsheet!C239=1121845,\"VA1121845\",IF(Benchsheet!C239=1121655,\"VA1121655\",IF(Benchsheet!C239=1121900,\"VA1121900\",IF(Benchsheet!C239<1,\"\")))))))))))))))","v":""},{"$f":"IF(WORKSHEET!B236=\"MPN\",\"3000\",IF(WORKSHEET!B236=\"TC\",\"3100\",\"\"))","v":""},{"$f":"IF(Benchsheet!A240>1,\"SM 9223B\",\"\")","v":""},{"$f":"Benchsheet!U240","v":"00:00:00"},{"$f":"IF(Benchsheet!J240>1,\"A\",\"\")","v":""},{"$f":"Benchsheet!L240","v":0},{"$f":"IF(WORKSHEET!A238=\"-1\",\"\",IF(WORKSHEET!A238=0,\"0\",WORKSHEET!A238))","v":""},"",{"$f":"IF(WORKSHEET!B259=\"MPN\",\"MPN\",\"\")","v":""}]
[{"$f":"IF(Benchsheet!A240>1,\"result\",\"\")","v":""},{"$f":"IF(Benchsheet!A240>1,\"STATE\",\"\")","v":""},{"$f":"IF(Benchsheet!A240>1,\"00035\",\"\")","v":""},{"$f":"Benchsheet!A240","v":0},{"$f":"IF(Benchsheet!C239=1121057,\"VA1121057\",IF(Benchsheet!C239=1121090,\"VA1121090\",IF(Benchsheet!C239=1121052,\"VA1121052\",IF(Benchsheet!C239=1121175,\"VA1121175\",IF(Benchsheet!C239=1121580,\"VA1121580\",IF(Benchsheet!C239=1121570,\"VA1121570\",IF(Benchsheet!C239=1121045,\"VA1121045\",IF(Benchsheet!C239=1121655,\"VA1121655\",IF(Benchsheet!C239=1121503,\"VA1121503\",IF(Benchsheet!C239=1121043,\"VA1121043\",IF(Benchsheet!C239=1121900,\"VA1121900\",IF(Benchsheet!C239=1121845,\"VA1121845\",IF(Benchsheet!C239=1121655,\"VA1121655\",IF(Benchsheet!C239=1121900,\"VA1121900\",IF(Benchsheet!C239<1,\"\")))))))))))))))","v":""},{"$f":"WORKSHEET!C236","v":""},{"$f":"IF(Benchsheet!A240>1,\"SM 9223B\",\"\")","v":""},{"$f":"Benchsheet!U240","v":"00:00:00"},{"$f":"IF(Benchsheet!J240>1,\"A\",\"\")","v":""},{"$f":"Benchsheet!M240","v":0},{"$f":"IF(WORKSHEET!A239=\"-1\",\"\",IF(WORKSHEET!A239=0,\"0\",WORKSHEET!A239))","v":""},"",{"$f":"IF(WORKSHEET!B259=\"MPN\",\"MPN\",\"\")","v":""}]
[{"$f":"IF(Benchsheet!A241>1,\"result\",\"\")","v":""},{"$f":"IF(Benchsheet!A241>1,\"STATE\",\"\")","v":""},{"$f":"IF(Benchsheet!A241>1,\"00035\",\"\")","v":""},{"$f":"Benchsheet!A241","v":0},{"$f":"IF(Benchsheet!C240=1121057,\"VA1121057\",IF(Benchsheet!C240=1121090,\"VA1121090\",IF(Benchsheet!C240=1121052,\"VA1121052\",IF(Benchsheet!C240=1121175,\"VA1121175\",IF(Benchsheet!C240=1121580,\"VA1121580\",IF(Benchsheet!C240=1121570,\"VA1121570\",IF(Benchsheet!C240=1121045,\"VA1121045\",IF(Benchsheet!C240=1121655,\"VA1121655\",IF(Benchsheet!C240=1121503,\"VA1121503\",IF(Benchsheet!C240=1121043,\"VA1121043\",IF(Benchsheet!C240=1121900,\"VA1121900\",IF(Benchsheet!C240=1121845,\"VA1121845\",IF(Benchsheet!C240=1121655,\"VA1121655\",IF(Benchsheet!C240=1121900,\"VA1121900\",IF(Benchsheet!C240<1,\"\")))))))))))))))","v":""},{"$f":"IF(WORKSHEET!B237=\"MPN\",\"3000\",IF(WORKSHEET!B237=\"TC\",\"3100\",\"\"))","v":""},{"$f":"IF(Benchsheet!A241>1,\"SM 9223B\",\"\")","v":""},{"$f":"Benchsheet!U241","v":"00:00:00"},{"$f":"IF(Benchsheet!J241>1,\"A\",\"\")","v":""},{"$f":"Benchsheet!L241","v":0},{"$f":"IF(WORKSHEET!A239=\"-1\",\"\",IF(WORKSHEET!A239=0,\"0\",WORKSHEET!A239))","v":""},"",{"$f":"IF(WORKSHEET!B260=\"MPN\",\"MPN\",\"\")","v":""}]
[{"$f":"IF(Benchsheet!A241>1,\"result\",\"\")","v":""},{"$f":"IF(Benchsheet!A241>1,\"STATE\",\"\")","v":""},{"$f":"IF(Benchsheet!A241>1,\"00035\",\"\")","v":""},{"$f":"Benchsheet!A241","v":0},{"$f":"IF(Benchsheet!C240=1121057,\"VA1121057\",IF(Benchsheet!C240=1121090,\"VA1121090\",IF(Benchsheet!C240=1121052,\"VA1121052\",IF(Benchsheet!C240=1121175,\"VA1121175\",IF(Benchsheet!C240=1121580,\"VA1121580\",IF(Benchsheet!C240=1121570,\"VA1121570\",IF(Benchsheet!C240=1121045,\"VA1121045\",IF(Benchsheet!C240=1121655,\"VA1121655\",IF(Benchsheet!C240=1121503,\"VA1121503\",IF(Benchsheet!C240=1121043,\"VA1121043\",IF(Benchsheet!C240=1121900,\"VA1121900\",IF(Benchsheet!C240=1121845,\"VA1121845\",IF(Benchsheet!C240=1121655,\"VA1121655\",IF(Benchsheet!C240=1121900,\"VA1121900\",IF(Benchsheet!C240<1,\"\")))))))))))))))","v":""},{"$f":"WORKSHEET!C237","v":""},{"$f":"IF(Benchsheet!A241>1,\"SM 9223B\",\"\")","v":""},{"$f":"Benchsheet!U241","v":"00:00:00"},{"$f":"IF(Benchsheet!J241>1,\"A\",\"\")","v":""},{"$f":"Benchsheet!M241","v":0},{"$f":"IF(WORKSHEET!A240=\"-1\",\"\",IF(WORKSHEET!A240=0,\"0\",WORKSHEET!A240))","v":""},"",{"$f":"IF(WORKSHEET!B260=\"MPN\",\"MPN\",\"\")","v":""}]
[{"$f":"IF(Benchsheet!A242>1,\"result\",\"\")","v":""},{"$f":"IF(Benchsheet!A242>1,\"STATE\",\"\")","v":""},{"$f":"IF(Benchsheet!A242>1,\"00035\",\"\")","v":""},{"$f":"Benchsheet!A242","v":0},{"$f":"IF(Benchsheet!C241=1121057,\"VA1121057\",IF(Benchsheet!C241=1121090,\"VA1121090\",IF(Benchsheet!C241=1121052,\"VA1121052\",IF(Benchsheet!C241=1121175,\"VA1121175\",IF(Benchsheet!C241=1121580,\"VA1121580\",IF(Benchsheet!C241=1121570,\"VA1121570\",IF(Benchsheet!C241=1121045,\"VA1121045\",IF(Benchsheet!C241=1121655,\"VA1121655\",IF(Benchsheet!C241=1121503,\"VA1121503\",IF(Benchsheet!C241=1121043,\"VA1121043\",IF(Benchsheet!C241=1121900,\"VA1121900\",IF(Benchsheet!C241=1121845,\"VA1121845\",IF(Benchsheet!C241=1121655,\"VA1121655\",IF(Benchsheet!C241=1121900,\"VA1121900\",IF(Benchsheet!C241<1,\"\")))))))))))))))","v":""},{"$f":"IF(WORKSHEET!B238=\"MPN\",\"3000\",IF(WORKSHEET!B238=\"TC\",\"3100\",\"\"))","v":""},{"$f":"IF(Benchsheet!A242>1,\"SM 9223B\",\"\")","v":""},{"$f":"Benchsheet!U242","v":"00:00:00"},{"$f":"IF(Benchsheet!J242>1,\"A\",\"\")","v":""},{"$f":"Benchsheet!L242","v":0},{"$f":"IF(WORKSHEET!A240=\"-1\",\"\",IF(WORKSHEET!A240=0,\"0\",WORKSHEET!A240))","v":""},"",{"$f":"IF(WORKSHEET!B261=\"MPN\",\"MPN\",\"\")","v":""}]
[{"$f":"IF(Benchsheet!A242>1,\"result\",\"\")","v":""},{"$f":"IF(Benchsheet!A242>1,\"STATE\",\"\")","v":""},{"$f":"IF(Benchsheet!A242>1,\"00035\",\"\")","v":""},{"$f":"Benchsheet!A242","v":0},{"$f":"IF(Benchsheet!C241=1121057,\"VA1121057\",IF(Benchsheet!C241=1121090,\"VA1121090\",IF(Benchsheet!C241=1121052,\"VA1121052\",IF(Benchsheet!C241=1121175,\"VA1121175\",IF(Benchsheet!C241=1121580,\"VA1121580\",IF(Benchsheet!C241=1121570,\"VA1121570\",IF(Benchsheet!C241=1121045,\"VA1121045\",IF(Benchsheet!C241=1121655,\"VA1121655\",IF(Benchsheet!C241=1121503,\"VA1121503\",IF(Benchsheet!C241=1121043,\"VA1121043\",IF(Benchsheet!C241=1121900,\"VA1121900\",IF(Benchsheet!C241=1121845,\"VA1121845\",IF(Benchsheet!C241=1121655,\"VA1121655\",IF(Benchsheet!C241=1121900,\"VA1121900\",IF(Benchsheet!C241<1,\"\")))))))))))))))","v":""},{"$f":"WORKSHEET!C238","v":""},{"$f":"IF(Benchsheet!A242>1,\"SM 9223B\",\"\")","v":""},{"$f":"Benchsheet!U242","v":"00:00:00"},{"$f":"IF(Benchsheet!J242>1,\"A\",\"\")","v":""},{"$f":"Benchsheet!M242","v":0},{"$f":"IF(WORKSHEET!A241=\"-1\",\"\",IF(WORKSHEET!A241=0,\"0\",WORKSHEET!A241))","v":""},"",{"$f":"IF(WORKSHEET!B261=\"MPN\",\"MPN\",\"\")","v":""}]
[{"$f":"IF(Benchsheet!A243>1,\"result\",\"\")","v":""},{"$f":"IF(Benchsheet!A243>1,\"STATE\",\"\")","v":""},{"$f":"IF(Benchsheet!A243>1,\"00035\",\"\")","v":""},{"$f":"Benchsheet!A243","v":0},{"$f":"IF(Benchsheet!C242=1121057,\"VA1121057\",IF(Benchsheet!C242=1121090,\"VA1121090\",IF(Benchsheet!C242=1121052,\"VA1121052\",IF(Benchsheet!C242=1121175,\"VA1121175\",IF(Benchsheet!C242=1121580,\"VA1121580\",IF(Benchsheet!C242=1121570,\"VA1121570\",IF(Benchsheet!C242=1121045,\"VA1121045\",IF(Benchsheet!C242=1121655,\"VA1121655\",IF(Benchsheet!C242=1121503,\"VA1121503\",IF(Benchsheet!C242=1121043,\"VA1121043\",IF(Benchsheet!C242=1121900,\"VA1121900\",IF(Benchsheet!C242=1121845,\"VA1121845\",IF(Benchsheet!C242=1121655,\"VA1121655\",IF(Benchsheet!C242=1121900,\"VA1121900\",IF(Benchsheet!C242<1,\"\")))))))))))))))","v":""},{"$f":"IF(WORKSHEET!B239=\"MPN\",\"3000\",IF(WORKSHEET!B239=\"TC\",\"3100\",\"\"))","v":""},{"$f":"IF(Benchsheet!A243>1,\"SM 9223B\",\"\")","v":""},{"$f":"Benchsheet!U243","v":"00:00:00"},{"$f":"IF(Benchsheet!J243>1,\"A\",\"\")","v":""},{"$f":"Benchsheet!L243","v":0},{"$f":"IF(WORKSHEET!A241=\"-1\",\"\",IF(WORKSHEET!A241=0,\"0\",WORKSHEET!A241))","v":""},"",{"$f":"IF(WORKSHEET!B262=\"MPN\",\"MPN\",\"\")","v":""}]
[{"$f":"IF(Benchsheet!A243>1,\"result\",\"\")","v":""},{"$f":"IF(Benchsheet!A243>1,\"STATE\",\"\")","v":""},{"$f":"IF(Benchsheet!A243>1,\"00035\",\"\")","v":""},{"$f":"Benchsheet!A243","v":0},{"$f":"IF(Benchsheet!C242=1121057,\"VA1121057\",IF(Benchsheet!C242=1121090,\"VA1121090\",IF(Benchsheet!C242=1121052,\"VA1121052\",IF(Benchsheet!C242=1121175,\"VA1121175\",IF(Benchsheet!C242=1121580,\"VA1121580\",IF(Benchsheet!C242=1121570,\"VA1121570\",IF(Benchsheet!C242=1121045,\"VA1121045\",IF(Benchsheet!C242=1121655,\"VA1121655\",IF(Benchsheet!C242=1121503,\"VA1121503\",IF(Benchsheet!C242=1121043,\"VA1121043\",IF(Benchsheet!C242=1121900,\"VA1121900\",IF(Benchsheet!C242=1121845,\"VA1121845\",IF(Benchsheet!C242=1121655,\"VA1121655\",IF(Benchsheet!C242=1121900,\"VA1121900\",IF(Benchsheet!C242<1,\"\")))))))))))))))","v":""},{"$f":"WORKSHEET!C239","v":""},{"$f":"IF(Benchsheet!A243>1,\"SM 9223B\",\"\")","v":""},{"$f":"Benchsheet!U243","v":"00:00:00"},{"$f":"IF(Benchsheet!J243>1,\"A\",\"\")","v":""},{"$f":"Benchsheet!M243","v":0},{"$f":"IF(WORKSHEET!A242=\"-1\",\"\",IF(WORKSHEET!A242=0,\"0\",WORKSHEET!A242))","v":""},"",{"$f":"IF(WORKSHEET!B262=\"MPN\",\"MPN\",\"\")","v":""}]
[{"$f":"IF(Benchsheet!A244>1,\"result\",\"\")","v":""},{"$f":"IF(Benchsheet!A244>1,\"STATE\",\"\")","v":""},{"$f":"IF(Benchsheet!A244>1,\"00035\",\"\")","v":""},{"$f":"Benchsheet!A244","v":0},{"$f":"IF(Benchsheet!C243=1121057,\"VA1121057\",IF(Benchsheet!C243=1121090,\"VA1121090\",IF(Benchsheet!C243=1121052,\"VA1121052\",IF(Benchsheet!C243=1121175,\"VA1121175\",IF(Benchsheet!C243=1121580,\"VA1121580\",IF(Benchsheet!C243=1121570,\"VA1121570\",IF(Benchsheet!C243=1121045,\"VA1121045\",IF(Benchsheet!C243=1121655,\"VA1121655\",IF(Benchsheet!C243=1121503,\"VA1121503\",IF(Benchsheet!C243=1121043,\"VA1121043\",IF(Benchsheet!C243=1121900,\"VA1121900\",IF(Benchsheet!C243=1121845,\"VA1121845\",IF(Benchsheet!C243=1121655,\"VA1121655\",IF(Benchsheet!C243=1121900,\"VA1121900\",IF(Benchsheet!C243<1,\"\")))))))))))))))","v":""},{"$f":"IF(WORKSHEET!B240=\"MPN\",\"3000\",IF(WORKSHEET!B240=\"TC\",\"3100\",\"\"))","v":""},{"$f":"IF(Benchsheet!A244>1,\"SM 9223B\",\"\")","v":""},{"$f":"Benchsheet!U244","v":"00:00:00"},{"$f":"IF(Benchsheet!J244>1,\"A\",\"\")","v":""},{"$f":"Benchsheet!L244","v":0},{"$f":"IF(WORKSHEET!A242=\"-1\",\"\",IF(WORKSHEET!A242=0,\"0\",WORKSHEET!A242))","v":""},"",{"$f":"IF(WORKSHEET!B263=\"MPN\",\"MPN\",\"\")","v":""}]
[{"$f":"IF(Benchsheet!A244>1,\"result\",\"\")","v":""},{"$f":"IF(Benchsheet!A244>1,\"STATE\",\"\")","v":""},{"$f":"IF(Benchsheet!A244>1,\"00035\",\"\")","v":""},{"$f":"Benchsheet!A244","v":0},{"$f":"IF(Benchsheet!C243=1121057,\"VA1121057\",IF(Benchsheet!C243=1121090,\"VA1121090\",IF(Benchsheet!C243=1121052,\"VA1121052\",IF(Benchsheet!C243=1121175,\"VA1121175\",IF(Benchsheet!C243=1121580,\"VA1121580\",IF(Benchsheet!C243=1121570,\"VA1121570\",IF(Benchsheet!C243=1121045,\"VA1121045\",IF(Benchsheet!C243=1121655,\"VA1121655\",IF(Benchsheet!C243=1121503,\"VA1121503\",IF(Benchsheet!C243=1121043,\"VA1121043\",IF(Benchsheet!C243=1121900,\"VA1121900\",IF(Benchsheet!C243=1121845,\"VA1121845\",IF(Benchsheet!C243=1121655,\"VA1121655\",IF(Benchsheet!C243=1121900,\"VA1121900\",IF(Benchsheet!C243<1,\"\")))))))))))))))","v":""},{"$f":"WORKSHEET!C240","v":""},{"$f":"IF(Benchsheet!A244>1,\"SM 9223B\",\"\")","v":""},{"$f":"Benchsheet!U244","v":"00:00:00"},{"$f":"IF(Benchsheet!J244>1,\"A\",\"\")","v":""},{"$f":"Benchsheet!M244","v":0},{"$f":"IF(WORKSHEET!A243=\"-1\",\"\",IF(WORKSHEET!A243=0,\"0\",WORKSHEET!A243))","v":""},"",{"$f":"IF(WORKSHEET!B263=\"MPN\",\"MPN\",\"\")","v":""}]
[{"$f":"IF(Benchsheet!A245>1,\"result\",\"\")","v":""},{"$f":"IF(Benchsheet!A245>1,\"STATE\",\"\")","v":""},{"$f":"IF(Benchsheet!A245>1,\"00035\",\"\")","v":""},{"$f":"Benchsheet!A245","v":0},{"$f":"IF(Benchsheet!C244=1121057,\"VA1121057\",IF(Benchsheet!C244=1121090,\"VA1121090\",IF(Benchsheet!C244=1121052,\"VA1121052\",IF(Benchsheet!C244=1121175,\"VA1121175\",IF(Benchsheet!C244=1121580,\"VA1121580\",IF(Benchsheet!C244=1121570,\"VA1121570\",IF(Benchsheet!C244=1121045,\"VA1121045\",IF(Benchsheet!C244=1121655,\"VA1121655\",IF(Benchsheet!C244=1121503,\"VA1121503\",IF(Benchsheet!C244=1121043,\"VA1121043\",IF(Benchsheet!C244=1121900,\"VA1121900\",IF(Benchsheet!C244=1121845,\"VA1121845\",IF(Benchsheet!C244=1121655,\"VA1121655\",IF(Benchsheet!C244=1121900,\"VA1121900\",IF(Benchsheet!C244<1,\"\")))))))))))))))","v":""},{"$f":"IF(WORKSHEET!B241=\"MPN\",\"3000\",IF(WORKSHEET!B241=\"TC\",\"3100\",\"\"))","v":""},{"$f":"IF(Benchsheet!A245>1,\"SM 9223B\",\"\")","v":""},{"$f":"Benchsheet!U245","v":"00:00:00"},{"$f":"IF(Benchsheet!J245>1,\"A\",\"\")","v":""},{"$f":"Benchsheet!L245","v":0},{"$f":"IF(WORKSHEET!A243=\"-1\",\"\",IF(WORKSHEET!A243=0,\"0\",WORKSHEET!A243))","v":""},"",{"$f":"IF(WORKSHEET!B264=\"MPN\",\"MPN\",\"\")","v":""}]
[{"$f":"IF(Benchsheet!A245>1,\"result\",\"\")","v":""},{"$f":"IF(Benchsheet!A245>1,\"STATE\",\"\")","v":""},{"$f":"IF(Benchsheet!A245>1,\"00035\",\"\")","v":""},{"$f":"Benchsheet!A245","v":0},{"$f":"IF(Benchsheet!C244=1121057,\"VA1121057\",IF(Benchsheet!C244=1121090,\"VA1121090\",IF(Benchsheet!C244=1121052,\"VA1121052\",IF(Benchsheet!C244=1121175,\"VA1121175\",IF(Benchsheet!C244=1121580,\"VA1121580\",IF(Benchsheet!C244=1121570,\"VA1121570\",IF(Benchsheet!C244=1121045,\"VA1121045\",IF(Benchsheet!C244=1121655,\"VA1121655\",IF(Benchsheet!C244=1121503,\"VA1121503\",IF(Benchsheet!C244=1121043,\"VA1121043\",IF(Benchsheet!C244=1121900,\"VA1121900\",IF(Benchsheet!C244=1121845,\"VA1121845\",IF(Benchsheet!C244=1121655,\"VA1121655\",IF(Benchsheet!C244=1121900,\"VA1121900\",IF(Benchsheet!C244<1,\"\")))))))))))))))","v":""},{"$f":"WORKSHEET!C241","v":""},{"$f":"IF(Benchsheet!A245>1,\"SM 9223B\",\"\")","v":""},{"$f":"Benchsheet!U245","v":"00:00:00"},{"$f":"IF(Benchsheet!J245>1,\"A\",\"\")","v":""},{"$f":"Benchsheet!M245","v":0},{"$f":"IF(WORKSHEET!A244=\"-1\",\"\",IF(WORKSHEET!A244=0,\"0\",WORKSHEET!A244))","v":""},"",{"$f":"IF(WORKSHEET!B264=\"MPN\",\"MPN\",\"\")","v":""}]
[{"$f":"IF(Benchsheet!A246>1,\"result\",\"\")","v":""},{"$f":"IF(Benchsheet!A246>1,\"STATE\",\"\")","v":""},{"$f":"IF(Benchsheet!A246>1,\"00035\",\"\")","v":""},{"$f":"Benchsheet!A246","v":0},{"$f":"IF(Benchsheet!C245=1121057,\"VA1121057\",IF(Benchsheet!C245=1121090,\"VA1121090\",IF(Benchsheet!C245=1121052,\"VA1121052\",IF(Benchsheet!C245=1121175,\"VA1121175\",IF(Benchsheet!C245=1121580,\"VA1121580\",IF(Benchsheet!C245=1121570,\"VA1121570\",IF(Benchsheet!C245=1121045,\"VA1121045\",IF(Benchsheet!C245=1121655,\"VA1121655\",IF(Benchsheet!C245=1121503,\"VA1121503\",IF(Benchsheet!C245=1121043,\"VA1121043\",IF(Benchsheet!C245=1121900,\"VA1121900\",IF(Benchsheet!C245=1121845,\"VA1121845\",IF(Benchsheet!C245=1121655,\"VA1121655\",IF(Benchsheet!C245=1121900,\"VA1121900\",IF(Benchsheet!C245<1,\"\")))))))))))))))","v":""},{"$f":"IF(WORKSHEET!B242=\"MPN\",\"3000\",IF(WORKSHEET!B242=\"TC\",\"3100\",\"\"))","v":""},{"$f":"IF(Benchsheet!A246>1,\"SM 9223B\",\"\")","v":""},{"$f":"Benchsheet!U246","v":"00:00:00"},{"$f":"IF(Benchsheet!J246>1,\"A\",\"\")","v":""},{"$f":"Benchsheet!L246","v":0},{"$f":"IF(WORKSHEET!A244=\"-1\",\"\",IF(WORKSHEET!A244=0,\"0\",WORKSHEET!A244))","v":""},"",{"$f":"IF(WORKSHEET!B265=\"MPN\",\"MPN\",\"\")","v":""}]
[{"$f":"IF(Benchsheet!A246>1,\"result\",\"\")","v":""},{"$f":"IF(Benchsheet!A246>1,\"STATE\",\"\")","v":""},{"$f":"IF(Benchsheet!A246>1,\"00035\",\"\")","v":""},{"$f":"Benchsheet!A246","v":0},{"$f":"IF(Benchsheet!C245=1121057,\"VA1121057\",IF(Benchsheet!C245=1121090,\"VA1121090\",IF(Benchsheet!C245=1121052,\"VA1121052\",IF(Benchsheet!C245=1121175,\"VA1121175\",IF(Benchsheet!C245=1121580,\"VA1121580\",IF(Benchsheet!C245=1121570,\"VA1121570\",IF(Benchsheet!C245=1121045,\"VA1121045\",IF(Benchsheet!C245=1121655,\"VA1121655\",IF(Benchsheet!C245=1121503,\"VA1121503\",IF(Benchsheet!C245=1121043,\"VA1121043\",IF(Benchsheet!C245=1121900,\"VA1121900\",IF(Benchsheet!C245=1121845,\"VA1121845\",IF(Benchsheet!C245=1121655,\"VA1121655\",IF(Benchsheet!C245=1121900,\"VA1121900\",IF(Benchsheet!C245<1,\"\")))))))))))))))","v":""},{"$f":"WORKSHEET!C242","v":""},{"$f":"IF(Benchsheet!A246>1,\"SM 9223B\",\"\")","v":""},{"$f":"Benchsheet!U246","v":"00:00:00"},{"$f":"IF(Benchsheet!J246>1,\"A\",\"\")","v":""},{"$f":"Benchsheet!M246","v":0},{"$f":"IF(WORKSHEET!A245=\"-1\",\"\",IF(WORKSHEET!A245=0,\"0\",WORKSHEET!A245))","v":""},"",{"$f":"IF(WORKSHEET!B265=\"MPN\",\"MPN\",\"\")","v":""}]
[{"$f":"IF(Benchsheet!A247>1,\"result\",\"\")","v":""},{"$f":"IF(Benchsheet!A247>1,\"STATE\",\"\")","v":""},{"$f":"IF(Benchsheet!A247>1,\"00035\",\"\")","v":""},{"$f":"Benchsheet!A247","v":0},{"$f":"IF(Benchsheet!C246=1121057,\"VA1121057\",IF(Benchsheet!C246=1121090,\"VA1121090\",IF(Benchsheet!C246=1121052,\"VA1121052\",IF(Benchsheet!C246=1121175,\"VA1121175\",IF(Benchsheet!C246=1121580,\"VA1121580\",IF(Benchsheet!C246=1121570,\"VA1121570\",IF(Benchsheet!C246=1121045,\"VA1121045\",IF(Benchsheet!C246=1121655,\"VA1121655\",IF(Benchsheet!C246=1121503,\"VA1121503\",IF(Benchsheet!C246=1121043,\"VA1121043\",IF(Benchsheet!C246=1121900,\"VA1121900\",IF(Benchsheet!C246=1121845,\"VA1121845\",IF(Benchsheet!C246=1121655,\"VA1121655\",IF(Benchsheet!C246=1121900,\"VA1121900\",IF(Benchsheet!C246<1,\"\")))))))))))))))","v":""},{"$f":"IF(WORKSHEET!B243=\"MPN\",\"3000\",IF(WORKSHEET!B243=\"TC\",\"3100\",\"\"))","v":""},{"$f":"IF(Benchsheet!A247>1,\"SM 9223B\",\"\")","v":""},{"$f":"Benchsheet!U247","v":"00:00:00"},{"$f":"IF(Benchsheet!J247>1,\"A\",\"\")","v":""},{"$f":"Benchsheet!L247","v":0},{"$f":"IF(WORKSHEET!A245=\"-1\",\"\",IF(WORKSHEET!A245=0,\"0\",WORKSHEET!A245))","v":""},"",{"$f":"IF(WORKSHEET!B266=\"MPN\",\"MPN\",\"\")","v":""}]
[{"$f":"IF(Benchsheet!A247>1,\"result\",\"\")","v":""},{"$f":"IF(Benchsheet!A247>1,\"STATE\",\"\")","v":""},{"$f":"IF(Benchsheet!A247>1,\"00035\",\"\")","v":""},{"$f":"Benchsheet!A247","v":0},{"$f":"IF(Benchsheet!C246=1121057,\"VA1121057\",IF(Benchsheet!C246=1121090,\"VA1121090\",IF(Benchsheet!C246=1121052,\"VA1121052\",IF(Benchsheet!C246=1121175,\"VA1121175\",IF(Benchsheet!C246=1121580,\"VA1121580\",IF(Benchsheet!C246=1121570,\"VA1121570\",IF(Benchsheet!C246=1121045,\"VA1121045\",IF(Benchsheet!C246=1121655,\"VA1121655\",IF(Benchsheet!C246=1121503,\"VA1121503\",IF(Benchsheet!C246=1121043,\"VA1121043\",IF(Benchsheet!C246=1121900,\"VA1121900\",IF(Benchsheet!C246=1121845,\"VA1121845\",IF(Benchsheet!C246=1121655,\"VA1121655\",IF(Benchsheet!C246=1121900,\"VA1121900\",IF(Benchsheet!C246<1,\"\")))))))))))))))","v":""},{"$f":"WORKSHEET!C243","v":""},{"$f":"IF(Benchsheet!A247>1,\"SM 9223B\",\"\")","v":""},{"$f":"Benchsheet!U247","v":"00:00:00"},{"$f":"IF(Benchsheet!J247>1,\"A\",\"\")","v":""},{"$f":"Benchsheet!M247","v":0},{"$f":"IF(WORKSHEET!A246=\"-1\",\"\",IF(WORKSHEET!A246=0,\"0\",WORKSHEET!A246))","v":""},"",{"$f":"IF(WORKSHEET!B266=\"MPN\",\"MPN\",\"\")","v":""}]
[{"$f":"IF(Benchsheet!A248>1,\"result\",\"\")","v":""},{"$f":"IF(Benchsheet!A248>1,\"STATE\",\"\")","v":""},{"$f":"IF(Benchsheet!A248>1,\"00035\",\"\")","v":""},{"$f":"Benchsheet!A248","v":0},{"$f":"IF(Benchsheet!C247=1121057,\"VA1121057\",IF(Benchsheet!C247=1121090,\"VA1121090\",IF(Benchsheet!C247=1121052,\"VA1121052\",IF(Benchsheet!C247=1121175,\"VA1121175\",IF(Benchsheet!C247=1121580,\"VA1121580\",IF(Benchsheet!C247=1121570,\"VA1121570\",IF(Benchsheet!C247=1121045,\"VA1121045\",IF(Benchsheet!C247=1121655,\"VA1121655\",IF(Benchsheet!C247=1121503,\"VA1121503\",IF(Benchsheet!C247=1121043,\"VA1121043\",IF(Benchsheet!C247=1121900,\"VA1121900\",IF(Benchsheet!C247=1121845,\"VA1121845\",IF(Benchsheet!C247=1121655,\"VA1121655\",IF(Benchsheet!C247=1121900,\"VA1121900\",IF(Benchsheet!C247<1,\"\")))))))))))))))","v":""},{"$f":"IF(WORKSHEET!B244=\"MPN\",\"3000\",IF(WORKSHEET!B244=\"TC\",\"3100\",\"\"))","v":""},{"$f":"IF(Benchsheet!A248>1,\"SM 9223B\",\"\")","v":""},{"$f":"Benchsheet!U248","v":"00:00:00"},{"$f":"IF(Benchsheet!J248>1,\"A\",\"\")","v":""},{"$f":"Benchsheet!L248","v":0},{"$f":"IF(WORKSHEET!A246=\"-1\",\"\",IF(WORKSHEET!A246=0,\"0\",WORKSHEET!A246))","v":""},"",{"$f":"IF(WORKSHEET!B267=\"MPN\",\"MPN\",\"\")","v":""}]
[{"$f":"IF(Benchsheet!A248>1,\"result\",\"\")","v":""},{"$f":"IF(Benchsheet!A248>1,\"STATE\",\"\")","v":""},{"$f":"IF(Benchsheet!A248>1,\"00035\",\"\")","v":""},{"$f":"Benchsheet!A248","v":0},{"$f":"IF(Benchsheet!C247=1121057,\"VA1121057\",IF(Benchsheet!C247=1121090,\"VA1121090\",IF(Benchsheet!C247=1121052,\"VA1121052\",IF(Benchsheet!C247=1121175,\"VA1121175\",IF(Benchsheet!C247=1121580,\"VA1121580\",IF(Benchsheet!C247=1121570,\"VA1121570\",IF(Benchsheet!C247=1121045,\"VA1121045\",IF(Benchsheet!C247=1121655,\"VA1121655\",IF(Benchsheet!C247=1121503,\"VA1121503\",IF(Benchsheet!C247=1121043,\"VA1121043\",IF(Benchsheet!C247=1121900,\"VA1121900\",IF(Benchsheet!C247=1121845,\"VA1121845\",IF(Benchsheet!C247=1121655,\"VA1121655\",IF(Benchsheet!C247=1121900,\"VA1121900\",IF(Benchsheet!C247<1,\"\")))))))))))))))","v":""},{"$f":"WORKSHEET!C244","v":""},{"$f":"IF(Benchsheet!A248>1,\"SM 9223B\",\"\")","v":""},{"$f":"Benchsheet!U248","v":"00:00:00"},{"$f":"IF(Benchsheet!J248>1,\"A\",\"\")","v":""},{"$f":"Benchsheet!M248","v":0},{"$f":"IF(WORKSHEET!A247=\"-1\",\"\",IF(WORKSHEET!A247=0,\"0\",WORKSHEET!A247))","v":""},"",{"$f":"IF(WORKSHEET!B267=\"MPN\",\"MPN\",\"\")","v":""}]
[{"$f":"IF(Benchsheet!A249>1,\"result\",\"\")","v":""},{"$f":"IF(Benchsheet!A249>1,\"STATE\",\"\")","v":""},{"$f":"IF(Benchsheet!A249>1,\"00035\",\"\")","v":""},{"$f":"Benchsheet!A249","v":0},{"$f":"IF(Benchsheet!C248=1121057,\"VA1121057\",IF(Benchsheet!C248=1121090,\"VA1121090\",IF(Benchsheet!C248=1121052,\"VA1121052\",IF(Benchsheet!C248=1121175,\"VA1121175\",IF(Benchsheet!C248=1121580,\"VA1121580\",IF(Benchsheet!C248=1121570,\"VA1121570\",IF(Benchsheet!C248=1121045,\"VA1121045\",IF(Benchsheet!C248=1121655,\"VA1121655\",IF(Benchsheet!C248=1121503,\"VA1121503\",IF(Benchsheet!C248=1121043,\"VA1121043\",IF(Benchsheet!C248=1121900,\"VA1121900\",IF(Benchsheet!C248=1121845,\"VA1121845\",IF(Benchsheet!C248=1121655,\"VA1121655\",IF(Benchsheet!C248=1121900,\"VA1121900\",IF(Benchsheet!C248<1,\"\")))))))))))))))","v":""},{"$f":"IF(WORKSHEET!B245=\"MPN\",\"3000\",IF(WORKSHEET!B245=\"TC\",\"3100\",\"\"))","v":""},{"$f":"IF(Benchsheet!A249>1,\"SM 9223B\",\"\")","v":""},{"$f":"Benchsheet!U249","v":"00:00:00"},{"$f":"IF(Benchsheet!J249>1,\"A\",\"\")","v":""},{"$f":"Benchsheet!L249","v":0},{"$f":"IF(WORKSHEET!A247=\"-1\",\"\",IF(WORKSHEET!A247=0,\"0\",WORKSHEET!A247))","v":""},"",{"$f":"IF(WORKSHEET!B268=\"MPN\",\"MPN\",\"\")","v":""}]
[{"$f":"IF(Benchsheet!A249>1,\"result\",\"\")","v":""},{"$f":"IF(Benchsheet!A249>1,\"STATE\",\"\")","v":""},{"$f":"IF(Benchsheet!A249>1,\"00035\",\"\")","v":""},{"$f":"Benchsheet!A249","v":0},{"$f":"IF(Benchsheet!C248=1121057,\"VA1121057\",IF(Benchsheet!C248=1121090,\"VA1121090\",IF(Benchsheet!C248=1121052,\"VA1121052\",IF(Benchsheet!C248=1121175,\"VA1121175\",IF(Benchsheet!C248=1121580,\"VA1121580\",IF(Benchsheet!C248=1121570,\"VA1121570\",IF(Benchsheet!C248=1121045,\"VA1121045\",IF(Benchsheet!C248=1121655,\"VA1121655\",IF(Benchsheet!C248=1121503,\"VA1121503\",IF(Benchsheet!C248=1121043,\"VA1121043\",IF(Benchsheet!C248=1121900,\"VA1121900\",IF(Benchsheet!C248=1121845,\"VA1121845\",IF(Benchsheet!C248=1121655,\"VA1121655\",IF(Benchsheet!C248=1121900,\"VA1121900\",IF(Benchsheet!C248<1,\"\")))))))))))))))","v":""},{"$f":"WORKSHEET!C245","v":""},{"$f":"IF(Benchsheet!A249>1,\"SM 9223B\",\"\")","v":""},{"$f":"Benchsheet!U249","v":"00:00:00"},{"$f":"IF(Benchsheet!J249>1,\"A\",\"\")","v":""},{"$f":"Benchsheet!M249","v":0},{"$f":"IF(WORKSHEET!A248=\"-1\",\"\",IF(WORKSHEET!A248=0,\"0\",WORKSHEET!A248))","v":""},"",{"$f":"IF(WORKSHEET!B268=\"MPN\",\"MPN\",\"\")","v":""}]
[{"$f":"IF(Benchsheet!A250>1,\"result\",\"\")","v":""},{"$f":"IF(Benchsheet!A250>1,\"STATE\",\"\")","v":""},{"$f":"IF(Benchsheet!A250>1,\"00035\",\"\")","v":""},{"$f":"Benchsheet!A250","v":0},{"$f":"IF(Benchsheet!C249=1121057,\"VA1121057\",IF(Benchsheet!C249=1121090,\"VA1121090\",IF(Benchsheet!C249=1121052,\"VA1121052\",IF(Benchsheet!C249=1121175,\"VA1121175\",IF(Benchsheet!C249=1121580,\"VA1121580\",IF(Benchsheet!C249=1121570,\"VA1121570\",IF(Benchsheet!C249=1121045,\"VA1121045\",IF(Benchsheet!C249=1121655,\"VA1121655\",IF(Benchsheet!C249=1121503,\"VA1121503\",IF(Benchsheet!C249=1121043,\"VA1121043\",IF(Benchsheet!C249=1121900,\"VA1121900\",IF(Benchsheet!C249=1121845,\"VA1121845\",IF(Benchsheet!C249=1121655,\"VA1121655\",IF(Benchsheet!C249=1121900,\"VA1121900\",IF(Benchsheet!C249<1,\"\")))))))))))))))","v":""},{"$f":"IF(WORKSHEET!B246=\"MPN\",\"3000\",IF(WORKSHEET!B246=\"TC\",\"3100\",\"\"))","v":""},{"$f":"IF(Benchsheet!A250>1,\"SM 9223B\",\"\")","v":""},{"$f":"Benchsheet!U250","v":"00:00:00"},{"$f":"IF(Benchsheet!J250>1,\"A\",\"\")","v":""},{"$f":"Benchsheet!L250","v":0},{"$f":"IF(WORKSHEET!A248=\"-1\",\"\",IF(WORKSHEET!A248=0,\"0\",WORKSHEET!A248))","v":""},"",{"$f":"IF(WORKSHEET!B269=\"MPN\",\"MPN\",\"\")","v":""}]
[{"$f":"IF(Benchsheet!A250>1,\"result\",\"\")","v":""},{"$f":"IF(Benchsheet!A250>1,\"STATE\",\"\")","v":""},{"$f":"IF(Benchsheet!A250>1,\"00035\",\"\")","v":""},{"$f":"Benchsheet!A250","v":0},{"$f":"IF(Benchsheet!C249=1121057,\"VA1121057\",IF(Benchsheet!C249=1121090,\"VA1121090\",IF(Benchsheet!C249=1121052,\"VA1121052\",IF(Benchsheet!C249=1121175,\"VA1121175\",IF(Benchsheet!C249=1121580,\"VA1121580\",IF(Benchsheet!C249=1121570,\"VA1121570\",IF(Benchsheet!C249=1121045,\"VA1121045\",IF(Benchsheet!C249=1121655,\"VA1121655\",IF(Benchsheet!C249=1121503,\"VA1121503\",IF(Benchsheet!C249=1121043,\"VA1121043\",IF(Benchsheet!C249=1121900,\"VA1121900\",IF(Benchsheet!C249=1121845,\"VA1121845\",IF(Benchsheet!C249=1121655,\"VA1121655\",IF(Benchsheet!C249=1121900,\"VA1121900\",IF(Benchsheet!C249<1,\"\")))))))))))))))","v":""},{"$f":"WORKSHEET!C246","v":""},{"$f":"IF(Benchsheet!A250>1,\"SM 9223B\",\"\")","v":""},{"$f":"Benchsheet!U250","v":"00:00:00"},{"$f":"IF(Benchsheet!J250>1,\"A\",\"\")","v":""},{"$f":"Benchsheet!M250","v":0},{"$f":"IF(WORKSHEET!A249=\"-1\",\"\",IF(WORKSHEET!A249=0,\"0\",WORKSHEET!A249))","v":""},"",{"$f":"IF(WORKSHEET!B269=\"MPN\",\"MPN\",\"\")","v":""}]
[{"$f":"IF(Benchsheet!A251>1,\"result\",\"\")","v":""},{"$f":"IF(Benchsheet!A251>1,\"STATE\",\"\")","v":""},{"$f":"IF(Benchsheet!A251>1,\"00035\",\"\")","v":""},{"$f":"Benchsheet!A251","v":0},{"$f":"IF(Benchsheet!C250=1121057,\"VA1121057\",IF(Benchsheet!C250=1121090,\"VA1121090\",IF(Benchsheet!C250=1121052,\"VA1121052\",IF(Benchsheet!C250=1121175,\"VA1121175\",IF(Benchsheet!C250=1121580,\"VA1121580\",IF(Benchsheet!C250=1121570,\"VA1121570\",IF(Benchsheet!C250=1121045,\"VA1121045\",IF(Benchsheet!C250=1121655,\"VA1121655\",IF(Benchsheet!C250=1121503,\"VA1121503\",IF(Benchsheet!C250=1121043,\"VA1121043\",IF(Benchsheet!C250=1121900,\"VA1121900\",IF(Benchsheet!C250=1121845,\"VA1121845\",IF(Benchsheet!C250=1121655,\"VA1121655\",IF(Benchsheet!C250=1121900,\"VA1121900\",IF(Benchsheet!C250<1,\"\")))))))))))))))","v":""},{"$f":"IF(WORKSHEET!B247=\"MPN\",\"3000\",IF(WORKSHEET!B247=\"TC\",\"3100\",\"\"))","v":""},{"$f":"IF(Benchsheet!A251>1,\"SM 9223B\",\"\")","v":""},{"$f":"Benchsheet!U251","v":"00:00:00"},{"$f":"IF(Benchsheet!J251>1,\"A\",\"\")","v":""},{"$f":"Benchsheet!L251","v":0},{"$f":"IF(WORKSHEET!A249=\"-1\",\"\",IF(WORKSHEET!A249=0,\"0\",WORKSHEET!A249))","v":""},"",{"$f":"IF(WORKSHEET!B270=\"MPN\",\"MPN\",\"\")","v":""}]
[{"$f":"IF(Benchsheet!A251>1,\"result\",\"\")","v":""},{"$f":"IF(Benchsheet!A251>1,\"STATE\",\"\")","v":""},{"$f":"IF(Benchsheet!A251>1,\"00035\",\"\")","v":""},{"$f":"Benchsheet!A251","v":0},{"$f":"IF(Benchsheet!C250=1121057,\"VA1121057\",IF(Benchsheet!C250=1121090,\"VA1121090\",IF(Benchsheet!C250=1121052,\"VA1121052\",IF(Benchsheet!C250=1121175,\"VA1121175\",IF(Benchsheet!C250=1121580,\"VA1121580\",IF(Benchsheet!C250=1121570,\"VA1121570\",IF(Benchsheet!C250=1121045,\"VA1121045\",IF(Benchsheet!C250=1121655,\"VA1121655\",IF(Benchsheet!C250=1121503,\"VA1121503\",IF(Benchsheet!C250=1121043,\"VA1121043\",IF(Benchsheet!C250=1121900,\"VA1121900\",IF(Benchsheet!C250=1121845,\"VA1121845\",IF(Benchsheet!C250=1121655,\"VA1121655\",IF(Benchsheet!C250=1121900,\"VA1121900\",IF(Benchsheet!C250<1,\"\")))))))))))))))","v":""},{"$f":"WORKSHEET!C247","v":""},{"$f":"IF(Benchsheet!A251>1,\"SM 9223B\",\"\")","v":""},{"$f":"Benchsheet!U251","v":"00:00:00"},{"$f":"IF(Benchsheet!J251>1,\"A\",\"\")","v":""},{"$f":"Benchsheet!M251","v":0},{"$f":"IF(WORKSHEET!A250=\"-1\",\"\",IF(WORKSHEET!A250=0,\"0\",WORKSHEET!A250))","v":""},"",{"$f":"IF(WORKSHEET!B270=\"MPN\",\"MPN\",\"\")","v":""}]
[{"$f":"IF(Benchsheet!A252>1,\"result\",\"\")","v":""},{"$f":"IF(Benchsheet!A252>1,\"STATE\",\"\")","v":""},{"$f":"IF(Benchsheet!A252>1,\"00035\",\"\")","v":""},{"$f":"Benchsheet!A252","v":0},{"$f":"IF(Benchsheet!C251=1121057,\"VA1121057\",IF(Benchsheet!C251=1121090,\"VA1121090\",IF(Benchsheet!C251=1121052,\"VA1121052\",IF(Benchsheet!C251=1121175,\"VA1121175\",IF(Benchsheet!C251=1121580,\"VA1121580\",IF(Benchsheet!C251=1121570,\"VA1121570\",IF(Benchsheet!C251=1121045,\"VA1121045\",IF(Benchsheet!C251=1121655,\"VA1121655\",IF(Benchsheet!C251=1121503,\"VA1121503\",IF(Benchsheet!C251=1121043,\"VA1121043\",IF(Benchsheet!C251=1121900,\"VA1121900\",IF(Benchsheet!C251=1121845,\"VA1121845\",IF(Benchsheet!C251=1121655,\"VA1121655\",IF(Benchsheet!C251=1121900,\"VA1121900\",IF(Benchsheet!C251<1,\"\")))))))))))))))","v":""},{"$f":"IF(WORKSHEET!B248=\"MPN\",\"3000\",IF(WORKSHEET!B248=\"TC\",\"3100\",\"\"))","v":""},{"$f":"IF(Benchsheet!A252>1,\"SM 9223B\",\"\")","v":""},{"$f":"Benchsheet!U252","v":"00:00:00"},{"$f":"IF(Benchsheet!J252>1,\"A\",\"\")","v":""},{"$f":"Benchsheet!L252","v":0},{"$f":"IF(WORKSHEET!A250=\"-1\",\"\",IF(WORKSHEET!A250=0,\"0\",WORKSHEET!A250))","v":""},"",{"$f":"IF(WORKSHEET!B271=\"MPN\",\"MPN\",\"\")","v":""}]
[{"$f":"IF(Benchsheet!A252>1,\"result\",\"\")","v":""},{"$f":"IF(Benchsheet!A252>1,\"STATE\",\"\")","v":""},{"$f":"IF(Benchsheet!A252>1,\"00035\",\"\")","v":""},{"$f":"Benchsheet!A252","v":0},{"$f":"IF(Benchsheet!C251=1121057,\"VA1121057\",IF(Benchsheet!C251=1121090,\"VA1121090\",IF(Benchsheet!C251=1121052,\"VA1121052\",IF(Benchsheet!C251=1121175,\"VA1121175\",IF(Benchsheet!C251=1121580,\"VA1121580\",IF(Benchsheet!C251=1121570,\"VA1121570\",IF(Benchsheet!C251=1121045,\"VA1121045\",IF(Benchsheet!C251=1121655,\"VA1121655\",IF(Benchsheet!C251=1121503,\"VA1121503\",IF(Benchsheet!C251=1121043,\"VA1121043\",IF(Benchsheet!C251=1121900,\"VA1121900\",IF(Benchsheet!C251=1121845,\"VA1121845\",IF(Benchsheet!C251=1121655,\"VA1121655\",IF(Benchsheet!C251=1121900,\"VA1121900\",IF(Benchsheet!C251<1,\"\")))))))))))))))","v":""},{"$f":"WORKSHEET!C248","v":""},{"$f":"IF(Benchsheet!A252>1,\"SM 9223B\",\"\")","v":""},{"$f":"Benchsheet!U252","v":"00:00:00"},{"$f":"IF(Benchsheet!J252>1,\"A\",\"\")","v":""},{"$f":"Benchsheet!M252","v":0},{"$f":"IF(WORKSHEET!A251=\"-1\",\"\",IF(WORKSHEET!A251=0,\"0\",WORKSHEET!A251))","v":""},"",{"$f":"IF(WORKSHEET!B271=\"MPN\",\"MPN\",\"\")","v":""}]
[{"$f":"IF(Benchsheet!A253>1,\"result\",\"\")","v":""},{"$f":"IF(Benchsheet!A253>1,\"STATE\",\"\")","v":""},{"$f":"IF(Benchsheet!A253>1,\"00035\",\"\")","v":""},{"$f":"Benchsheet!A253","v":0},{"$f":"IF(Benchsheet!C252=1121057,\"VA1121057\",IF(Benchsheet!C252=1121090,\"VA1121090\",IF(Benchsheet!C252=1121052,\"VA1121052\",IF(Benchsheet!C252=1121175,\"VA1121175\",IF(Benchsheet!C252=1121580,\"VA1121580\",IF(Benchsheet!C252=1121570,\"VA1121570\",IF(Benchsheet!C252=1121045,\"VA1121045\",IF(Benchsheet!C252=1121655,\"VA1121655\",IF(Benchsheet!C252=1121503,\"VA1121503\",IF(Benchsheet!C252=1121043,\"VA1121043\",IF(Benchsheet!C252=1121900,\"VA1121900\",IF(Benchsheet!C252=1121845,\"VA1121845\",IF(Benchsheet!C252=1121655,\"VA1121655\",IF(Benchsheet!C252=1121900,\"VA1121900\",IF(Benchsheet!C252<1,\"\")))))))))))))))","v":""},{"$f":"IF(WORKSHEET!B249=\"MPN\",\"3000\",IF(WORKSHEET!B249=\"TC\",\"3100\",\"\"))","v":""},{"$f":"IF(Benchsheet!A253>1,\"SM 9223B\",\"\")","v":""},{"$f":"Benchsheet!U253","v":"00:00:00"},{"$f":"IF(Benchsheet!J253>1,\"A\",\"\")","v":""},{"$f":"Benchsheet!L253","v":0},{"$f":"IF(WORKSHEET!A251=\"-1\",\"\",IF(WORKSHEET!A251=0,\"0\",WORKSHEET!A251))","v":""},"",{"$f":"IF(WORKSHEET!B272=\"MPN\",\"MPN\",\"\")","v":""}]
[{"$f":"IF(Benchsheet!A253>1,\"result\",\"\")","v":""},{"$f":"IF(Benchsheet!A253>1,\"STATE\",\"\")","v":""},{"$f":"IF(Benchsheet!A253>1,\"00035\",\"\")","v":""},{"$f":"Benchsheet!A253","v":0},{"$f":"IF(Benchsheet!C252=1121057,\"VA1121057\",IF(Benchsheet!C252=1121090,\"VA1121090\",IF(Benchsheet!C252=1121052,\"VA1121052\",IF(Benchsheet!C252=1121175,\"VA1121175\",IF(Benchsheet!C252=1121580,\"VA1121580\",IF(Benchsheet!C252=1121570,\"VA1121570\",IF(Benchsheet!C252=1121045,\"VA1121045\",IF(Benchsheet!C252=1121655,\"VA1121655\",IF(Benchsheet!C252=1121503,\"VA1121503\",IF(Benchsheet!C252=1121043,\"VA1121043\",IF(Benchsheet!C252=1121900,\"VA1121900\",IF(Benchsheet!C252=1121845,\"VA1121845\",IF(Benchsheet!C252=1121655,\"VA1121655\",IF(Benchsheet!C252=1121900,\"VA1121900\",IF(Benchsheet!C252<1,\"\")))))))))))))))","v":""},{"$f":"WORKSHEET!C249","v":""},{"$f":"IF(Benchsheet!A253>1,\"SM 9223B\",\"\")","v":""},{"$f":"Benchsheet!U253","v":"00:00:00"},{"$f":"IF(Benchsheet!J253>1,\"A\",\"\")","v":""},{"$f":"Benchsheet!M253","v":0},{"$f":"IF(WORKSHEET!A252=\"-1\",\"\",IF(WORKSHEET!A252=0,\"0\",WORKSHEET!A252))","v":""},"",{"$f":"IF(WORKSHEET!B272=\"MPN\",\"MPN\",\"\")","v":""}]
[{"$f":"IF(Benchsheet!A254>1,\"result\",\"\")","v":""},{"$f":"IF(Benchsheet!A254>1,\"STATE\",\"\")","v":""},{"$f":"IF(Benchsheet!A254>1,\"00035\",\"\")","v":""},{"$f":"Benchsheet!A254","v":0},{"$f":"IF(Benchsheet!C253=1121057,\"VA1121057\",IF(Benchsheet!C253=1121090,\"VA1121090\",IF(Benchsheet!C253=1121052,\"VA1121052\",IF(Benchsheet!C253=1121175,\"VA1121175\",IF(Benchsheet!C253=1121580,\"VA1121580\",IF(Benchsheet!C253=1121570,\"VA1121570\",IF(Benchsheet!C253=1121045,\"VA1121045\",IF(Benchsheet!C253=1121655,\"VA1121655\",IF(Benchsheet!C253=1121503,\"VA1121503\",IF(Benchsheet!C253=1121043,\"VA1121043\",IF(Benchsheet!C253=1121900,\"VA1121900\",IF(Benchsheet!C253=1121845,\"VA1121845\",IF(Benchsheet!C253=1121655,\"VA1121655\",IF(Benchsheet!C253=1121900,\"VA1121900\",IF(Benchsheet!C253<1,\"\")))))))))))))))","v":""},{"$f":"IF(WORKSHEET!B250=\"MPN\",\"3000\",IF(WORKSHEET!B250=\"TC\",\"3100\",\"\"))","v":""},{"$f":"IF(Benchsheet!A254>1,\"SM 9223B\",\"\")","v":""},{"$f":"Benchsheet!U254","v":"00:00:00"},{"$f":"IF(Benchsheet!J254>1,\"A\",\"\")","v":""},{"$f":"Benchsheet!L254","v":0},{"$f":"IF(WORKSHEET!A252=\"-1\",\"\",IF(WORKSHEET!A252=0,\"0\",WORKSHEET!A252))","v":""},"",{"$f":"IF(WORKSHEET!B273=\"MPN\",\"MPN\",\"\")","v":""}]
[{"$f":"IF(Benchsheet!A254>1,\"result\",\"\")","v":""},{"$f":"IF(Benchsheet!A254>1,\"STATE\",\"\")","v":""},{"$f":"IF(Benchsheet!A254>1,\"00035\",\"\")","v":""},{"$f":"Benchsheet!A254","v":0},{"$f":"IF(Benchsheet!C253=1121057,\"VA1121057\",IF(Benchsheet!C253=1121090,\"VA1121090\",IF(Benchsheet!C253=1121052,\"VA1121052\",IF(Benchsheet!C253=1121175,\"VA1121175\",IF(Benchsheet!C253=1121580,\"VA1121580\",IF(Benchsheet!C253=1121570,\"VA1121570\",IF(Benchsheet!C253=1121045,\"VA1121045\",IF(Benchsheet!C253=1121655,\"VA1121655\",IF(Benchsheet!C253=1121503,\"VA1121503\",IF(Benchsheet!C253=1121043,\"VA1121043\",IF(Benchsheet!C253=1121900,\"VA1121900\",IF(Benchsheet!C253=1121845,\"VA1121845\",IF(Benchsheet!C253=1121655,\"VA1121655\",IF(Benchsheet!C253=1121900,\"VA1121900\",IF(Benchsheet!C253<1,\"\")))))))))))))))","v":""},{"$f":"WORKSHEET!C250","v":""},{"$f":"IF(Benchsheet!A254>1,\"SM 9223B\",\"\")","v":""},{"$f":"Benchsheet!U254","v":"00:00:00"},{"$f":"IF(Benchsheet!J254>1,\"A\",\"\")","v":""},{"$f":"Benchsheet!M254","v":0},{"$f":"IF(WORKSHEET!A253=\"-1\",\"\",IF(WORKSHEET!A253=0,\"0\",WORKSHEET!A253))","v":""},"",{"$f":"IF(WORKSHEET!B273=\"MPN\",\"MPN\",\"\")","v":""}]
[{"$f":"IF(Benchsheet!A255>1,\"result\",\"\")","v":""},{"$f":"IF(Benchsheet!A255>1,\"STATE\",\"\")","v":""},{"$f":"IF(Benchsheet!A255>1,\"00035\",\"\")","v":""},{"$f":"Benchsheet!A255","v":0},{"$f":"IF(Benchsheet!C254=1121057,\"VA1121057\",IF(Benchsheet!C254=1121090,\"VA1121090\",IF(Benchsheet!C254=1121052,\"VA1121052\",IF(Benchsheet!C254=1121175,\"VA1121175\",IF(Benchsheet!C254=1121580,\"VA1121580\",IF(Benchsheet!C254=1121570,\"VA1121570\",IF(Benchsheet!C254=1121045,\"VA1121045\",IF(Benchsheet!C254=1121655,\"VA1121655\",IF(Benchsheet!C254=1121503,\"VA1121503\",IF(Benchsheet!C254=1121043,\"VA1121043\",IF(Benchsheet!C254=1121900,\"VA1121900\",IF(Benchsheet!C254=1121845,\"VA1121845\",IF(Benchsheet!C254=1121655,\"VA1121655\",IF(Benchsheet!C254=1121900,\"VA1121900\",IF(Benchsheet!C254<1,\"\")))))))))))))))","v":""},{"$f":"IF(WORKSHEET!B251=\"MPN\",\"3000\",IF(WORKSHEET!B251=\"TC\",\"3100\",\"\"))","v":""},{"$f":"IF(Benchsheet!A255>1,\"SM 9223B\",\"\")","v":""},{"$f":"Benchsheet!U255","v":"00:00:00"},{"$f":"IF(Benchsheet!J255>1,\"A\",\"\")","v":""},{"$f":"Benchsheet!L255","v":0},{"$f":"IF(WORKSHEET!A253=\"-1\",\"\",IF(WORKSHEET!A253=0,\"0\",WORKSHEET!A253))","v":""},"",{"$f":"IF(WORKSHEET!B274=\"MPN\",\"MPN\",\"\")","v":""}]
[{"$f":"IF(Benchsheet!A255>1,\"result\",\"\")","v":""},{"$f":"IF(Benchsheet!A255>1,\"STATE\",\"\")","v":""},{"$f":"IF(Benchsheet!A255>1,\"00035\",\"\")","v":""},{"$f":"Benchsheet!A255","v":0},{"$f":"IF(Benchsheet!C254=1121057,\"VA1121057\",IF(Benchsheet!C254=1121090,\"VA1121090\",IF(Benchsheet!C254=1121052,\"VA1121052\",IF(Benchsheet!C254=1121175,\"VA1121175\",IF(Benchsheet!C254=1121580,\"VA1121580\",IF(Benchsheet!C254=1121570,\"VA1121570\",IF(Benchsheet!C254=1121045,\"VA1121045\",IF(Benchsheet!C254=1121655,\"VA1121655\",IF(Benchsheet!C254=1121503,\"VA1121503\",IF(Benchsheet!C254=1121043,\"VA1121043\",IF(Benchsheet!C254=1121900,\"VA1121900\",IF(Benchsheet!C254=1121845,\"VA1121845\",IF(Benchsheet!C254=1121655,\"VA1121655\",IF(Benchsheet!C254=1121900,\"VA1121900\",IF(Benchsheet!C254<1,\"\")))))))))))))))","v":""},{"$f":"WORKSHEET!C251","v":""},{"$f":"IF(Benchsheet!A255>1,\"SM 9223B\",\"\")","v":""},{"$f":"Benchsheet!U255","v":"00:00:00"},{"$f":"IF(Benchsheet!J255>1,\"A\",\"\")","v":""},{"$f":"Benchsheet!M255","v":0},{"$f":"IF(WORKSHEET!A254=\"-1\",\"\",IF(WORKSHEET!A254=0,\"0\",WORKSHEET!A254))","v":""},"",{"$f":"IF(WORKSHEET!B274=\"MPN\",\"MPN\",\"\")","v":""}]
[{"$f":"IF(Benchsheet!A256>1,\"result\",\"\")","v":""},{"$f":"IF(Benchsheet!A256>1,\"STATE\",\"\")","v":""},{"$f":"IF(Benchsheet!A256>1,\"00035\",\"\")","v":""},{"$f":"Benchsheet!A256","v":0},{"$f":"IF(Benchsheet!C255=1121057,\"VA1121057\",IF(Benchsheet!C255=1121090,\"VA1121090\",IF(Benchsheet!C255=1121052,\"VA1121052\",IF(Benchsheet!C255=1121175,\"VA1121175\",IF(Benchsheet!C255=1121580,\"VA1121580\",IF(Benchsheet!C255=1121570,\"VA1121570\",IF(Benchsheet!C255=1121045,\"VA1121045\",IF(Benchsheet!C255=1121655,\"VA1121655\",IF(Benchsheet!C255=1121503,\"VA1121503\",IF(Benchsheet!C255=1121043,\"VA1121043\",IF(Benchsheet!C255=1121900,\"VA1121900\",IF(Benchsheet!C255=1121845,\"VA1121845\",IF(Benchsheet!C255=1121655,\"VA1121655\",IF(Benchsheet!C255=1121900,\"VA1121900\",IF(Benchsheet!C255<1,\"\")))))))))))))))","v":""},{"$f":"IF(WORKSHEET!B252=\"MPN\",\"3000\",IF(WORKSHEET!B252=\"TC\",\"3100\",\"\"))","v":""},{"$f":"IF(Benchsheet!A256>1,\"SM 9223B\",\"\")","v":""},{"$f":"Benchsheet!U256","v":"00:00:00"},{"$f":"IF(Benchsheet!J256>1,\"A\",\"\")","v":""},{"$f":"Benchsheet!L256","v":0},{"$f":"IF(WORKSHEET!A254=\"-1\",\"\",IF(WORKSHEET!A254=0,\"0\",WORKSHEET!A254))","v":""},"",{"$f":"IF(WORKSHEET!B275=\"MPN\",\"MPN\",\"\")","v":""}]
[{"$f":"IF(Benchsheet!A256>1,\"result\",\"\")","v":""},{"$f":"IF(Benchsheet!A256>1,\"STATE\",\"\")","v":""},{"$f":"IF(Benchsheet!A256>1,\"00035\",\"\")","v":""},{"$f":"Benchsheet!A256","v":0},{"$f":"IF(Benchsheet!C255=1121057,\"VA1121057\",IF(Benchsheet!C255=1121090,\"VA1121090\",IF(Benchsheet!C255=1121052,\"VA1121052\",IF(Benchsheet!C255=1121175,\"VA1121175\",IF(Benchsheet!C255=1121580,\"VA1121580\",IF(Benchsheet!C255=1121570,\"VA1121570\",IF(Benchsheet!C255=1121045,\"VA1121045\",IF(Benchsheet!C255=1121655,\"VA1121655\",IF(Benchsheet!C255=1121503,\"VA1121503\",IF(Benchsheet!C255=1121043,\"VA1121043\",IF(Benchsheet!C255=1121900,\"VA1121900\",IF(Benchsheet!C255=1121845,\"VA1121845\",IF(Benchsheet!C255=1121655,\"VA1121655\",IF(Benchsheet!C255=1121900,\"VA1121900\",IF(Benchsheet!C255<1,\"\")))))))))))))))","v":""},{"$f":"WORKSHEET!C252","v":""},{"$f":"IF(Benchsheet!A256>1,\"SM 9223B\",\"\")","v":""},{"$f":"Benchsheet!U256","v":"00:00:00"},{"$f":"IF(Benchsheet!J256>1,\"A\",\"\")","v":""},{"$f":"Benchsheet!M256","v":0},{"$f":"IF(WORKSHEET!A255=\"-1\",\"\",IF(WORKSHEET!A255=0,\"0\",WORKSHEET!A255))","v":""},"",{"$f":"IF(WORKSHEET!B275=\"MPN\",\"MPN\",\"\")","v":""}]
[{"$f":"IF(Benchsheet!A257>1,\"result\",\"\")","v":""},{"$f":"IF(Benchsheet!A257>1,\"STATE\",\"\")","v":""},{"$f":"IF(Benchsheet!A257>1,\"00035\",\"\")","v":""},{"$f":"Benchsheet!A257","v":0},{"$f":"IF(Benchsheet!C256=1121057,\"VA1121057\",IF(Benchsheet!C256=1121090,\"VA1121090\",IF(Benchsheet!C256=1121052,\"VA1121052\",IF(Benchsheet!C256=1121175,\"VA1121175\",IF(Benchsheet!C256=1121580,\"VA1121580\",IF(Benchsheet!C256=1121570,\"VA1121570\",IF(Benchsheet!C256=1121045,\"VA1121045\",IF(Benchsheet!C256=1121655,\"VA1121655\",IF(Benchsheet!C256=1121503,\"VA1121503\",IF(Benchsheet!C256=1121043,\"VA1121043\",IF(Benchsheet!C256=1121900,\"VA1121900\",IF(Benchsheet!C256=1121845,\"VA1121845\",IF(Benchsheet!C256=1121655,\"VA1121655\",IF(Benchsheet!C256=1121900,\"VA1121900\",IF(Benchsheet!C256<1,\"\")))))))))))))))","v":""},{"$f":"IF(WORKSHEET!B253=\"MPN\",\"3000\",IF(WORKSHEET!B253=\"TC\",\"3100\",\"\"))","v":""},{"$f":"IF(Benchsheet!A257>1,\"SM 9223B\",\"\")","v":""},{"$f":"Benchsheet!U257","v":"00:00:00"},{"$f":"IF(Benchsheet!J257>1,\"A\",\"\")","v":""},{"$f":"Benchsheet!L257","v":0},{"$f":"IF(WORKSHEET!A255=\"-1\",\"\",IF(WORKSHEET!A255=0,\"0\",WORKSHEET!A255))","v":""},"",{"$f":"IF(WORKSHEET!B276=\"MPN\",\"MPN\",\"\")","v":""}]
[{"$f":"IF(Benchsheet!A257>1,\"result\",\"\")","v":""},{"$f":"IF(Benchsheet!A257>1,\"STATE\",\"\")","v":""},{"$f":"IF(Benchsheet!A257>1,\"00035\",\"\")","v":""},{"$f":"Benchsheet!A257","v":0},{"$f":"IF(Benchsheet!C256=1121057,\"VA1121057\",IF(Benchsheet!C256=1121090,\"VA1121090\",IF(Benchsheet!C256=1121052,\"VA1121052\",IF(Benchsheet!C256=1121175,\"VA1121175\",IF(Benchsheet!C256=1121580,\"VA1121580\",IF(Benchsheet!C256=1121570,\"VA1121570\",IF(Benchsheet!C256=1121045,\"VA1121045\",IF(Benchsheet!C256=1121655,\"VA1121655\",IF(Benchsheet!C256=1121503,\"VA1121503\",IF(Benchsheet!C256=1121043,\"VA1121043\",IF(Benchsheet!C256=1121900,\"VA1121900\",IF(Benchsheet!C256=1121845,\"VA1121845\",IF(Benchsheet!C256=1121655,\"VA1121655\",IF(Benchsheet!C256=1121900,\"VA1121900\",IF(Benchsheet!C256<1,\"\")))))))))))))))","v":""},{"$f":"WORKSHEET!C253","v":""},{"$f":"IF(Benchsheet!A257>1,\"SM 9223B\",\"\")","v":""},{"$f":"Benchsheet!U257","v":"00:00:00"},{"$f":"IF(Benchsheet!J257>1,\"A\",\"\")","v":""},{"$f":"Benchsheet!M257","v":0},{"$f":"IF(WORKSHEET!A256=\"-1\",\"\",IF(WORKSHEET!A256=0,\"0\",WORKSHEET!A256))","v":""},"",{"$f":"IF(WORKSHEET!B276=\"MPN\",\"MPN\",\"\")","v":""}]
[{"$f":"IF(Benchsheet!A258>1,\"result\",\"\")","v":""},{"$f":"IF(Benchsheet!A258>1,\"STATE\",\"\")","v":""},{"$f":"IF(Benchsheet!A258>1,\"00035\",\"\")","v":""},{"$f":"Benchsheet!A258","v":0},{"$f":"IF(Benchsheet!C257=1121057,\"VA1121057\",IF(Benchsheet!C257=1121090,\"VA1121090\",IF(Benchsheet!C257=1121052,\"VA1121052\",IF(Benchsheet!C257=1121175,\"VA1121175\",IF(Benchsheet!C257=1121580,\"VA1121580\",IF(Benchsheet!C257=1121570,\"VA1121570\",IF(Benchsheet!C257=1121045,\"VA1121045\",IF(Benchsheet!C257=1121655,\"VA1121655\",IF(Benchsheet!C257=1121503,\"VA1121503\",IF(Benchsheet!C257=1121043,\"VA1121043\",IF(Benchsheet!C257=1121900,\"VA1121900\",IF(Benchsheet!C257=1121845,\"VA1121845\",IF(Benchsheet!C257=1121655,\"VA1121655\",IF(Benchsheet!C257=1121900,\"VA1121900\",IF(Benchsheet!C257<1,\"\")))))))))))))))","v":""},{"$f":"IF(WORKSHEET!B254=\"MPN\",\"3000\",IF(WORKSHEET!B254=\"TC\",\"3100\",\"\"))","v":""},{"$f":"IF(Benchsheet!A258>1,\"SM 9223B\",\"\")","v":""},{"$f":"Benchsheet!U258","v":"00:00:00"},{"$f":"IF(Benchsheet!J258>1,\"A\",\"\")","v":""},{"$f":"Benchsheet!L258","v":0},{"$f":"IF(WORKSHEET!A256=\"-1\",\"\",IF(WORKSHEET!A256=0,\"0\",WORKSHEET!A256))","v":""},"",{"$f":"IF(WORKSHEET!B277=\"MPN\",\"MPN\",\"\")","v":""}]
[{"$f":"IF(Benchsheet!A258>1,\"result\",\"\")","v":""},{"$f":"IF(Benchsheet!A258>1,\"STATE\",\"\")","v":""},{"$f":"IF(Benchsheet!A258>1,\"00035\",\"\")","v":""},{"$f":"Benchsheet!A258","v":0},{"$f":"IF(Benchsheet!C257=1121057,\"VA1121057\",IF(Benchsheet!C257=1121090,\"VA1121090\",IF(Benchsheet!C257=1121052,\"VA1121052\",IF(Benchsheet!C257=1121175,\"VA1121175\",IF(Benchsheet!C257=1121580,\"VA1121580\",IF(Benchsheet!C257=1121570,\"VA1121570\",IF(Benchsheet!C257=1121045,\"VA1121045\",IF(Benchsheet!C257=1121655,\"VA1121655\",IF(Benchsheet!C257=1121503,\"VA1121503\",IF(Benchsheet!C257=1121043,\"VA1121043\",IF(Benchsheet!C257=1121900,\"VA1121900\",IF(Benchsheet!C257=1121845,\"VA1121845\",IF(Benchsheet!C257=1121655,\"VA1121655\",IF(Benchsheet!C257=1121900,\"VA1121900\",IF(Benchsheet!C257<1,\"\")))))))))))))))","v":""},{"$f":"WORKSHEET!C254","v":""},{"$f":"IF(Benchsheet!A258>1,\"SM 9223B\",\"\")","v":""},{"$f":"Benchsheet!U258","v":"00:00:00"},{"$f":"IF(Benchsheet!J258>1,\"A\",\"\")","v":""},{"$f":"Benchsheet!M258","v":0},{"$f":"IF(WORKSHEET!A257=\"-1\",\"\",IF(WORKSHEET!A257=0,\"0\",WORKSHEET!A257))","v":""},"",{"$f":"IF(WORKSHEET!B277=\"MPN\",\"MPN\",\"\")","v":""}]
[{"$f":"IF(Benchsheet!A259>1,\"result\",\"\")","v":""},{"$f":"IF(Benchsheet!A259>1,\"STATE\",\"\")","v":""},{"$f":"IF(Benchsheet!A259>1,\"00035\",\"\")","v":""},{"$f":"Benchsheet!A259","v":0},{"$f":"IF(Benchsheet!C258=1121057,\"VA1121057\",IF(Benchsheet!C258=1121090,\"VA1121090\",IF(Benchsheet!C258=1121052,\"VA1121052\",IF(Benchsheet!C258=1121175,\"VA1121175\",IF(Benchsheet!C258=1121580,\"VA1121580\",IF(Benchsheet!C258=1121570,\"VA1121570\",IF(Benchsheet!C258=1121045,\"VA1121045\",IF(Benchsheet!C258=1121655,\"VA1121655\",IF(Benchsheet!C258=1121503,\"VA1121503\",IF(Benchsheet!C258=1121043,\"VA1121043\",IF(Benchsheet!C258=1121900,\"VA1121900\",IF(Benchsheet!C258=1121845,\"VA1121845\",IF(Benchsheet!C258=1121655,\"VA1121655\",IF(Benchsheet!C258=1121900,\"VA1121900\",IF(Benchsheet!C258<1,\"\")))))))))))))))","v":""},{"$f":"IF(WORKSHEET!B255=\"MPN\",\"3000\",IF(WORKSHEET!B255=\"TC\",\"3100\",\"\"))","v":""},{"$f":"IF(Benchsheet!A259>1,\"SM 9223B\",\"\")","v":""},{"$f":"Benchsheet!U259","v":"00:00:00"},{"$f":"IF(Benchsheet!J259>1,\"A\",\"\")","v":""},{"$f":"Benchsheet!L259","v":0},{"$f":"IF(WORKSHEET!A257=\"-1\",\"\",IF(WORKSHEET!A257=0,\"0\",WORKSHEET!A257))","v":""},"",{"$f":"IF(WORKSHEET!B278=\"MPN\",\"MPN\",\"\")","v":""}]
[{"$f":"IF(Benchsheet!A259>1,\"result\",\"\")","v":""},{"$f":"IF(Benchsheet!A259>1,\"STATE\",\"\")","v":""},{"$f":"IF(Benchsheet!A259>1,\"00035\",\"\")","v":""},{"$f":"Benchsheet!A259","v":0},{"$f":"IF(Benchsheet!C258=1121057,\"VA1121057\",IF(Benchsheet!C258=1121090,\"VA1121090\",IF(Benchsheet!C258=1121052,\"VA1121052\",IF(Benchsheet!C258=1121175,\"VA1121175\",IF(Benchsheet!C258=1121580,\"VA1121580\",IF(Benchsheet!C258=1121570,\"VA1121570\",IF(Benchsheet!C258=1121045,\"VA1121045\",IF(Benchsheet!C258=1121655,\"VA1121655\",IF(Benchsheet!C258=1121503,\"VA1121503\",IF(Benchsheet!C258=1121043,\"VA1121043\",IF(Benchsheet!C258=1121900,\"VA1121900\",IF(Benchsheet!C258=1121845,\"VA1121845\",IF(Benchsheet!C258=1121655,\"VA1121655\",IF(Benchsheet!C258=1121900,\"VA1121900\",IF(Benchsheet!C258<1,\"\")))))))))))))))","v":""},{"$f":"WORKSHEET!C255","v":""},{"$f":"IF(Benchsheet!A259>1,\"SM 9223B\",\"\")","v":""},{"$f":"Benchsheet!U259","v":"00:00:00"},{"$f":"IF(Benchsheet!J259>1,\"A\",\"\")","v":""},{"$f":"Benchsheet!M259","v":0},{"$f":"IF(WORKSHEET!A258=\"-1\",\"\",IF(WORKSHEET!A258=0,\"0\",WORKSHEET!A258))","v":""},"",{"$f":"IF(WORKSHEET!B278=\"MPN\",\"MPN\",\"\")","v":""}]
[{"$f":"IF(Benchsheet!A260>1,\"result\",\"\")","v":""},{"$f":"IF(Benchsheet!A260>1,\"STATE\",\"\")","v":""},{"$f":"IF(Benchsheet!A260>1,\"00035\",\"\")","v":""},{"$f":"Benchsheet!A260","v":0},{"$f":"IF(Benchsheet!C259=1121057,\"VA1121057\",IF(Benchsheet!C259=1121090,\"VA1121090\",IF(Benchsheet!C259=1121052,\"VA1121052\",IF(Benchsheet!C259=1121175,\"VA1121175\",IF(Benchsheet!C259=1121580,\"VA1121580\",IF(Benchsheet!C259=1121570,\"VA1121570\",IF(Benchsheet!C259=1121045,\"VA1121045\",IF(Benchsheet!C259=1121655,\"VA1121655\",IF(Benchsheet!C259=1121503,\"VA1121503\",IF(Benchsheet!C259=1121043,\"VA1121043\",IF(Benchsheet!C259=1121900,\"VA1121900\",IF(Benchsheet!C259=1121845,\"VA1121845\",IF(Benchsheet!C259=1121655,\"VA1121655\",IF(Benchsheet!C259=1121900,\"VA1121900\",IF(Benchsheet!C259<1,\"\")))))))))))))))","v":""},{"$f":"IF(WORKSHEET!B256=\"MPN\",\"3000\",IF(WORKSHEET!B256=\"TC\",\"3100\",\"\"))","v":""},{"$f":"IF(Benchsheet!A260>1,\"SM 9223B\",\"\")","v":""},{"$f":"Benchsheet!U260","v":"00:00:00"},{"$f":"IF(Benchsheet!J260>1,\"A\",\"\")","v":""},{"$f":"Benchsheet!L260","v":0},{"$f":"IF(WORKSHEET!A258=\"-1\",\"\",IF(WORKSHEET!A258=0,\"0\",WORKSHEET!A258))","v":""},"",{"$f":"IF(WORKSHEET!B279=\"MPN\",\"MPN\",\"\")","v":""}]
[{"$f":"IF(Benchsheet!A260>1,\"result\",\"\")","v":""},{"$f":"IF(Benchsheet!A260>1,\"STATE\",\"\")","v":""},{"$f":"IF(Benchsheet!A260>1,\"00035\",\"\")","v":""},{"$f":"Benchsheet!A260","v":0},{"$f":"IF(Benchsheet!C259=1121057,\"VA1121057\",IF(Benchsheet!C259=1121090,\"VA1121090\",IF(Benchsheet!C259=1121052,\"VA1121052\",IF(Benchsheet!C259=1121175,\"VA1121175\",IF(Benchsheet!C259=1121580,\"VA1121580\",IF(Benchsheet!C259=1121570,\"VA1121570\",IF(Benchsheet!C259=1121045,\"VA1121045\",IF(Benchsheet!C259=1121655,\"VA1121655\",IF(Benchsheet!C259=1121503,\"VA1121503\",IF(Benchsheet!C259=1121043,\"VA1121043\",IF(Benchsheet!C259=1121900,\"VA1121900\",IF(Benchsheet!C259=1121845,\"VA1121845\",IF(Benchsheet!C259=1121655,\"VA1121655\",IF(Benchsheet!C259=1121900,\"VA1121900\",IF(Benchsheet!C259<1,\"\")))))))))))))))","v":""},{"$f":"WORKSHEET!C256","v":""},{"$f":"IF(Benchsheet!A260>1,\"SM 9223B\",\"\")","v":""},{"$f":"Benchsheet!U260","v":"00:00:00"},{"$f":"IF(Benchsheet!J260>1,\"A\",\"\")","v":""},{"$f":"Benchsheet!M260","v":0},{"$f":"IF(WORKSHEET!A259=\"-1\",\"\",IF(WORKSHEET!A259=0,\"0\",WORKSHEET!A259))","v":""},"",{"$f":"IF(WORKSHEET!B279=\"MPN\",\"MPN\",\"\")","v":""}]
[{"$f":"IF(Benchsheet!A261>1,\"result\",\"\")","v":""},{"$f":"IF(Benchsheet!A261>1,\"STATE\",\"\")","v":""},{"$f":"IF(Benchsheet!A261>1,\"00035\",\"\")","v":""},{"$f":"Benchsheet!A261","v":0},{"$f":"IF(Benchsheet!C260=1121057,\"VA1121057\",IF(Benchsheet!C260=1121090,\"VA1121090\",IF(Benchsheet!C260=1121052,\"VA1121052\",IF(Benchsheet!C260=1121175,\"VA1121175\",IF(Benchsheet!C260=1121580,\"VA1121580\",IF(Benchsheet!C260=1121570,\"VA1121570\",IF(Benchsheet!C260=1121045,\"VA1121045\",IF(Benchsheet!C260=1121655,\"VA1121655\",IF(Benchsheet!C260=1121503,\"VA1121503\",IF(Benchsheet!C260=1121043,\"VA1121043\",IF(Benchsheet!C260=1121900,\"VA1121900\",IF(Benchsheet!C260=1121845,\"VA1121845\",IF(Benchsheet!C260=1121655,\"VA1121655\",IF(Benchsheet!C260=1121900,\"VA1121900\",IF(Benchsheet!C260<1,\"\")))))))))))))))","v":""},{"$f":"IF(WORKSHEET!B257=\"MPN\",\"3000\",IF(WORKSHEET!B257=\"TC\",\"3100\",\"\"))","v":""},{"$f":"IF(Benchsheet!A261>1,\"SM 9223B\",\"\")","v":""},{"$f":"Benchsheet!U261","v":"00:00:00"},{"$f":"IF(Benchsheet!J261>1,\"A\",\"\")","v":""},{"$f":"Benchsheet!L261","v":0},{"$f":"IF(WORKSHEET!A259=\"-1\",\"\",IF(WORKSHEET!A259=0,\"0\",WORKSHEET!A259))","v":""},"",{"$f":"IF(WORKSHEET!B280=\"MPN\",\"MPN\",\"\")","v":""}]
[{"$f":"IF(Benchsheet!A261>1,\"result\",\"\")","v":""},{"$f":"IF(Benchsheet!A261>1,\"STATE\",\"\")","v":""},{"$f":"IF(Benchsheet!A261>1,\"00035\",\"\")","v":""},{"$f":"Benchsheet!A261","v":0},{"$f":"IF(Benchsheet!C260=1121057,\"VA1121057\",IF(Benchsheet!C260=1121090,\"VA1121090\",IF(Benchsheet!C260=1121052,\"VA1121052\",IF(Benchsheet!C260=1121175,\"VA1121175\",IF(Benchsheet!C260=1121580,\"VA1121580\",IF(Benchsheet!C260=1121570,\"VA1121570\",IF(Benchsheet!C260=1121045,\"VA1121045\",IF(Benchsheet!C260=1121655,\"VA1121655\",IF(Benchsheet!C260=1121503,\"VA1121503\",IF(Benchsheet!C260=1121043,\"VA1121043\",IF(Benchsheet!C260=1121900,\"VA1121900\",IF(Benchsheet!C260=1121845,\"VA1121845\",IF(Benchsheet!C260=1121655,\"VA1121655\",IF(Benchsheet!C260=1121900,\"VA1121900\",IF(Benchsheet!C260<1,\"\")))))))))))))))","v":""},{"$f":"WORKSHEET!C257","v":""},{"$f":"IF(Benchsheet!A261>1,\"SM 9223B\",\"\")","v":""},{"$f":"Benchsheet!U261","v":"00:00:00"},{"$f":"IF(Benchsheet!J261>1,\"A\",\"\")","v":""},{"$f":"Benchsheet!M261","v":0},{"$f":"IF(WORKSHEET!A260=\"-1\",\"\",IF(WORKSHEET!A260=0,\"0\",WORKSHEET!A260))","v":""},"",{"$f":"IF(WORKSHEET!B280=\"MPN\",\"MPN\",\"\")","v":""}]
[{"$f":"IF(Benchsheet!A262>1,\"result\",\"\")","v":""},{"$f":"IF(Benchsheet!A262>1,\"STATE\",\"\")","v":""},{"$f":"IF(Benchsheet!A262>1,\"00035\",\"\")","v":""},{"$f":"Benchsheet!A262","v":0},{"$f":"IF(Benchsheet!C261=1121057,\"VA1121057\",IF(Benchsheet!C261=1121090,\"VA1121090\",IF(Benchsheet!C261=1121052,\"VA1121052\",IF(Benchsheet!C261=1121175,\"VA1121175\",IF(Benchsheet!C261=1121580,\"VA1121580\",IF(Benchsheet!C261=1121570,\"VA1121570\",IF(Benchsheet!C261=1121045,\"VA1121045\",IF(Benchsheet!C261=1121655,\"VA1121655\",IF(Benchsheet!C261=1121503,\"VA1121503\",IF(Benchsheet!C261=1121043,\"VA1121043\",IF(Benchsheet!C261=1121900,\"VA1121900\",IF(Benchsheet!C261=1121845,\"VA1121845\",IF(Benchsheet!C261=1121655,\"VA1121655\",IF(Benchsheet!C261=1121900,\"VA1121900\",IF(Benchsheet!C261<1,\"\")))))))))))))))","v":""},{"$f":"IF(WORKSHEET!B258=\"MPN\",\"3000\",IF(WORKSHEET!B258=\"TC\",\"3100\",\"\"))","v":""},{"$f":"IF(Benchsheet!A262>1,\"SM 9223B\",\"\")","v":""},{"$f":"Benchsheet!U262","v":"00:00:00"},{"$f":"IF(Benchsheet!J262>1,\"A\",\"\")","v":""},{"$f":"Benchsheet!L262","v":0},{"$f":"IF(WORKSHEET!A260=\"-1\",\"\",IF(WORKSHEET!A260=0,\"0\",WORKSHEET!A260))","v":""},"",{"$f":"IF(WORKSHEET!B281=\"MPN\",\"MPN\",\"\")","v":""}]
[{"$f":"IF(Benchsheet!A262>1,\"result\",\"\")","v":""},{"$f":"IF(Benchsheet!A262>1,\"STATE\",\"\")","v":""},{"$f":"IF(Benchsheet!A262>1,\"00035\",\"\")","v":""},{"$f":"Benchsheet!A262","v":0},{"$f":"IF(Benchsheet!C261=1121057,\"VA1121057\",IF(Benchsheet!C261=1121090,\"VA1121090\",IF(Benchsheet!C261=1121052,\"VA1121052\",IF(Benchsheet!C261=1121175,\"VA1121175\",IF(Benchsheet!C261=1121580,\"VA1121580\",IF(Benchsheet!C261=1121570,\"VA1121570\",IF(Benchsheet!C261=1121045,\"VA1121045\",IF(Benchsheet!C261=1121655,\"VA1121655\",IF(Benchsheet!C261=1121503,\"VA1121503\",IF(Benchsheet!C261=1121043,\"VA1121043\",IF(Benchsheet!C261=1121900,\"VA1121900\",IF(Benchsheet!C261=1121845,\"VA1121845\",IF(Benchsheet!C261=1121655,\"VA1121655\",IF(Benchsheet!C261=1121900,\"VA1121900\",IF(Benchsheet!C261<1,\"\")))))))))))))))","v":""},{"$f":"WORKSHEET!C258","v":""},{"$f":"IF(Benchsheet!A262>1,\"SM 9223B\",\"\")","v":""},{"$f":"Benchsheet!U262","v":"00:00:00"},{"$f":"IF(Benchsheet!J262>1,\"A\",\"\")","v":""},{"$f":"Benchsheet!M262","v":0},{"$f":"IF(WORKSHEET!A261=\"-1\",\"\",IF(WORKSHEET!A261=0,\"0\",WORKSHEET!A261))","v":""},{"$f":"IF(M515=\"MPN\",\"100ML\",\"\")","v":""},{"$f":"IF(WORKSHEET!B281=\"MPN\",\"MPN\",\"\")","v":""}]
[{"$f":"IF(Benchsheet!A263>1,\"result\",\"\")","v":""},{"$f":"IF(Benchsheet!A263>1,\"STATE\",\"\")","v":""},{"$f":"IF(Benchsheet!A263>1,\"00035\",\"\")","v":""},{"$f":"Benchsheet!A263","v":0},{"$f":"IF(Benchsheet!C262=1121057,\"VA1121057\",IF(Benchsheet!C262=1121090,\"VA1121090\",IF(Benchsheet!C262=1121052,\"VA1121052\",IF(Benchsheet!C262=1121175,\"VA1121175\",IF(Benchsheet!C262=1121580,\"VA1121580\",IF(Benchsheet!C262=1121570,\"VA1121570\",IF(Benchsheet!C262=1121045,\"VA1121045\",IF(Benchsheet!C262=1121655,\"VA1121655\",IF(Benchsheet!C262=1121503,\"VA1121503\",IF(Benchsheet!C262=1121043,\"VA1121043\",IF(Benchsheet!C262=1121900,\"VA1121900\",IF(Benchsheet!C262=1121845,\"VA1121845\",IF(Benchsheet!C262=1121655,\"VA1121655\",IF(Benchsheet!C262=1121900,\"VA1121900\",IF(Benchsheet!C262<1,\"\")))))))))))))))","v":""},{"$f":"IF(WORKSHEET!B259=\"MPN\",\"3000\",IF(WORKSHEET!B259=\"TC\",\"3100\",\"\"))","v":""},{"$f":"IF(Benchsheet!A263>1,\"SM 9223B\",\"\")","v":""},{"$f":"Benchsheet!U263","v":"00:00:00"},{"$f":"IF(Benchsheet!J263>1,\"A\",\"\")","v":""},{"$f":"Benchsheet!L263","v":0},{"$f":"IF(WORKSHEET!A261=\"-1\",\"\",IF(WORKSHEET!A261=0,\"0\",WORKSHEET!A261))","v":""},"",{"$f":"IF(WORKSHEET!B282=\"MPN\",\"MPN\",\"\")","v":""}]
[{"$f":"IF(Benchsheet!A263>1,\"result\",\"\")","v":""},{"$f":"IF(Benchsheet!A263>1,\"STATE\",\"\")","v":""},{"$f":"IF(Benchsheet!A263>1,\"00035\",\"\")","v":""},{"$f":"Benchsheet!A263","v":0},{"$f":"IF(Benchsheet!C262=1121057,\"VA1121057\",IF(Benchsheet!C262=1121090,\"VA1121090\",IF(Benchsheet!C262=1121052,\"VA1121052\",IF(Benchsheet!C262=1121175,\"VA1121175\",IF(Benchsheet!C262=1121580,\"VA1121580\",IF(Benchsheet!C262=1121570,\"VA1121570\",IF(Benchsheet!C262=1121045,\"VA1121045\",IF(Benchsheet!C262=1121655,\"VA1121655\",IF(Benchsheet!C262=1121503,\"VA1121503\",IF(Benchsheet!C262=1121043,\"VA1121043\",IF(Benchsheet!C262=1121900,\"VA1121900\",IF(Benchsheet!C262=1121845,\"VA1121845\",IF(Benchsheet!C262=1121655,\"VA1121655\",IF(Benchsheet!C262=1121900,\"VA1121900\",IF(Benchsheet!C262<1,\"\")))))))))))))))","v":""},{"$f":"WORKSHEET!C259","v":""},{"$f":"IF(Benchsheet!A263>1,\"SM 9223B\",\"\")","v":""},{"$f":"Benchsheet!U263","v":"00:00:00"},{"$f":"IF(Benchsheet!J263>1,\"A\",\"\")","v":""},{"$f":"Benchsheet!M263","v":0},{"$f":"IF(WORKSHEET!A262=\"-1\",\"\",IF(WORKSHEET!A262=0,\"0\",WORKSHEET!A262))","v":""},"",{"$f":"IF(WORKSHEET!B282=\"MPN\",\"MPN\",\"\")","v":""}]
[{"$f":"IF(Benchsheet!A264>1,\"result\",\"\")","v":""},{"$f":"IF(Benchsheet!A264>1,\"STATE\",\"\")","v":""},{"$f":"IF(Benchsheet!A264>1,\"00035\",\"\")","v":""},{"$f":"Benchsheet!A264","v":0},{"$f":"IF(Benchsheet!C263=1121057,\"VA1121057\",IF(Benchsheet!C263=1121090,\"VA1121090\",IF(Benchsheet!C263=1121052,\"VA1121052\",IF(Benchsheet!C263=1121175,\"VA1121175\",IF(Benchsheet!C263=1121580,\"VA1121580\",IF(Benchsheet!C263=1121570,\"VA1121570\",IF(Benchsheet!C263=1121045,\"VA1121045\",IF(Benchsheet!C263=1121655,\"VA1121655\",IF(Benchsheet!C263=1121503,\"VA1121503\",IF(Benchsheet!C263=1121043,\"VA1121043\",IF(Benchsheet!C263=1121900,\"VA1121900\",IF(Benchsheet!C263=1121845,\"VA1121845\",IF(Benchsheet!C263=1121655,\"VA1121655\",IF(Benchsheet!C263=1121900,\"VA1121900\",IF(Benchsheet!C263<1,\"\")))))))))))))))","v":""},{"$f":"IF(WORKSHEET!B260=\"MPN\",\"3000\",IF(WORKSHEET!B260=\"TC\",\"3100\",\"\"))","v":""},{"$f":"IF(Benchsheet!A264>1,\"SM 9223B\",\"\")","v":""},{"$f":"Benchsheet!U264","v":"00:00:00"},{"$f":"IF(Benchsheet!J264>1,\"A\",\"\")","v":""},{"$f":"Benchsheet!L264","v":0},{"$f":"IF(WORKSHEET!A262=\"-1\",\"\",IF(WORKSHEET!A262=0,\"0\",WORKSHEET!A262))","v":""},"",{"$f":"IF(WORKSHEET!B283=\"MPN\",\"MPN\",\"\")","v":""}]
[{"$f":"IF(Benchsheet!A264>1,\"result\",\"\")","v":""},{"$f":"IF(Benchsheet!A264>1,\"STATE\",\"\")","v":""},{"$f":"IF(Benchsheet!A264>1,\"00035\",\"\")","v":""},{"$f":"Benchsheet!A264","v":0},{"$f":"IF(Benchsheet!C263=1121057,\"VA1121057\",IF(Benchsheet!C263=1121090,\"VA1121090\",IF(Benchsheet!C263=1121052,\"VA1121052\",IF(Benchsheet!C263=1121175,\"VA1121175\",IF(Benchsheet!C263=1121580,\"VA1121580\",IF(Benchsheet!C263=1121570,\"VA1121570\",IF(Benchsheet!C263=1121045,\"VA1121045\",IF(Benchsheet!C263=1121655,\"VA1121655\",IF(Benchsheet!C263=1121503,\"VA1121503\",IF(Benchsheet!C263=1121043,\"VA1121043\",IF(Benchsheet!C263=1121900,\"VA1121900\",IF(Benchsheet!C263=1121845,\"VA1121845\",IF(Benchsheet!C263=1121655,\"VA1121655\",IF(Benchsheet!C263=1121900,\"VA1121900\",IF(Benchsheet!C263<1,\"\")))))))))))))))","v":""},{"$f":"WORKSHEET!C260","v":""},{"$f":"IF(Benchsheet!A264>1,\"SM 9223B\",\"\")","v":""},{"$f":"Benchsheet!U264","v":"00:00:00"},{"$f":"IF(Benchsheet!J264>1,\"A\",\"\")","v":""},{"$f":"Benchsheet!M264","v":0},{"$f":"IF(WORKSHEET!A263=\"-1\",\"\",IF(WORKSHEET!A263=0,\"0\",WORKSHEET!A263))","v":""},"",{"$f":"IF(WORKSHEET!B283=\"MPN\",\"MPN\",\"\")","v":""}]
[{"$f":"IF(Benchsheet!A265>1,\"result\",\"\")","v":""},{"$f":"IF(Benchsheet!A265>1,\"STATE\",\"\")","v":""},{"$f":"IF(Benchsheet!A265>1,\"00035\",\"\")","v":""},{"$f":"Benchsheet!A265","v":0},{"$f":"IF(Benchsheet!C264=1121057,\"VA1121057\",IF(Benchsheet!C264=1121090,\"VA1121090\",IF(Benchsheet!C264=1121052,\"VA1121052\",IF(Benchsheet!C264=1121175,\"VA1121175\",IF(Benchsheet!C264=1121580,\"VA1121580\",IF(Benchsheet!C264=1121570,\"VA1121570\",IF(Benchsheet!C264=1121045,\"VA1121045\",IF(Benchsheet!C264=1121655,\"VA1121655\",IF(Benchsheet!C264=1121503,\"VA1121503\",IF(Benchsheet!C264=1121043,\"VA1121043\",IF(Benchsheet!C264=1121900,\"VA1121900\",IF(Benchsheet!C264=1121845,\"VA1121845\",IF(Benchsheet!C264=1121655,\"VA1121655\",IF(Benchsheet!C264=1121900,\"VA1121900\",IF(Benchsheet!C264<1,\"\")))))))))))))))","v":""},{"$f":"IF(WORKSHEET!B261=\"MPN\",\"3000\",IF(WORKSHEET!B261=\"TC\",\"3100\",\"\"))","v":""},{"$f":"IF(Benchsheet!A265>1,\"SM 9223B\",\"\")","v":""},{"$f":"Benchsheet!U265","v":"00:00:00"},{"$f":"IF(Benchsheet!J265>1,\"A\",\"\")","v":""},{"$f":"Benchsheet!L265","v":0},{"$f":"IF(WORKSHEET!A263=\"-1\",\"\",IF(WORKSHEET!A263=0,\"0\",WORKSHEET!A263))","v":""},"",{"$f":"IF(WORKSHEET!B284=\"MPN\",\"MPN\",\"\")","v":""}]
[{"$f":"IF(Benchsheet!A265>1,\"result\",\"\")","v":""},{"$f":"IF(Benchsheet!A265>1,\"STATE\",\"\")","v":""},{"$f":"IF(Benchsheet!A265>1,\"00035\",\"\")","v":""},{"$f":"Benchsheet!A265","v":0},{"$f":"IF(Benchsheet!C265=1121057,\"VA1121057\",IF(Benchsheet!C265=1121090,\"VA1121090\",IF(Benchsheet!C265=1121052,\"VA1121052\",IF(Benchsheet!C265=1121175,\"VA1121175\",IF(Benchsheet!C265=1121580,\"VA1121580\",IF(Benchsheet!C265=1121570,\"VA1121570\",IF(Benchsheet!C265=1121045,\"VA1121045\",IF(Benchsheet!C265=1121655,\"VA1121655\",IF(Benchsheet!C265=1121503,\"VA1121503\",IF(Benchsheet!C265=1121043,\"VA1121043\",IF(Benchsheet!C265=1121900,\"VA1121900\",IF(Benchsheet!C265=1121845,\"VA1121845\",IF(Benchsheet!C265=1121655,\"VA1121655\",IF(Benchsheet!C265=1121900,\"VA1121900\",IF(Benchsheet!C265<1,\"\")))))))))))))))","v":""},{"$f":"WORKSHEET!C261","v":""},{"$f":"IF(Benchsheet!A265>1,\"SM 9223B\",\"\")","v":""},{"$f":"Benchsheet!U265","v":"00:00:00"},{"$f":"IF(Benchsheet!J265>1,\"A\",\"\")","v":""},{"$f":"Benchsheet!M265","v":0},{"$f":"IF(WORKSHEET!A264=\"-1\",\"\",IF(WORKSHEET!A264=0,\"0\",WORKSHEET!A264))","v":""},"",{"$f":"IF(WORKSHEET!B284=\"MPN\",\"MPN\",\"\")","v":""}]
[{"$f":"IF(Benchsheet!A266>1,\"result\",\"\")","v":""},{"$f":"IF(Benchsheet!A266>1,\"STATE\",\"\")","v":""},{"$f":"IF(Benchsheet!A266>1,\"00035\",\"\")","v":""},{"$f":"Benchsheet!A266","v":0},{"$f":"IF(Benchsheet!C265=1121057,\"VA1121057\",IF(Benchsheet!C265=1121090,\"VA1121090\",IF(Benchsheet!C265=1121052,\"VA1121052\",IF(Benchsheet!C265=1121175,\"VA1121175\",IF(Benchsheet!C265=1121580,\"VA1121580\",IF(Benchsheet!C265=1121570,\"VA1121570\",IF(Benchsheet!C265=1121045,\"VA1121045\",IF(Benchsheet!C265=1121655,\"VA1121655\",IF(Benchsheet!C265=1121503,\"VA1121503\",IF(Benchsheet!C265=1121043,\"VA1121043\",IF(Benchsheet!C265=1121900,\"VA1121900\",IF(Benchsheet!C265=1121845,\"VA1121845\",IF(Benchsheet!C265=1121655,\"VA1121655\",IF(Benchsheet!C265=1121900,\"VA1121900\",IF(Benchsheet!C265<1,\"\")))))))))))))))","v":""},{"$f":"IF(WORKSHEET!B262=\"MPN\",\"3000\",IF(WORKSHEET!B262=\"TC\",\"3100\",\"\"))","v":""},{"$f":"IF(Benchsheet!A266>1,\"SM 9223B\",\"\")","v":""},{"$f":"Benchsheet!U266","v":"00:00:00"},{"$f":"IF(Benchsheet!J266>1,\"A\",\"\")","v":""},{"$f":"Benchsheet!L266","v":0},{"$f":"IF(WORKSHEET!A264=\"-1\",\"\",IF(WORKSHEET!A264=0,\"0\",WORKSHEET!A264))","v":""},"",{"$f":"IF(WORKSHEET!B285=\"MPN\",\"MPN\",\"\")","v":""}]
[{"$f":"IF(Benchsheet!A266>1,\"result\",\"\")","v":""},{"$f":"IF(Benchsheet!A266>1,\"STATE\",\"\")","v":""},{"$f":"IF(Benchsheet!A266>1,\"00035\",\"\")","v":""},{"$f":"Benchsheet!A266","v":0},{"$f":"IF(Benchsheet!C266=1121057,\"VA1121057\",IF(Benchsheet!C266=1121090,\"VA1121090\",IF(Benchsheet!C266=1121052,\"VA1121052\",IF(Benchsheet!C266=1121175,\"VA1121175\",IF(Benchsheet!C266=1121580,\"VA1121580\",IF(Benchsheet!C266=1121570,\"VA1121570\",IF(Benchsheet!C266=1121045,\"VA1121045\",IF(Benchsheet!C266=1121655,\"VA1121655\",IF(Benchsheet!C266=1121503,\"VA1121503\",IF(Benchsheet!C266=1121043,\"VA1121043\",IF(Benchsheet!C266=1121900,\"VA1121900\",IF(Benchsheet!C266=1121845,\"VA1121845\",IF(Benchsheet!C266=1121655,\"VA1121655\",IF(Benchsheet!C266=1121900,\"VA1121900\",IF(Benchsheet!C266<1,\"\")))))))))))))))","v":""},{"$f":"WORKSHEET!C262","v":""},{"$f":"IF(Benchsheet!A266>1,\"SM 9223B\",\"\")","v":""},{"$f":"Benchsheet!U266","v":"00:00:00"},{"$f":"IF(Benchsheet!J266>1,\"A\",\"\")","v":""},{"$f":"Benchsheet!M266","v":0},{"$f":"IF(WORKSHEET!A265=\"-1\",\"\",IF(WORKSHEET!A265=0,\"0\",WORKSHEET!A265))","v":""},"",{"$f":"IF(WORKSHEET!B285=\"MPN\",\"MPN\",\"\")","v":""}]
[{"$f":"IF(Benchsheet!A267>1,\"result\",\"\")","v":""},{"$f":"IF(Benchsheet!A267>1,\"STATE\",\"\")","v":""},{"$f":"IF(Benchsheet!A267>1,\"00035\",\"\")","v":""},{"$f":"Benchsheet!A267","v":0},{"$f":"IF(Benchsheet!C266=1121057,\"VA1121057\",IF(Benchsheet!C266=1121090,\"VA1121090\",IF(Benchsheet!C266=1121052,\"VA1121052\",IF(Benchsheet!C266=1121175,\"VA1121175\",IF(Benchsheet!C266=1121580,\"VA1121580\",IF(Benchsheet!C266=1121570,\"VA1121570\",IF(Benchsheet!C266=1121045,\"VA1121045\",IF(Benchsheet!C266=1121655,\"VA1121655\",IF(Benchsheet!C266=1121503,\"VA1121503\",IF(Benchsheet!C266=1121043,\"VA1121043\",IF(Benchsheet!C266=1121900,\"VA1121900\",IF(Benchsheet!C266=1121845,\"VA1121845\",IF(Benchsheet!C266=1121655,\"VA1121655\",IF(Benchsheet!C266=1121900,\"VA1121900\",IF(Benchsheet!C266<1,\"\")))))))))))))))","v":""},{"$f":"IF(WORKSHEET!B263=\"MPN\",\"3000\",IF(WORKSHEET!B263=\"TC\",\"3100\",\"\"))","v":""},{"$f":"IF(Benchsheet!A267>1,\"SM 9223B\",\"\")","v":""},{"$f":"Benchsheet!U267","v":"00:00:00"},{"$f":"IF(Benchsheet!J267>1,\"A\",\"\")","v":""},{"$f":"Benchsheet!L267","v":0},{"$f":"IF(WORKSHEET!A265=\"-1\",\"\",IF(WORKSHEET!A265=0,\"0\",WORKSHEET!A265))","v":""},"",{"$f":"IF(WORKSHEET!B286=\"MPN\",\"MPN\",\"\")","v":""}]
[{"$f":"IF(Benchsheet!A267>1,\"result\",\"\")","v":""},{"$f":"IF(Benchsheet!A267>1,\"STATE\",\"\")","v":""},{"$f":"IF(Benchsheet!A267>1,\"00035\",\"\")","v":""},{"$f":"Benchsheet!A267","v":0},{"$f":"IF(Benchsheet!C267=1121057,\"VA1121057\",IF(Benchsheet!C267=1121090,\"VA1121090\",IF(Benchsheet!C267=1121052,\"VA1121052\",IF(Benchsheet!C267=1121175,\"VA1121175\",IF(Benchsheet!C267=1121580,\"VA1121580\",IF(Benchsheet!C267=1121570,\"VA1121570\",IF(Benchsheet!C267=1121045,\"VA1121045\",IF(Benchsheet!C267=1121655,\"VA1121655\",IF(Benchsheet!C267=1121503,\"VA1121503\",IF(Benchsheet!C267=1121043,\"VA1121043\",IF(Benchsheet!C267=1121900,\"VA1121900\",IF(Benchsheet!C267=1121845,\"VA1121845\",IF(Benchsheet!C267=1121655,\"VA1121655\",IF(Benchsheet!C267=1121900,\"VA1121900\",IF(Benchsheet!C267<1,\"\")))))))))))))))","v":""},{"$f":"WORKSHEET!C263","v":""},{"$f":"IF(Benchsheet!A267>1,\"SM 9223B\",\"\")","v":""},{"$f":"Benchsheet!U267","v":"00:00:00"},{"$f":"IF(Benchsheet!J267>1,\"A\",\"\")","v":""},{"$f":"Benchsheet!M267","v":0},{"$f":"IF(WORKSHEET!A266=\"-1\",\"\",IF(WORKSHEET!A266=0,\"0\",WORKSHEET!A266))","v":""},"",{"$f":"IF(WORKSHEET!B286=\"MPN\",\"MPN\",\"\")","v":""}]
[{"$f":"IF(Benchsheet!A268>1,\"result\",\"\")","v":""},{"$f":"IF(Benchsheet!A268>1,\"STATE\",\"\")","v":""},{"$f":"IF(Benchsheet!A268>1,\"00035\",\"\")","v":""},{"$f":"Benchsheet!A268","v":0},{"$f":"IF(Benchsheet!C267=1121057,\"VA1121057\",IF(Benchsheet!C267=1121090,\"VA1121090\",IF(Benchsheet!C267=1121052,\"VA1121052\",IF(Benchsheet!C267=1121175,\"VA1121175\",IF(Benchsheet!C267=1121580,\"VA1121580\",IF(Benchsheet!C267=1121570,\"VA1121570\",IF(Benchsheet!C267=1121045,\"VA1121045\",IF(Benchsheet!C267=1121655,\"VA1121655\",IF(Benchsheet!C267=1121503,\"VA1121503\",IF(Benchsheet!C267=1121043,\"VA1121043\",IF(Benchsheet!C267=1121900,\"VA1121900\",IF(Benchsheet!C267=1121845,\"VA1121845\",IF(Benchsheet!C267=1121655,\"VA1121655\",IF(Benchsheet!C267=1121900,\"VA1121900\",IF(Benchsheet!C267<1,\"\")))))))))))))))","v":""},{"$f":"IF(WORKSHEET!B264=\"MPN\",\"3000\",IF(WORKSHEET!B264=\"TC\",\"3100\",\"\"))","v":""},{"$f":"IF(Benchsheet!A268>1,\"SM 9223B\",\"\")","v":""},{"$f":"Benchsheet!U268","v":"00:00:00"},{"$f":"IF(Benchsheet!J268>1,\"A\",\"\")","v":""},{"$f":"Benchsheet!L268","v":0},{"$f":"IF(WORKSHEET!A266=\"-1\",\"\",IF(WORKSHEET!A266=0,\"0\",WORKSHEET!A266))","v":""},"",{"$f":"IF(WORKSHEET!B287=\"MPN\",\"MPN\",\"\")","v":""}]
[{"$f":"IF(Benchsheet!A268>1,\"result\",\"\")","v":""},{"$f":"IF(Benchsheet!A268>1,\"STATE\",\"\")","v":""},{"$f":"IF(Benchsheet!A268>1,\"00035\",\"\")","v":""},{"$f":"Benchsheet!A268","v":0},{"$f":"IF(Benchsheet!C268=1121057,\"VA1121057\",IF(Benchsheet!C268=1121090,\"VA1121090\",IF(Benchsheet!C268=1121052,\"VA1121052\",IF(Benchsheet!C268=1121175,\"VA1121175\",IF(Benchsheet!C268=1121580,\"VA1121580\",IF(Benchsheet!C268=1121570,\"VA1121570\",IF(Benchsheet!C268=1121045,\"VA1121045\",IF(Benchsheet!C268=1121655,\"VA1121655\",IF(Benchsheet!C268=1121503,\"VA1121503\",IF(Benchsheet!C268=1121043,\"VA1121043\",IF(Benchsheet!C268=1121900,\"VA1121900\",IF(Benchsheet!C268=1121845,\"VA1121845\",IF(Benchsheet!C268=1121655,\"VA1121655\",IF(Benchsheet!C268=1121900,\"VA1121900\",IF(Benchsheet!C268<1,\"\")))))))))))))))","v":""},{"$f":"WORKSHEET!C264","v":""},{"$f":"IF(Benchsheet!A268>1,\"SM 9223B\",\"\")","v":""},{"$f":"Benchsheet!U268","v":"00:00:00"},{"$f":"IF(Benchsheet!J268>1,\"A\",\"\")","v":""},{"$f":"Benchsheet!M268","v":0},{"$f":"IF(WORKSHEET!A267=\"-1\",\"\",IF(WORKSHEET!A267=0,\"0\",WORKSHEET!A267))","v":""},"",{"$f":"IF(WORKSHEET!B287=\"MPN\",\"MPN\",\"\")","v":""}]
[{"$f":"IF(Benchsheet!A269>1,\"result\",\"\")","v":""},{"$f":"IF(Benchsheet!A269>1,\"STATE\",\"\")","v":""},{"$f":"IF(Benchsheet!A269>1,\"00035\",\"\")","v":""},{"$f":"Benchsheet!A269","v":0},{"$f":"IF(Benchsheet!C268=1121057,\"VA1121057\",IF(Benchsheet!C268=1121090,\"VA1121090\",IF(Benchsheet!C268=1121052,\"VA1121052\",IF(Benchsheet!C268=1121175,\"VA1121175\",IF(Benchsheet!C268=1121580,\"VA1121580\",IF(Benchsheet!C268=1121570,\"VA1121570\",IF(Benchsheet!C268=1121045,\"VA1121045\",IF(Benchsheet!C268=1121655,\"VA1121655\",IF(Benchsheet!C268=1121503,\"VA1121503\",IF(Benchsheet!C268=1121043,\"VA1121043\",IF(Benchsheet!C268=1121900,\"VA1121900\",IF(Benchsheet!C268=1121845,\"VA1121845\",IF(Benchsheet!C268=1121655,\"VA1121655\",IF(Benchsheet!C268=1121900,\"VA1121900\",IF(Benchsheet!C268<1,\"\")))))))))))))))","v":""},{"$f":"IF(WORKSHEET!B265=\"MPN\",\"3000\",IF(WORKSHEET!B265=\"TC\",\"3100\",\"\"))","v":""},{"$f":"IF(Benchsheet!A269>1,\"SM 9223B\",\"\")","v":""},{"$f":"Benchsheet!U269","v":"00:00:00"},{"$f":"IF(Benchsheet!J269>1,\"A\",\"\")","v":""},{"$f":"Benchsheet!L269","v":0},{"$f":"IF(WORKSHEET!A267=\"-1\",\"\",IF(WORKSHEET!A267=0,\"0\",WORKSHEET!A267))","v":""},"",{"$f":"IF(WORKSHEET!B288=\"MPN\",\"MPN\",\"\")","v":""}]
[{"$f":"IF(Benchsheet!A269>1,\"result\",\"\")","v":""},{"$f":"IF(Benchsheet!A269>1,\"STATE\",\"\")","v":""},{"$f":"IF(Benchsheet!A269>1,\"00035\",\"\")","v":""},{"$f":"Benchsheet!A269","v":0},{"$f":"IF(Benchsheet!C269=1121057,\"VA1121057\",IF(Benchsheet!C269=1121090,\"VA1121090\",IF(Benchsheet!C269=1121052,\"VA1121052\",IF(Benchsheet!C269=1121175,\"VA1121175\",IF(Benchsheet!C269=1121580,\"VA1121580\",IF(Benchsheet!C269=1121570,\"VA1121570\",IF(Benchsheet!C269=1121045,\"VA1121045\",IF(Benchsheet!C269=1121655,\"VA1121655\",IF(Benchsheet!C269=1121503,\"VA1121503\",IF(Benchsheet!C269=1121043,\"VA1121043\",IF(Benchsheet!C269=1121900,\"VA1121900\",IF(Benchsheet!C269=1121845,\"VA1121845\",IF(Benchsheet!C269=1121655,\"VA1121655\",IF(Benchsheet!C269=1121900,\"VA1121900\",IF(Benchsheet!C269<1,\"\")))))))))))))))","v":""},{"$f":"WORKSHEET!C265","v":""},{"$f":"IF(Benchsheet!A269>1,\"SM 9223B\",\"\")","v":""},{"$f":"Benchsheet!U269","v":"00:00:00"},{"$f":"IF(Benchsheet!J269>1,\"A\",\"\")","v":""},{"$f":"Benchsheet!M269","v":0},{"$f":"IF(WORKSHEET!A268=\"-1\",\"\",IF(WORKSHEET!A268=0,\"0\",WORKSHEET!A268))","v":""},"",{"$f":"IF(WORKSHEET!B288=\"MPN\",\"MPN\",\"\")","v":""}]
[{"$f":"IF(Benchsheet!A270>1,\"result\",\"\")","v":""},{"$f":"IF(Benchsheet!A270>1,\"STATE\",\"\")","v":""},{"$f":"IF(Benchsheet!A270>1,\"00035\",\"\")","v":""},{"$f":"Benchsheet!A270","v":0},{"$f":"IF(Benchsheet!C269=1121057,\"VA1121057\",IF(Benchsheet!C269=1121090,\"VA1121090\",IF(Benchsheet!C269=1121052,\"VA1121052\",IF(Benchsheet!C269=1121175,\"VA1121175\",IF(Benchsheet!C269=1121580,\"VA1121580\",IF(Benchsheet!C269=1121570,\"VA1121570\",IF(Benchsheet!C269=1121045,\"VA1121045\",IF(Benchsheet!C269=1121655,\"VA1121655\",IF(Benchsheet!C269=1121503,\"VA1121503\",IF(Benchsheet!C269=1121043,\"VA1121043\",IF(Benchsheet!C269=1121900,\"VA1121900\",IF(Benchsheet!C269=1121845,\"VA1121845\",IF(Benchsheet!C269=1121655,\"VA1121655\",IF(Benchsheet!C269=1121900,\"VA1121900\",IF(Benchsheet!C269<1,\"\")))))))))))))))","v":""},{"$f":"IF(WORKSHEET!B266=\"MPN\",\"3000\",IF(WORKSHEET!B266=\"TC\",\"3100\",\"\"))","v":""},{"$f":"IF(Benchsheet!A270>1,\"SM 9223B\",\"\")","v":""},{"$f":"Benchsheet!U270","v":"00:00:00"},{"$f":"IF(Benchsheet!J270>1,\"A\",\"\")","v":""},{"$f":"Benchsheet!L270","v":0},{"$f":"IF(WORKSHEET!A268=\"-1\",\"\",IF(WORKSHEET!A268=0,\"0\",WORKSHEET!A268))","v":""},"",{"$f":"IF(WORKSHEET!B289=\"MPN\",\"MPN\",\"\")","v":""}]
[{"$f":"IF(Benchsheet!A270>1,\"result\",\"\")","v":""},{"$f":"IF(Benchsheet!A270>1,\"STATE\",\"\")","v":""},{"$f":"IF(Benchsheet!A270>1,\"00035\",\"\")","v":""},{"$f":"Benchsheet!A270","v":0},{"$f":"IF(Benchsheet!C270=1121057,\"VA1121057\",IF(Benchsheet!C270=1121090,\"VA1121090\",IF(Benchsheet!C270=1121052,\"VA1121052\",IF(Benchsheet!C270=1121175,\"VA1121175\",IF(Benchsheet!C270=1121580,\"VA1121580\",IF(Benchsheet!C270=1121570,\"VA1121570\",IF(Benchsheet!C270=1121045,\"VA1121045\",IF(Benchsheet!C270=1121655,\"VA1121655\",IF(Benchsheet!C270=1121503,\"VA1121503\",IF(Benchsheet!C270=1121043,\"VA1121043\",IF(Benchsheet!C270=1121900,\"VA1121900\",IF(Benchsheet!C270=1121845,\"VA1121845\",IF(Benchsheet!C270=1121655,\"VA1121655\",IF(Benchsheet!C270=1121900,\"VA1121900\",IF(Benchsheet!C270<1,\"\")))))))))))))))","v":""},{"$f":"WORKSHEET!C266","v":""},{"$f":"IF(Benchsheet!A270>1,\"SM 9223B\",\"\")","v":""},{"$f":"Benchsheet!U270","v":"00:00:00"},{"$f":"IF(Benchsheet!J270>1,\"A\",\"\")","v":""},{"$f":"Benchsheet!M270","v":0},{"$f":"IF(WORKSHEET!A269=\"-1\",\"\",IF(WORKSHEET!A269=0,\"0\",WORKSHEET!A269))","v":""},"",{"$f":"IF(WORKSHEET!B289=\"MPN\",\"MPN\",\"\")","v":""}]
[{"$f":"IF(Benchsheet!A271>1,\"result\",\"\")","v":""},{"$f":"IF(Benchsheet!A271>1,\"STATE\",\"\")","v":""},{"$f":"IF(Benchsheet!A271>1,\"00035\",\"\")","v":""},{"$f":"Benchsheet!A271","v":0},{"$f":"IF(Benchsheet!C270=1121057,\"VA1121057\",IF(Benchsheet!C270=1121090,\"VA1121090\",IF(Benchsheet!C270=1121052,\"VA1121052\",IF(Benchsheet!C270=1121175,\"VA1121175\",IF(Benchsheet!C270=1121580,\"VA1121580\",IF(Benchsheet!C270=1121570,\"VA1121570\",IF(Benchsheet!C270=1121045,\"VA1121045\",IF(Benchsheet!C270=1121655,\"VA1121655\",IF(Benchsheet!C270=1121503,\"VA1121503\",IF(Benchsheet!C270=1121043,\"VA1121043\",IF(Benchsheet!C270=1121900,\"VA1121900\",IF(Benchsheet!C270=1121845,\"VA1121845\",IF(Benchsheet!C270=1121655,\"VA1121655\",IF(Benchsheet!C270=1121900,\"VA1121900\",IF(Benchsheet!C270<1,\"\")))))))))))))))","v":""},{"$f":"IF(WORKSHEET!B267=\"MPN\",\"3000\",IF(WORKSHEET!B267=\"TC\",\"3100\",\"\"))","v":""},{"$f":"IF(Benchsheet!A271>1,\"SM 9223B\",\"\")","v":""},{"$f":"Benchsheet!U271","v":"00:00:00"},{"$f":"IF(Benchsheet!J271>1,\"A\",\"\")","v":""},{"$f":"Benchsheet!L271","v":0},{"$f":"IF(WORKSHEET!A269=\"-1\",\"\",IF(WORKSHEET!A269=0,\"0\",WORKSHEET!A269))","v":""},"",{"$f":"IF(WORKSHEET!B290=\"MPN\",\"MPN\",\"\")","v":""}]
[{"$f":"IF(Benchsheet!A271>1,\"result\",\"\")","v":""},{"$f":"IF(Benchsheet!A271>1,\"STATE\",\"\")","v":""},{"$f":"IF(Benchsheet!A271>1,\"00035\",\"\")","v":""},{"$f":"Benchsheet!A271","v":0},{"$f":"IF(Benchsheet!C271=1121057,\"VA1121057\",IF(Benchsheet!C271=1121090,\"VA1121090\",IF(Benchsheet!C271=1121052,\"VA1121052\",IF(Benchsheet!C271=1121175,\"VA1121175\",IF(Benchsheet!C271=1121580,\"VA1121580\",IF(Benchsheet!C271=1121570,\"VA1121570\",IF(Benchsheet!C271=1121045,\"VA1121045\",IF(Benchsheet!C271=1121655,\"VA1121655\",IF(Benchsheet!C271=1121503,\"VA1121503\",IF(Benchsheet!C271=1121043,\"VA1121043\",IF(Benchsheet!C271=1121900,\"VA1121900\",IF(Benchsheet!C271=1121845,\"VA1121845\",IF(Benchsheet!C271=1121655,\"VA1121655\",IF(Benchsheet!C271=1121900,\"VA1121900\",IF(Benchsheet!C271<1,\"\")))))))))))))))","v":""},{"$f":"WORKSHEET!C267","v":""},{"$f":"IF(Benchsheet!A271>1,\"SM 9223B\",\"\")","v":""},{"$f":"Benchsheet!U271","v":"00:00:00"},{"$f":"IF(Benchsheet!J271>1,\"A\",\"\")","v":""},{"$f":"Benchsheet!M271","v":0},{"$f":"IF(WORKSHEET!A270=\"-1\",\"\",IF(WORKSHEET!A270=0,\"0\",WORKSHEET!A270))","v":""},"",{"$f":"IF(WORKSHEET!B290=\"MPN\",\"MPN\",\"\")","v":""}]
[{"$f":"IF(Benchsheet!A272>1,\"result\",\"\")","v":""},{"$f":"IF(Benchsheet!A272>1,\"STATE\",\"\")","v":""},{"$f":"IF(Benchsheet!A272>1,\"00035\",\"\")","v":""},{"$f":"Benchsheet!A272","v":0},{"$f":"IF(Benchsheet!C271=1121057,\"VA1121057\",IF(Benchsheet!C271=1121090,\"VA1121090\",IF(Benchsheet!C271=1121052,\"VA1121052\",IF(Benchsheet!C271=1121175,\"VA1121175\",IF(Benchsheet!C271=1121580,\"VA1121580\",IF(Benchsheet!C271=1121570,\"VA1121570\",IF(Benchsheet!C271=1121045,\"VA1121045\",IF(Benchsheet!C271=1121655,\"VA1121655\",IF(Benchsheet!C271=1121503,\"VA1121503\",IF(Benchsheet!C271=1121043,\"VA1121043\",IF(Benchsheet!C271=1121900,\"VA1121900\",IF(Benchsheet!C271=1121845,\"VA1121845\",IF(Benchsheet!C271=1121655,\"VA1121655\",IF(Benchsheet!C271=1121900,\"VA1121900\",IF(Benchsheet!C271<1,\"\")))))))))))))))","v":""},{"$f":"IF(WORKSHEET!B268=\"MPN\",\"3000\",IF(WORKSHEET!B268=\"TC\",\"3100\",\"\"))","v":""},{"$f":"IF(Benchsheet!A272>1,\"SM 9223B\",\"\")","v":""},{"$f":"Benchsheet!U272","v":"00:00:00"},{"$f":"IF(Benchsheet!J272>1,\"A\",\"\")","v":""},{"$f":"Benchsheet!L272","v":0},{"$f":"IF(WORKSHEET!A270=\"-1\",\"\",IF(WORKSHEET!A270=0,\"0\",WORKSHEET!A270))","v":""},"",{"$f":"IF(WORKSHEET!B291=\"MPN\",\"MPN\",\"\")","v":""}]
[{"$f":"IF(Benchsheet!A272>1,\"result\",\"\")","v":""},{"$f":"IF(Benchsheet!A272>1,\"STATE\",\"\")","v":""},{"$f":"IF(Benchsheet!A272>1,\"00035\",\"\")","v":""},{"$f":"Benchsheet!A272","v":0},{"$f":"IF(Benchsheet!C272=1121057,\"VA1121057\",IF(Benchsheet!C272=1121090,\"VA1121090\",IF(Benchsheet!C272=1121052,\"VA1121052\",IF(Benchsheet!C272=1121175,\"VA1121175\",IF(Benchsheet!C272=1121580,\"VA1121580\",IF(Benchsheet!C272=1121570,\"VA1121570\",IF(Benchsheet!C272=1121045,\"VA1121045\",IF(Benchsheet!C272=1121655,\"VA1121655\",IF(Benchsheet!C272=1121503,\"VA1121503\",IF(Benchsheet!C272=1121043,\"VA1121043\",IF(Benchsheet!C272=1121900,\"VA1121900\",IF(Benchsheet!C272=1121845,\"VA1121845\",IF(Benchsheet!C272=1121655,\"VA1121655\",IF(Benchsheet!C272=1121900,\"VA1121900\",IF(Benchsheet!C272<1,\"\")))))))))))))))","v":""},{"$f":"WORKSHEET!C268","v":""},{"$f":"IF(Benchsheet!A272>1,\"SM 9223B\",\"\")","v":""},{"$f":"Benchsheet!U272","v":"00:00:00"},{"$f":"IF(Benchsheet!J272>1,\"A\",\"\")","v":""},{"$f":"Benchsheet!M272","v":0},{"$f":"IF(WORKSHEET!A271=\"-1\",\"\",IF(WORKSHEET!A271=0,\"0\",WORKSHEET!A271))","v":""},"",{"$f":"IF(WORKSHEET!B291=\"MPN\",\"MPN\",\"\")","v":""}]
[{"$f":"IF(Benchsheet!A273>1,\"result\",\"\")","v":""},{"$f":"IF(Benchsheet!A273>1,\"STATE\",\"\")","v":""},{"$f":"IF(Benchsheet!A273>1,\"00035\",\"\")","v":""},{"$f":"Benchsheet!A273","v":0},{"$f":"IF(Benchsheet!C272=1121057,\"VA1121057\",IF(Benchsheet!C272=1121090,\"VA1121090\",IF(Benchsheet!C272=1121052,\"VA1121052\",IF(Benchsheet!C272=1121175,\"VA1121175\",IF(Benchsheet!C272=1121580,\"VA1121580\",IF(Benchsheet!C272=1121570,\"VA1121570\",IF(Benchsheet!C272=1121045,\"VA1121045\",IF(Benchsheet!C272=1121655,\"VA1121655\",IF(Benchsheet!C272=1121503,\"VA1121503\",IF(Benchsheet!C272=1121043,\"VA1121043\",IF(Benchsheet!C272=1121900,\"VA1121900\",IF(Benchsheet!C272=1121845,\"VA1121845\",IF(Benchsheet!C272=1121655,\"VA1121655\",IF(Benchsheet!C272=1121900,\"VA1121900\",IF(Benchsheet!C272<1,\"\")))))))))))))))","v":""},{"$f":"IF(WORKSHEET!B269=\"MPN\",\"3000\",IF(WORKSHEET!B269=\"TC\",\"3100\",\"\"))","v":""},{"$f":"IF(Benchsheet!A273>1,\"SM 9223B\",\"\")","v":""},{"$f":"Benchsheet!U273","v":"00:00:00"},{"$f":"IF(Benchsheet!J273>1,\"A\",\"\")","v":""},{"$f":"Benchsheet!L273","v":0},{"$f":"IF(WORKSHEET!A271=\"-1\",\"\",IF(WORKSHEET!A271=0,\"0\",WORKSHEET!A271))","v":""},"",{"$f":"IF(WORKSHEET!B292=\"MPN\",\"MPN\",\"\")","v":""}]
[{"$f":"IF(Benchsheet!A273>1,\"result\",\"\")","v":""},{"$f":"IF(Benchsheet!A273>1,\"STATE\",\"\")","v":""},{"$f":"IF(Benchsheet!A273>1,\"00035\",\"\")","v":""},{"$f":"Benchsheet!A273","v":0},{"$f":"IF(Benchsheet!C273=1121057,\"VA1121057\",IF(Benchsheet!C273=1121090,\"VA1121090\",IF(Benchsheet!C273=1121052,\"VA1121052\",IF(Benchsheet!C273=1121175,\"VA1121175\",IF(Benchsheet!C273=1121580,\"VA1121580\",IF(Benchsheet!C273=1121570,\"VA1121570\",IF(Benchsheet!C273=1121045,\"VA1121045\",IF(Benchsheet!C273=1121655,\"VA1121655\",IF(Benchsheet!C273=1121503,\"VA1121503\",IF(Benchsheet!C273=1121043,\"VA1121043\",IF(Benchsheet!C273=1121900,\"VA1121900\",IF(Benchsheet!C273=1121845,\"VA1121845\",IF(Benchsheet!C273=1121655,\"VA1121655\",IF(Benchsheet!C273=1121900,\"VA1121900\",IF(Benchsheet!C273<1,\"\")))))))))))))))","v":""},{"$f":"WORKSHEET!C269","v":""},{"$f":"IF(Benchsheet!A273>1,\"SM 9223B\",\"\")","v":""},{"$f":"Benchsheet!U273","v":"00:00:00"},{"$f":"IF(Benchsheet!J273>1,\"A\",\"\")","v":""},{"$f":"Benchsheet!M273","v":0},{"$f":"IF(WORKSHEET!A272=\"-1\",\"\",IF(WORKSHEET!A272=0,\"0\",WORKSHEET!A272))","v":""},"",{"$f":"IF(WORKSHEET!B292=\"MPN\",\"MPN\",\"\")","v":""}]
[{"$f":"IF(Benchsheet!A274>1,\"result\",\"\")","v":""},{"$f":"IF(Benchsheet!A274>1,\"STATE\",\"\")","v":""},{"$f":"IF(Benchsheet!A274>1,\"00035\",\"\")","v":""},{"$f":"Benchsheet!A274","v":0},{"$f":"IF(Benchsheet!C273=1121057,\"VA1121057\",IF(Benchsheet!C273=1121090,\"VA1121090\",IF(Benchsheet!C273=1121052,\"VA1121052\",IF(Benchsheet!C273=1121175,\"VA1121175\",IF(Benchsheet!C273=1121580,\"VA1121580\",IF(Benchsheet!C273=1121570,\"VA1121570\",IF(Benchsheet!C273=1121045,\"VA1121045\",IF(Benchsheet!C273=1121655,\"VA1121655\",IF(Benchsheet!C273=1121503,\"VA1121503\",IF(Benchsheet!C273=1121043,\"VA1121043\",IF(Benchsheet!C273=1121900,\"VA1121900\",IF(Benchsheet!C273=1121845,\"VA1121845\",IF(Benchsheet!C273=1121655,\"VA1121655\",IF(Benchsheet!C273=1121900,\"VA1121900\",IF(Benchsheet!C273<1,\"\")))))))))))))))","v":""},{"$f":"IF(WORKSHEET!B270=\"MPN\",\"3000\",IF(WORKSHEET!B270=\"TC\",\"3100\",\"\"))","v":""},{"$f":"IF(Benchsheet!A274>1,\"SM 9223B\",\"\")","v":""},{"$f":"Benchsheet!U274","v":"00:00:00"},{"$f":"IF(Benchsheet!J274>1,\"A\",\"\")","v":""},{"$f":"Benchsheet!L274","v":0},{"$f":"IF(WORKSHEET!A272=\"-1\",\"\",IF(WORKSHEET!A272=0,\"0\",WORKSHEET!A272))","v":""},"",{"$f":"IF(WORKSHEET!B293=\"MPN\",\"MPN\",\"\")","v":""}]
[{"$f":"IF(Benchsheet!A274>1,\"result\",\"\")","v":""},{"$f":"IF(Benchsheet!A274>1,\"STATE\",\"\")","v":""},{"$f":"IF(Benchsheet!A274>1,\"00035\",\"\")","v":""},{"$f":"Benchsheet!A274","v":0},{"$f":"IF(Benchsheet!C274=1121057,\"VA1121057\",IF(Benchsheet!C274=1121090,\"VA1121090\",IF(Benchsheet!C274=1121052,\"VA1121052\",IF(Benchsheet!C274=1121175,\"VA1121175\",IF(Benchsheet!C274=1121580,\"VA1121580\",IF(Benchsheet!C274=1121570,\"VA1121570\",IF(Benchsheet!C274=1121045,\"VA1121045\",IF(Benchsheet!C274=1121655,\"VA1121655\",IF(Benchsheet!C274=1121503,\"VA1121503\",IF(Benchsheet!C274=1121043,\"VA1121043\",IF(Benchsheet!C274=1121900,\"VA1121900\",IF(Benchsheet!C274=1121845,\"VA1121845\",IF(Benchsheet!C274=1121655,\"VA1121655\",IF(Benchsheet!C274=1121900,\"VA1121900\",IF(Benchsheet!C274<1,\"\")))))))))))))))","v":""},{"$f":"WORKSHEET!C270","v":""},{"$f":"IF(Benchsheet!A274>1,\"SM 9223B\",\"\")","v":""},{"$f":"Benchsheet!U274","v":"00:00:00"},{"$f":"IF(Benchsheet!J274>1,\"A\",\"\")","v":""},{"$f":"Benchsheet!M274","v":0},{"$f":"IF(WORKSHEET!A273=\"-1\",\"\",IF(WORKSHEET!A273=0,\"0\",WORKSHEET!A273))","v":""},"",{"$f":"IF(WORKSHEET!B293=\"MPN\",\"MPN\",\"\")","v":""}]
[{"$f":"IF(Benchsheet!A275>1,\"result\",\"\")","v":""},{"$f":"IF(Benchsheet!A275>1,\"STATE\",\"\")","v":""},{"$f":"IF(Benchsheet!A275>1,\"00035\",\"\")","v":""},{"$f":"Benchsheet!A275","v":0},{"$f":"IF(Benchsheet!C274=1121057,\"VA1121057\",IF(Benchsheet!C274=1121090,\"VA1121090\",IF(Benchsheet!C274=1121052,\"VA1121052\",IF(Benchsheet!C274=1121175,\"VA1121175\",IF(Benchsheet!C274=1121580,\"VA1121580\",IF(Benchsheet!C274=1121570,\"VA1121570\",IF(Benchsheet!C274=1121045,\"VA1121045\",IF(Benchsheet!C274=1121655,\"VA1121655\",IF(Benchsheet!C274=1121503,\"VA1121503\",IF(Benchsheet!C274=1121043,\"VA1121043\",IF(Benchsheet!C274=1121900,\"VA1121900\",IF(Benchsheet!C274=1121845,\"VA1121845\",IF(Benchsheet!C274=1121655,\"VA1121655\",IF(Benchsheet!C274=1121900,\"VA1121900\",IF(Benchsheet!C274<1,\"\")))))))))))))))","v":""},{"$f":"IF(WORKSHEET!B271=\"MPN\",\"3000\",IF(WORKSHEET!B271=\"TC\",\"3100\",\"\"))","v":""},{"$f":"IF(Benchsheet!A275>1,\"SM 9223B\",\"\")","v":""},{"$f":"Benchsheet!U275","v":"00:00:00"},{"$f":"IF(Benchsheet!J275>1,\"A\",\"\")","v":""},{"$f":"Benchsheet!L275","v":0},{"$f":"IF(WORKSHEET!A273=\"-1\",\"\",IF(WORKSHEET!A273=0,\"0\",WORKSHEET!A273))","v":""},"",{"$f":"IF(WORKSHEET!B294=\"MPN\",\"MPN\",\"\")","v":""}]
[{"$f":"IF(Benchsheet!A275>1,\"result\",\"\")","v":""},{"$f":"IF(Benchsheet!A275>1,\"STATE\",\"\")","v":""},{"$f":"IF(Benchsheet!A275>1,\"00035\",\"\")","v":""},{"$f":"Benchsheet!A275","v":0},{"$f":"IF(Benchsheet!C275=1121057,\"VA1121057\",IF(Benchsheet!C275=1121090,\"VA1121090\",IF(Benchsheet!C275=1121052,\"VA1121052\",IF(Benchsheet!C275=1121175,\"VA1121175\",IF(Benchsheet!C275=1121580,\"VA1121580\",IF(Benchsheet!C275=1121570,\"VA1121570\",IF(Benchsheet!C275=1121045,\"VA1121045\",IF(Benchsheet!C275=1121655,\"VA1121655\",IF(Benchsheet!C275=1121503,\"VA1121503\",IF(Benchsheet!C275=1121043,\"VA1121043\",IF(Benchsheet!C275=1121900,\"VA1121900\",IF(Benchsheet!C275=1121845,\"VA1121845\",IF(Benchsheet!C275=1121655,\"VA1121655\",IF(Benchsheet!C275=1121900,\"VA1121900\",IF(Benchsheet!C275<1,\"\")))))))))))))))","v":""},{"$f":"WORKSHEET!C271","v":""},{"$f":"IF(Benchsheet!A275>1,\"SM 9223B\",\"\")","v":""},{"$f":"Benchsheet!U275","v":"00:00:00"},{"$f":"IF(Benchsheet!J275>1,\"A\",\"\")","v":""},{"$f":"Benchsheet!M275","v":0},{"$f":"IF(WORKSHEET!A274=\"-1\",\"\",IF(WORKSHEET!A274=0,\"0\",WORKSHEET!A274))","v":""},"",{"$f":"IF(WORKSHEET!B294=\"MPN\",\"MPN\",\"\")","v":""}]
[{"$f":"IF(Benchsheet!A276>1,\"result\",\"\")","v":""},{"$f":"IF(Benchsheet!A276>1,\"STATE\",\"\")","v":""},{"$f":"IF(Benchsheet!A276>1,\"00035\",\"\")","v":""},{"$f":"Benchsheet!A276","v":0},{"$f":"IF(Benchsheet!C275=1121057,\"VA1121057\",IF(Benchsheet!C275=1121090,\"VA1121090\",IF(Benchsheet!C275=1121052,\"VA1121052\",IF(Benchsheet!C275=1121175,\"VA1121175\",IF(Benchsheet!C275=1121580,\"VA1121580\",IF(Benchsheet!C275=1121570,\"VA1121570\",IF(Benchsheet!C275=1121045,\"VA1121045\",IF(Benchsheet!C275=1121655,\"VA1121655\",IF(Benchsheet!C275=1121503,\"VA1121503\",IF(Benchsheet!C275=1121043,\"VA1121043\",IF(Benchsheet!C275=1121900,\"VA1121900\",IF(Benchsheet!C275=1121845,\"VA1121845\",IF(Benchsheet!C275=1121655,\"VA1121655\",IF(Benchsheet!C275=1121900,\"VA1121900\",IF(Benchsheet!C275<1,\"\")))))))))))))))","v":""},{"$f":"IF(WORKSHEET!B272=\"MPN\",\"3000\",IF(WORKSHEET!B272=\"TC\",\"3100\",\"\"))","v":""},{"$f":"IF(Benchsheet!A276>1,\"SM 9223B\",\"\")","v":""},{"$f":"Benchsheet!U276","v":"00:00:00"},{"$f":"IF(Benchsheet!J276>1,\"A\",\"\")","v":""},{"$f":"Benchsheet!L276","v":0},{"$f":"IF(WORKSHEET!A274=\"-1\",\"\",IF(WORKSHEET!A274=0,\"0\",WORKSHEET!A274))","v":""},"",{"$f":"IF(WORKSHEET!B295=\"MPN\",\"MPN\",\"\")","v":""}]
[{"$f":"IF(Benchsheet!A276>1,\"result\",\"\")","v":""},{"$f":"IF(Benchsheet!A276>1,\"STATE\",\"\")","v":""},{"$f":"IF(Benchsheet!A276>1,\"00035\",\"\")","v":""},{"$f":"Benchsheet!A276","v":0},{"$f":"IF(Benchsheet!C276=1121057,\"VA1121057\",IF(Benchsheet!C276=1121090,\"VA1121090\",IF(Benchsheet!C276=1121052,\"VA1121052\",IF(Benchsheet!C276=1121175,\"VA1121175\",IF(Benchsheet!C276=1121580,\"VA1121580\",IF(Benchsheet!C276=1121570,\"VA1121570\",IF(Benchsheet!C276=1121045,\"VA1121045\",IF(Benchsheet!C276=1121655,\"VA1121655\",IF(Benchsheet!C276=1121503,\"VA1121503\",IF(Benchsheet!C276=1121043,\"VA1121043\",IF(Benchsheet!C276=1121900,\"VA1121900\",IF(Benchsheet!C276=1121845,\"VA1121845\",IF(Benchsheet!C276=1121655,\"VA1121655\",IF(Benchsheet!C276=1121900,\"VA1121900\",IF(Benchsheet!C276<1,\"\")))))))))))))))","v":""},{"$f":"WORKSHEET!C272","v":""},{"$f":"IF(Benchsheet!A276>1,\"SM 9223B\",\"\")","v":""},{"$f":"Benchsheet!U276","v":"00:00:00"},{"$f":"IF(Benchsheet!J276>1,\"A\",\"\")","v":""},{"$f":"Benchsheet!M276","v":0},{"$f":"IF(WORKSHEET!A275=\"-1\",\"\",IF(WORKSHEET!A275=0,\"0\",WORKSHEET!A275))","v":""},"",{"$f":"IF(WORKSHEET!B295=\"MPN\",\"MPN\",\"\")","v":""}]
[{"$f":"IF(Benchsheet!A277>1,\"result\",\"\")","v":""},{"$f":"IF(Benchsheet!A277>1,\"STATE\",\"\")","v":""},{"$f":"IF(Benchsheet!A277>1,\"00035\",\"\")","v":""},{"$f":"Benchsheet!A277","v":0},{"$f":"IF(Benchsheet!C276=1121057,\"VA1121057\",IF(Benchsheet!C276=1121090,\"VA1121090\",IF(Benchsheet!C276=1121052,\"VA1121052\",IF(Benchsheet!C276=1121175,\"VA1121175\",IF(Benchsheet!C276=1121580,\"VA1121580\",IF(Benchsheet!C276=1121570,\"VA1121570\",IF(Benchsheet!C276=1121045,\"VA1121045\",IF(Benchsheet!C276=1121655,\"VA1121655\",IF(Benchsheet!C276=1121503,\"VA1121503\",IF(Benchsheet!C276=1121043,\"VA1121043\",IF(Benchsheet!C276=1121900,\"VA1121900\",IF(Benchsheet!C276=1121845,\"VA1121845\",IF(Benchsheet!C276=1121655,\"VA1121655\",IF(Benchsheet!C276=1121900,\"VA1121900\",IF(Benchsheet!C276<1,\"\")))))))))))))))","v":""},{"$f":"IF(WORKSHEET!B273=\"MPN\",\"3000\",IF(WORKSHEET!B273=\"TC\",\"3100\",\"\"))","v":""},{"$f":"IF(Benchsheet!A277>1,\"SM 9223B\",\"\")","v":""},{"$f":"Benchsheet!U277","v":"00:00:00"},{"$f":"IF(Benchsheet!J277>1,\"A\",\"\")","v":""},{"$f":"Benchsheet!L277","v":0},{"$f":"IF(WORKSHEET!A275=\"-1\",\"\",IF(WORKSHEET!A275=0,\"0\",WORKSHEET!A275))","v":""},"",{"$f":"IF(WORKSHEET!B296=\"MPN\",\"MPN\",\"\")","v":""}]
[{"$f":"IF(Benchsheet!A277>1,\"result\",\"\")","v":""},{"$f":"IF(Benchsheet!A277>1,\"STATE\",\"\")","v":""},{"$f":"IF(Benchsheet!A277>1,\"00035\",\"\")","v":""},{"$f":"Benchsheet!A277","v":0},{"$f":"IF(Benchsheet!C277=1121057,\"VA1121057\",IF(Benchsheet!C277=1121090,\"VA1121090\",IF(Benchsheet!C277=1121052,\"VA1121052\",IF(Benchsheet!C277=1121175,\"VA1121175\",IF(Benchsheet!C277=1121580,\"VA1121580\",IF(Benchsheet!C277=1121570,\"VA1121570\",IF(Benchsheet!C277=1121045,\"VA1121045\",IF(Benchsheet!C277=1121655,\"VA1121655\",IF(Benchsheet!C277=1121503,\"VA1121503\",IF(Benchsheet!C277=1121043,\"VA1121043\",IF(Benchsheet!C277=1121900,\"VA1121900\",IF(Benchsheet!C277=1121845,\"VA1121845\",IF(Benchsheet!C277=1121655,\"VA1121655\",IF(Benchsheet!C277=1121900,\"VA1121900\",IF(Benchsheet!C277<1,\"\")))))))))))))))","v":""},{"$f":"WORKSHEET!C273","v":""},{"$f":"IF(Benchsheet!A277>1,\"SM 9223B\",\"\")","v":""},{"$f":"Benchsheet!U277","v":"00:00:00"},{"$f":"IF(Benchsheet!J277>1,\"A\",\"\")","v":""},{"$f":"Benchsheet!M277","v":0},{"$f":"IF(WORKSHEET!A276=\"-1\",\"\",IF(WORKSHEET!A276=0,\"0\",WORKSHEET!A276))","v":""},"",{"$f":"IF(WORKSHEET!B296=\"MPN\",\"MPN\",\"\")","v":""}]
[{"$f":"IF(Benchsheet!A278>1,\"result\",\"\")","v":""},{"$f":"IF(Benchsheet!A278>1,\"STATE\",\"\")","v":""},{"$f":"IF(Benchsheet!A278>1,\"00035\",\"\")","v":""},{"$f":"Benchsheet!A278","v":0},{"$f":"IF(Benchsheet!C277=1121057,\"VA1121057\",IF(Benchsheet!C277=1121090,\"VA1121090\",IF(Benchsheet!C277=1121052,\"VA1121052\",IF(Benchsheet!C277=1121175,\"VA1121175\",IF(Benchsheet!C277=1121580,\"VA1121580\",IF(Benchsheet!C277=1121570,\"VA1121570\",IF(Benchsheet!C277=1121045,\"VA1121045\",IF(Benchsheet!C277=1121655,\"VA1121655\",IF(Benchsheet!C277=1121503,\"VA1121503\",IF(Benchsheet!C277=1121043,\"VA1121043\",IF(Benchsheet!C277=1121900,\"VA1121900\",IF(Benchsheet!C277=1121845,\"VA1121845\",IF(Benchsheet!C277=1121655,\"VA1121655\",IF(Benchsheet!C277=1121900,\"VA1121900\",IF(Benchsheet!C277<1,\"\")))))))))))))))","v":""},{"$f":"IF(WORKSHEET!B274=\"MPN\",\"3000\",IF(WORKSHEET!B274=\"TC\",\"3100\",\"\"))","v":""},{"$f":"IF(Benchsheet!A278>1,\"SM 9223B\",\"\")","v":""},{"$f":"Benchsheet!U278","v":"00:00:00"},{"$f":"IF(Benchsheet!J278>1,\"A\",\"\")","v":""},{"$f":"Benchsheet!L278","v":0},{"$f":"IF(WORKSHEET!A276=\"-1\",\"\",IF(WORKSHEET!A276=0,\"0\",WORKSHEET!A276))","v":""},"",{"$f":"IF(WORKSHEET!B297=\"MPN\",\"MPN\",\"\")","v":""}]
[{"$f":"IF(Benchsheet!A278>1,\"result\",\"\")","v":""},{"$f":"IF(Benchsheet!A278>1,\"STATE\",\"\")","v":""},{"$f":"IF(Benchsheet!A278>1,\"00035\",\"\")","v":""},{"$f":"Benchsheet!A278","v":0},{"$f":"IF(Benchsheet!C278=1121057,\"VA1121057\",IF(Benchsheet!C278=1121090,\"VA1121090\",IF(Benchsheet!C278=1121052,\"VA1121052\",IF(Benchsheet!C278=1121175,\"VA1121175\",IF(Benchsheet!C278=1121580,\"VA1121580\",IF(Benchsheet!C278=1121570,\"VA1121570\",IF(Benchsheet!C278=1121045,\"VA1121045\",IF(Benchsheet!C278=1121655,\"VA1121655\",IF(Benchsheet!C278=1121503,\"VA1121503\",IF(Benchsheet!C278=1121043,\"VA1121043\",IF(Benchsheet!C278=1121900,\"VA1121900\",IF(Benchsheet!C278=1121845,\"VA1121845\",IF(Benchsheet!C278=1121655,\"VA1121655\",IF(Benchsheet!C278=1121900,\"VA1121900\",IF(Benchsheet!C278<1,\"\")))))))))))))))","v":""},{"$f":"WORKSHEET!C274","v":""},{"$f":"IF(Benchsheet!A278>1,\"SM 9223B\",\"\")","v":""},{"$f":"Benchsheet!U278","v":"00:00:00"},{"$f":"IF(Benchsheet!J278>1,\"A\",\"\")","v":""},{"$f":"Benchsheet!M278","v":0},{"$f":"IF(WORKSHEET!A277=\"-1\",\"\",IF(WORKSHEET!A277=0,\"0\",WORKSHEET!A277))","v":""},"",{"$f":"IF(WORKSHEET!B297=\"MPN\",\"MPN\",\"\")","v":""}]
[{"$f":"IF(Benchsheet!A279>1,\"result\",\"\")","v":""},{"$f":"IF(Benchsheet!A279>1,\"STATE\",\"\")","v":""},{"$f":"IF(Benchsheet!A279>1,\"00035\",\"\")","v":""},{"$f":"Benchsheet!A279","v":0},{"$f":"IF(Benchsheet!C278=1121057,\"VA1121057\",IF(Benchsheet!C278=1121090,\"VA1121090\",IF(Benchsheet!C278=1121052,\"VA1121052\",IF(Benchsheet!C278=1121175,\"VA1121175\",IF(Benchsheet!C278=1121580,\"VA1121580\",IF(Benchsheet!C278=1121570,\"VA1121570\",IF(Benchsheet!C278=1121045,\"VA1121045\",IF(Benchsheet!C278=1121655,\"VA1121655\",IF(Benchsheet!C278=1121503,\"VA1121503\",IF(Benchsheet!C278=1121043,\"VA1121043\",IF(Benchsheet!C278=1121900,\"VA1121900\",IF(Benchsheet!C278=1121845,\"VA1121845\",IF(Benchsheet!C278=1121655,\"VA1121655\",IF(Benchsheet!C278=1121900,\"VA1121900\",IF(Benchsheet!C278<1,\"\")))))))))))))))","v":""},{"$f":"IF(WORKSHEET!B275=\"MPN\",\"3000\",IF(WORKSHEET!B275=\"TC\",\"3100\",\"\"))","v":""},{"$f":"IF(Benchsheet!A279>1,\"SM 9223B\",\"\")","v":""},{"$f":"Benchsheet!U279","v":"00:00:00"},{"$f":"IF(Benchsheet!J279>1,\"A\",\"\")","v":""},{"$f":"Benchsheet!L279","v":0},{"$f":"IF(WORKSHEET!A277=\"-1\",\"\",IF(WORKSHEET!A277=0,\"0\",WORKSHEET!A277))","v":""},"",{"$f":"IF(WORKSHEET!B298=\"MPN\",\"MPN\",\"\")","v":""}]
[{"$f":"IF(Benchsheet!A279>1,\"result\",\"\")","v":""},{"$f":"IF(Benchsheet!A279>1,\"STATE\",\"\")","v":""},{"$f":"IF(Benchsheet!A279>1,\"00035\",\"\")","v":""},{"$f":"Benchsheet!A279","v":0},{"$f":"IF(Benchsheet!C279=1121057,\"VA1121057\",IF(Benchsheet!C279=1121090,\"VA1121090\",IF(Benchsheet!C279=1121052,\"VA1121052\",IF(Benchsheet!C279=1121175,\"VA1121175\",IF(Benchsheet!C279=1121580,\"VA1121580\",IF(Benchsheet!C279=1121570,\"VA1121570\",IF(Benchsheet!C279=1121045,\"VA1121045\",IF(Benchsheet!C279=1121655,\"VA1121655\",IF(Benchsheet!C279=1121503,\"VA1121503\",IF(Benchsheet!C279=1121043,\"VA1121043\",IF(Benchsheet!C279=1121900,\"VA1121900\",IF(Benchsheet!C279=1121845,\"VA1121845\",IF(Benchsheet!C279=1121655,\"VA1121655\",IF(Benchsheet!C279=1121900,\"VA1121900\",IF(Benchsheet!C279<1,\"\")))))))))))))))","v":""},{"$f":"WORKSHEET!C275","v":""},{"$f":"IF(Benchsheet!A279>1,\"SM 9223B\",\"\")","v":""},{"$f":"Benchsheet!U279","v":"00:00:00"},{"$f":"IF(Benchsheet!J279>1,\"A\",\"\")","v":""},{"$f":"Benchsheet!M279","v":0},{"$f":"IF(WORKSHEET!A278=\"-1\",\"\",IF(WORKSHEET!A278=0,\"0\",WORKSHEET!A278))","v":""},"",{"$f":"IF(WORKSHEET!B298=\"MPN\",\"MPN\",\"\")","v":""}]
[{"$f":"IF(Benchsheet!A280>1,\"result\",\"\")","v":""},{"$f":"IF(Benchsheet!A280>1,\"STATE\",\"\")","v":""},{"$f":"IF(Benchsheet!A280>1,\"00035\",\"\")","v":""},{"$f":"Benchsheet!A280","v":0},{"$f":"IF(Benchsheet!C279=1121057,\"VA1121057\",IF(Benchsheet!C279=1121090,\"VA1121090\",IF(Benchsheet!C279=1121052,\"VA1121052\",IF(Benchsheet!C279=1121175,\"VA1121175\",IF(Benchsheet!C279=1121580,\"VA1121580\",IF(Benchsheet!C279=1121570,\"VA1121570\",IF(Benchsheet!C279=1121045,\"VA1121045\",IF(Benchsheet!C279=1121655,\"VA1121655\",IF(Benchsheet!C279=1121503,\"VA1121503\",IF(Benchsheet!C279=1121043,\"VA1121043\",IF(Benchsheet!C279=1121900,\"VA1121900\",IF(Benchsheet!C279=1121845,\"VA1121845\",IF(Benchsheet!C279=1121655,\"VA1121655\",IF(Benchsheet!C279=1121900,\"VA1121900\",IF(Benchsheet!C279<1,\"\")))))))))))))))","v":""},{"$f":"IF(WORKSHEET!B276=\"MPN\",\"3000\",IF(WORKSHEET!B276=\"TC\",\"3100\",\"\"))","v":""},{"$f":"IF(Benchsheet!A280>1,\"SM 9223B\",\"\")","v":""},{"$f":"Benchsheet!U280","v":"00:00:00"},{"$f":"IF(Benchsheet!J280>1,\"A\",\"\")","v":""},{"$f":"Benchsheet!L280","v":0},{"$f":"IF(WORKSHEET!A278=\"-1\",\"\",IF(WORKSHEET!A278=0,\"0\",WORKSHEET!A278))","v":""},"",{"$f":"IF(WORKSHEET!B299=\"MPN\",\"MPN\",\"\")","v":""}]
[{"$f":"IF(Benchsheet!A280>1,\"result\",\"\")","v":""},{"$f":"IF(Benchsheet!A280>1,\"STATE\",\"\")","v":""},{"$f":"IF(Benchsheet!A280>1,\"00035\",\"\")","v":""},{"$f":"Benchsheet!A280","v":0},{"$f":"IF(Benchsheet!C280=1121057,\"VA1121057\",IF(Benchsheet!C280=1121090,\"VA1121090\",IF(Benchsheet!C280=1121052,\"VA1121052\",IF(Benchsheet!C280=1121175,\"VA1121175\",IF(Benchsheet!C280=1121580,\"VA1121580\",IF(Benchsheet!C280=1121570,\"VA1121570\",IF(Benchsheet!C280=1121045,\"VA1121045\",IF(Benchsheet!C280=1121655,\"VA1121655\",IF(Benchsheet!C280=1121503,\"VA1121503\",IF(Benchsheet!C280=1121043,\"VA1121043\",IF(Benchsheet!C280=1121900,\"VA1121900\",IF(Benchsheet!C280=1121845,\"VA1121845\",IF(Benchsheet!C280=1121655,\"VA1121655\",IF(Benchsheet!C280=1121900,\"VA1121900\",IF(Benchsheet!C280<1,\"\")))))))))))))))","v":""},{"$f":"WORKSHEET!C276","v":""},{"$f":"IF(Benchsheet!A280>1,\"SM 9223B\",\"\")","v":""},{"$f":"Benchsheet!U280","v":"00:00:00"},{"$f":"IF(Benchsheet!J280>1,\"A\",\"\")","v":""},{"$f":"Benchsheet!M280","v":0},{"$f":"IF(WORKSHEET!A279=\"-1\",\"\",IF(WORKSHEET!A279=0,\"0\",WORKSHEET!A279))","v":""},"",{"$f":"IF(WORKSHEET!B299=\"MPN\",\"MPN\",\"\")","v":""}]
[{"$f":"IF(Benchsheet!A281>1,\"result\",\"\")","v":""},{"$f":"IF(Benchsheet!A281>1,\"STATE\",\"\")","v":""},{"$f":"IF(Benchsheet!A281>1,\"00035\",\"\")","v":""},{"$f":"Benchsheet!A281","v":0},{"$f":"IF(Benchsheet!C280=1121057,\"VA1121057\",IF(Benchsheet!C280=1121090,\"VA1121090\",IF(Benchsheet!C280=1121052,\"VA1121052\",IF(Benchsheet!C280=1121175,\"VA1121175\",IF(Benchsheet!C280=1121580,\"VA1121580\",IF(Benchsheet!C280=1121570,\"VA1121570\",IF(Benchsheet!C280=1121045,\"VA1121045\",IF(Benchsheet!C280=1121655,\"VA1121655\",IF(Benchsheet!C280=1121503,\"VA1121503\",IF(Benchsheet!C280=1121043,\"VA1121043\",IF(Benchsheet!C280=1121900,\"VA1121900\",IF(Benchsheet!C280=1121845,\"VA1121845\",IF(Benchsheet!C280=1121655,\"VA1121655\",IF(Benchsheet!C280=1121900,\"VA1121900\",IF(Benchsheet!C280<1,\"\")))))))))))))))","v":""},{"$f":"IF(WORKSHEET!B277=\"MPN\",\"3000\",IF(WORKSHEET!B277=\"TC\",\"3100\",\"\"))","v":""},{"$f":"IF(Benchsheet!A281>1,\"SM 9223B\",\"\")","v":""},{"$f":"Benchsheet!U281","v":"00:00:00"},{"$f":"IF(Benchsheet!J281>1,\"A\",\"\")","v":""},{"$f":"Benchsheet!L281","v":0},{"$f":"IF(WORKSHEET!A279=\"-1\",\"\",IF(WORKSHEET!A279=0,\"0\",WORKSHEET!A279))","v":""},"",{"$f":"IF(WORKSHEET!B300=\"MPN\",\"MPN\",\"\")","v":""}]
[{"$f":"IF(Benchsheet!A281>1,\"result\",\"\")","v":""},{"$f":"IF(Benchsheet!A281>1,\"STATE\",\"\")","v":""},{"$f":"IF(Benchsheet!A281>1,\"00035\",\"\")","v":""},{"$f":"Benchsheet!A281","v":0},{"$f":"IF(Benchsheet!C281=1121057,\"VA1121057\",IF(Benchsheet!C281=1121090,\"VA1121090\",IF(Benchsheet!C281=1121052,\"VA1121052\",IF(Benchsheet!C281=1121175,\"VA1121175\",IF(Benchsheet!C281=1121580,\"VA1121580\",IF(Benchsheet!C281=1121570,\"VA1121570\",IF(Benchsheet!C281=1121045,\"VA1121045\",IF(Benchsheet!C281=1121655,\"VA1121655\",IF(Benchsheet!C281=1121503,\"VA1121503\",IF(Benchsheet!C281=1121043,\"VA1121043\",IF(Benchsheet!C281=1121900,\"VA1121900\",IF(Benchsheet!C281=1121845,\"VA1121845\",IF(Benchsheet!C281=1121655,\"VA1121655\",IF(Benchsheet!C281=1121900,\"VA1121900\",IF(Benchsheet!C281<1,\"\")))))))))))))))","v":""},{"$f":"WORKSHEET!C277","v":""},{"$f":"IF(Benchsheet!A281>1,\"SM 9223B\",\"\")","v":""},{"$f":"Benchsheet!U281","v":"00:00:00"},{"$f":"IF(Benchsheet!J281>1,\"A\",\"\")","v":""},{"$f":"Benchsheet!M281","v":0},{"$f":"IF(WORKSHEET!A280=\"-1\",\"\",IF(WORKSHEET!A280=0,\"0\",WORKSHEET!A280))","v":""},"",{"$f":"IF(WORKSHEET!B300=\"MPN\",\"MPN\",\"\")","v":""}]
[{"$f":"IF(Benchsheet!A282>1,\"result\",\"\")","v":""},{"$f":"IF(Benchsheet!A282>1,\"STATE\",\"\")","v":""},{"$f":"IF(Benchsheet!A282>1,\"00035\",\"\")","v":""},{"$f":"Benchsheet!A282","v":0},{"$f":"IF(Benchsheet!C281=1121057,\"VA1121057\",IF(Benchsheet!C281=1121090,\"VA1121090\",IF(Benchsheet!C281=1121052,\"VA1121052\",IF(Benchsheet!C281=1121175,\"VA1121175\",IF(Benchsheet!C281=1121580,\"VA1121580\",IF(Benchsheet!C281=1121570,\"VA1121570\",IF(Benchsheet!C281=1121045,\"VA1121045\",IF(Benchsheet!C281=1121655,\"VA1121655\",IF(Benchsheet!C281=1121503,\"VA1121503\",IF(Benchsheet!C281=1121043,\"VA1121043\",IF(Benchsheet!C281=1121900,\"VA1121900\",IF(Benchsheet!C281=1121845,\"VA1121845\",IF(Benchsheet!C281=1121655,\"VA1121655\",IF(Benchsheet!C281=1121900,\"VA1121900\",IF(Benchsheet!C281<1,\"\")))))))))))))))","v":""},{"$f":"IF(WORKSHEET!B278=\"MPN\",\"3000\",IF(WORKSHEET!B278=\"TC\",\"3100\",\"\"))","v":""},{"$f":"IF(Benchsheet!A282>1,\"SM 9223B\",\"\")","v":""},{"$f":"Benchsheet!U282","v":"00:00:00"},{"$f":"IF(Benchsheet!J282>1,\"A\",\"\")","v":""},{"$f":"Benchsheet!L282","v":0},{"$f":"IF(WORKSHEET!A280=\"-1\",\"\",IF(WORKSHEET!A280=0,\"0\",WORKSHEET!A280))","v":""},"",{"$f":"IF(WORKSHEET!B301=\"MPN\",\"MPN\",\"\")","v":""}]
[{"$f":"IF(Benchsheet!A282>1,\"result\",\"\")","v":""},{"$f":"IF(Benchsheet!A282>1,\"STATE\",\"\")","v":""},{"$f":"IF(Benchsheet!A282>1,\"00035\",\"\")","v":""},{"$f":"Benchsheet!A282","v":0},{"$f":"IF(Benchsheet!C282=1121057,\"VA1121057\",IF(Benchsheet!C282=1121090,\"VA1121090\",IF(Benchsheet!C282=1121052,\"VA1121052\",IF(Benchsheet!C282=1121175,\"VA1121175\",IF(Benchsheet!C282=1121580,\"VA1121580\",IF(Benchsheet!C282=1121570,\"VA1121570\",IF(Benchsheet!C282=1121045,\"VA1121045\",IF(Benchsheet!C282=1121655,\"VA1121655\",IF(Benchsheet!C282=1121503,\"VA1121503\",IF(Benchsheet!C282=1121043,\"VA1121043\",IF(Benchsheet!C282=1121900,\"VA1121900\",IF(Benchsheet!C282=1121845,\"VA1121845\",IF(Benchsheet!C282=1121655,\"VA1121655\",IF(Benchsheet!C282=1121900,\"VA1121900\",IF(Benchsheet!C282<1,\"\")))))))))))))))","v":""},{"$f":"WORKSHEET!C278","v":""},{"$f":"IF(Benchsheet!A282>1,\"SM 9223B\",\"\")","v":""},{"$f":"Benchsheet!U282","v":"00:00:00"},{"$f":"IF(Benchsheet!J282>1,\"A\",\"\")","v":""},{"$f":"Benchsheet!M282","v":0},{"$f":"IF(WORKSHEET!A281=\"-1\",\"\",IF(WORKSHEET!A281=0,\"0\",WORKSHEET!A281))","v":""},"",{"$f":"IF(WORKSHEET!B301=\"MPN\",\"MPN\",\"\")","v":""}]
[{"$f":"IF(Benchsheet!A283>1,\"result\",\"\")","v":""},{"$f":"IF(Benchsheet!A283>1,\"STATE\",\"\")","v":""},{"$f":"IF(Benchsheet!A283>1,\"00035\",\"\")","v":""},{"$f":"Benchsheet!A283","v":0},{"$f":"IF(Benchsheet!C282=1121057,\"VA1121057\",IF(Benchsheet!C282=1121090,\"VA1121090\",IF(Benchsheet!C282=1121052,\"VA1121052\",IF(Benchsheet!C282=1121175,\"VA1121175\",IF(Benchsheet!C282=1121580,\"VA1121580\",IF(Benchsheet!C282=1121570,\"VA1121570\",IF(Benchsheet!C282=1121045,\"VA1121045\",IF(Benchsheet!C282=1121655,\"VA1121655\",IF(Benchsheet!C282=1121503,\"VA1121503\",IF(Benchsheet!C282=1121043,\"VA1121043\",IF(Benchsheet!C282=1121900,\"VA1121900\",IF(Benchsheet!C282=1121845,\"VA1121845\",IF(Benchsheet!C282=1121655,\"VA1121655\",IF(Benchsheet!C282=1121900,\"VA1121900\",IF(Benchsheet!C282<1,\"\")))))))))))))))","v":""},{"$f":"IF(WORKSHEET!B279=\"MPN\",\"3000\",IF(WORKSHEET!B279=\"TC\",\"3100\",\"\"))","v":""},{"$f":"IF(Benchsheet!A283>1,\"SM 9223B\",\"\")","v":""},{"$f":"Benchsheet!U283","v":"00:00:00"},{"$f":"IF(Benchsheet!J283>1,\"A\",\"\")","v":""},{"$f":"Benchsheet!L283","v":0},{"$f":"IF(WORKSHEET!A281=\"-1\",\"\",IF(WORKSHEET!A281=0,\"0\",WORKSHEET!A281))","v":""},"",{"$f":"IF(WORKSHEET!B302=\"MPN\",\"MPN\",\"\")","v":""}]
[{"$f":"IF(Benchsheet!A283>1,\"result\",\"\")","v":""},{"$f":"IF(Benchsheet!A283>1,\"STATE\",\"\")","v":""},{"$f":"IF(Benchsheet!A283>1,\"00035\",\"\")","v":""},{"$f":"Benchsheet!A283","v":0},{"$f":"IF(Benchsheet!C283=1121057,\"VA1121057\",IF(Benchsheet!C283=1121090,\"VA1121090\",IF(Benchsheet!C283=1121052,\"VA1121052\",IF(Benchsheet!C283=1121175,\"VA1121175\",IF(Benchsheet!C283=1121580,\"VA1121580\",IF(Benchsheet!C283=1121570,\"VA1121570\",IF(Benchsheet!C283=1121045,\"VA1121045\",IF(Benchsheet!C283=1121655,\"VA1121655\",IF(Benchsheet!C283=1121503,\"VA1121503\",IF(Benchsheet!C283=1121043,\"VA1121043\",IF(Benchsheet!C283=1121900,\"VA1121900\",IF(Benchsheet!C283=1121845,\"VA1121845\",IF(Benchsheet!C283=1121655,\"VA1121655\",IF(Benchsheet!C283=1121900,\"VA1121900\",IF(Benchsheet!C283<1,\"\")))))))))))))))","v":""},{"$f":"WORKSHEET!C279","v":""},{"$f":"IF(Benchsheet!A283>1,\"SM 9223B\",\"\")","v":""},{"$f":"Benchsheet!U283","v":"00:00:00"},{"$f":"IF(Benchsheet!J283>1,\"A\",\"\")","v":""},{"$f":"Benchsheet!M283","v":0},{"$f":"IF(WORKSHEET!A282=\"-1\",\"\",IF(WORKSHEET!A282=0,\"0\",WORKSHEET!A282))","v":""},"",{"$f":"IF(WORKSHEET!B302=\"MPN\",\"MPN\",\"\")","v":""}]
[{"$f":"IF(Benchsheet!A284>1,\"result\",\"\")","v":""},{"$f":"IF(Benchsheet!A284>1,\"STATE\",\"\")","v":""},{"$f":"IF(Benchsheet!A284>1,\"00035\",\"\")","v":""},{"$f":"Benchsheet!A284","v":0},{"$f":"IF(Benchsheet!C283=1121057,\"VA1121057\",IF(Benchsheet!C283=1121090,\"VA1121090\",IF(Benchsheet!C283=1121052,\"VA1121052\",IF(Benchsheet!C283=1121175,\"VA1121175\",IF(Benchsheet!C283=1121580,\"VA1121580\",IF(Benchsheet!C283=1121570,\"VA1121570\",IF(Benchsheet!C283=1121045,\"VA1121045\",IF(Benchsheet!C283=1121655,\"VA1121655\",IF(Benchsheet!C283=1121503,\"VA1121503\",IF(Benchsheet!C283=1121043,\"VA1121043\",IF(Benchsheet!C283=1121900,\"VA1121900\",IF(Benchsheet!C283=1121845,\"VA1121845\",IF(Benchsheet!C283=1121655,\"VA1121655\",IF(Benchsheet!C283=1121900,\"VA1121900\",IF(Benchsheet!C283<1,\"\")))))))))))))))","v":""},{"$f":"IF(WORKSHEET!B280=\"MPN\",\"3000\",IF(WORKSHEET!B280=\"TC\",\"3100\",\"\"))","v":""},{"$f":"IF(Benchsheet!A284>1,\"SM 9223B\",\"\")","v":""},{"$f":"Benchsheet!U284","v":"00:00:00"},{"$f":"IF(Benchsheet!J284>1,\"A\",\"\")","v":""},{"$f":"Benchsheet!L284","v":0},{"$f":"IF(WORKSHEET!A282=\"-1\",\"\",IF(WORKSHEET!A282=0,\"0\",WORKSHEET!A282))","v":""},"",{"$f":"IF(WORKSHEET!B303=\"MPN\",\"MPN\",\"\")","v":""}]
[{"$f":"IF(Benchsheet!A284>1,\"result\",\"\")","v":""},{"$f":"IF(Benchsheet!A284>1,\"STATE\",\"\")","v":""},{"$f":"IF(Benchsheet!A284>1,\"00035\",\"\")","v":""},{"$f":"Benchsheet!A284","v":0},{"$f":"IF(Benchsheet!C284=1121057,\"VA1121057\",IF(Benchsheet!C284=1121090,\"VA1121090\",IF(Benchsheet!C284=1121052,\"VA1121052\",IF(Benchsheet!C284=1121175,\"VA1121175\",IF(Benchsheet!C284=1121580,\"VA1121580\",IF(Benchsheet!C284=1121570,\"VA1121570\",IF(Benchsheet!C284=1121045,\"VA1121045\",IF(Benchsheet!C284=1121655,\"VA1121655\",IF(Benchsheet!C284=1121503,\"VA1121503\",IF(Benchsheet!C284=1121043,\"VA1121043\",IF(Benchsheet!C284=1121900,\"VA1121900\",IF(Benchsheet!C284=1121845,\"VA1121845\",IF(Benchsheet!C284=1121655,\"VA1121655\",IF(Benchsheet!C284=1121900,\"VA1121900\",IF(Benchsheet!C284<1,\"\")))))))))))))))","v":""},{"$f":"WORKSHEET!C280","v":""},{"$f":"IF(Benchsheet!A284>1,\"SM 9223B\",\"\")","v":""},{"$f":"Benchsheet!U284","v":"00:00:00"},{"$f":"IF(Benchsheet!J284>1,\"A\",\"\")","v":""},{"$f":"Benchsheet!M284","v":0},{"$f":"IF(WORKSHEET!A283=\"-1\",\"\",IF(WORKSHEET!A283=0,\"0\",WORKSHEET!A283))","v":""},"",{"$f":"IF(WORKSHEET!B303=\"MPN\",\"MPN\",\"\")","v":""}]
[{"$f":"IF(Benchsheet!A285>1,\"result\",\"\")","v":""},{"$f":"IF(Benchsheet!A285>1,\"STATE\",\"\")","v":""},{"$f":"IF(Benchsheet!A285>1,\"00035\",\"\")","v":""},{"$f":"Benchsheet!A285","v":0},{"$f":"IF(Benchsheet!C284=1121057,\"VA1121057\",IF(Benchsheet!C284=1121090,\"VA1121090\",IF(Benchsheet!C284=1121052,\"VA1121052\",IF(Benchsheet!C284=1121175,\"VA1121175\",IF(Benchsheet!C284=1121580,\"VA1121580\",IF(Benchsheet!C284=1121570,\"VA1121570\",IF(Benchsheet!C284=1121045,\"VA1121045\",IF(Benchsheet!C284=1121655,\"VA1121655\",IF(Benchsheet!C284=1121503,\"VA1121503\",IF(Benchsheet!C284=1121043,\"VA1121043\",IF(Benchsheet!C284=1121900,\"VA1121900\",IF(Benchsheet!C284=1121845,\"VA1121845\",IF(Benchsheet!C284=1121655,\"VA1121655\",IF(Benchsheet!C284=1121900,\"VA1121900\",IF(Benchsheet!C284<1,\"\")))))))))))))))","v":""},{"$f":"IF(WORKSHEET!B281=\"MPN\",\"3000\",IF(WORKSHEET!B281=\"TC\",\"3100\",\"\"))","v":""},{"$f":"IF(Benchsheet!A285>1,\"SM 9223B\",\"\")","v":""},{"$f":"Benchsheet!U285","v":"00:00:00"},{"$f":"IF(Benchsheet!J285>1,\"A\",\"\")","v":""},{"$f":"Benchsheet!L285","v":0},{"$f":"IF(WORKSHEET!A283=\"-1\",\"\",IF(WORKSHEET!A283=0,\"0\",WORKSHEET!A283))","v":""},"",{"$f":"IF(WORKSHEET!B304=\"MPN\",\"MPN\",\"\")","v":""}]
[{"$f":"IF(Benchsheet!A285>1,\"result\",\"\")","v":""},{"$f":"IF(Benchsheet!A285>1,\"STATE\",\"\")","v":""},{"$f":"IF(Benchsheet!A285>1,\"00035\",\"\")","v":""},{"$f":"Benchsheet!A285","v":0},{"$f":"IF(Benchsheet!C285=1121057,\"VA1121057\",IF(Benchsheet!C285=1121090,\"VA1121090\",IF(Benchsheet!C285=1121052,\"VA1121052\",IF(Benchsheet!C285=1121175,\"VA1121175\",IF(Benchsheet!C285=1121580,\"VA1121580\",IF(Benchsheet!C285=1121570,\"VA1121570\",IF(Benchsheet!C285=1121045,\"VA1121045\",IF(Benchsheet!C285=1121655,\"VA1121655\",IF(Benchsheet!C285=1121503,\"VA1121503\",IF(Benchsheet!C285=1121043,\"VA1121043\",IF(Benchsheet!C285=1121900,\"VA1121900\",IF(Benchsheet!C285=1121845,\"VA1121845\",IF(Benchsheet!C285=1121655,\"VA1121655\",IF(Benchsheet!C285=1121900,\"VA1121900\",IF(Benchsheet!C285<1,\"\")))))))))))))))","v":""},{"$f":"WORKSHEET!C281","v":""},{"$f":"IF(Benchsheet!A285>1,\"SM 9223B\",\"\")","v":""},{"$f":"Benchsheet!U285","v":"00:00:00"},{"$f":"IF(Benchsheet!J285>1,\"A\",\"\")","v":""},{"$f":"Benchsheet!M285","v":0},{"$f":"IF(WORKSHEET!A284=\"-1\",\"\",IF(WORKSHEET!A284=0,\"0\",WORKSHEET!A284))","v":""},"",{"$f":"IF(WORKSHEET!B304=\"MPN\",\"MPN\",\"\")","v":""}]
[{"$f":"IF(Benchsheet!A286>1,\"result\",\"\")","v":""},{"$f":"IF(Benchsheet!A286>1,\"STATE\",\"\")","v":""},{"$f":"IF(Benchsheet!A286>1,\"00035\",\"\")","v":""},{"$f":"Benchsheet!A286","v":0},{"$f":"IF(Benchsheet!C285=1121057,\"VA1121057\",IF(Benchsheet!C285=1121090,\"VA1121090\",IF(Benchsheet!C285=1121052,\"VA1121052\",IF(Benchsheet!C285=1121175,\"VA1121175\",IF(Benchsheet!C285=1121580,\"VA1121580\",IF(Benchsheet!C285=1121570,\"VA1121570\",IF(Benchsheet!C285=1121045,\"VA1121045\",IF(Benchsheet!C285=1121655,\"VA1121655\",IF(Benchsheet!C285=1121503,\"VA1121503\",IF(Benchsheet!C285=1121043,\"VA1121043\",IF(Benchsheet!C285=1121900,\"VA1121900\",IF(Benchsheet!C285=1121845,\"VA1121845\",IF(Benchsheet!C285=1121655,\"VA1121655\",IF(Benchsheet!C285=1121900,\"VA1121900\",IF(Benchsheet!C285<1,\"\")))))))))))))))","v":""},{"$f":"IF(WORKSHEET!B282=\"MPN\",\"3000\",IF(WORKSHEET!B282=\"TC\",\"3100\",\"\"))","v":""},{"$f":"IF(Benchsheet!A286>1,\"SM 9223B\",\"\")","v":""},{"$f":"Benchsheet!U286","v":"00:00:00"},{"$f":"IF(Benchsheet!J286>1,\"A\",\"\")","v":""},{"$f":"Benchsheet!L286","v":0},{"$f":"IF(WORKSHEET!A284=\"-1\",\"\",IF(WORKSHEET!A284=0,\"0\",WORKSHEET!A284))","v":""},"",{"$f":"IF(WORKSHEET!B305=\"MPN\",\"MPN\",\"\")","v":""}]
[{"$f":"IF(Benchsheet!A286>1,\"result\",\"\")","v":""},{"$f":"IF(Benchsheet!A286>1,\"STATE\",\"\")","v":""},{"$f":"IF(Benchsheet!A286>1,\"00035\",\"\")","v":""},{"$f":"Benchsheet!A286","v":0},{"$f":"IF(Benchsheet!C286=1121057,\"VA1121057\",IF(Benchsheet!C286=1121090,\"VA1121090\",IF(Benchsheet!C286=1121052,\"VA1121052\",IF(Benchsheet!C286=1121175,\"VA1121175\",IF(Benchsheet!C286=1121580,\"VA1121580\",IF(Benchsheet!C286=1121570,\"VA1121570\",IF(Benchsheet!C286=1121045,\"VA1121045\",IF(Benchsheet!C286=1121655,\"VA1121655\",IF(Benchsheet!C286=1121503,\"VA1121503\",IF(Benchsheet!C286=1121043,\"VA1121043\",IF(Benchsheet!C286=1121900,\"VA1121900\",IF(Benchsheet!C286=1121845,\"VA1121845\",IF(Benchsheet!C286=1121655,\"VA1121655\",IF(Benchsheet!C286=1121900,\"VA1121900\",IF(Benchsheet!C286<1,\"\")))))))))))))))","v":""},{"$f":"WORKSHEET!C282","v":""},{"$f":"IF(Benchsheet!A286>1,\"SM 9223B\",\"\")","v":""},{"$f":"Benchsheet!U286","v":"00:00:00"},{"$f":"IF(Benchsheet!J286>1,\"A\",\"\")","v":""},{"$f":"Benchsheet!M286","v":0},{"$f":"IF(WORKSHEET!A285=\"-1\",\"\",IF(WORKSHEET!A285=0,\"0\",WORKSHEET!A285))","v":""},"",{"$f":"IF(WORKSHEET!B305=\"MPN\",\"MPN\",\"\")","v":""}]
[{"$f":"IF(Benchsheet!A287>1,\"result\",\"\")","v":""},{"$f":"IF(Benchsheet!A287>1,\"STATE\",\"\")","v":""},{"$f":"IF(Benchsheet!A287>1,\"00035\",\"\")","v":""},{"$f":"Benchsheet!A287","v":0},{"$f":"IF(Benchsheet!C286=1121057,\"VA1121057\",IF(Benchsheet!C286=1121090,\"VA1121090\",IF(Benchsheet!C286=1121052,\"VA1121052\",IF(Benchsheet!C286=1121175,\"VA1121175\",IF(Benchsheet!C286=1121580,\"VA1121580\",IF(Benchsheet!C286=1121570,\"VA1121570\",IF(Benchsheet!C286=1121045,\"VA1121045\",IF(Benchsheet!C286=1121655,\"VA1121655\",IF(Benchsheet!C286=1121503,\"VA1121503\",IF(Benchsheet!C286=1121043,\"VA1121043\",IF(Benchsheet!C286=1121900,\"VA1121900\",IF(Benchsheet!C286=1121845,\"VA1121845\",IF(Benchsheet!C286=1121655,\"VA1121655\",IF(Benchsheet!C286=1121900,\"VA1121900\",IF(Benchsheet!C286<1,\"\")))))))))))))))","v":""},{"$f":"IF(WORKSHEET!B283=\"MPN\",\"3000\",IF(WORKSHEET!B283=\"TC\",\"3100\",\"\"))","v":""},{"$f":"IF(Benchsheet!A287>1,\"SM 9223B\",\"\")","v":""},{"$f":"Benchsheet!U287","v":"00:00:00"},{"$f":"IF(Benchsheet!J287>1,\"A\",\"\")","v":""},{"$f":"Benchsheet!L287","v":0},{"$f":"IF(WORKSHEET!A285=\"-1\",\"\",IF(WORKSHEET!A285=0,\"0\",WORKSHEET!A285))","v":""},"",{"$f":"IF(WORKSHEET!B306=\"MPN\",\"MPN\",\"\")","v":""}]
[{"$f":"IF(Benchsheet!A287>1,\"result\",\"\")","v":""},{"$f":"IF(Benchsheet!A287>1,\"STATE\",\"\")","v":""},{"$f":"IF(Benchsheet!A287>1,\"00035\",\"\")","v":""},{"$f":"Benchsheet!A287","v":0},{"$f":"IF(Benchsheet!C287=1121057,\"VA1121057\",IF(Benchsheet!C287=1121090,\"VA1121090\",IF(Benchsheet!C287=1121052,\"VA1121052\",IF(Benchsheet!C287=1121175,\"VA1121175\",IF(Benchsheet!C287=1121580,\"VA1121580\",IF(Benchsheet!C287=1121570,\"VA1121570\",IF(Benchsheet!C287=1121045,\"VA1121045\",IF(Benchsheet!C287=1121655,\"VA1121655\",IF(Benchsheet!C287=1121503,\"VA1121503\",IF(Benchsheet!C287=1121043,\"VA1121043\",IF(Benchsheet!C287=1121900,\"VA1121900\",IF(Benchsheet!C287=1121845,\"VA1121845\",IF(Benchsheet!C287=1121655,\"VA1121655\",IF(Benchsheet!C287=1121900,\"VA1121900\",IF(Benchsheet!C287<1,\"\")))))))))))))))","v":""},{"$f":"WORKSHEET!C283","v":""},{"$f":"IF(Benchsheet!A287>1,\"SM 9223B\",\"\")","v":""},{"$f":"Benchsheet!U287","v":"00:00:00"},{"$f":"IF(Benchsheet!J287>1,\"A\",\"\")","v":""},{"$f":"Benchsheet!M287","v":0},{"$f":"IF(WORKSHEET!A286=\"-1\",\"\",IF(WORKSHEET!A286=0,\"0\",WORKSHEET!A286))","v":""},"",{"$f":"IF(WORKSHEET!B306=\"MPN\",\"MPN\",\"\")","v":""}]
[{"$f":"IF(Benchsheet!A288>1,\"result\",\"\")","v":""},{"$f":"IF(Benchsheet!A288>1,\"STATE\",\"\")","v":""},{"$f":"IF(Benchsheet!A288>1,\"00035\",\"\")","v":""},{"$f":"Benchsheet!A288","v":0},{"$f":"IF(Benchsheet!C287=1121057,\"VA1121057\",IF(Benchsheet!C287=1121090,\"VA1121090\",IF(Benchsheet!C287=1121052,\"VA1121052\",IF(Benchsheet!C287=1121175,\"VA1121175\",IF(Benchsheet!C287=1121580,\"VA1121580\",IF(Benchsheet!C287=1121570,\"VA1121570\",IF(Benchsheet!C287=1121045,\"VA1121045\",IF(Benchsheet!C287=1121655,\"VA1121655\",IF(Benchsheet!C287=1121503,\"VA1121503\",IF(Benchsheet!C287=1121043,\"VA1121043\",IF(Benchsheet!C287=1121900,\"VA1121900\",IF(Benchsheet!C287=1121845,\"VA1121845\",IF(Benchsheet!C287=1121655,\"VA1121655\",IF(Benchsheet!C287=1121900,\"VA1121900\",IF(Benchsheet!C287<1,\"\")))))))))))))))","v":""},{"$f":"IF(WORKSHEET!B284=\"MPN\",\"3000\",IF(WORKSHEET!B284=\"TC\",\"3100\",\"\"))","v":""},{"$f":"IF(Benchsheet!A288>1,\"SM 9223B\",\"\")","v":""},{"$f":"Benchsheet!U288","v":"00:00:00"},{"$f":"IF(Benchsheet!J288>1,\"A\",\"\")","v":""},{"$f":"Benchsheet!L288","v":0},{"$f":"IF(WORKSHEET!A286=\"-1\",\"\",IF(WORKSHEET!A286=0,\"0\",WORKSHEET!A286))","v":""},"",{"$f":"IF(WORKSHEET!B307=\"MPN\",\"MPN\",\"\")","v":""}]
[{"$f":"IF(Benchsheet!A288>1,\"result\",\"\")","v":""},{"$f":"IF(Benchsheet!A288>1,\"STATE\",\"\")","v":""},{"$f":"IF(Benchsheet!A288>1,\"00035\",\"\")","v":""},{"$f":"Benchsheet!A288","v":0},{"$f":"IF(Benchsheet!C288=1121057,\"VA1121057\",IF(Benchsheet!C288=1121090,\"VA1121090\",IF(Benchsheet!C288=1121052,\"VA1121052\",IF(Benchsheet!C288=1121175,\"VA1121175\",IF(Benchsheet!C288=1121580,\"VA1121580\",IF(Benchsheet!C288=1121570,\"VA1121570\",IF(Benchsheet!C288=1121045,\"VA1121045\",IF(Benchsheet!C288=1121655,\"VA1121655\",IF(Benchsheet!C288=1121503,\"VA1121503\",IF(Benchsheet!C288=1121043,\"VA1121043\",IF(Benchsheet!C288=1121900,\"VA1121900\",IF(Benchsheet!C288=1121845,\"VA1121845\",IF(Benchsheet!C288=1121655,\"VA1121655\",IF(Benchsheet!C288=1121900,\"VA1121900\",IF(Benchsheet!C288<1,\"\")))))))))))))))","v":""},{"$f":"WORKSHEET!C284","v":""},{"$f":"IF(Benchsheet!A288>1,\"SM 9223B\",\"\")","v":""},{"$f":"Benchsheet!U288","v":"00:00:00"},{"$f":"IF(Benchsheet!J288>1,\"A\",\"\")","v":""},{"$f":"Benchsheet!M288","v":0},{"$f":"IF(WORKSHEET!A287=\"-1\",\"\",IF(WORKSHEET!A287=0,\"0\",WORKSHEET!A287))","v":""},"",{"$f":"IF(WORKSHEET!B307=\"MPN\",\"MPN\",\"\")","v":""}]
[{"$f":"IF(Benchsheet!A289>1,\"result\",\"\")","v":""},{"$f":"IF(Benchsheet!A289>1,\"STATE\",\"\")","v":""},{"$f":"IF(Benchsheet!A289>1,\"00035\",\"\")","v":""},{"$f":"Benchsheet!A289","v":0},{"$f":"IF(Benchsheet!C288=1121057,\"VA1121057\",IF(Benchsheet!C288=1121090,\"VA1121090\",IF(Benchsheet!C288=1121052,\"VA1121052\",IF(Benchsheet!C288=1121175,\"VA1121175\",IF(Benchsheet!C288=1121580,\"VA1121580\",IF(Benchsheet!C288=1121570,\"VA1121570\",IF(Benchsheet!C288=1121045,\"VA1121045\",IF(Benchsheet!C288=1121655,\"VA1121655\",IF(Benchsheet!C288=1121503,\"VA1121503\",IF(Benchsheet!C288=1121043,\"VA1121043\",IF(Benchsheet!C288=1121900,\"VA1121900\",IF(Benchsheet!C288=1121845,\"VA1121845\",IF(Benchsheet!C288=1121655,\"VA1121655\",IF(Benchsheet!C288=1121900,\"VA1121900\",IF(Benchsheet!C288<1,\"\")))))))))))))))","v":""},{"$f":"IF(WORKSHEET!B285=\"MPN\",\"3000\",IF(WORKSHEET!B285=\"TC\",\"3100\",\"\"))","v":""},{"$f":"IF(Benchsheet!A289>1,\"SM 9223B\",\"\")","v":""},{"$f":"Benchsheet!U289","v":"00:00:00"},{"$f":"IF(Benchsheet!J289>1,\"A\",\"\")","v":""},{"$f":"Benchsheet!L289","v":0},{"$f":"IF(WORKSHEET!A287=\"-1\",\"\",IF(WORKSHEET!A287=0,\"0\",WORKSHEET!A287))","v":""},"",{"$f":"IF(WORKSHEET!B308=\"MPN\",\"MPN\",\"\")","v":""}]
[{"$f":"IF(Benchsheet!A289>1,\"result\",\"\")","v":""},{"$f":"IF(Benchsheet!A289>1,\"STATE\",\"\")","v":""},{"$f":"IF(Benchsheet!A289>1,\"00035\",\"\")","v":""},{"$f":"Benchsheet!A289","v":0},{"$f":"IF(Benchsheet!C289=1121057,\"VA1121057\",IF(Benchsheet!C289=1121090,\"VA1121090\",IF(Benchsheet!C289=1121052,\"VA1121052\",IF(Benchsheet!C289=1121175,\"VA1121175\",IF(Benchsheet!C289=1121580,\"VA1121580\",IF(Benchsheet!C289=1121570,\"VA1121570\",IF(Benchsheet!C289=1121045,\"VA1121045\",IF(Benchsheet!C289=1121655,\"VA1121655\",IF(Benchsheet!C289=1121503,\"VA1121503\",IF(Benchsheet!C289=1121043,\"VA1121043\",IF(Benchsheet!C289=1121900,\"VA1121900\",IF(Benchsheet!C289=1121845,\"VA1121845\",IF(Benchsheet!C289=1121655,\"VA1121655\",IF(Benchsheet!C289=1121900,\"VA1121900\",IF(Benchsheet!C289<1,\"\")))))))))))))))","v":""},{"$f":"WORKSHEET!C285","v":""},{"$f":"IF(Benchsheet!A289>1,\"SM 9223B\",\"\")","v":""},{"$f":"Benchsheet!U289","v":"00:00:00"},{"$f":"IF(Benchsheet!J289>1,\"A\",\"\")","v":""},{"$f":"Benchsheet!M289","v":0},{"$f":"IF(WORKSHEET!A288=\"-1\",\"\",IF(WORKSHEET!A288=0,\"0\",WORKSHEET!A288))","v":""},"",{"$f":"IF(WORKSHEET!B308=\"MPN\",\"MPN\",\"\")","v":""}]
[{"$f":"IF(Benchsheet!A290>1,\"result\",\"\")","v":""},{"$f":"IF(Benchsheet!A290>1,\"STATE\",\"\")","v":""},{"$f":"IF(Benchsheet!A290>1,\"00035\",\"\")","v":""},{"$f":"Benchsheet!A290","v":0},{"$f":"IF(Benchsheet!C289=1121057,\"VA1121057\",IF(Benchsheet!C289=1121090,\"VA1121090\",IF(Benchsheet!C289=1121052,\"VA1121052\",IF(Benchsheet!C289=1121175,\"VA1121175\",IF(Benchsheet!C289=1121580,\"VA1121580\",IF(Benchsheet!C289=1121570,\"VA1121570\",IF(Benchsheet!C289=1121045,\"VA1121045\",IF(Benchsheet!C289=1121655,\"VA1121655\",IF(Benchsheet!C289=1121503,\"VA1121503\",IF(Benchsheet!C289=1121043,\"VA1121043\",IF(Benchsheet!C289=1121900,\"VA1121900\",IF(Benchsheet!C289=1121845,\"VA1121845\",IF(Benchsheet!C289=1121655,\"VA1121655\",IF(Benchsheet!C289=1121900,\"VA1121900\",IF(Benchsheet!C289<1,\"\")))))))))))))))","v":""},{"$f":"IF(WORKSHEET!B286=\"MPN\",\"3000\",IF(WORKSHEET!B286=\"TC\",\"3100\",\"\"))","v":""},{"$f":"IF(Benchsheet!A290>1,\"SM 9223B\",\"\")","v":""},{"$f":"Benchsheet!U290","v":"00:00:00"},{"$f":"IF(Benchsheet!J290>1,\"A\",\"\")","v":""},{"$f":"Benchsheet!L290","v":0},{"$f":"IF(WORKSHEET!A288=\"-1\",\"\",IF(WORKSHEET!A288=0,\"0\",WORKSHEET!A288))","v":""},"",{"$f":"IF(WORKSHEET!B309=\"MPN\",\"MPN\",\"\")","v":""}]
[{"$f":"IF(Benchsheet!A290>1,\"result\",\"\")","v":""},{"$f":"IF(Benchsheet!A290>1,\"STATE\",\"\")","v":""},{"$f":"IF(Benchsheet!A290>1,\"00035\",\"\")","v":""},{"$f":"Benchsheet!A290","v":0},{"$f":"IF(Benchsheet!C290=1121057,\"VA1121057\",IF(Benchsheet!C290=1121090,\"VA1121090\",IF(Benchsheet!C290=1121052,\"VA1121052\",IF(Benchsheet!C290=1121175,\"VA1121175\",IF(Benchsheet!C290=1121580,\"VA1121580\",IF(Benchsheet!C290=1121570,\"VA1121570\",IF(Benchsheet!C290=1121045,\"VA1121045\",IF(Benchsheet!C290=1121655,\"VA1121655\",IF(Benchsheet!C290=1121503,\"VA1121503\",IF(Benchsheet!C290=1121043,\"VA1121043\",IF(Benchsheet!C290=1121900,\"VA1121900\",IF(Benchsheet!C290=1121845,\"VA1121845\",IF(Benchsheet!C290=1121655,\"VA1121655\",IF(Benchsheet!C290=1121900,\"VA1121900\",IF(Benchsheet!C290<1,\"\")))))))))))))))","v":""},{"$f":"WORKSHEET!C286","v":""},{"$f":"IF(Benchsheet!A290>1,\"SM 9223B\",\"\")","v":""},{"$f":"Benchsheet!U290","v":"00:00:00"},{"$f":"IF(Benchsheet!J290>1,\"A\",\"\")","v":""},{"$f":"Benchsheet!M290","v":0},{"$f":"IF(WORKSHEET!A289=\"-1\",\"\",IF(WORKSHEET!A289=0,\"0\",WORKSHEET!A289))","v":""},"",{"$f":"IF(WORKSHEET!B309=\"MPN\",\"MPN\",\"\")","v":""}]
[{"$f":"IF(Benchsheet!A291>1,\"result\",\"\")","v":""},{"$f":"IF(Benchsheet!A291>1,\"STATE\",\"\")","v":""},{"$f":"IF(Benchsheet!A291>1,\"00035\",\"\")","v":""},{"$f":"Benchsheet!A291","v":0},{"$f":"IF(Benchsheet!C290=1121057,\"VA1121057\",IF(Benchsheet!C290=1121090,\"VA1121090\",IF(Benchsheet!C290=1121052,\"VA1121052\",IF(Benchsheet!C290=1121175,\"VA1121175\",IF(Benchsheet!C290=1121580,\"VA1121580\",IF(Benchsheet!C290=1121570,\"VA1121570\",IF(Benchsheet!C290=1121045,\"VA1121045\",IF(Benchsheet!C290=1121655,\"VA1121655\",IF(Benchsheet!C290=1121503,\"VA1121503\",IF(Benchsheet!C290=1121043,\"VA1121043\",IF(Benchsheet!C290=1121900,\"VA1121900\",IF(Benchsheet!C290=1121845,\"VA1121845\",IF(Benchsheet!C290=1121655,\"VA1121655\",IF(Benchsheet!C290=1121900,\"VA1121900\",IF(Benchsheet!C290<1,\"\")))))))))))))))","v":""},{"$f":"IF(WORKSHEET!B287=\"MPN\",\"3000\",IF(WORKSHEET!B287=\"TC\",\"3100\",\"\"))","v":""},{"$f":"IF(Benchsheet!A291>1,\"SM 9223B\",\"\")","v":""},{"$f":"Benchsheet!U291","v":"00:00:00"},{"$f":"IF(Benchsheet!J291>1,\"A\",\"\")","v":""},{"$f":"Benchsheet!L291","v":0},{"$f":"IF(WORKSHEET!A289=\"-1\",\"\",IF(WORKSHEET!A289=0,\"0\",WORKSHEET!A289))","v":""},"",{"$f":"IF(WORKSHEET!B310=\"MPN\",\"MPN\",\"\")","v":""}]
[{"$f":"IF(Benchsheet!A291>1,\"result\",\"\")","v":""},{"$f":"IF(Benchsheet!A291>1,\"STATE\",\"\")","v":""},{"$f":"IF(Benchsheet!A291>1,\"00035\",\"\")","v":""},{"$f":"Benchsheet!A291","v":0},{"$f":"IF(Benchsheet!C291=1121057,\"VA1121057\",IF(Benchsheet!C291=1121090,\"VA1121090\",IF(Benchsheet!C291=1121052,\"VA1121052\",IF(Benchsheet!C291=1121175,\"VA1121175\",IF(Benchsheet!C291=1121580,\"VA1121580\",IF(Benchsheet!C291=1121570,\"VA1121570\",IF(Benchsheet!C291=1121045,\"VA1121045\",IF(Benchsheet!C291=1121655,\"VA1121655\",IF(Benchsheet!C291=1121503,\"VA1121503\",IF(Benchsheet!C291=1121043,\"VA1121043\",IF(Benchsheet!C291=1121900,\"VA1121900\",IF(Benchsheet!C291=1121845,\"VA1121845\",IF(Benchsheet!C291=1121655,\"VA1121655\",IF(Benchsheet!C291=1121900,\"VA1121900\",IF(Benchsheet!C291<1,\"\")))))))))))))))","v":""},{"$f":"WORKSHEET!C287","v":""},{"$f":"IF(Benchsheet!A291>1,\"SM 9223B\",\"\")","v":""},{"$f":"Benchsheet!U291","v":"00:00:00"},{"$f":"IF(Benchsheet!J291>1,\"A\",\"\")","v":""},{"$f":"Benchsheet!M291","v":0},{"$f":"IF(WORKSHEET!A290=\"-1\",\"\",IF(WORKSHEET!A290=0,\"0\",WORKSHEET!A290))","v":""},"",{"$f":"IF(WORKSHEET!B310=\"MPN\",\"MPN\",\"\")","v":""}]
[{"$f":"IF(Benchsheet!A292>1,\"result\",\"\")","v":""},{"$f":"IF(Benchsheet!A292>1,\"STATE\",\"\")","v":""},{"$f":"IF(Benchsheet!A292>1,\"00035\",\"\")","v":""},{"$f":"Benchsheet!A292","v":0},{"$f":"IF(Benchsheet!C291=1121057,\"VA1121057\",IF(Benchsheet!C291=1121090,\"VA1121090\",IF(Benchsheet!C291=1121052,\"VA1121052\",IF(Benchsheet!C291=1121175,\"VA1121175\",IF(Benchsheet!C291=1121580,\"VA1121580\",IF(Benchsheet!C291=1121570,\"VA1121570\",IF(Benchsheet!C291=1121045,\"VA1121045\",IF(Benchsheet!C291=1121655,\"VA1121655\",IF(Benchsheet!C291=1121503,\"VA1121503\",IF(Benchsheet!C291=1121043,\"VA1121043\",IF(Benchsheet!C291=1121900,\"VA1121900\",IF(Benchsheet!C291=1121845,\"VA1121845\",IF(Benchsheet!C291=1121655,\"VA1121655\",IF(Benchsheet!C291=1121900,\"VA1121900\",IF(Benchsheet!C291<1,\"\")))))))))))))))","v":""},{"$f":"IF(WORKSHEET!B288=\"MPN\",\"3000\",IF(WORKSHEET!B288=\"TC\",\"3100\",\"\"))","v":""},{"$f":"IF(Benchsheet!A292>1,\"SM 9223B\",\"\")","v":""},{"$f":"Benchsheet!U292","v":"00:00:00"},{"$f":"IF(Benchsheet!J292>1,\"A\",\"\")","v":""},{"$f":"Benchsheet!L292","v":0},{"$f":"IF(WORKSHEET!A290=\"-1\",\"\",IF(WORKSHEET!A290=0,\"0\",WORKSHEET!A290))","v":""},"",{"$f":"IF(WORKSHEET!B311=\"MPN\",\"MPN\",\"\")","v":""}]
[{"$f":"IF(Benchsheet!A292>1,\"result\",\"\")","v":""},{"$f":"IF(Benchsheet!A292>1,\"STATE\",\"\")","v":""},{"$f":"IF(Benchsheet!A292>1,\"00035\",\"\")","v":""},{"$f":"Benchsheet!A292","v":0},{"$f":"IF(Benchsheet!C292=1121057,\"VA1121057\",IF(Benchsheet!C292=1121090,\"VA1121090\",IF(Benchsheet!C292=1121052,\"VA1121052\",IF(Benchsheet!C292=1121175,\"VA1121175\",IF(Benchsheet!C292=1121580,\"VA1121580\",IF(Benchsheet!C292=1121570,\"VA1121570\",IF(Benchsheet!C292=1121045,\"VA1121045\",IF(Benchsheet!C292=1121655,\"VA1121655\",IF(Benchsheet!C292=1121503,\"VA1121503\",IF(Benchsheet!C292=1121043,\"VA1121043\",IF(Benchsheet!C292=1121900,\"VA1121900\",IF(Benchsheet!C292=1121845,\"VA1121845\",IF(Benchsheet!C292=1121655,\"VA1121655\",IF(Benchsheet!C292=1121900,\"VA1121900\",IF(Benchsheet!C292<1,\"\")))))))))))))))","v":""},{"$f":"WORKSHEET!C288","v":""},{"$f":"IF(Benchsheet!A292>1,\"SM 9223B\",\"\")","v":""},{"$f":"Benchsheet!U292","v":"00:00:00"},{"$f":"IF(Benchsheet!J292>1,\"A\",\"\")","v":""},{"$f":"Benchsheet!M292","v":0},{"$f":"IF(WORKSHEET!A291=\"-1\",\"\",IF(WORKSHEET!A291=0,\"0\",WORKSHEET!A291))","v":""},"",{"$f":"IF(WORKSHEET!B311=\"MPN\",\"MPN\",\"\")","v":""}]
[{"$f":"IF(Benchsheet!A293>1,\"result\",\"\")","v":""},{"$f":"IF(Benchsheet!A293>1,\"STATE\",\"\")","v":""},{"$f":"IF(Benchsheet!A293>1,\"00035\",\"\")","v":""},{"$f":"Benchsheet!A293","v":0},{"$f":"IF(Benchsheet!C292=1121057,\"VA1121057\",IF(Benchsheet!C292=1121090,\"VA1121090\",IF(Benchsheet!C292=1121052,\"VA1121052\",IF(Benchsheet!C292=1121175,\"VA1121175\",IF(Benchsheet!C292=1121580,\"VA1121580\",IF(Benchsheet!C292=1121570,\"VA1121570\",IF(Benchsheet!C292=1121045,\"VA1121045\",IF(Benchsheet!C292=1121655,\"VA1121655\",IF(Benchsheet!C292=1121503,\"VA1121503\",IF(Benchsheet!C292=1121043,\"VA1121043\",IF(Benchsheet!C292=1121900,\"VA1121900\",IF(Benchsheet!C292=1121845,\"VA1121845\",IF(Benchsheet!C292=1121655,\"VA1121655\",IF(Benchsheet!C292=1121900,\"VA1121900\",IF(Benchsheet!C292<1,\"\")))))))))))))))","v":""},{"$f":"IF(WORKSHEET!B289=\"MPN\",\"3000\",IF(WORKSHEET!B289=\"TC\",\"3100\",\"\"))","v":""},{"$f":"IF(Benchsheet!A293>1,\"SM 9223B\",\"\")","v":""},{"$f":"Benchsheet!U293","v":"00:00:00"},{"$f":"IF(Benchsheet!J293>1,\"A\",\"\")","v":""},{"$f":"Benchsheet!L293","v":0},{"$f":"IF(WORKSHEET!A291=\"-1\",\"\",IF(WORKSHEET!A291=0,\"0\",WORKSHEET!A291))","v":""},"",{"$f":"IF(WORKSHEET!B312=\"MPN\",\"MPN\",\"\")","v":""}]
[{"$f":"IF(Benchsheet!A293>1,\"result\",\"\")","v":""},{"$f":"IF(Benchsheet!A293>1,\"STATE\",\"\")","v":""},{"$f":"IF(Benchsheet!A293>1,\"00035\",\"\")","v":""},{"$f":"Benchsheet!A293","v":0},{"$f":"IF(Benchsheet!C293=1121057,\"VA1121057\",IF(Benchsheet!C293=1121090,\"VA1121090\",IF(Benchsheet!C293=1121052,\"VA1121052\",IF(Benchsheet!C293=1121175,\"VA1121175\",IF(Benchsheet!C293=1121580,\"VA1121580\",IF(Benchsheet!C293=1121570,\"VA1121570\",IF(Benchsheet!C293=1121045,\"VA1121045\",IF(Benchsheet!C293=1121655,\"VA1121655\",IF(Benchsheet!C293=1121503,\"VA1121503\",IF(Benchsheet!C293=1121043,\"VA1121043\",IF(Benchsheet!C293=1121900,\"VA1121900\",IF(Benchsheet!C293=1121845,\"VA1121845\",IF(Benchsheet!C293=1121655,\"VA1121655\",IF(Benchsheet!C293=1121900,\"VA1121900\",IF(Benchsheet!C293<1,\"\")))))))))))))))","v":""},{"$f":"WORKSHEET!C289","v":""},{"$f":"IF(Benchsheet!A293>1,\"SM 9223B\",\"\")","v":""},{"$f":"Benchsheet!U293","v":"00:00:00"},{"$f":"IF(Benchsheet!J293>1,\"A\",\"\")","v":""},{"$f":"Benchsheet!M293","v":0},{"$f":"IF(WORKSHEET!A292=\"-1\",\"\",IF(WORKSHEET!A292=0,\"0\",WORKSHEET!A292))","v":""},"",{"$f":"IF(WORKSHEET!B312=\"MPN\",\"MPN\",\"\")","v":""}]

{"sheet":"WORKSHEET","index":5,"n_rows":577,"n_cols":3,"rows_kept":577,"cut":false,"hidden":false,"merged":[]}
["MPN","SAMPLE TYPE"]
[{"$f":"IF(Benchsheet!N5=0,\"-1\",Benchsheet!N5)","v":"-1"},{"$f":"IF(Benchsheet!B5=\"WL001\",\"MPN\",IF(Benchsheet!B5=FALSE,\"\",IF(Benchsheet!B5=\"WL002\",\"MPN\",IF(Benchsheet!B5=\"WL003\",\"MPN\",IF(Benchsheet!B5=\"DS001\",\"TC\")))))","v":"TC"},{"$f":"IF(Benchsheet!A5>1,3014,\"\")","v":3014}]
[{"$f":"IF(Benchsheet!N6=0,\"-1\",Benchsheet!N6)","v":"-1"},{"$f":"IF(Benchsheet!B6=\"WL001\",\"MPN\",IF(Benchsheet!B6=FALSE,\"\",IF(Benchsheet!B6=\"WL002\",\"MPN\",IF(Benchsheet!B6=\"WL003\",\"MPN\",IF(Benchsheet!B6=\"DS001\",\"TC\")))))","v":"TC"},{"$f":"IF(Benchsheet!A6>1,3014,\"\")","v":3014}]
[{"$f":"IF(Benchsheet!N7=0,\"-1\",Benchsheet!N7)","v":"-1"},{"$f":"IF(Benchsheet!B7=\"WL001\",\"MPN\",IF(Benchsheet!B7=FALSE,\"\",IF(Benchsheet!B7=\"WL002\",\"MPN\",IF(Benchsheet!B7=\"WL003\",\"MPN\",IF(Benchsheet!B7=\"DS001\",\"TC\")))))","v":"TC"},{"$f":"IF(Benchsheet!A7>1,3014,\"\")","v":3014}]
[{"$f":"IF(Benchsheet!N8=0,\"-1\",Benchsheet!N8)","v":"-1"},{"$f":"IF(Benchsheet!B8=\"WL001\",\"MPN\",IF(Benchsheet!B8=FALSE,\"\",IF(Benchsheet!B8=\"WL002\",\"MPN\",IF(Benchsheet!B8=\"WL003\",\"MPN\",IF(Benchsheet!B8=\"DS001\",\"TC\")))))","v":"TC"},{"$f":"IF(Benchsheet!A8>1,3014,\"\")","v":3014}]
[{"$f":"IF(Benchsheet!N9=0,\"-1\",Benchsheet!N9)","v":"-1"},{"$f":"IF(Benchsheet!B9=\"WL001\",\"MPN\",IF(Benchsheet!B9=FALSE,\"\",IF(Benchsheet!B9=\"WL002\",\"MPN\",IF(Benchsheet!B9=\"WL003\",\"MPN\",IF(Benchsheet!B9=\"DS001\",\"TC\")))))","v":"TC"},{"$f":"IF(Benchsheet!A9>1,3014,\"\")","v":3014}]
[{"$f":"IF(Benchsheet!N10=0,\"-1\",Benchsheet!N10)","v":"-1"},{"$f":"IF(Benchsheet!B10=\"WL001\",\"MPN\",IF(Benchsheet!B10=FALSE,\"\",IF(Benchsheet!B10=\"WL002\",\"MPN\",IF(Benchsheet!B10=\"WL003\",\"MPN\",IF(Benchsheet!B10=\"DS001\",\"TC\")))))","v":"TC"},{"$f":"IF(Benchsheet!A10>1,3014,\"\")","v":3014}]
[{"$f":"IF(Benchsheet!N11=0,\"-1\",Benchsheet!N11)","v":"-1"},{"$f":"IF(Benchsheet!B11=\"WL001\",\"MPN\",IF(Benchsheet!B11=FALSE,\"\",IF(Benchsheet!B11=\"WL002\",\"MPN\",IF(Benchsheet!B11=\"WL003\",\"MPN\",IF(Benchsheet!B11=\"DS001\",\"TC\")))))","v":"TC"},{"$f":"IF(Benchsheet!A11>1,3014,\"\")","v":3014}]
[{"$f":"IF(Benchsheet!N12=0,\"-1\",Benchsheet!N12)","v":"-1"},{"$f":"IF(Benchsheet!B12=\"WL001\",\"MPN\",IF(Benchsheet!B12=FALSE,\"\",IF(Benchsheet!B12=\"WL002\",\"MPN\",IF(Benchsheet!B12=\"WL003\",\"MPN\",IF(Benchsheet!B12=\"DS001\",\"TC\")))))","v":"TC"},{"$f":"IF(Benchsheet!A12>1,3014,\"\")","v":3014}]
[{"$f":"IF(Benchsheet!N13=0,\"-1\",Benchsheet!N13)","v":"-1"},{"$f":"IF(Benchsheet!B13=\"WL001\",\"MPN\",IF(Benchsheet!B13=FALSE,\"\",IF(Benchsheet!B13=\"WL002\",\"MPN\",IF(Benchsheet!B13=\"WL003\",\"MPN\",IF(Benchsheet!B13=\"DS001\",\"TC\")))))","v":"TC"},{"$f":"IF(Benchsheet!A13>1,3014,\"\")","v":3014}]
[{"$f":"IF(Benchsheet!N14=0,\"-1\",Benchsheet!N14)","v":"-1"},{"$f":"IF(Benchsheet!B14=\"WL001\",\"MPN\",IF(Benchsheet!B14=FALSE,\"\",IF(Benchsheet!B14=\"WL002\",\"MPN\",IF(Benchsheet!B14=\"WL003\",\"MPN\",IF(Benchsheet!B14=\"DS001\",\"TC\")))))","v":"TC"},{"$f":"IF(Benchsheet!A14>1,3014,\"\")","v":3014}]
[{"$f":"IF(Benchsheet!N15=0,\"-1\",Benchsheet!N15)","v":"-1"},{"$f":"IF(Benchsheet!B15=\"WL001\",\"MPN\",IF(Benchsheet!B15=FALSE,\"\",IF(Benchsheet!B15=\"WL002\",\"MPN\",IF(Benchsheet!B15=\"WL003\",\"MPN\",IF(Benchsheet!B15=\"DS001\",\"TC\")))))","v":"TC"},{"$f":"IF(Benchsheet!A15>1,3014,\"\")","v":3014}]
[{"$f":"IF(Benchsheet!N16=0,\"-1\",Benchsheet!N16)","v":"-1"},{"$f":"IF(Benchsheet!B16=\"WL001\",\"MPN\",IF(Benchsheet!B16=FALSE,\"\",IF(Benchsheet!B16=\"WL002\",\"MPN\",IF(Benchsheet!B16=\"WL003\",\"MPN\",IF(Benchsheet!B16=\"DS001\",\"TC\")))))","v":"TC"},{"$f":"IF(Benchsheet!A16>1,3014,\"\")","v":3014}]
[{"$f":"IF(Benchsheet!N17=0,\"-1\",Benchsheet!N17)","v":"-1"},{"$f":"IF(Benchsheet!B17=\"WL001\",\"MPN\",IF(Benchsheet!B17=FALSE,\"\",IF(Benchsheet!B17=\"WL002\",\"MPN\",IF(Benchsheet!B17=\"WL003\",\"MPN\",IF(Benchsheet!B17=\"DS001\",\"TC\")))))","v":"TC"},{"$f":"IF(Benchsheet!A17>1,3014,\"\")","v":3014}]
[{"$f":"IF(Benchsheet!N18=0,\"-1\",Benchsheet!N18)","v":"-1"},{"$f":"IF(Benchsheet!B18=\"WL001\",\"MPN\",IF(Benchsheet!B18=FALSE,\"\",IF(Benchsheet!B18=\"WL002\",\"MPN\",IF(Benchsheet!B18=\"WL003\",\"MPN\",IF(Benchsheet!B18=\"DS001\",\"TC\")))))","v":"TC"},{"$f":"IF(Benchsheet!A18>1,3014,\"\")","v":3014}]
[{"$f":"IF(Benchsheet!N19=0,\"-1\",Benchsheet!N19)","v":"-1"},{"$f":"IF(Benchsheet!B19=\"WL001\",\"MPN\",IF(Benchsheet!B19=FALSE,\"\",IF(Benchsheet!B19=\"WL002\",\"MPN\",IF(Benchsheet!B19=\"WL003\",\"MPN\",IF(Benchsheet!B19=\"DS001\",\"TC\")))))","v":"TC"},{"$f":"IF(Benchsheet!A19>1,3014,\"\")","v":3014}]
[{"$f":"IF(Benchsheet!N20=0,\"-1\",Benchsheet!N20)","v":"-1"},{"$f":"IF(Benchsheet!B20=\"WL001\",\"MPN\",IF(Benchsheet!B20=FALSE,\"\",IF(Benchsheet!B20=\"WL002\",\"MPN\",IF(Benchsheet!B20=\"WL003\",\"MPN\",IF(Benchsheet!B20=\"DS001\",\"TC\")))))","v":"TC"},{"$f":"IF(Benchsheet!A20>1,3014,\"\")","v":3014}]
[{"$f":"IF(Benchsheet!N21=0,\"-1\",Benchsheet!N21)","v":"-1"},{"$f":"IF(Benchsheet!B21=\"WL001\",\"MPN\",IF(Benchsheet!B21=FALSE,\"\",IF(Benchsheet!B21=\"WL002\",\"MPN\",IF(Benchsheet!B21=\"WL003\",\"MPN\",IF(Benchsheet!B21=\"DS001\",\"TC\")))))","v":"TC"},{"$f":"IF(Benchsheet!A21>1,3014,\"\")","v":3014}]
[{"$f":"IF(Benchsheet!N22=0,\"-1\",Benchsheet!N22)","v":"-1"},{"$f":"IF(Benchsheet!B22=\"WL001\",\"MPN\",IF(Benchsheet!B22=FALSE,\"\",IF(Benchsheet!B22=\"WL002\",\"MPN\",IF(Benchsheet!B22=\"WL003\",\"MPN\",IF(Benchsheet!B22=\"DS001\",\"TC\")))))","v":"TC"},{"$f":"IF(Benchsheet!A22>1,3014,\"\")","v":3014}]
[{"$f":"IF(Benchsheet!N23=0,\"-1\",Benchsheet!N23)","v":"-1"},{"$f":"IF(Benchsheet!B23=\"WL001\",\"MPN\",IF(Benchsheet!B23=FALSE,\"\",IF(Benchsheet!B23=\"WL002\",\"MPN\",IF(Benchsheet!B23=\"WL003\",\"MPN\",IF(Benchsheet!B23=\"DS001\",\"TC\")))))","v":"TC"},{"$f":"IF(Benchsheet!A23>1,3014,\"\")","v":3014}]
[{"$f":"IF(Benchsheet!N24=0,\"-1\",Benchsheet!N24)","v":"-1"},{"$f":"IF(Benchsheet!B24=\"WL001\",\"MPN\",IF(Benchsheet!B24=FALSE,\"\",IF(Benchsheet!B24=\"WL002\",\"MPN\",IF(Benchsheet!B24=\"WL003\",\"MPN\",IF(Benchsheet!B24=\"DS001\",\"TC\")))))","v":"TC"},{"$f":"IF(Benchsheet!A24>1,3014,\"\")","v":3014}]
[{"$f":"IF(Benchsheet!N25=0,\"-1\",Benchsheet!N25)","v":"-1"},{"$f":"IF(Benchsheet!B25=\"WL001\",\"MPN\",IF(Benchsheet!B25=FALSE,\"\",IF(Benchsheet!B25=\"WL002\",\"MPN\",IF(Benchsheet!B25=\"WL003\",\"MPN\",IF(Benchsheet!B25=\"DS001\",\"TC\")))))","v":"TC"},{"$f":"IF(Benchsheet!A25>1,3014,\"\")","v":3014}]
[{"$f":"IF(Benchsheet!N26=0,\"-1\",Benchsheet!N26)","v":"-1"},{"$f":"IF(Benchsheet!B26=\"WL001\",\"MPN\",IF(Benchsheet!B26=FALSE,\"\",IF(Benchsheet!B26=\"WL002\",\"MPN\",IF(Benchsheet!B26=\"WL003\",\"MPN\",IF(Benchsheet!B26=\"DS001\",\"TC\")))))","v":"TC"},{"$f":"IF(Benchsheet!A26>1,3014,\"\")","v":3014}]
[{"$f":"IF(Benchsheet!N27=0,\"-1\",Benchsheet!N27)","v":"-1"},{"$f":"IF(Benchsheet!B27=\"WL001\",\"MPN\",IF(Benchsheet!B27=FALSE,\"\",IF(Benchsheet!B27=\"WL002\",\"MPN\",IF(Benchsheet!B27=\"WL003\",\"MPN\",IF(Benchsheet!B27=\"DS001\",\"TC\")))))","v":"TC"},{"$f":"IF(Benchsheet!A27>1,3014,\"\")","v":3014}]
[{"$f":"IF(Benchsheet!N28=0,\"-1\",Benchsheet!N28)","v":"-1"},{"$f":"IF(Benchsheet!B28=\"WL001\",\"MPN\",IF(Benchsheet!B28=FALSE,\"\",IF(Benchsheet!B28=\"WL002\",\"MPN\",IF(Benchsheet!B28=\"WL003\",\"MPN\",IF(Benchsheet!B28=\"DS001\",\"TC\")))))","v":"TC"},{"$f":"IF(Benchsheet!A28>1,3014,\"\")","v":3014}]
[{"$f":"IF(Benchsheet!N29=0,\"-1\",Benchsheet!N29)","v":"-1"},{"$f":"IF(Benchsheet!B29=\"WL001\",\"MPN\",IF(Benchsheet!B29=FALSE,\"\",IF(Benchsheet!B29=\"WL002\",\"MPN\",IF(Benchsheet!B29=\"WL003\",\"MPN\",IF(Benchsheet!B29=\"DS001\",\"TC\")))))","v":"TC"},{"$f":"IF(Benchsheet!A29>1,3014,\"\")","v":3014}]
[{"$f":"IF(Benchsheet!N30=0,\"-1\",Benchsheet!N30)","v":"-1"},{"$f":"IF(Benchsheet!B30=\"WL001\",\"MPN\",IF(Benchsheet!B30=FALSE,\"\",IF(Benchsheet!B30=\"WL002\",\"MPN\",IF(Benchsheet!B30=\"WL003\",\"MPN\",IF(Benchsheet!B30=\"DS001\",\"TC\")))))","v":"TC"},{"$f":"IF(Benchsheet!A30>1,3014,\"\")","v":3014}]
[{"$f":"IF(Benchsheet!N31=0,\"-1\",Benchsheet!N31)","v":"-1"},{"$f":"IF(Benchsheet!B31=\"WL001\",\"MPN\",IF(Benchsheet!B31=FALSE,\"\",IF(Benchsheet!B31=\"WL002\",\"MPN\",IF(Benchsheet!B31=\"WL003\",\"MPN\",IF(Benchsheet!B31=\"DS001\",\"TC\")))))","v":"TC"},{"$f":"IF(Benchsheet!A31>1,3014,\"\")","v":3014}]
[{"$f":"IF(Benchsheet!N32=0,\"-1\",Benchsheet!N32)","v":"-1"},{"$f":"IF(Benchsheet!B32=\"WL001\",\"MPN\",IF(Benchsheet!B32=FALSE,\"\",IF(Benchsheet!B32=\"WL002\",\"MPN\",IF(Benchsheet!B32=\"WL003\",\"MPN\",IF(Benchsheet!B32=\"DS001\",\"TC\")))))","v":"TC"},{"$f":"IF(Benchsheet!A32>1,3014,\"\")","v":3014}]
[{"$f":"IF(Benchsheet!N33=0,\"-1\",Benchsheet!N33)","v":"-1"},{"$f":"IF(Benchsheet!B33=\"WL001\",\"MPN\",IF(Benchsheet!B33=FALSE,\"\",IF(Benchsheet!B33=\"WL002\",\"MPN\",IF(Benchsheet!B33=\"WL003\",\"MPN\",IF(Benchsheet!B33=\"DS001\",\"TC\")))))","v":"TC"},{"$f":"IF(Benchsheet!A33>1,3014,\"\")","v":3014}]
[{"$f":"IF(Benchsheet!N34=0,\"-1\",Benchsheet!N34)","v":"-1"},{"$f":"IF(Benchsheet!B34=\"WL001\",\"MPN\",IF(Benchsheet!B34=FALSE,\"\",IF(Benchsheet!B34=\"WL002\",\"MPN\",IF(Benchsheet!B34=\"WL003\",\"MPN\",IF(Benchsheet!B34=\"DS001\",\"TC\")))))","v":"TC"},{"$f":"IF(Benchsheet!A34>1,3014,\"\")","v":3014}]
[{"$f":"IF(Benchsheet!N35=0,\"-1\",Benchsheet!N35)","v":"-1"},{"$f":"IF(Benchsheet!B35=\"WL001\",\"MPN\",IF(Benchsheet!B35=FALSE,\"\",IF(Benchsheet!B35=\"WL002\",\"MPN\",IF(Benchsheet!B35=\"WL003\",\"MPN\",IF(Benchsheet!B35=\"DS001\",\"TC\")))))","v":"TC"},{"$f":"IF(Benchsheet!A35>1,3014,\"\")","v":3014}]
[{"$f":"IF(Benchsheet!N36=0,\"-1\",Benchsheet!N36)","v":"-1"},{"$f":"IF(Benchsheet!B36=\"WL001\",\"MPN\",IF(Benchsheet!B36=FALSE,\"\",IF(Benchsheet!B36=\"WL002\",\"MPN\",IF(Benchsheet!B36=\"WL003\",\"MPN\",IF(Benchsheet!B36=\"DS001\",\"TC\")))))","v":"TC"},{"$f":"IF(Benchsheet!A36>1,3014,\"\")","v":3014}]
[{"$f":"IF(Benchsheet!N37=0,\"-1\",Benchsheet!N37)","v":"-1"},{"$f":"IF(Benchsheet!B37=\"WL001\",\"MPN\",IF(Benchsheet!B37=FALSE,\"\",IF(Benchsheet!B37=\"WL002\",\"MPN\",IF(Benchsheet!B37=\"WL003\",\"MPN\",IF(Benchsheet!B37=\"DS001\",\"TC\")))))","v":"TC"},{"$f":"IF(Benchsheet!A37>1,3014,\"\")","v":3014}]
[{"$f":"IF(Benchsheet!N38=0,\"-1\",Benchsheet!N38)","v":"-1"},{"$f":"IF(Benchsheet!B38=\"WL001\",\"MPN\",IF(Benchsheet!B38=FALSE,\"\",IF(Benchsheet!B38=\"WL002\",\"MPN\",IF(Benchsheet!B38=\"WL003\",\"MPN\",IF(Benchsheet!B38=\"DS001\",\"TC\")))))","v":"TC"},{"$f":"IF(Benchsheet!A38>1,3014,\"\")","v":3014}]
[{"$f":"IF(Benchsheet!N39=0,\"-1\",Benchsheet!N39)","v":"-1"},{"$f":"IF(Benchsheet!B39=\"WL001\",\"MPN\",IF(Benchsheet!B39=FALSE,\"\",IF(Benchsheet!B39=\"WL002\",\"MPN\",IF(Benchsheet!B39=\"WL003\",\"MPN\",IF(Benchsheet!B39=\"DS001\",\"TC\")))))","v":"TC"},{"$f":"IF(Benchsheet!A39>1,3014,\"\")","v":3014}]
[{"$f":"IF(Benchsheet!N40=0,\"-1\",Benchsheet!N40)","v":"-1"},{"$f":"IF(Benchsheet!B40=\"WL001\",\"MPN\",IF(Benchsheet!B40=FALSE,\"\",IF(Benchsheet!B40=\"WL002\",\"MPN\",IF(Benchsheet!B40=\"WL003\",\"MPN\",IF(Benchsheet!B40=\"DS001\",\"TC\")))))","v":"TC"},{"$f":"IF(Benchsheet!A40>1,3014,\"\")","v":3014}]
[{"$f":"IF(Benchsheet!N41=0,\"-1\",Benchsheet!N41)","v":"-1"},{"$f":"IF(Benchsheet!B41=\"WL001\",\"MPN\",IF(Benchsheet!B41=FALSE,\"\",IF(Benchsheet!B41=\"WL002\",\"MPN\",IF(Benchsheet!B41=\"WL003\",\"MPN\",IF(Benchsheet!B41=\"DS001\",\"TC\")))))","v":"TC"},{"$f":"IF(Benchsheet!A41>1,3014,\"\")","v":3014}]
[{"$f":"IF(Benchsheet!N42=0,\"-1\",Benchsheet!N42)","v":"-1"},{"$f":"IF(Benchsheet!B42=\"WL001\",\"MPN\",IF(Benchsheet!B42=FALSE,\"\",IF(Benchsheet!B42=\"WL002\",\"MPN\",IF(Benchsheet!B42=\"WL003\",\"MPN\",IF(Benchsheet!B42=\"DS001\",\"TC\")))))","v":"TC"},{"$f":"IF(Benchsheet!A42>1,3014,\"\")","v":3014}]
[{"$f":"IF(Benchsheet!N43=0,\"-1\",Benchsheet!N43)","v":"-1"},{"$f":"IF(Benchsheet!B43=\"WL001\",\"MPN\",IF(Benchsheet!B43=FALSE,\"\",IF(Benchsheet!B43=\"WL002\",\"MPN\",IF(Benchsheet!B43=\"WL003\",\"MPN\",IF(Benchsheet!B43=\"DS001\",\"TC\")))))","v":"TC"},{"$f":"IF(Benchsheet!A43>1,3014,\"\")","v":3014}]
[{"$f":"IF(Benchsheet!N44=0,\"-1\",Benchsheet!N44)","v":"-1"},{"$f":"IF(Benchsheet!B44=\"WL001\",\"MPN\",IF(Benchsheet!B44=FALSE,\"\",IF(Benchsheet!B44=\"WL002\",\"MPN\",IF(Benchsheet!B44=\"WL003\",\"MPN\",IF(Benchsheet!B44=\"DS001\",\"TC\")))))","v":"TC"},{"$f":"IF(Benchsheet!A44>1,3014,\"\")","v":3014}]
[{"$f":"IF(Benchsheet!N45=0,\"-1\",Benchsheet!N45)","v":"-1"},{"$f":"IF(Benchsheet!B45=\"WL001\",\"MPN\",IF(Benchsheet!B45=FALSE,\"\",IF(Benchsheet!B45=\"WL002\",\"MPN\",IF(Benchsheet!B45=\"WL003\",\"MPN\",IF(Benchsheet!B45=\"DS001\",\"TC\")))))","v":"TC"},{"$f":"IF(Benchsheet!A45>1,3014,\"\")","v":3014}]
[{"$f":"IF(Benchsheet!N46=0,\"-1\",Benchsheet!N46)","v":"-1"},{"$f":"IF(Benchsheet!B46=\"WL001\",\"MPN\",IF(Benchsheet!B46=FALSE,\"\",IF(Benchsheet!B46=\"WL002\",\"MPN\",IF(Benchsheet!B46=\"WL003\",\"MPN\",IF(Benchsheet!B46=\"DS001\",\"TC\")))))","v":"TC"},{"$f":"IF(Benchsheet!A46>1,3014,\"\")","v":3014}]
[{"$f":"IF(Benchsheet!N47=0,\"-1\",Benchsheet!N47)","v":"-1"},{"$f":"IF(Benchsheet!B47=\"WL001\",\"MPN\",IF(Benchsheet!B47=FALSE,\"\",IF(Benchsheet!B47=\"WL002\",\"MPN\",IF(Benchsheet!B47=\"WL003\",\"MPN\",IF(Benchsheet!B47=\"DS001\",\"TC\")))))","v":"TC"},{"$f":"IF(Benchsheet!A47>1,3014,\"\")","v":3014}]
[{"$f":"IF(Benchsheet!N48=0,\"-1\",Benchsheet!N48)","v":"-1"},{"$f":"IF(Benchsheet!B48=\"WL001\",\"MPN\",IF(Benchsheet!B48=FALSE,\"\",IF(Benchsheet!B48=\"WL002\",\"MPN\",IF(Benchsheet!B48=\"WL003\",\"MPN\",IF(Benchsheet!B48=\"DS001\",\"TC\")))))","v":"TC"},{"$f":"IF(Benchsheet!A48>1,3014,\"\")","v":3014}]
[{"$f":"IF(Benchsheet!N49=0,\"-1\",Benchsheet!N49)","v":"-1"},{"$f":"IF(Benchsheet!B49=\"WL001\",\"MPN\",IF(Benchsheet!B49=FALSE,\"\",IF(Benchsheet!B49=\"WL002\",\"MPN\",IF(Benchsheet!B49=\"WL003\",\"MPN\",IF(Benchsheet!B49=\"DS001\",\"TC\")))))","v":"TC"},{"$f":"IF(Benchsheet!A49>1,3014,\"\")","v":3014}]
[{"$f":"IF(Benchsheet!N50=0,\"-1\",Benchsheet!N50)","v":"-1"},{"$f":"IF(Benchsheet!B50=\"WL001\",\"MPN\",IF(Benchsheet!B50=FALSE,\"\",IF(Benchsheet!B50=\"WL002\",\"MPN\",IF(Benchsheet!B50=\"WL003\",\"MPN\",IF(Benchsheet!B50=\"DS001\",\"TC\")))))","v":"TC"},{"$f":"IF(Benchsheet!A50>1,3014,\"\")","v":3014}]
[{"$f":"IF(Benchsheet!N51=0,\"-1\",Benchsheet!N51)","v":"-1"},{"$f":"IF(Benchsheet!B51=\"WL001\",\"MPN\",IF(Benchsheet!B51=FALSE,\"\",IF(Benchsheet!B51=\"WL002\",\"MPN\",IF(Benchsheet!B51=\"WL003\",\"MPN\",IF(Benchsheet!B51=\"DS001\",\"TC\")))))","v":"TC"},{"$f":"IF(Benchsheet!A51>1,3014,\"\")","v":3014}]
[{"$f":"IF(Benchsheet!N52=0,\"-1\",Benchsheet!N52)","v":"-1"},{"$f":"IF(Benchsheet!B52=\"WL001\",\"MPN\",IF(Benchsheet!B52=FALSE,\"\",IF(Benchsheet!B52=\"WL002\",\"MPN\",IF(Benchsheet!B52=\"WL003\",\"MPN\",IF(Benchsheet!B52=\"DS001\",\"TC\")))))","v":"TC"},{"$f":"IF(Benchsheet!A52>1,3014,\"\")","v":3014}]
[{"$f":"IF(Benchsheet!N53=0,\"-1\",Benchsheet!N53)","v":"-1"},{"$f":"IF(Benchsheet!B53=\"WL001\",\"MPN\",IF(Benchsheet!B53=FALSE,\"\",IF(Benchsheet!B53=\"WL002\",\"MPN\",IF(Benchsheet!B53=\"WL003\",\"MPN\",IF(Benchsheet!B53=\"DS001\",\"TC\")))))","v":"TC"},{"$f":"IF(Benchsheet!A53>1,3014,\"\")","v":3014}]
[{"$f":"IF(Benchsheet!N54=0,\"-1\",Benchsheet!N54)","v":"-1"},{"$f":"IF(Benchsheet!B54=\"WL001\",\"MPN\",IF(Benchsheet!B54=FALSE,\"\",IF(Benchsheet!B54=\"WL002\",\"MPN\",IF(Benchsheet!B54=\"WL003\",\"MPN\",IF(Benchsheet!B54=\"DS001\",\"TC\")))))","v":"TC"},{"$f":"IF(Benchsheet!A54>1,3014,\"\")","v":3014}]
[{"$f":"IF(Benchsheet!N55=0,\"-1\",Benchsheet!N55)","v":"-1"},{"$f":"IF(Benchsheet!B55=\"WL001\",\"MPN\",IF(Benchsheet!B55=FALSE,\"\",IF(Benchsheet!B55=\"WL002\",\"MPN\",IF(Benchsheet!B55=\"WL003\",\"MPN\",IF(Benchsheet!B55=\"DS001\",\"TC\")))))","v":"TC"},{"$f":"IF(Benchsheet!A55>1,3014,\"\")","v":3014}]
[{"$f":"IF(Benchsheet!N56=0,\"-1\",Benchsheet!N56)","v":"-1"},{"$f":"IF(Benchsheet!B56=\"WL001\",\"MPN\",IF(Benchsheet!B56=FALSE,\"\",IF(Benchsheet!B56=\"WL002\",\"MPN\",IF(Benchsheet!B56=\"WL003\",\"MPN\",IF(Benchsheet!B56=\"DS001\",\"TC\")))))","v":"TC"},{"$f":"IF(Benchsheet!A56>1,3014,\"\")","v":3014}]
[{"$f":"IF(Benchsheet!N57=0,\"-1\",Benchsheet!N57)","v":"-1"},{"$f":"IF(Benchsheet!B57=\"WL001\",\"MPN\",IF(Benchsheet!B57=FALSE,\"\",IF(Benchsheet!B57=\"WL002\",\"MPN\",IF(Benchsheet!B57=\"WL003\",\"MPN\",IF(Benchsheet!B57=\"DS001\",\"TC\")))))","v":"TC"},{"$f":"IF(Benchsheet!A57>1,3014,\"\")","v":3014}]
[{"$f":"IF(Benchsheet!N58=0,\"-1\",Benchsheet!N58)","v":"-1"},{"$f":"IF(Benchsheet!B58=\"WL001\",\"MPN\",IF(Benchsheet!B58=FALSE,\"\",IF(Benchsheet!B58=\"WL002\",\"MPN\",IF(Benchsheet!B58=\"WL003\",\"MPN\",IF(Benchsheet!B58=\"DS001\",\"TC\")))))","v":"TC"},{"$f":"IF(Benchsheet!A58>1,3014,\"\")","v":3014}]
[{"$f":"IF(Benchsheet!N59=0,\"-1\",Benchsheet!N59)","v":"-1"},{"$f":"IF(Benchsheet!B59=\"WL001\",\"MPN\",IF(Benchsheet!B59=FALSE,\"\",IF(Benchsheet!B59=\"WL002\",\"MPN\",IF(Benchsheet!B59=\"WL003\",\"MPN\",IF(Benchsheet!B59=\"DS001\",\"TC\")))))","v":"TC"},{"$f":"IF(Benchsheet!A59>1,3014,\"\")","v":3014}]
[{"$f":"IF(Benchsheet!N60=0,\"-1\",Benchsheet!N60)","v":"-1"},{"$f":"IF(Benchsheet!B60=\"WL001\",\"MPN\",IF(Benchsheet!B60=FALSE,\"\",IF(Benchsheet!B60=\"WL002\",\"MPN\",IF(Benchsheet!B60=\"WL003\",\"MPN\",IF(Benchsheet!B60=\"DS001\",\"TC\")))))","v":"TC"},{"$f":"IF(Benchsheet!A60>1,3014,\"\")","v":3014}]
[{"$f":"IF(Benchsheet!N61=0,\"-1\",Benchsheet!N61)","v":"-1"},{"$f":"IF(Benchsheet!B61=\"WL001\",\"MPN\",IF(Benchsheet!B61=FALSE,\"\",IF(Benchsheet!B61=\"WL002\",\"MPN\",IF(Benchsheet!B61=\"WL003\",\"MPN\",IF(Benchsheet!B61=\"DS001\",\"TC\")))))","v":"TC"},{"$f":"IF(Benchsheet!A61>1,3014,\"\")","v":3014}]
[{"$f":"IF(Benchsheet!N62=0,\"-1\",Benchsheet!N62)","v":"-1"},{"$f":"IF(Benchsheet!B62=\"WL001\",\"MPN\",IF(Benchsheet!B62=FALSE,\"\",IF(Benchsheet!B62=\"WL002\",\"MPN\",IF(Benchsheet!B62=\"WL003\",\"MPN\",IF(Benchsheet!B62=\"DS001\",\"TC\")))))","v":"TC"},{"$f":"IF(Benchsheet!A62>1,3014,\"\")","v":3014}]
[{"$f":"IF(Benchsheet!N63=0,\"-1\",Benchsheet!N63)","v":"-1"},{"$f":"IF(Benchsheet!B63=\"WL001\",\"MPN\",IF(Benchsheet!B63=FALSE,\"\",IF(Benchsheet!B63=\"WL002\",\"MPN\",IF(Benchsheet!B63=\"WL003\",\"MPN\",IF(Benchsheet!B63=\"DS001\",\"TC\")))))","v":"TC"},{"$f":"IF(Benchsheet!A63>1,3014,\"\")","v":3014}]
[{"$f":"IF(Benchsheet!N64=0,\"-1\",Benchsheet!N64)","v":"-1"},{"$f":"IF(Benchsheet!B64=\"WL001\",\"MPN\",IF(Benchsheet!B64=FALSE,\"\",IF(Benchsheet!B64=\"WL002\",\"MPN\",IF(Benchsheet!B64=\"WL003\",\"MPN\",IF(Benchsheet!B64=\"DS001\",\"TC\")))))","v":"TC"},{"$f":"IF(Benchsheet!A64>1,3014,\"\")","v":3014}]
[{"$f":"IF(Benchsheet!N65=0,\"-1\",Benchsheet!N65)","v":"-1"},{"$f":"IF(Benchsheet!B65=\"WL001\",\"MPN\",IF(Benchsheet!B65=FALSE,\"\",IF(Benchsheet!B65=\"WL002\",\"MPN\",IF(Benchsheet!B65=\"WL003\",\"MPN\",IF(Benchsheet!B65=\"DS001\",\"TC\")))))","v":"TC"},{"$f":"IF(Benchsheet!A65>1,3014,\"\")","v":3014}]
[{"$f":"IF(Benchsheet!N66=0,\"-1\",Benchsheet!N66)","v":"-1"},{"$f":"IF(Benchsheet!B66=\"WL001\",\"MPN\",IF(Benchsheet!B66=FALSE,\"\",IF(Benchsheet!B66=\"WL002\",\"MPN\",IF(Benchsheet!B66=\"WL003\",\"MPN\",IF(Benchsheet!B66=\"DS001\",\"TC\")))))","v":"TC"},{"$f":"IF(Benchsheet!A66>1,3014,\"\")","v":3014}]
[{"$f":"IF(Benchsheet!N67=0,\"-1\",Benchsheet!N67)","v":"-1"},{"$f":"IF(Benchsheet!B67=\"WL001\",\"MPN\",IF(Benchsheet!B67=FALSE,\"\",IF(Benchsheet!B67=\"WL002\",\"MPN\",IF(Benchsheet!B67=\"WL003\",\"MPN\",IF(Benchsheet!B67=\"DS001\",\"TC\")))))","v":"TC"},{"$f":"IF(Benchsheet!A67>1,3014,\"\")","v":3014}]
[{"$f":"IF(Benchsheet!N68=0,\"-1\",Benchsheet!N68)","v":"-1"},{"$f":"IF(Benchsheet!B68=\"WL001\",\"MPN\",IF(Benchsheet!B68=FALSE,\"\",IF(Benchsheet!B68=\"WL002\",\"MPN\",IF(Benchsheet!B68=\"WL003\",\"MPN\",IF(Benchsheet!B68=\"DS001\",\"TC\")))))","v":"TC"},{"$f":"IF(Benchsheet!A68>1,3014,\"\")","v":3014}]
[{"$f":"IF(Benchsheet!N69=0,\"-1\",Benchsheet!N69)","v":"-1"},{"$f":"IF(Benchsheet!B69=\"WL001\",\"MPN\",IF(Benchsheet!B69=FALSE,\"\",IF(Benchsheet!B69=\"WL002\",\"MPN\",IF(Benchsheet!B69=\"WL003\",\"MPN\",IF(Benchsheet!B69=\"DS001\",\"TC\")))))","v":"TC"},{"$f":"IF(Benchsheet!A69>1,3014,\"\")","v":3014}]
[{"$f":"IF(Benchsheet!N70=0,\"-1\",Benchsheet!N70)","v":"-1"},{"$f":"IF(Benchsheet!B70=\"WL001\",\"MPN\",IF(Benchsheet!B70=FALSE,\"\",IF(Benchsheet!B70=\"WL002\",\"MPN\",IF(Benchsheet!B70=\"WL003\",\"MPN\",IF(Benchsheet!B70=\"DS001\",\"TC\")))))","v":"TC"},{"$f":"IF(Benchsheet!A70>1,3014,\"\")","v":3014}]
[{"$f":"IF(Benchsheet!N71=0,\"-1\",Benchsheet!N71)","v":"-1"},{"$f":"IF(Benchsheet!B71=\"WL001\",\"MPN\",IF(Benchsheet!B71=FALSE,\"\",IF(Benchsheet!B71=\"WL002\",\"MPN\",IF(Benchsheet!B71=\"WL003\",\"MPN\",IF(Benchsheet!B71=\"DS001\",\"TC\")))))","v":"TC"},{"$f":"IF(Benchsheet!A71>1,3014,\"\")","v":3014}]
[{"$f":"IF(Benchsheet!N72=0,\"-1\",Benchsheet!N72)","v":"-1"},{"$f":"IF(Benchsheet!B72=\"WL001\",\"MPN\",IF(Benchsheet!B72=FALSE,\"\",IF(Benchsheet!B72=\"WL002\",\"MPN\",IF(Benchsheet!B72=\"WL003\",\"MPN\",IF(Benchsheet!B72=\"DS001\",\"TC\")))))","v":"TC"},{"$f":"IF(Benchsheet!A72>1,3014,\"\")","v":3014}]
[{"$f":"IF(Benchsheet!N73=0,\"-1\",Benchsheet!N73)","v":"-1"},{"$f":"IF(Benchsheet!B73=\"WL001\",\"MPN\",IF(Benchsheet!B73=FALSE,\"\",IF(Benchsheet!B73=\"WL002\",\"MPN\",IF(Benchsheet!B73=\"WL003\",\"MPN\",IF(Benchsheet!B73=\"DS001\",\"TC\")))))","v":"TC"},{"$f":"IF(Benchsheet!A73>1,3014,\"\")","v":3014}]
[{"$f":"IF(Benchsheet!N74=0,\"-1\",Benchsheet!N74)","v":"-1"},{"$f":"IF(Benchsheet!B74=\"WL001\",\"MPN\",IF(Benchsheet!B74=FALSE,\"\",IF(Benchsheet!B74=\"WL002\",\"MPN\",IF(Benchsheet!B74=\"WL003\",\"MPN\",IF(Benchsheet!B74=\"DS001\",\"TC\")))))","v":"TC"},{"$f":"IF(Benchsheet!A74>1,3014,\"\")","v":3014}]
[{"$f":"IF(Benchsheet!N75=0,\"-1\",Benchsheet!N75)","v":"-1"},{"$f":"IF(Benchsheet!B75=\"WL001\",\"MPN\",IF(Benchsheet!B75=FALSE,\"\",IF(Benchsheet!B75=\"WL002\",\"MPN\",IF(Benchsheet!B75=\"WL003\",\"MPN\",IF(Benchsheet!B75=\"DS001\",\"TC\")))))","v":"TC"},{"$f":"IF(Benchsheet!A75>1,3014,\"\")","v":3014}]
[{"$f":"IF(Benchsheet!N76=0,\"-1\",Benchsheet!N76)","v":"-1"},{"$f":"IF(Benchsheet!B76=\"WL001\",\"MPN\",IF(Benchsheet!B76=FALSE,\"\",IF(Benchsheet!B76=\"WL002\",\"MPN\",IF(Benchsheet!B76=\"WL003\",\"MPN\",IF(Benchsheet!B76=\"DS001\",\"TC\")))))","v":"TC"},{"$f":"IF(Benchsheet!A76>1,3014,\"\")","v":3014}]
[{"$f":"IF(Benchsheet!N77=0,\"-1\",Benchsheet!N77)","v":"-1"},{"$f":"IF(Benchsheet!B77=\"WL001\",\"MPN\",IF(Benchsheet!B77=FALSE,\"\",IF(Benchsheet!B77=\"WL002\",\"MPN\",IF(Benchsheet!B77=\"WL003\",\"MPN\",IF(Benchsheet!B77=\"DS001\",\"TC\")))))","v":"TC"},{"$f":"IF(Benchsheet!A77>1,3014,\"\")","v":3014}]
[{"$f":"IF(Benchsheet!N78=0,\"-1\",Benchsheet!N78)","v":"-1"},{"$f":"IF(Benchsheet!B78=\"WL001\",\"MPN\",IF(Benchsheet!B78=FALSE,\"\",IF(Benchsheet!B78=\"WL002\",\"MPN\",IF(Benchsheet!B78=\"WL003\",\"MPN\",IF(Benchsheet!B78=\"DS001\",\"TC\")))))","v":"TC"},{"$f":"IF(Benchsheet!A78>1,3014,\"\")","v":3014}]
[{"$f":"IF(Benchsheet!N79=0,\"-1\",Benchsheet!N79)","v":"-1"},{"$f":"IF(Benchsheet!B79=\"WL001\",\"MPN\",IF(Benchsheet!B79=FALSE,\"\",IF(Benchsheet!B79=\"WL002\",\"MPN\",IF(Benchsheet!B79=\"WL003\",\"MPN\",IF(Benchsheet!B79=\"DS001\",\"TC\")))))","v":"TC"},{"$f":"IF(Benchsheet!A79>1,3014,\"\")","v":3014}]
[{"$f":"IF(Benchsheet!N80=0,\"-1\",Benchsheet!N80)","v":"-1"},{"$f":"IF(Benchsheet!B80=\"WL001\",\"MPN\",IF(Benchsheet!B80=FALSE,\"\",IF(Benchsheet!B80=\"WL002\",\"MPN\",IF(Benchsheet!B80=\"WL003\",\"MPN\",IF(Benchsheet!B80=\"DS001\",\"TC\")))))","v":"TC"},{"$f":"IF(Benchsheet!A80>1,3014,\"\")","v":3014}]
[{"$f":"IF(Benchsheet!N81=0,\"-1\",Benchsheet!N81)","v":"-1"},{"$f":"IF(Benchsheet!B81=\"WL001\",\"MPN\",IF(Benchsheet!B81=FALSE,\"\",IF(Benchsheet!B81=\"WL002\",\"MPN\",IF(Benchsheet!B81=\"WL003\",\"MPN\",IF(Benchsheet!B81=\"DS001\",\"TC\")))))","v":"TC"},{"$f":"IF(Benchsheet!A81>1,3014,\"\")","v":3014}]
[{"$f":"IF(Benchsheet!N82=0,\"-1\",Benchsheet!N82)","v":"-1"},{"$f":"IF(Benchsheet!B82=\"WL001\",\"MPN\",IF(Benchsheet!B82=FALSE,\"\",IF(Benchsheet!B82=\"WL002\",\"MPN\",IF(Benchsheet!B82=\"WL003\",\"MPN\",IF(Benchsheet!B82=\"DS001\",\"TC\")))))","v":"TC"},{"$f":"IF(Benchsheet!A82>1,3014,\"\")","v":3014}]
[{"$f":"IF(Benchsheet!N83=0,\"-1\",Benchsheet!N83)","v":"-1"},{"$f":"IF(Benchsheet!B83=\"WL001\",\"MPN\",IF(Benchsheet!B83=FALSE,\"\",IF(Benchsheet!B83=\"WL002\",\"MPN\",IF(Benchsheet!B83=\"WL003\",\"MPN\",IF(Benchsheet!B83=\"DS001\",\"TC\")))))","v":"TC"},{"$f":"IF(Benchsheet!A83>1,3014,\"\")","v":3014}]
[{"$f":"IF(Benchsheet!N84=0,\"-1\",Benchsheet!N84)","v":"-1"},{"$f":"IF(Benchsheet!B84=\"WL001\",\"MPN\",IF(Benchsheet!B84=FALSE,\"\",IF(Benchsheet!B84=\"WL002\",\"MPN\",IF(Benchsheet!B84=\"WL003\",\"MPN\",IF(Benchsheet!B84=\"DS001\",\"TC\")))))","v":"TC"},{"$f":"IF(Benchsheet!A84>1,3014,\"\")","v":3014}]
[{"$f":"IF(Benchsheet!N85=0,\"-1\",Benchsheet!N85)","v":"-1"},{"$f":"IF(Benchsheet!B85=\"WL001\",\"MPN\",IF(Benchsheet!B85=FALSE,\"\",IF(Benchsheet!B85=\"WL002\",\"MPN\",IF(Benchsheet!B85=\"WL003\",\"MPN\",IF(Benchsheet!B85=\"DS001\",\"TC\")))))","v":""},{"$f":"IF(Benchsheet!A85>1,3014,\"\")","v":""}]
[{"$f":"IF(Benchsheet!N86=0,\"-1\",Benchsheet!N86)","v":"-1"},{"$f":"IF(Benchsheet!B86=\"WL001\",\"MPN\",IF(Benchsheet!B86=FALSE,\"\",IF(Benchsheet!B86=\"WL002\",\"MPN\",IF(Benchsheet!B86=\"WL003\",\"MPN\",IF(Benchsheet!B86=\"DS001\",\"TC\")))))","v":""},{"$f":"IF(Benchsheet!A86>1,3014,\"\")","v":""}]
[{"$f":"IF(Benchsheet!N87=0,\"-1\",Benchsheet!N87)","v":"-1"},{"$f":"IF(Benchsheet!B87=\"WL001\",\"MPN\",IF(Benchsheet!B87=FALSE,\"\",IF(Benchsheet!B87=\"WL002\",\"MPN\",IF(Benchsheet!B87=\"WL003\",\"MPN\",IF(Benchsheet!B87=\"DS001\",\"TC\")))))","v":""},{"$f":"IF(Benchsheet!A87>1,3014,\"\")","v":""}]
[{"$f":"IF(Benchsheet!N88=0,\"-1\",Benchsheet!N88)","v":"-1"},{"$f":"IF(Benchsheet!B88=\"WL001\",\"MPN\",IF(Benchsheet!B88=FALSE,\"\",IF(Benchsheet!B88=\"WL002\",\"MPN\",IF(Benchsheet!B88=\"WL003\",\"MPN\",IF(Benchsheet!B88=\"DS001\",\"TC\")))))","v":""},{"$f":"IF(Benchsheet!A88>1,3014,\"\")","v":""}]
[{"$f":"IF(Benchsheet!N89=0,\"-1\",Benchsheet!N89)","v":"-1"},{"$f":"IF(Benchsheet!B89=\"WL001\",\"MPN\",IF(Benchsheet!B89=FALSE,\"\",IF(Benchsheet!B89=\"WL002\",\"MPN\",IF(Benchsheet!B89=\"WL003\",\"MPN\",IF(Benchsheet!B89=\"DS001\",\"TC\")))))","v":""},{"$f":"IF(Benchsheet!A89>1,3014,\"\")","v":""}]
[{"$f":"IF(Benchsheet!N90=0,\"-1\",Benchsheet!N90)","v":"-1"},{"$f":"IF(Benchsheet!B90=\"WL001\",\"MPN\",IF(Benchsheet!B90=FALSE,\"\",IF(Benchsheet!B90=\"WL002\",\"MPN\",IF(Benchsheet!B90=\"WL003\",\"MPN\",IF(Benchsheet!B90=\"DS001\",\"TC\")))))","v":""},{"$f":"IF(Benchsheet!A90>1,3014,\"\")","v":""}]
[{"$f":"IF(Benchsheet!N91=0,\"-1\",Benchsheet!N91)","v":"-1"},{"$f":"IF(Benchsheet!B91=\"WL001\",\"MPN\",IF(Benchsheet!B91=FALSE,\"\",IF(Benchsheet!B91=\"WL002\",\"MPN\",IF(Benchsheet!B91=\"WL003\",\"MPN\",IF(Benchsheet!B91=\"DS001\",\"TC\")))))","v":""},{"$f":"IF(Benchsheet!A91>1,3014,\"\")","v":""}]
[{"$f":"IF(Benchsheet!N92=0,\"-1\",Benchsheet!N92)","v":"-1"},{"$f":"IF(Benchsheet!B92=\"WL001\",\"MPN\",IF(Benchsheet!B92=FALSE,\"\",IF(Benchsheet!B92=\"WL002\",\"MPN\",IF(Benchsheet!B92=\"WL003\",\"MPN\",IF(Benchsheet!B92=\"DS001\",\"TC\")))))","v":""},{"$f":"IF(Benchsheet!A92>1,3014,\"\")","v":""}]
[{"$f":"IF(Benchsheet!N93=0,\"-1\",Benchsheet!N93)","v":"-1"},{"$f":"IF(Benchsheet!B93=\"WL001\",\"MPN\",IF(Benchsheet!B93=FALSE,\"\",IF(Benchsheet!B93=\"WL002\",\"MPN\",IF(Benchsheet!B93=\"WL003\",\"MPN\",IF(Benchsheet!B93=\"DS001\",\"TC\")))))","v":""},{"$f":"IF(Benchsheet!A93>1,3014,\"\")","v":""}]
[{"$f":"IF(Benchsheet!N94=0,\"-1\",Benchsheet!N94)","v":"-1"},{"$f":"IF(Benchsheet!B94=\"WL001\",\"MPN\",IF(Benchsheet!B94=FALSE,\"\",IF(Benchsheet!B94=\"WL002\",\"MPN\",IF(Benchsheet!B94=\"WL003\",\"MPN\",IF(Benchsheet!B94=\"DS001\",\"TC\")))))","v":""},{"$f":"IF(Benchsheet!A94>1,3014,\"\")","v":""}]
[{"$f":"IF(Benchsheet!N95=0,\"-1\",Benchsheet!N95)","v":"-1"},{"$f":"IF(Benchsheet!B95=\"WL001\",\"MPN\",IF(Benchsheet!B95=FALSE,\"\",IF(Benchsheet!B95=\"WL002\",\"MPN\",IF(Benchsheet!B95=\"WL003\",\"MPN\",IF(Benchsheet!B95=\"DS001\",\"TC\")))))","v":""},{"$f":"IF(Benchsheet!A95>1,3014,\"\")","v":""}]
[{"$f":"IF(Benchsheet!N96=0,\"-1\",Benchsheet!N96)","v":"-1"},{"$f":"IF(Benchsheet!B96=\"WL001\",\"MPN\",IF(Benchsheet!B96=FALSE,\"\",IF(Benchsheet!B96=\"WL002\",\"MPN\",IF(Benchsheet!B96=\"WL003\",\"MPN\",IF(Benchsheet!B96=\"DS001\",\"TC\")))))","v":""},{"$f":"IF(Benchsheet!A96>1,3014,\"\")","v":""}]
[{"$f":"IF(Benchsheet!N97=0,\"-1\",Benchsheet!N97)","v":"-1"},{"$f":"IF(Benchsheet!B97=\"WL001\",\"MPN\",IF(Benchsheet!B97=FALSE,\"\",IF(Benchsheet!B97=\"WL002\",\"MPN\",IF(Benchsheet!B97=\"WL003\",\"MPN\",IF(Benchsheet!B97=\"DS001\",\"TC\")))))","v":""},{"$f":"IF(Benchsheet!A97>1,3014,\"\")","v":""}]
[{"$f":"IF(Benchsheet!N98=0,\"-1\",Benchsheet!N98)","v":"-1"},{"$f":"IF(Benchsheet!B98=\"WL001\",\"MPN\",IF(Benchsheet!B98=FALSE,\"\",IF(Benchsheet!B98=\"WL002\",\"MPN\",IF(Benchsheet!B98=\"WL003\",\"MPN\",IF(Benchsheet!B98=\"DS001\",\"TC\")))))","v":""},{"$f":"IF(Benchsheet!A98>1,3014,\"\")","v":""}]
[{"$f":"IF(Benchsheet!N99=0,\"-1\",Benchsheet!N99)","v":"-1"},{"$f":"IF(Benchsheet!B99=\"WL001\",\"MPN\",IF(Benchsheet!B99=FALSE,\"\",IF(Benchsheet!B99=\"WL002\",\"MPN\",IF(Benchsheet!B99=\"WL003\",\"MPN\",IF(Benchsheet!B99=\"DS001\",\"TC\")))))","v":""},{"$f":"IF(Benchsheet!A99>1,3014,\"\")","v":""}]
[{"$f":"IF(Benchsheet!N100=0,\"-1\",Benchsheet!N100)","v":"-1"},{"$f":"IF(Benchsheet!B100=\"WL001\",\"MPN\",IF(Benchsheet!B100=FALSE,\"\",IF(Benchsheet!B100=\"WL002\",\"MPN\",IF(Benchsheet!B100=\"WL003\",\"MPN\",IF(Benchsheet!B100=\"DS001\",\"TC\")))))","v":""},{"$f":"IF(Benchsheet!A100>1,3014,\"\")","v":""}]
[{"$f":"IF(Benchsheet!N101=0,\"-1\",Benchsheet!N101)","v":"-1"},{"$f":"IF(Benchsheet!B101=\"WL001\",\"MPN\",IF(Benchsheet!B101=FALSE,\"\",IF(Benchsheet!B101=\"WL002\",\"MPN\",IF(Benchsheet!B101=\"WL003\",\"MPN\",IF(Benchsheet!B101=\"DS001\",\"TC\")))))","v":""},{"$f":"IF(Benchsheet!A101>1,3014,\"\")","v":""}]
[{"$f":"IF(Benchsheet!N102=0,\"-1\",Benchsheet!N102)","v":"-1"},{"$f":"IF(Benchsheet!B102=\"WL001\",\"MPN\",IF(Benchsheet!B102=FALSE,\"\",IF(Benchsheet!B102=\"WL002\",\"MPN\",IF(Benchsheet!B102=\"WL003\",\"MPN\",IF(Benchsheet!B102=\"DS001\",\"TC\")))))","v":""},{"$f":"IF(Benchsheet!A102>1,3014,\"\")","v":""}]
[{"$f":"IF(Benchsheet!N103=0,\"-1\",Benchsheet!N103)","v":"-1"},{"$f":"IF(Benchsheet!B103=\"WL001\",\"MPN\",IF(Benchsheet!B103=FALSE,\"\",IF(Benchsheet!B103=\"WL002\",\"MPN\",IF(Benchsheet!B103=\"WL003\",\"MPN\",IF(Benchsheet!B103=\"DS001\",\"TC\")))))","v":""},{"$f":"IF(Benchsheet!A103>1,3014,\"\")","v":""}]
[{"$f":"IF(Benchsheet!N104=0,\"-1\",Benchsheet!N104)","v":"-1"},{"$f":"IF(Benchsheet!B104=\"WL001\",\"MPN\",IF(Benchsheet!B104=FALSE,\"\",IF(Benchsheet!B104=\"WL002\",\"MPN\",IF(Benchsheet!B104=\"WL003\",\"MPN\",IF(Benchsheet!B104=\"DS001\",\"TC\")))))","v":""},{"$f":"IF(Benchsheet!A104>1,3014,\"\")","v":""}]
[{"$f":"IF(Benchsheet!N105=0,\"-1\",Benchsheet!N105)","v":"-1"},{"$f":"IF(Benchsheet!B105=\"WL001\",\"MPN\",IF(Benchsheet!B105=FALSE,\"\",IF(Benchsheet!B105=\"WL002\",\"MPN\",IF(Benchsheet!B105=\"WL003\",\"MPN\",IF(Benchsheet!B105=\"DS001\",\"TC\")))))","v":""},{"$f":"IF(Benchsheet!A105>1,3014,\"\")","v":""}]
[{"$f":"IF(Benchsheet!N106=0,\"-1\",Benchsheet!N106)","v":"-1"},{"$f":"IF(Benchsheet!B106=\"WL001\",\"MPN\",IF(Benchsheet!B106=FALSE,\"\",IF(Benchsheet!B106=\"WL002\",\"MPN\",IF(Benchsheet!B106=\"WL003\",\"MPN\",IF(Benchsheet!B106=\"DS001\",\"TC\")))))","v":""},{"$f":"IF(Benchsheet!A106>1,3014,\"\")","v":""}]
[{"$f":"IF(Benchsheet!N107=0,\"-1\",Benchsheet!N107)","v":"-1"},{"$f":"IF(Benchsheet!B107=\"WL001\",\"MPN\",IF(Benchsheet!B107=FALSE,\"\",IF(Benchsheet!B107=\"WL002\",\"MPN\",IF(Benchsheet!B107=\"WL003\",\"MPN\",IF(Benchsheet!B107=\"DS001\",\"TC\")))))","v":""},{"$f":"IF(Benchsheet!A107>1,3014,\"\")","v":""}]
[{"$f":"IF(Benchsheet!N108=0,\"-1\",Benchsheet!N108)","v":"-1"},{"$f":"IF(Benchsheet!B108=\"WL001\",\"MPN\",IF(Benchsheet!B108=FALSE,\"\",IF(Benchsheet!B108=\"WL002\",\"MPN\",IF(Benchsheet!B108=\"WL003\",\"MPN\",IF(Benchsheet!B108=\"DS001\",\"TC\")))))","v":""},{"$f":"IF(Benchsheet!A108>1,3014,\"\")","v":""}]
[{"$f":"IF(Benchsheet!N109=0,\"-1\",Benchsheet!N109)","v":"-1"},{"$f":"IF(Benchsheet!B109=\"WL001\",\"MPN\",IF(Benchsheet!B109=FALSE,\"\",IF(Benchsheet!B109=\"WL002\",\"MPN\",IF(Benchsheet!B109=\"WL003\",\"MPN\",IF(Benchsheet!B109=\"DS001\",\"TC\")))))","v":""},{"$f":"IF(Benchsheet!A109>1,3014,\"\")","v":""}]
[{"$f":"IF(Benchsheet!N110=0,\"-1\",Benchsheet!N110)","v":"-1"},{"$f":"IF(Benchsheet!B110=\"WL001\",\"MPN\",IF(Benchsheet!B110=FALSE,\"\",IF(Benchsheet!B110=\"WL002\",\"MPN\",IF(Benchsheet!B110=\"WL003\",\"MPN\",IF(Benchsheet!B110=\"DS001\",\"TC\")))))","v":""},{"$f":"IF(Benchsheet!A110>1,3014,\"\")","v":""}]
[{"$f":"IF(Benchsheet!N111=0,\"-1\",Benchsheet!N111)","v":"-1"},{"$f":"IF(Benchsheet!B111=\"WL001\",\"MPN\",IF(Benchsheet!B111=FALSE,\"\",IF(Benchsheet!B111=\"WL002\",\"MPN\",IF(Benchsheet!B111=\"WL003\",\"MPN\",IF(Benchsheet!B111=\"DS001\",\"TC\")))))","v":""},{"$f":"IF(Benchsheet!A111>1,3014,\"\")","v":""}]
[{"$f":"IF(Benchsheet!N112=0,\"-1\",Benchsheet!N112)","v":"-1"},{"$f":"IF(Benchsheet!B112=\"WL001\",\"MPN\",IF(Benchsheet!B112=FALSE,\"\",IF(Benchsheet!B112=\"WL002\",\"MPN\",IF(Benchsheet!B112=\"WL003\",\"MPN\",IF(Benchsheet!B112=\"DS001\",\"TC\")))))","v":""},{"$f":"IF(Benchsheet!A112>1,3014,\"\")","v":""}]
[{"$f":"IF(Benchsheet!N113=0,\"-1\",Benchsheet!N113)","v":"-1"},{"$f":"IF(Benchsheet!B113=\"WL001\",\"MPN\",IF(Benchsheet!B113=FALSE,\"\",IF(Benchsheet!B113=\"WL002\",\"MPN\",IF(Benchsheet!B113=\"WL003\",\"MPN\",IF(Benchsheet!B113=\"DS001\",\"TC\")))))","v":""},{"$f":"IF(Benchsheet!A113>1,3014,\"\")","v":""}]
[{"$f":"IF(Benchsheet!N114=0,\"-1\",Benchsheet!N114)","v":"-1"},{"$f":"IF(Benchsheet!B114=\"WL001\",\"MPN\",IF(Benchsheet!B114=FALSE,\"\",IF(Benchsheet!B114=\"WL002\",\"MPN\",IF(Benchsheet!B114=\"WL003\",\"MPN\",IF(Benchsheet!B114=\"DS001\",\"TC\")))))","v":""},{"$f":"IF(Benchsheet!A114>1,3014,\"\")","v":""}]
[{"$f":"IF(Benchsheet!N115=0,\"-1\",Benchsheet!N115)","v":"-1"},{"$f":"IF(Benchsheet!B115=\"WL001\",\"MPN\",IF(Benchsheet!B115=FALSE,\"\",IF(Benchsheet!B115=\"WL002\",\"MPN\",IF(Benchsheet!B115=\"WL003\",\"MPN\",IF(Benchsheet!B115=\"DS001\",\"TC\")))))","v":""},{"$f":"IF(Benchsheet!A115>1,3014,\"\")","v":""}]
[{"$f":"IF(Benchsheet!N116=0,\"-1\",Benchsheet!N116)","v":"-1"},{"$f":"IF(Benchsheet!B116=\"WL001\",\"MPN\",IF(Benchsheet!B116=FALSE,\"\",IF(Benchsheet!B116=\"WL002\",\"MPN\",IF(Benchsheet!B116=\"WL003\",\"MPN\",IF(Benchsheet!B116=\"DS001\",\"TC\")))))","v":""},{"$f":"IF(Benchsheet!A116>1,3014,\"\")","v":""}]
[{"$f":"IF(Benchsheet!N117=0,\"-1\",Benchsheet!N117)","v":"-1"},{"$f":"IF(Benchsheet!B117=\"WL001\",\"MPN\",IF(Benchsheet!B117=FALSE,\"\",IF(Benchsheet!B117=\"WL002\",\"MPN\",IF(Benchsheet!B117=\"WL003\",\"MPN\",IF(Benchsheet!B117=\"DS001\",\"TC\")))))","v":""},{"$f":"IF(Benchsheet!A117>1,3014,\"\")","v":""}]
[{"$f":"IF(Benchsheet!N118=0,\"-1\",Benchsheet!N118)","v":"-1"},{"$f":"IF(Benchsheet!B118=\"WL001\",\"MPN\",IF(Benchsheet!B118=FALSE,\"\",IF(Benchsheet!B118=\"WL002\",\"MPN\",IF(Benchsheet!B118=\"WL003\",\"MPN\",IF(Benchsheet!B118=\"DS001\",\"TC\")))))","v":""},{"$f":"IF(Benchsheet!A118>1,3014,\"\")","v":""}]
[{"$f":"IF(Benchsheet!N119=0,\"-1\",Benchsheet!N119)","v":"-1"},{"$f":"IF(Benchsheet!B119=\"WL001\",\"MPN\",IF(Benchsheet!B119=FALSE,\"\",IF(Benchsheet!B119=\"WL002\",\"MPN\",IF(Benchsheet!B119=\"WL003\",\"MPN\",IF(Benchsheet!B119=\"DS001\",\"TC\")))))","v":""},{"$f":"IF(Benchsheet!A119>1,3014,\"\")","v":""}]
[{"$f":"IF(Benchsheet!N120=0,\"-1\",Benchsheet!N120)","v":"-1"},{"$f":"IF(Benchsheet!B120=\"WL001\",\"MPN\",IF(Benchsheet!B120=FALSE,\"\",IF(Benchsheet!B120=\"WL002\",\"MPN\",IF(Benchsheet!B120=\"WL003\",\"MPN\",IF(Benchsheet!B120=\"DS001\",\"TC\")))))","v":""},{"$f":"IF(Benchsheet!A120>1,3014,\"\")","v":""}]
[{"$f":"IF(Benchsheet!N121=0,\"-1\",Benchsheet!N121)","v":"-1"},{"$f":"IF(Benchsheet!B121=\"WL001\",\"MPN\",IF(Benchsheet!B121=FALSE,\"\",IF(Benchsheet!B121=\"WL002\",\"MPN\",IF(Benchsheet!B121=\"WL003\",\"MPN\",IF(Benchsheet!B121=\"DS001\",\"TC\")))))","v":""},{"$f":"IF(Benchsheet!A121>1,3014,\"\")","v":""}]
[{"$f":"IF(Benchsheet!N122=0,\"-1\",Benchsheet!N122)","v":"-1"},{"$f":"IF(Benchsheet!B122=\"WL001\",\"MPN\",IF(Benchsheet!B122=FALSE,\"\",IF(Benchsheet!B122=\"WL002\",\"MPN\",IF(Benchsheet!B122=\"WL003\",\"MPN\",IF(Benchsheet!B122=\"DS001\",\"TC\")))))","v":""},{"$f":"IF(Benchsheet!A122>1,3014,\"\")","v":""}]
[{"$f":"IF(Benchsheet!N123=0,\"-1\",Benchsheet!N123)","v":"-1"},{"$f":"IF(Benchsheet!B123=\"WL001\",\"MPN\",IF(Benchsheet!B123=FALSE,\"\",IF(Benchsheet!B123=\"WL002\",\"MPN\",IF(Benchsheet!B123=\"WL003\",\"MPN\",IF(Benchsheet!B123=\"DS001\",\"TC\")))))","v":""},{"$f":"IF(Benchsheet!A123>1,3014,\"\")","v":""}]
[{"$f":"IF(Benchsheet!N124=0,\"-1\",Benchsheet!N124)","v":"-1"},{"$f":"IF(Benchsheet!B124=\"WL001\",\"MPN\",IF(Benchsheet!B124=FALSE,\"\",IF(Benchsheet!B124=\"WL002\",\"MPN\",IF(Benchsheet!B124=\"WL003\",\"MPN\",IF(Benchsheet!B124=\"DS001\",\"TC\")))))","v":""},{"$f":"IF(Benchsheet!A124>1,3014,\"\")","v":""}]
[{"$f":"IF(Benchsheet!N125=0,\"-1\",Benchsheet!N125)","v":"-1"},{"$f":"IF(Benchsheet!B125=\"WL001\",\"MPN\",IF(Benchsheet!B125=FALSE,\"\",IF(Benchsheet!B125=\"WL002\",\"MPN\",IF(Benchsheet!B125=\"WL003\",\"MPN\",IF(Benchsheet!B125=\"DS001\",\"TC\")))))","v":""},{"$f":"IF(Benchsheet!A125>1,3014,\"\")","v":""}]
[{"$f":"IF(Benchsheet!N126=0,\"-1\",Benchsheet!N126)","v":"-1"},{"$f":"IF(Benchsheet!B126=\"WL001\",\"MPN\",IF(Benchsheet!B126=FALSE,\"\",IF(Benchsheet!B126=\"WL002\",\"MPN\",IF(Benchsheet!B126=\"WL003\",\"MPN\",IF(Benchsheet!B126=\"DS001\",\"TC\")))))","v":""},{"$f":"IF(Benchsheet!A126>1,3014,\"\")","v":""}]
[{"$f":"IF(Benchsheet!N127=0,\"-1\",Benchsheet!N127)","v":"-1"},{"$f":"IF(Benchsheet!B127=\"WL001\",\"MPN\",IF(Benchsheet!B127=FALSE,\"\",IF(Benchsheet!B127=\"WL002\",\"MPN\",IF(Benchsheet!B127=\"WL003\",\"MPN\",IF(Benchsheet!B127=\"DS001\",\"TC\")))))","v":""},{"$f":"IF(Benchsheet!A127>1,3014,\"\")","v":""}]
[{"$f":"IF(Benchsheet!N128=0,\"-1\",Benchsheet!N128)","v":"-1"},{"$f":"IF(Benchsheet!B128=\"WL001\",\"MPN\",IF(Benchsheet!B128=FALSE,\"\",IF(Benchsheet!B128=\"WL002\",\"MPN\",IF(Benchsheet!B128=\"WL003\",\"MPN\",IF(Benchsheet!B128=\"DS001\",\"TC\")))))","v":""},{"$f":"IF(Benchsheet!A128>1,3014,\"\")","v":""}]
[{"$f":"IF(Benchsheet!N129=0,\"-1\",Benchsheet!N129)","v":"-1"},{"$f":"IF(Benchsheet!B129=\"WL001\",\"MPN\",IF(Benchsheet!B129=FALSE,\"\",IF(Benchsheet!B129=\"WL002\",\"MPN\",IF(Benchsheet!B129=\"WL003\",\"MPN\",IF(Benchsheet!B129=\"DS001\",\"TC\")))))","v":""},{"$f":"IF(Benchsheet!A129>1,3014,\"\")","v":""}]
[{"$f":"IF(Benchsheet!N130=0,\"-1\",Benchsheet!N130)","v":"-1"},{"$f":"IF(Benchsheet!B130=\"WL001\",\"MPN\",IF(Benchsheet!B130=FALSE,\"\",IF(Benchsheet!B130=\"WL002\",\"MPN\",IF(Benchsheet!B130=\"WL003\",\"MPN\",IF(Benchsheet!B130=\"DS001\",\"TC\")))))","v":""},{"$f":"IF(Benchsheet!A130>1,3014,\"\")","v":""}]
[{"$f":"IF(Benchsheet!N131=0,\"-1\",Benchsheet!N131)","v":"-1"},{"$f":"IF(Benchsheet!B131=\"WL001\",\"MPN\",IF(Benchsheet!B131=FALSE,\"\",IF(Benchsheet!B131=\"WL002\",\"MPN\",IF(Benchsheet!B131=\"WL003\",\"MPN\",IF(Benchsheet!B131=\"DS001\",\"TC\")))))","v":""},{"$f":"IF(Benchsheet!A131>1,3014,\"\")","v":""}]
[{"$f":"IF(Benchsheet!N132=0,\"-1\",Benchsheet!N132)","v":"-1"},{"$f":"IF(Benchsheet!B132=\"WL001\",\"MPN\",IF(Benchsheet!B132=FALSE,\"\",IF(Benchsheet!B132=\"WL002\",\"MPN\",IF(Benchsheet!B132=\"WL003\",\"MPN\",IF(Benchsheet!B132=\"DS001\",\"TC\")))))","v":""},{"$f":"IF(Benchsheet!A132>1,3014,\"\")","v":""}]
[{"$f":"IF(Benchsheet!N133=0,\"-1\",Benchsheet!N133)","v":"-1"},{"$f":"IF(Benchsheet!B133=\"WL001\",\"MPN\",IF(Benchsheet!B133=FALSE,\"\",IF(Benchsheet!B133=\"WL002\",\"MPN\",IF(Benchsheet!B133=\"WL003\",\"MPN\",IF(Benchsheet!B133=\"DS001\",\"TC\")))))","v":""},{"$f":"IF(Benchsheet!A133>1,3014,\"\")","v":""}]
[{"$f":"IF(Benchsheet!N134=0,\"-1\",Benchsheet!N134)","v":"-1"},{"$f":"IF(Benchsheet!B134=\"WL001\",\"MPN\",IF(Benchsheet!B134=FALSE,\"\",IF(Benchsheet!B134=\"WL002\",\"MPN\",IF(Benchsheet!B134=\"WL003\",\"MPN\",IF(Benchsheet!B134=\"DS001\",\"TC\")))))","v":""},{"$f":"IF(Benchsheet!A134>1,3014,\"\")","v":""}]
[{"$f":"IF(Benchsheet!N135=0,\"-1\",Benchsheet!N135)","v":"-1"},{"$f":"IF(Benchsheet!B135=\"WL001\",\"MPN\",IF(Benchsheet!B135=FALSE,\"\",IF(Benchsheet!B135=\"WL002\",\"MPN\",IF(Benchsheet!B135=\"WL003\",\"MPN\",IF(Benchsheet!B135=\"DS001\",\"TC\")))))","v":""},{"$f":"IF(Benchsheet!A135>1,3014,\"\")","v":""}]
[{"$f":"IF(Benchsheet!N136=0,\"-1\",Benchsheet!N136)","v":"-1"},{"$f":"IF(Benchsheet!B136=\"WL001\",\"MPN\",IF(Benchsheet!B136=FALSE,\"\",IF(Benchsheet!B136=\"WL002\",\"MPN\",IF(Benchsheet!B136=\"WL003\",\"MPN\",IF(Benchsheet!B136=\"DS001\",\"TC\")))))","v":""},{"$f":"IF(Benchsheet!A136>1,3014,\"\")","v":""}]
[{"$f":"IF(Benchsheet!N137=0,\"-1\",Benchsheet!N137)","v":"-1"},{"$f":"IF(Benchsheet!B137=\"WL001\",\"MPN\",IF(Benchsheet!B137=FALSE,\"\",IF(Benchsheet!B137=\"WL002\",\"MPN\",IF(Benchsheet!B137=\"WL003\",\"MPN\",IF(Benchsheet!B137=\"DS001\",\"TC\")))))","v":""},{"$f":"IF(Benchsheet!A137>1,3014,\"\")","v":""}]
[{"$f":"IF(Benchsheet!N138=0,\"-1\",Benchsheet!N138)","v":"-1"},{"$f":"IF(Benchsheet!B138=\"WL001\",\"MPN\",IF(Benchsheet!B138=FALSE,\"\",IF(Benchsheet!B138=\"WL002\",\"MPN\",IF(Benchsheet!B138=\"WL003\",\"MPN\",IF(Benchsheet!B138=\"DS001\",\"TC\")))))","v":""},{"$f":"IF(Benchsheet!A138>1,3014,\"\")","v":""}]
[{"$f":"IF(Benchsheet!N139=0,\"-1\",Benchsheet!N139)","v":"-1"},{"$f":"IF(Benchsheet!B139=\"WL001\",\"MPN\",IF(Benchsheet!B139=FALSE,\"\",IF(Benchsheet!B139=\"WL002\",\"MPN\",IF(Benchsheet!B139=\"WL003\",\"MPN\",IF(Benchsheet!B139=\"DS001\",\"TC\")))))","v":""},{"$f":"IF(Benchsheet!A139>1,3014,\"\")","v":""}]
[{"$f":"IF(Benchsheet!N140=0,\"-1\",Benchsheet!N140)","v":"-1"},{"$f":"IF(Benchsheet!B140=\"WL001\",\"MPN\",IF(Benchsheet!B140=FALSE,\"\",IF(Benchsheet!B140=\"WL002\",\"MPN\",IF(Benchsheet!B140=\"WL003\",\"MPN\",IF(Benchsheet!B140=\"DS001\",\"TC\")))))","v":""},{"$f":"IF(Benchsheet!A140>1,3014,\"\")","v":""}]
[{"$f":"IF(Benchsheet!N141=0,\"-1\",Benchsheet!N141)","v":"-1"},{"$f":"IF(Benchsheet!B141=\"WL001\",\"MPN\",IF(Benchsheet!B141=FALSE,\"\",IF(Benchsheet!B141=\"WL002\",\"MPN\",IF(Benchsheet!B141=\"WL003\",\"MPN\",IF(Benchsheet!B141=\"DS001\",\"TC\")))))","v":""},{"$f":"IF(Benchsheet!A141>1,3014,\"\")","v":""}]
[{"$f":"IF(Benchsheet!N142=0,\"-1\",Benchsheet!N142)","v":"-1"},{"$f":"IF(Benchsheet!B142=\"WL001\",\"MPN\",IF(Benchsheet!B142=FALSE,\"\",IF(Benchsheet!B142=\"WL002\",\"MPN\",IF(Benchsheet!B142=\"WL003\",\"MPN\",IF(Benchsheet!B142=\"DS001\",\"TC\")))))","v":""},{"$f":"IF(Benchsheet!A142>1,3014,\"\")","v":""}]
[{"$f":"IF(Benchsheet!N143=0,\"-1\",Benchsheet!N143)","v":"-1"},{"$f":"IF(Benchsheet!B143=\"WL001\",\"MPN\",IF(Benchsheet!B143=FALSE,\"\",IF(Benchsheet!B143=\"WL002\",\"MPN\",IF(Benchsheet!B143=\"WL003\",\"MPN\",IF(Benchsheet!B143=\"DS001\",\"TC\")))))","v":""},{"$f":"IF(Benchsheet!A143>1,3014,\"\")","v":""}]
[{"$f":"IF(Benchsheet!N144=0,\"-1\",Benchsheet!N144)","v":"-1"},{"$f":"IF(Benchsheet!B144=\"WL001\",\"MPN\",IF(Benchsheet!B144=FALSE,\"\",IF(Benchsheet!B144=\"WL002\",\"MPN\",IF(Benchsheet!B144=\"WL003\",\"MPN\",IF(Benchsheet!B144=\"DS001\",\"TC\")))))","v":""},{"$f":"IF(Benchsheet!A144>1,3014,\"\")","v":""}]
[{"$f":"IF(Benchsheet!N145=0,\"-1\",Benchsheet!N145)","v":"-1"},{"$f":"IF(Benchsheet!B145=\"WL001\",\"MPN\",IF(Benchsheet!B145=FALSE,\"\",IF(Benchsheet!B145=\"WL002\",\"MPN\",IF(Benchsheet!B145=\"WL003\",\"MPN\",IF(Benchsheet!B145=\"DS001\",\"TC\")))))","v":""},{"$f":"IF(Benchsheet!A145>1,3014,\"\")","v":""}]
[{"$f":"IF(Benchsheet!N146=0,\"-1\",Benchsheet!N146)","v":"-1"},{"$f":"IF(Benchsheet!B146=\"WL001\",\"MPN\",IF(Benchsheet!B146=FALSE,\"\",IF(Benchsheet!B146=\"WL002\",\"MPN\",IF(Benchsheet!B146=\"WL003\",\"MPN\",IF(Benchsheet!B146=\"DS001\",\"TC\")))))","v":""},{"$f":"IF(Benchsheet!A146>1,3014,\"\")","v":""}]
[{"$f":"IF(Benchsheet!N147=0,\"-1\",Benchsheet!N147)","v":"-1"},{"$f":"IF(Benchsheet!B147=\"WL001\",\"MPN\",IF(Benchsheet!B147=FALSE,\"\",IF(Benchsheet!B147=\"WL002\",\"MPN\",IF(Benchsheet!B147=\"WL003\",\"MPN\",IF(Benchsheet!B147=\"DS001\",\"TC\")))))","v":""},{"$f":"IF(Benchsheet!A147>1,3014,\"\")","v":""}]
[{"$f":"IF(Benchsheet!N148=0,\"-1\",Benchsheet!N148)","v":"-1"},{"$f":"IF(Benchsheet!B148=\"WL001\",\"MPN\",IF(Benchsheet!B148=FALSE,\"\",IF(Benchsheet!B148=\"WL002\",\"MPN\",IF(Benchsheet!B148=\"WL003\",\"MPN\",IF(Benchsheet!B148=\"DS001\",\"TC\")))))","v":""},{"$f":"IF(Benchsheet!A148>1,3014,\"\")","v":""}]
[{"$f":"IF(Benchsheet!N149=0,\"-1\",Benchsheet!N149)","v":"-1"},{"$f":"IF(Benchsheet!B149=\"WL001\",\"MPN\",IF(Benchsheet!B149=FALSE,\"\",IF(Benchsheet!B149=\"WL002\",\"MPN\",IF(Benchsheet!B149=\"WL003\",\"MPN\",IF(Benchsheet!B149=\"DS001\",\"TC\")))))","v":""},{"$f":"IF(Benchsheet!A149>1,3014,\"\")","v":""}]
[{"$f":"IF(Benchsheet!N150=0,\"-1\",Benchsheet!N150)","v":"-1"},{"$f":"IF(Benchsheet!B150=\"WL001\",\"MPN\",IF(Benchsheet!B150=FALSE,\"\",IF(Benchsheet!B150=\"WL002\",\"MPN\",IF(Benchsheet!B150=\"WL003\",\"MPN\",IF(Benchsheet!B150=\"DS001\",\"TC\")))))","v":""},{"$f":"IF(Benchsheet!A150>1,3014,\"\")","v":""}]
[{"$f":"IF(Benchsheet!N151=0,\"-1\",Benchsheet!N151)","v":"-1"},{"$f":"IF(Benchsheet!B151=\"WL001\",\"MPN\",IF(Benchsheet!B151=FALSE,\"\",IF(Benchsheet!B151=\"WL002\",\"MPN\",IF(Benchsheet!B151=\"WL003\",\"MPN\",IF(Benchsheet!B151=\"DS001\",\"TC\")))))","v":""},{"$f":"IF(Benchsheet!A151>1,3014,\"\")","v":""}]
[{"$f":"IF(Benchsheet!N152=0,\"-1\",Benchsheet!N152)","v":"-1"},{"$f":"IF(Benchsheet!B152=\"WL001\",\"MPN\",IF(Benchsheet!B152=FALSE,\"\",IF(Benchsheet!B152=\"WL002\",\"MPN\",IF(Benchsheet!B152=\"WL003\",\"MPN\",IF(Benchsheet!B152=\"DS001\",\"TC\")))))","v":""},{"$f":"IF(Benchsheet!A152>1,3014,\"\")","v":""}]
[{"$f":"IF(Benchsheet!N153=0,\"-1\",Benchsheet!N153)","v":"-1"},{"$f":"IF(Benchsheet!B153=\"WL001\",\"MPN\",IF(Benchsheet!B153=FALSE,\"\",IF(Benchsheet!B153=\"WL002\",\"MPN\",IF(Benchsheet!B153=\"WL003\",\"MPN\",IF(Benchsheet!B153=\"DS001\",\"TC\")))))","v":""},{"$f":"IF(Benchsheet!A153>1,3014,\"\")","v":""}]
[{"$f":"IF(Benchsheet!N154=0,\"-1\",Benchsheet!N154)","v":"-1"},{"$f":"IF(Benchsheet!B154=\"WL001\",\"MPN\",IF(Benchsheet!B154=FALSE,\"\",IF(Benchsheet!B154=\"WL002\",\"MPN\",IF(Benchsheet!B154=\"WL003\",\"MPN\",IF(Benchsheet!B154=\"DS001\",\"TC\")))))","v":""},{"$f":"IF(Benchsheet!A154>1,3014,\"\")","v":""}]
[{"$f":"IF(Benchsheet!N155=0,\"-1\",Benchsheet!N155)","v":"-1"},{"$f":"IF(Benchsheet!B155=\"WL001\",\"MPN\",IF(Benchsheet!B155=FALSE,\"\",IF(Benchsheet!B155=\"WL002\",\"MPN\",IF(Benchsheet!B155=\"WL003\",\"MPN\",IF(Benchsheet!B155=\"DS001\",\"TC\")))))","v":""},{"$f":"IF(Benchsheet!A155>1,3014,\"\")","v":""}]
[{"$f":"IF(Benchsheet!N156=0,\"-1\",Benchsheet!N156)","v":"-1"},{"$f":"IF(Benchsheet!B156=\"WL001\",\"MPN\",IF(Benchsheet!B156=FALSE,\"\",IF(Benchsheet!B156=\"WL002\",\"MPN\",IF(Benchsheet!B156=\"WL003\",\"MPN\",IF(Benchsheet!B156=\"DS001\",\"TC\")))))","v":""},{"$f":"IF(Benchsheet!A156>1,3014,\"\")","v":""}]
[{"$f":"IF(Benchsheet!N157=0,\"-1\",Benchsheet!N157)","v":"-1"},{"$f":"IF(Benchsheet!B157=\"WL001\",\"MPN\",IF(Benchsheet!B157=FALSE,\"\",IF(Benchsheet!B157=\"WL002\",\"MPN\",IF(Benchsheet!B157=\"WL003\",\"MPN\",IF(Benchsheet!B157=\"DS001\",\"TC\")))))","v":""},{"$f":"IF(Benchsheet!A157>1,3014,\"\")","v":""}]
[{"$f":"IF(Benchsheet!N158=0,\"-1\",Benchsheet!N158)","v":"-1"},{"$f":"IF(Benchsheet!B158=\"WL001\",\"MPN\",IF(Benchsheet!B158=FALSE,\"\",IF(Benchsheet!B158=\"WL002\",\"MPN\",IF(Benchsheet!B158=\"WL003\",\"MPN\",IF(Benchsheet!B158=\"DS001\",\"TC\")))))","v":""},{"$f":"IF(Benchsheet!A158>1,3014,\"\")","v":""}]
[{"$f":"IF(Benchsheet!N159=0,\"-1\",Benchsheet!N159)","v":"-1"},{"$f":"IF(Benchsheet!B159=\"WL001\",\"MPN\",IF(Benchsheet!B159=FALSE,\"\",IF(Benchsheet!B159=\"WL002\",\"MPN\",IF(Benchsheet!B159=\"WL003\",\"MPN\",IF(Benchsheet!B159=\"DS001\",\"TC\")))))","v":""},{"$f":"IF(Benchsheet!A159>1,3014,\"\")","v":""}]
[{"$f":"IF(Benchsheet!N160=0,\"-1\",Benchsheet!N160)","v":"-1"},{"$f":"IF(Benchsheet!B160=\"WL001\",\"MPN\",IF(Benchsheet!B160=FALSE,\"\",IF(Benchsheet!B160=\"WL002\",\"MPN\",IF(Benchsheet!B160=\"WL003\",\"MPN\",IF(Benchsheet!B160=\"DS001\",\"TC\")))))","v":""},{"$f":"IF(Benchsheet!A160>1,3014,\"\")","v":""}]
[{"$f":"IF(Benchsheet!N161=0,\"-1\",Benchsheet!N161)","v":"-1"},{"$f":"IF(Benchsheet!B161=\"WL001\",\"MPN\",IF(Benchsheet!B161=FALSE,\"\",IF(Benchsheet!B161=\"WL002\",\"MPN\",IF(Benchsheet!B161=\"WL003\",\"MPN\",IF(Benchsheet!B161=\"DS001\",\"TC\")))))","v":""},{"$f":"IF(Benchsheet!A161>1,3014,\"\")","v":""}]
[{"$f":"IF(Benchsheet!N162=0,\"-1\",Benchsheet!N162)","v":"-1"},{"$f":"IF(Benchsheet!B162=\"WL001\",\"MPN\",IF(Benchsheet!B162=FALSE,\"\",IF(Benchsheet!B162=\"WL002\",\"MPN\",IF(Benchsheet!B162=\"WL003\",\"MPN\",IF(Benchsheet!B162=\"DS001\",\"TC\")))))","v":""},{"$f":"IF(Benchsheet!A162>1,3014,\"\")","v":""}]
[{"$f":"IF(Benchsheet!N163=0,\"-1\",Benchsheet!N163)","v":"-1"},{"$f":"IF(Benchsheet!B163=\"WL001\",\"MPN\",IF(Benchsheet!B163=FALSE,\"\",IF(Benchsheet!B163=\"WL002\",\"MPN\",IF(Benchsheet!B163=\"WL003\",\"MPN\",IF(Benchsheet!B163=\"DS001\",\"TC\")))))","v":""},{"$f":"IF(Benchsheet!A163>1,3014,\"\")","v":""}]
[{"$f":"IF(Benchsheet!N164=0,\"-1\",Benchsheet!N164)","v":"-1"},{"$f":"IF(Benchsheet!B164=\"WL001\",\"MPN\",IF(Benchsheet!B164=FALSE,\"\",IF(Benchsheet!B164=\"WL002\",\"MPN\",IF(Benchsheet!B164=\"WL003\",\"MPN\",IF(Benchsheet!B164=\"DS001\",\"TC\")))))","v":""},{"$f":"IF(Benchsheet!A164>1,3014,\"\")","v":""}]
[{"$f":"IF(Benchsheet!N165=0,\"-1\",Benchsheet!N165)","v":"-1"},{"$f":"IF(Benchsheet!B165=\"WL001\",\"MPN\",IF(Benchsheet!B165=FALSE,\"\",IF(Benchsheet!B165=\"WL002\",\"MPN\",IF(Benchsheet!B165=\"WL003\",\"MPN\",IF(Benchsheet!B165=\"DS001\",\"TC\")))))","v":""},{"$f":"IF(Benchsheet!A165>1,3014,\"\")","v":""}]
[{"$f":"IF(Benchsheet!N166=0,\"-1\",Benchsheet!N166)","v":"-1"},{"$f":"IF(Benchsheet!B166=\"WL001\",\"MPN\",IF(Benchsheet!B166=FALSE,\"\",IF(Benchsheet!B166=\"WL002\",\"MPN\",IF(Benchsheet!B166=\"WL003\",\"MPN\",IF(Benchsheet!B166=\"DS001\",\"TC\")))))","v":""},{"$f":"IF(Benchsheet!A166>1,3014,\"\")","v":""}]
[{"$f":"IF(Benchsheet!N167=0,\"-1\",Benchsheet!N167)","v":"-1"},{"$f":"IF(Benchsheet!B167=\"WL001\",\"MPN\",IF(Benchsheet!B167=FALSE,\"\",IF(Benchsheet!B167=\"WL002\",\"MPN\",IF(Benchsheet!B167=\"WL003\",\"MPN\",IF(Benchsheet!B167=\"DS001\",\"TC\")))))","v":""},{"$f":"IF(Benchsheet!A167>1,3014,\"\")","v":""}]
[{"$f":"IF(Benchsheet!N168=0,\"-1\",Benchsheet!N168)","v":"-1"},{"$f":"IF(Benchsheet!B168=\"WL001\",\"MPN\",IF(Benchsheet!B168=FALSE,\"\",IF(Benchsheet!B168=\"WL002\",\"MPN\",IF(Benchsheet!B168=\"WL003\",\"MPN\",IF(Benchsheet!B168=\"DS001\",\"TC\")))))","v":""},{"$f":"IF(Benchsheet!A168>1,3014,\"\")","v":""}]
[{"$f":"IF(Benchsheet!N169=0,\"-1\",Benchsheet!N169)","v":"-1"},{"$f":"IF(Benchsheet!B169=\"WL001\",\"MPN\",IF(Benchsheet!B169=FALSE,\"\",IF(Benchsheet!B169=\"WL002\",\"MPN\",IF(Benchsheet!B169=\"WL003\",\"MPN\",IF(Benchsheet!B169=\"DS001\",\"TC\")))))","v":""},{"$f":"IF(Benchsheet!A169>1,3014,\"\")","v":""}]
[{"$f":"IF(Benchsheet!N170=0,\"-1\",Benchsheet!N170)","v":"-1"},{"$f":"IF(Benchsheet!B170=\"WL001\",\"MPN\",IF(Benchsheet!B170=FALSE,\"\",IF(Benchsheet!B170=\"WL002\",\"MPN\",IF(Benchsheet!B170=\"WL003\",\"MPN\",IF(Benchsheet!B170=\"DS001\",\"TC\")))))","v":""},{"$f":"IF(Benchsheet!A170>1,3014,\"\")","v":""}]
[{"$f":"IF(Benchsheet!N171=0,\"-1\",Benchsheet!N171)","v":"-1"},{"$f":"IF(Benchsheet!B171=\"WL001\",\"MPN\",IF(Benchsheet!B171=FALSE,\"\",IF(Benchsheet!B171=\"WL002\",\"MPN\",IF(Benchsheet!B171=\"WL003\",\"MPN\",IF(Benchsheet!B171=\"DS001\",\"TC\")))))","v":""},{"$f":"IF(Benchsheet!A171>1,3014,\"\")","v":""}]
[{"$f":"IF(Benchsheet!N172=0,\"-1\",Benchsheet!N172)","v":"-1"},{"$f":"IF(Benchsheet!B172=\"WL001\",\"MPN\",IF(Benchsheet!B172=FALSE,\"\",IF(Benchsheet!B172=\"WL002\",\"MPN\",IF(Benchsheet!B172=\"WL003\",\"MPN\",IF(Benchsheet!B172=\"DS001\",\"TC\")))))","v":""},{"$f":"IF(Benchsheet!A172>1,3014,\"\")","v":""}]
[{"$f":"IF(Benchsheet!N173=0,\"-1\",Benchsheet!N173)","v":"-1"},{"$f":"IF(Benchsheet!B173=\"WL001\",\"MPN\",IF(Benchsheet!B173=FALSE,\"\",IF(Benchsheet!B173=\"WL002\",\"MPN\",IF(Benchsheet!B173=\"WL003\",\"MPN\",IF(Benchsheet!B173=\"DS001\",\"TC\")))))","v":""},{"$f":"IF(Benchsheet!A173>1,3014,\"\")","v":""}]
[{"$f":"IF(Benchsheet!N174=0,\"-1\",Benchsheet!N174)","v":"-1"},{"$f":"IF(Benchsheet!B174=\"WL001\",\"MPN\",IF(Benchsheet!B174=FALSE,\"\",IF(Benchsheet!B174=\"WL002\",\"MPN\",IF(Benchsheet!B174=\"WL003\",\"MPN\",IF(Benchsheet!B174=\"DS001\",\"TC\")))))","v":""},{"$f":"IF(Benchsheet!A174>1,3014,\"\")","v":""}]
[{"$f":"IF(Benchsheet!N175=0,\"-1\",Benchsheet!N175)","v":"-1"},{"$f":"IF(Benchsheet!B175=\"WL001\",\"MPN\",IF(Benchsheet!B175=FALSE,\"\",IF(Benchsheet!B175=\"WL002\",\"MPN\",IF(Benchsheet!B175=\"WL003\",\"MPN\",IF(Benchsheet!B175=\"DS001\",\"TC\")))))","v":""},{"$f":"IF(Benchsheet!A175>1,3014,\"\")","v":""}]
[{"$f":"IF(Benchsheet!N176=0,\"-1\",Benchsheet!N176)","v":"-1"},{"$f":"IF(Benchsheet!B176=\"WL001\",\"MPN\",IF(Benchsheet!B176=FALSE,\"\",IF(Benchsheet!B176=\"WL002\",\"MPN\",IF(Benchsheet!B176=\"WL003\",\"MPN\",IF(Benchsheet!B176=\"DS001\",\"TC\")))))","v":""},{"$f":"IF(Benchsheet!A176>1,3014,\"\")","v":""}]
[{"$f":"IF(Benchsheet!N177=0,\"-1\",Benchsheet!N177)","v":"-1"},{"$f":"IF(Benchsheet!B177=\"WL001\",\"MPN\",IF(Benchsheet!B177=FALSE,\"\",IF(Benchsheet!B177=\"WL002\",\"MPN\",IF(Benchsheet!B177=\"WL003\",\"MPN\",IF(Benchsheet!B177=\"DS001\",\"TC\")))))","v":""},{"$f":"IF(Benchsheet!A177>1,3014,\"\")","v":""}]
[{"$f":"IF(Benchsheet!N178=0,\"-1\",Benchsheet!N178)","v":"-1"},{"$f":"IF(Benchsheet!B178=\"WL001\",\"MPN\",IF(Benchsheet!B178=FALSE,\"\",IF(Benchsheet!B178=\"WL002\",\"MPN\",IF(Benchsheet!B178=\"WL003\",\"MPN\",IF(Benchsheet!B178=\"DS001\",\"TC\")))))","v":""},{"$f":"IF(Benchsheet!A178>1,3014,\"\")","v":""}]
[{"$f":"IF(Benchsheet!N179=0,\"-1\",Benchsheet!N179)","v":"-1"},{"$f":"IF(Benchsheet!B179=\"WL001\",\"MPN\",IF(Benchsheet!B179=FALSE,\"\",IF(Benchsheet!B179=\"WL002\",\"MPN\",IF(Benchsheet!B179=\"WL003\",\"MPN\",IF(Benchsheet!B179=\"DS001\",\"TC\")))))","v":""},{"$f":"IF(Benchsheet!A179>1,3014,\"\")","v":""}]
[{"$f":"IF(Benchsheet!N180=0,\"-1\",Benchsheet!N180)","v":"-1"},{"$f":"IF(Benchsheet!B180=\"WL001\",\"MPN\",IF(Benchsheet!B180=FALSE,\"\",IF(Benchsheet!B180=\"WL002\",\"MPN\",IF(Benchsheet!B180=\"WL003\",\"MPN\",IF(Benchsheet!B180=\"DS001\",\"TC\")))))","v":""},{"$f":"IF(Benchsheet!A180>1,3014,\"\")","v":""}]
[{"$f":"IF(Benchsheet!N181=0,\"-1\",Benchsheet!N181)","v":"-1"},{"$f":"IF(Benchsheet!B181=\"WL001\",\"MPN\",IF(Benchsheet!B181=FALSE,\"\",IF(Benchsheet!B181=\"WL002\",\"MPN\",IF(Benchsheet!B181=\"WL003\",\"MPN\",IF(Benchsheet!B181=\"DS001\",\"TC\")))))","v":""},{"$f":"IF(Benchsheet!A181>1,3014,\"\")","v":""}]
[{"$f":"IF(Benchsheet!N182=0,\"-1\",Benchsheet!N182)","v":"-1"},{"$f":"IF(Benchsheet!B182=\"WL001\",\"MPN\",IF(Benchsheet!B182=FALSE,\"\",IF(Benchsheet!B182=\"WL002\",\"MPN\",IF(Benchsheet!B182=\"WL003\",\"MPN\",IF(Benchsheet!B182=\"DS001\",\"TC\")))))","v":""},{"$f":"IF(Benchsheet!A182>1,3014,\"\")","v":""}]
[{"$f":"IF(Benchsheet!N183=0,\"-1\",Benchsheet!N183)","v":"-1"},{"$f":"IF(Benchsheet!B183=\"WL001\",\"MPN\",IF(Benchsheet!B183=FALSE,\"\",IF(Benchsheet!B183=\"WL002\",\"MPN\",IF(Benchsheet!B183=\"WL003\",\"MPN\",IF(Benchsheet!B183=\"DS001\",\"TC\")))))","v":""},{"$f":"IF(Benchsheet!A183>1,3014,\"\")","v":""}]
[{"$f":"IF(Benchsheet!N184=0,\"-1\",Benchsheet!N184)","v":"-1"},{"$f":"IF(Benchsheet!B184=\"WL001\",\"MPN\",IF(Benchsheet!B184=FALSE,\"\",IF(Benchsheet!B184=\"WL002\",\"MPN\",IF(Benchsheet!B184=\"WL003\",\"MPN\",IF(Benchsheet!B184=\"DS001\",\"TC\")))))","v":""},{"$f":"IF(Benchsheet!A184>1,3014,\"\")","v":""}]
[{"$f":"IF(Benchsheet!N185=0,\"-1\",Benchsheet!N185)","v":"-1"},{"$f":"IF(Benchsheet!B185=\"WL001\",\"MPN\",IF(Benchsheet!B185=FALSE,\"\",IF(Benchsheet!B185=\"WL002\",\"MPN\",IF(Benchsheet!B185=\"WL003\",\"MPN\",IF(Benchsheet!B185=\"DS001\",\"TC\")))))","v":""},{"$f":"IF(Benchsheet!A185>1,3014,\"\")","v":""}]
[{"$f":"IF(Benchsheet!N186=0,\"-1\",Benchsheet!N186)","v":"-1"},{"$f":"IF(Benchsheet!B186=\"WL001\",\"MPN\",IF(Benchsheet!B186=FALSE,\"\",IF(Benchsheet!B186=\"WL002\",\"MPN\",IF(Benchsheet!B186=\"WL003\",\"MPN\",IF(Benchsheet!B186=\"DS001\",\"TC\")))))","v":""},{"$f":"IF(Benchsheet!A186>1,3014,\"\")","v":""}]
[{"$f":"IF(Benchsheet!N187=0,\"-1\",Benchsheet!N187)","v":"-1"},{"$f":"IF(Benchsheet!B187=\"WL001\",\"MPN\",IF(Benchsheet!B187=FALSE,\"\",IF(Benchsheet!B187=\"WL002\",\"MPN\",IF(Benchsheet!B187=\"WL003\",\"MPN\",IF(Benchsheet!B187=\"DS001\",\"TC\")))))","v":""},{"$f":"IF(Benchsheet!A187>1,3014,\"\")","v":""}]
[{"$f":"IF(Benchsheet!N188=0,\"-1\",Benchsheet!N188)","v":"-1"},{"$f":"IF(Benchsheet!B188=\"WL001\",\"MPN\",IF(Benchsheet!B188=FALSE,\"\",IF(Benchsheet!B188=\"WL002\",\"MPN\",IF(Benchsheet!B188=\"WL003\",\"MPN\",IF(Benchsheet!B188=\"DS001\",\"TC\")))))","v":""},{"$f":"IF(Benchsheet!A188>1,3014,\"\")","v":""}]
[{"$f":"IF(Benchsheet!N189=0,\"-1\",Benchsheet!N189)","v":"-1"},{"$f":"IF(Benchsheet!B189=\"WL001\",\"MPN\",IF(Benchsheet!B189=FALSE,\"\",IF(Benchsheet!B189=\"WL002\",\"MPN\",IF(Benchsheet!B189=\"WL003\",\"MPN\",IF(Benchsheet!B189=\"DS001\",\"TC\")))))","v":""},{"$f":"IF(Benchsheet!A189>1,3014,\"\")","v":""}]
[{"$f":"IF(Benchsheet!N190=0,\"-1\",Benchsheet!N190)","v":"-1"},{"$f":"IF(Benchsheet!B190=\"WL001\",\"MPN\",IF(Benchsheet!B190=FALSE,\"\",IF(Benchsheet!B190=\"WL002\",\"MPN\",IF(Benchsheet!B190=\"WL003\",\"MPN\",IF(Benchsheet!B190=\"DS001\",\"TC\")))))","v":""},{"$f":"IF(Benchsheet!A190>1,3014,\"\")","v":""}]
[{"$f":"IF(Benchsheet!N191=0,\"-1\",Benchsheet!N191)","v":"-1"},{"$f":"IF(Benchsheet!B191=\"WL001\",\"MPN\",IF(Benchsheet!B191=FALSE,\"\",IF(Benchsheet!B191=\"WL002\",\"MPN\",IF(Benchsheet!B191=\"WL003\",\"MPN\",IF(Benchsheet!B191=\"DS001\",\"TC\")))))","v":""},{"$f":"IF(Benchsheet!A191>1,3014,\"\")","v":""}]
[{"$f":"IF(Benchsheet!N192=0,\"-1\",Benchsheet!N192)","v":"-1"},{"$f":"IF(Benchsheet!B192=\"WL001\",\"MPN\",IF(Benchsheet!B192=FALSE,\"\",IF(Benchsheet!B192=\"WL002\",\"MPN\",IF(Benchsheet!B192=\"WL003\",\"MPN\",IF(Benchsheet!B192=\"DS001\",\"TC\")))))","v":""},{"$f":"IF(Benchsheet!A192>1,3014,\"\")","v":""}]
[{"$f":"IF(Benchsheet!N193=0,\"-1\",Benchsheet!N193)","v":"-1"},{"$f":"IF(Benchsheet!B193=\"WL001\",\"MPN\",IF(Benchsheet!B193=FALSE,\"\",IF(Benchsheet!B193=\"WL002\",\"MPN\",IF(Benchsheet!B193=\"WL003\",\"MPN\",IF(Benchsheet!B193=\"DS001\",\"TC\")))))","v":""},{"$f":"IF(Benchsheet!A193>1,3014,\"\")","v":""}]
[{"$f":"IF(Benchsheet!N194=0,\"-1\",Benchsheet!N194)","v":"-1"},{"$f":"IF(Benchsheet!B194=\"WL001\",\"MPN\",IF(Benchsheet!B194=FALSE,\"\",IF(Benchsheet!B194=\"WL002\",\"MPN\",IF(Benchsheet!B194=\"WL003\",\"MPN\",IF(Benchsheet!B194=\"DS001\",\"TC\")))))","v":""},{"$f":"IF(Benchsheet!A194>1,3014,\"\")","v":""}]
[{"$f":"IF(Benchsheet!N195=0,\"-1\",Benchsheet!N195)","v":"-1"},{"$f":"IF(Benchsheet!B195=\"WL001\",\"MPN\",IF(Benchsheet!B195=FALSE,\"\",IF(Benchsheet!B195=\"WL002\",\"MPN\",IF(Benchsheet!B195=\"WL003\",\"MPN\",IF(Benchsheet!B195=\"DS001\",\"TC\")))))","v":""},{"$f":"IF(Benchsheet!A195>1,3014,\"\")","v":""}]
[{"$f":"IF(Benchsheet!N196=0,\"-1\",Benchsheet!N196)","v":"-1"},{"$f":"IF(Benchsheet!B196=\"WL001\",\"MPN\",IF(Benchsheet!B196=FALSE,\"\",IF(Benchsheet!B196=\"WL002\",\"MPN\",IF(Benchsheet!B196=\"WL003\",\"MPN\",IF(Benchsheet!B196=\"DS001\",\"TC\")))))","v":""},{"$f":"IF(Benchsheet!A196>1,3014,\"\")","v":""}]
[{"$f":"IF(Benchsheet!N197=0,\"-1\",Benchsheet!N197)","v":"-1"},{"$f":"IF(Benchsheet!B197=\"WL001\",\"MPN\",IF(Benchsheet!B197=FALSE,\"\",IF(Benchsheet!B197=\"WL002\",\"MPN\",IF(Benchsheet!B197=\"WL003\",\"MPN\",IF(Benchsheet!B197=\"DS001\",\"TC\")))))","v":""},{"$f":"IF(Benchsheet!A197>1,3014,\"\")","v":""}]
[{"$f":"IF(Benchsheet!N198=0,\"-1\",Benchsheet!N198)","v":"-1"},{"$f":"IF(Benchsheet!B198=\"WL001\",\"MPN\",IF(Benchsheet!B198=FALSE,\"\",IF(Benchsheet!B198=\"WL002\",\"MPN\",IF(Benchsheet!B198=\"WL003\",\"MPN\",IF(Benchsheet!B198=\"DS001\",\"TC\")))))","v":""},{"$f":"IF(Benchsheet!A198>1,3014,\"\")","v":""}]
[{"$f":"IF(Benchsheet!N199=0,\"-1\",Benchsheet!N199)","v":"-1"},{"$f":"IF(Benchsheet!B199=\"WL001\",\"MPN\",IF(Benchsheet!B199=FALSE,\"\",IF(Benchsheet!B199=\"WL002\",\"MPN\",IF(Benchsheet!B199=\"WL003\",\"MPN\",IF(Benchsheet!B199=\"DS001\",\"TC\")))))","v":""},{"$f":"IF(Benchsheet!A199>1,3014,\"\")","v":""}]
[{"$f":"IF(Benchsheet!N200=0,\"-1\",Benchsheet!N200)","v":"-1"},{"$f":"IF(Benchsheet!B200=\"WL001\",\"MPN\",IF(Benchsheet!B200=FALSE,\"\",IF(Benchsheet!B200=\"WL002\",\"MPN\",IF(Benchsheet!B200=\"WL003\",\"MPN\",IF(Benchsheet!B200=\"DS001\",\"TC\")))))","v":""},{"$f":"IF(Benchsheet!A200>1,3014,\"\")","v":""}]
[{"$f":"IF(Benchsheet!N201=0,\"-1\",Benchsheet!N201)","v":"-1"},{"$f":"IF(Benchsheet!B201=\"WL001\",\"MPN\",IF(Benchsheet!B201=FALSE,\"\",IF(Benchsheet!B201=\"WL002\",\"MPN\",IF(Benchsheet!B201=\"WL003\",\"MPN\",IF(Benchsheet!B201=\"DS001\",\"TC\")))))","v":""},{"$f":"IF(Benchsheet!A201>1,3014,\"\")","v":""}]
[{"$f":"IF(Benchsheet!N202=0,\"-1\",Benchsheet!N202)","v":"-1"},{"$f":"IF(Benchsheet!B202=\"WL001\",\"MPN\",IF(Benchsheet!B202=FALSE,\"\",IF(Benchsheet!B202=\"WL002\",\"MPN\",IF(Benchsheet!B202=\"WL003\",\"MPN\",IF(Benchsheet!B202=\"DS001\",\"TC\")))))","v":""},{"$f":"IF(Benchsheet!A202>1,3014,\"\")","v":""}]
[{"$f":"IF(Benchsheet!N203=0,\"-1\",Benchsheet!N203)","v":"-1"},{"$f":"IF(Benchsheet!B203=\"WL001\",\"MPN\",IF(Benchsheet!B203=FALSE,\"\",IF(Benchsheet!B203=\"WL002\",\"MPN\",IF(Benchsheet!B203=\"WL003\",\"MPN\",IF(Benchsheet!B203=\"DS001\",\"TC\")))))","v":""},{"$f":"IF(Benchsheet!A203>1,3014,\"\")","v":""}]
[{"$f":"IF(Benchsheet!N204=0,\"-1\",Benchsheet!N204)","v":"-1"},{"$f":"IF(Benchsheet!B204=\"WL001\",\"MPN\",IF(Benchsheet!B204=FALSE,\"\",IF(Benchsheet!B204=\"WL002\",\"MPN\",IF(Benchsheet!B204=\"WL003\",\"MPN\",IF(Benchsheet!B204=\"DS001\",\"TC\")))))","v":""},{"$f":"IF(Benchsheet!A204>1,3014,\"\")","v":""}]
[{"$f":"IF(Benchsheet!N205=0,\"-1\",Benchsheet!N205)","v":"-1"},{"$f":"IF(Benchsheet!B205=\"WL001\",\"MPN\",IF(Benchsheet!B205=FALSE,\"\",IF(Benchsheet!B205=\"WL002\",\"MPN\",IF(Benchsheet!B205=\"WL003\",\"MPN\",IF(Benchsheet!B205=\"DS001\",\"TC\")))))","v":""},{"$f":"IF(Benchsheet!A205>1,3014,\"\")","v":""}]
[{"$f":"IF(Benchsheet!N206=0,\"-1\",Benchsheet!N206)","v":"-1"},{"$f":"IF(Benchsheet!B206=\"WL001\",\"MPN\",IF(Benchsheet!B206=FALSE,\"\",IF(Benchsheet!B206=\"WL002\",\"MPN\",IF(Benchsheet!B206=\"WL003\",\"MPN\",IF(Benchsheet!B206=\"DS001\",\"TC\")))))","v":""},{"$f":"IF(Benchsheet!A206>1,3014,\"\")","v":""}]
[{"$f":"IF(Benchsheet!N207=0,\"-1\",Benchsheet!N207)","v":"-1"},{"$f":"IF(Benchsheet!B207=\"WL001\",\"MPN\",IF(Benchsheet!B207=FALSE,\"\",IF(Benchsheet!B207=\"WL002\",\"MPN\",IF(Benchsheet!B207=\"WL003\",\"MPN\",IF(Benchsheet!B207=\"DS001\",\"TC\")))))","v":""},{"$f":"IF(Benchsheet!A207>1,3014,\"\")","v":""}]
[{"$f":"IF(Benchsheet!N208=0,\"-1\",Benchsheet!N208)","v":"-1"},{"$f":"IF(Benchsheet!B208=\"WL001\",\"MPN\",IF(Benchsheet!B208=FALSE,\"\",IF(Benchsheet!B208=\"WL002\",\"MPN\",IF(Benchsheet!B208=\"WL003\",\"MPN\",IF(Benchsheet!B208=\"DS001\",\"TC\")))))","v":""},{"$f":"IF(Benchsheet!A208>1,3014,\"\")","v":""}]
[{"$f":"IF(Benchsheet!N209=0,\"-1\",Benchsheet!N209)","v":"-1"},{"$f":"IF(Benchsheet!B209=\"WL001\",\"MPN\",IF(Benchsheet!B209=FALSE,\"\",IF(Benchsheet!B209=\"WL002\",\"MPN\",IF(Benchsheet!B209=\"WL003\",\"MPN\",IF(Benchsheet!B209=\"DS001\",\"TC\")))))","v":""},{"$f":"IF(Benchsheet!A209>1,3014,\"\")","v":""}]
[{"$f":"IF(Benchsheet!N210=0,\"-1\",Benchsheet!N210)","v":"-1"},{"$f":"IF(Benchsheet!B210=\"WL001\",\"MPN\",IF(Benchsheet!B210=FALSE,\"\",IF(Benchsheet!B210=\"WL002\",\"MPN\",IF(Benchsheet!B210=\"WL003\",\"MPN\",IF(Benchsheet!B210=\"DS001\",\"TC\")))))","v":""},{"$f":"IF(Benchsheet!A210>1,3014,\"\")","v":""}]
[{"$f":"IF(Benchsheet!N211=0,\"-1\",Benchsheet!N211)","v":"-1"},{"$f":"IF(Benchsheet!B211=\"WL001\",\"MPN\",IF(Benchsheet!B211=FALSE,\"\",IF(Benchsheet!B211=\"WL002\",\"MPN\",IF(Benchsheet!B211=\"WL003\",\"MPN\",IF(Benchsheet!B211=\"DS001\",\"TC\")))))","v":""},{"$f":"IF(Benchsheet!A211>1,3014,\"\")","v":""}]
[{"$f":"IF(Benchsheet!N212=0,\"-1\",Benchsheet!N212)","v":"-1"},{"$f":"IF(Benchsheet!B212=\"WL001\",\"MPN\",IF(Benchsheet!B212=FALSE,\"\",IF(Benchsheet!B212=\"WL002\",\"MPN\",IF(Benchsheet!B212=\"WL003\",\"MPN\",IF(Benchsheet!B212=\"DS001\",\"TC\")))))","v":""},{"$f":"IF(Benchsheet!A212>1,3014,\"\")","v":""}]
[{"$f":"IF(Benchsheet!N213=0,\"-1\",Benchsheet!N213)","v":"-1"},{"$f":"IF(Benchsheet!B213=\"WL001\",\"MPN\",IF(Benchsheet!B213=FALSE,\"\",IF(Benchsheet!B213=\"WL002\",\"MPN\",IF(Benchsheet!B213=\"WL003\",\"MPN\",IF(Benchsheet!B213=\"DS001\",\"TC\")))))","v":""},{"$f":"IF(Benchsheet!A213>1,3014,\"\")","v":""}]
[{"$f":"IF(Benchsheet!N214=0,\"-1\",Benchsheet!N214)","v":"-1"},{"$f":"IF(Benchsheet!B214=\"WL001\",\"MPN\",IF(Benchsheet!B214=FALSE,\"\",IF(Benchsheet!B214=\"WL002\",\"MPN\",IF(Benchsheet!B214=\"WL003\",\"MPN\",IF(Benchsheet!B214=\"DS001\",\"TC\")))))","v":""},{"$f":"IF(Benchsheet!A214>1,3014,\"\")","v":""}]
[{"$f":"IF(Benchsheet!N215=0,\"-1\",Benchsheet!N215)","v":"-1"},{"$f":"IF(Benchsheet!B215=\"WL001\",\"MPN\",IF(Benchsheet!B215=FALSE,\"\",IF(Benchsheet!B215=\"WL002\",\"MPN\",IF(Benchsheet!B215=\"WL003\",\"MPN\",IF(Benchsheet!B215=\"DS001\",\"TC\")))))","v":""},{"$f":"IF(Benchsheet!A215>1,3014,\"\")","v":""}]
[{"$f":"IF(Benchsheet!N216=0,\"-1\",Benchsheet!N216)","v":"-1"},{"$f":"IF(Benchsheet!B216=\"WL001\",\"MPN\",IF(Benchsheet!B216=FALSE,\"\",IF(Benchsheet!B216=\"WL002\",\"MPN\",IF(Benchsheet!B216=\"WL003\",\"MPN\",IF(Benchsheet!B216=\"DS001\",\"TC\")))))","v":""},{"$f":"IF(Benchsheet!A216>1,3014,\"\")","v":""}]
[{"$f":"IF(Benchsheet!N217=0,\"-1\",Benchsheet!N217)","v":"-1"},{"$f":"IF(Benchsheet!B217=\"WL001\",\"MPN\",IF(Benchsheet!B217=FALSE,\"\",IF(Benchsheet!B217=\"WL002\",\"MPN\",IF(Benchsheet!B217=\"WL003\",\"MPN\",IF(Benchsheet!B217=\"DS001\",\"TC\")))))","v":""},{"$f":"IF(Benchsheet!A217>1,3014,\"\")","v":""}]
[{"$f":"IF(Benchsheet!N218=0,\"-1\",Benchsheet!N218)","v":"-1"},{"$f":"IF(Benchsheet!B218=\"WL001\",\"MPN\",IF(Benchsheet!B218=FALSE,\"\",IF(Benchsheet!B218=\"WL002\",\"MPN\",IF(Benchsheet!B218=\"WL003\",\"MPN\",IF(Benchsheet!B218=\"DS001\",\"TC\")))))","v":""},{"$f":"IF(Benchsheet!A218>1,3014,\"\")","v":""}]
[{"$f":"IF(Benchsheet!N219=0,\"-1\",Benchsheet!N219)","v":"-1"},{"$f":"IF(Benchsheet!B219=\"WL001\",\"MPN\",IF(Benchsheet!B219=FALSE,\"\",IF(Benchsheet!B219=\"WL002\",\"MPN\",IF(Benchsheet!B219=\"WL003\",\"MPN\",IF(Benchsheet!B219=\"DS001\",\"TC\")))))","v":""},{"$f":"IF(Benchsheet!A219>1,3014,\"\")","v":""}]
[{"$f":"IF(Benchsheet!N220=0,\"-1\",Benchsheet!N220)","v":"-1"},{"$f":"IF(Benchsheet!B220=\"WL001\",\"MPN\",IF(Benchsheet!B220=FALSE,\"\",IF(Benchsheet!B220=\"WL002\",\"MPN\",IF(Benchsheet!B220=\"WL003\",\"MPN\",IF(Benchsheet!B220=\"DS001\",\"TC\")))))","v":""},{"$f":"IF(Benchsheet!A220>1,3014,\"\")","v":""}]
[{"$f":"IF(Benchsheet!N221=0,\"-1\",Benchsheet!N221)","v":"-1"},{"$f":"IF(Benchsheet!B221=\"WL001\",\"MPN\",IF(Benchsheet!B221=FALSE,\"\",IF(Benchsheet!B221=\"WL002\",\"MPN\",IF(Benchsheet!B221=\"WL003\",\"MPN\",IF(Benchsheet!B221=\"DS001\",\"TC\")))))","v":""},{"$f":"IF(Benchsheet!A221>1,3014,\"\")","v":""}]
[{"$f":"IF(Benchsheet!N222=0,\"-1\",Benchsheet!N222)","v":"-1"},{"$f":"IF(Benchsheet!B222=\"WL001\",\"MPN\",IF(Benchsheet!B222=FALSE,\"\",IF(Benchsheet!B222=\"WL002\",\"MPN\",IF(Benchsheet!B222=\"WL003\",\"MPN\",IF(Benchsheet!B222=\"DS001\",\"TC\")))))","v":""},{"$f":"IF(Benchsheet!A222>1,3014,\"\")","v":""}]
[{"$f":"IF(Benchsheet!N223=0,\"-1\",Benchsheet!N223)","v":"-1"},{"$f":"IF(Benchsheet!B223=\"WL001\",\"MPN\",IF(Benchsheet!B223=FALSE,\"\",IF(Benchsheet!B223=\"WL002\",\"MPN\",IF(Benchsheet!B223=\"WL003\",\"MPN\",IF(Benchsheet!B223=\"DS001\",\"TC\")))))","v":""},{"$f":"IF(Benchsheet!A223>1,3014,\"\")","v":""}]
[{"$f":"IF(Benchsheet!N224=0,\"-1\",Benchsheet!N224)","v":"-1"},{"$f":"IF(Benchsheet!B224=\"WL001\",\"MPN\",IF(Benchsheet!B224=FALSE,\"\",IF(Benchsheet!B224=\"WL002\",\"MPN\",IF(Benchsheet!B224=\"WL003\",\"MPN\",IF(Benchsheet!B224=\"DS001\",\"TC\")))))","v":""},{"$f":"IF(Benchsheet!A224>1,3014,\"\")","v":""}]
[{"$f":"IF(Benchsheet!N225=0,\"-1\",Benchsheet!N225)","v":"-1"},{"$f":"IF(Benchsheet!B225=\"WL001\",\"MPN\",IF(Benchsheet!B225=FALSE,\"\",IF(Benchsheet!B225=\"WL002\",\"MPN\",IF(Benchsheet!B225=\"WL003\",\"MPN\",IF(Benchsheet!B225=\"DS001\",\"TC\")))))","v":""},{"$f":"IF(Benchsheet!A225>1,3014,\"\")","v":""}]
[{"$f":"IF(Benchsheet!N226=0,\"-1\",Benchsheet!N226)","v":"-1"},{"$f":"IF(Benchsheet!B226=\"WL001\",\"MPN\",IF(Benchsheet!B226=FALSE,\"\",IF(Benchsheet!B226=\"WL002\",\"MPN\",IF(Benchsheet!B226=\"WL003\",\"MPN\",IF(Benchsheet!B226=\"DS001\",\"TC\")))))","v":""},{"$f":"IF(Benchsheet!A226>1,3014,\"\")","v":""}]
[{"$f":"IF(Benchsheet!N227=0,\"-1\",Benchsheet!N227)","v":"-1"},{"$f":"IF(Benchsheet!B227=\"WL001\",\"MPN\",IF(Benchsheet!B227=FALSE,\"\",IF(Benchsheet!B227=\"WL002\",\"MPN\",IF(Benchsheet!B227=\"WL003\",\"MPN\",IF(Benchsheet!B227=\"DS001\",\"TC\")))))","v":""},{"$f":"IF(Benchsheet!A227>1,3014,\"\")","v":""}]
[{"$f":"IF(Benchsheet!N228=0,\"-1\",Benchsheet!N228)","v":"-1"},{"$f":"IF(Benchsheet!B228=\"WL001\",\"MPN\",IF(Benchsheet!B228=FALSE,\"\",IF(Benchsheet!B228=\"WL002\",\"MPN\",IF(Benchsheet!B228=\"WL003\",\"MPN\",IF(Benchsheet!B228=\"DS001\",\"TC\")))))","v":""},{"$f":"IF(Benchsheet!A228>1,3014,\"\")","v":""}]
[{"$f":"IF(Benchsheet!N229=0,\"-1\",Benchsheet!N229)","v":"-1"},{"$f":"IF(Benchsheet!B229=\"WL001\",\"MPN\",IF(Benchsheet!B229=FALSE,\"\",IF(Benchsheet!B229=\"WL002\",\"MPN\",IF(Benchsheet!B229=\"WL003\",\"MPN\",IF(Benchsheet!B229=\"DS001\",\"TC\")))))","v":""},{"$f":"IF(Benchsheet!A229>1,3014,\"\")","v":""}]
[{"$f":"IF(Benchsheet!N230=0,\"-1\",Benchsheet!N230)","v":"-1"},{"$f":"IF(Benchsheet!B230=\"WL001\",\"MPN\",IF(Benchsheet!B230=FALSE,\"\",IF(Benchsheet!B230=\"WL002\",\"MPN\",IF(Benchsheet!B230=\"WL003\",\"MPN\",IF(Benchsheet!B230=\"DS001\",\"TC\")))))","v":""},{"$f":"IF(Benchsheet!A230>1,3014,\"\")","v":""}]
[{"$f":"IF(Benchsheet!N231=0,\"-1\",Benchsheet!N231)","v":"-1"},{"$f":"IF(Benchsheet!B231=\"WL001\",\"MPN\",IF(Benchsheet!B231=FALSE,\"\",IF(Benchsheet!B231=\"WL002\",\"MPN\",IF(Benchsheet!B231=\"WL003\",\"MPN\",IF(Benchsheet!B231=\"DS001\",\"TC\")))))","v":""},{"$f":"IF(Benchsheet!A231>1,3014,\"\")","v":""}]
[{"$f":"IF(Benchsheet!N232=0,\"-1\",Benchsheet!N232)","v":"-1"},{"$f":"IF(Benchsheet!B232=\"WL001\",\"MPN\",IF(Benchsheet!B232=FALSE,\"\",IF(Benchsheet!B232=\"WL002\",\"MPN\",IF(Benchsheet!B232=\"WL003\",\"MPN\",IF(Benchsheet!B232=\"DS001\",\"TC\")))))","v":""},{"$f":"IF(Benchsheet!A232>1,3014,\"\")","v":""}]
[{"$f":"IF(Benchsheet!N233=0,\"-1\",Benchsheet!N233)","v":"-1"},{"$f":"IF(Benchsheet!B233=\"WL001\",\"MPN\",IF(Benchsheet!B233=FALSE,\"\",IF(Benchsheet!B233=\"WL002\",\"MPN\",IF(Benchsheet!B233=\"WL003\",\"MPN\",IF(Benchsheet!B233=\"DS001\",\"TC\")))))","v":""},{"$f":"IF(Benchsheet!A233>1,3014,\"\")","v":""}]
[{"$f":"IF(Benchsheet!N234=0,\"-1\",Benchsheet!N234)","v":"-1"},{"$f":"IF(Benchsheet!B234=\"WL001\",\"MPN\",IF(Benchsheet!B234=FALSE,\"\",IF(Benchsheet!B234=\"WL002\",\"MPN\",IF(Benchsheet!B234=\"WL003\",\"MPN\",IF(Benchsheet!B234=\"DS001\",\"TC\")))))","v":""},{"$f":"IF(Benchsheet!A234>1,3014,\"\")","v":""}]
[{"$f":"IF(Benchsheet!N235=0,\"-1\",Benchsheet!N235)","v":"-1"},{"$f":"IF(Benchsheet!B235=\"WL001\",\"MPN\",IF(Benchsheet!B235=FALSE,\"\",IF(Benchsheet!B235=\"WL002\",\"MPN\",IF(Benchsheet!B235=\"WL003\",\"MPN\",IF(Benchsheet!B235=\"DS001\",\"TC\")))))","v":""},{"$f":"IF(Benchsheet!A235>1,3014,\"\")","v":""}]
[{"$f":"IF(Benchsheet!N236=0,\"-1\",Benchsheet!N236)","v":"-1"},{"$f":"IF(Benchsheet!B236=\"WL001\",\"MPN\",IF(Benchsheet!B236=FALSE,\"\",IF(Benchsheet!B236=\"WL002\",\"MPN\",IF(Benchsheet!B236=\"WL003\",\"MPN\",IF(Benchsheet!B236=\"DS001\",\"TC\")))))","v":""},{"$f":"IF(Benchsheet!A236>1,3014,\"\")","v":""}]
[{"$f":"IF(Benchsheet!N237=0,\"-1\",Benchsheet!N237)","v":"-1"},{"$f":"IF(Benchsheet!B237=\"WL001\",\"MPN\",IF(Benchsheet!B237=FALSE,\"\",IF(Benchsheet!B237=\"WL002\",\"MPN\",IF(Benchsheet!B237=\"WL003\",\"MPN\",IF(Benchsheet!B237=\"DS001\",\"TC\")))))","v":""},{"$f":"IF(Benchsheet!A237>1,3014,\"\")","v":""}]
[{"$f":"IF(Benchsheet!N238=0,\"-1\",Benchsheet!N238)","v":"-1"},{"$f":"IF(Benchsheet!B238=\"WL001\",\"MPN\",IF(Benchsheet!B238=FALSE,\"\",IF(Benchsheet!B238=\"WL002\",\"MPN\",IF(Benchsheet!B238=\"WL003\",\"MPN\",IF(Benchsheet!B238=\"DS001\",\"TC\")))))","v":""},{"$f":"IF(Benchsheet!A238>1,3014,\"\")","v":""}]
[{"$f":"IF(Benchsheet!N239=0,\"-1\",Benchsheet!N239)","v":"-1"},{"$f":"IF(Benchsheet!B239=\"WL001\",\"MPN\",IF(Benchsheet!B239=FALSE,\"\",IF(Benchsheet!B239=\"WL002\",\"MPN\",IF(Benchsheet!B239=\"WL003\",\"MPN\",IF(Benchsheet!B239=\"DS001\",\"TC\")))))","v":""},{"$f":"IF(Benchsheet!A239>1,3014,\"\")","v":""}]
[{"$f":"IF(Benchsheet!N240=0,\"-1\",Benchsheet!N240)","v":"-1"},{"$f":"IF(Benchsheet!B240=\"WL001\",\"MPN\",IF(Benchsheet!B240=FALSE,\"\",IF(Benchsheet!B240=\"WL002\",\"MPN\",IF(Benchsheet!B240=\"WL003\",\"MPN\",IF(Benchsheet!B240=\"DS001\",\"TC\")))))","v":""},{"$f":"IF(Benchsheet!A240>1,3014,\"\")","v":""}]
[{"$f":"IF(Benchsheet!N241=0,\"-1\",Benchsheet!N241)","v":"-1"},{"$f":"IF(Benchsheet!B241=\"WL001\",\"MPN\",IF(Benchsheet!B241=FALSE,\"\",IF(Benchsheet!B241=\"WL002\",\"MPN\",IF(Benchsheet!B241=\"WL003\",\"MPN\",IF(Benchsheet!B241=\"DS001\",\"TC\")))))","v":""},{"$f":"IF(Benchsheet!A241>1,3014,\"\")","v":""}]
[{"$f":"IF(Benchsheet!N242=0,\"-1\",Benchsheet!N242)","v":"-1"},{"$f":"IF(Benchsheet!B242=\"WL001\",\"MPN\",IF(Benchsheet!B242=FALSE,\"\",IF(Benchsheet!B242=\"WL002\",\"MPN\",IF(Benchsheet!B242=\"WL003\",\"MPN\",IF(Benchsheet!B242=\"DS001\",\"TC\")))))","v":""},{"$f":"IF(Benchsheet!A242>1,3014,\"\")","v":""}]
[{"$f":"IF(Benchsheet!N243=0,\"-1\",Benchsheet!N243)","v":"-1"},{"$f":"IF(Benchsheet!B243=\"WL001\",\"MPN\",IF(Benchsheet!B243=FALSE,\"\",IF(Benchsheet!B243=\"WL002\",\"MPN\",IF(Benchsheet!B243=\"WL003\",\"MPN\",IF(Benchsheet!B243=\"DS001\",\"TC\")))))","v":""},{"$f":"IF(Benchsheet!A243>1,3014,\"\")","v":""}]
[{"$f":"IF(Benchsheet!N244=0,\"-1\",Benchsheet!N244)","v":"-1"},{"$f":"IF(Benchsheet!B244=\"WL001\",\"MPN\",IF(Benchsheet!B244=FALSE,\"\",IF(Benchsheet!B244=\"WL002\",\"MPN\",IF(Benchsheet!B244=\"WL003\",\"MPN\",IF(Benchsheet!B244=\"DS001\",\"TC\")))))","v":""},{"$f":"IF(Benchsheet!A244>1,3014,\"\")","v":""}]
[{"$f":"IF(Benchsheet!N245=0,\"-1\",Benchsheet!N245)","v":"-1"},{"$f":"IF(Benchsheet!B245=\"WL001\",\"MPN\",IF(Benchsheet!B245=FALSE,\"\",IF(Benchsheet!B245=\"WL002\",\"MPN\",IF(Benchsheet!B245=\"WL003\",\"MPN\",IF(Benchsheet!B245=\"DS001\",\"TC\")))))","v":""},{"$f":"IF(Benchsheet!A245>1,3014,\"\")","v":""}]
[{"$f":"IF(Benchsheet!N246=0,\"-1\",Benchsheet!N246)","v":"-1"},{"$f":"IF(Benchsheet!B246=\"WL001\",\"MPN\",IF(Benchsheet!B246=FALSE,\"\",IF(Benchsheet!B246=\"WL002\",\"MPN\",IF(Benchsheet!B246=\"WL003\",\"MPN\",IF(Benchsheet!B246=\"DS001\",\"TC\")))))","v":""},{"$f":"IF(Benchsheet!A246>1,3014,\"\")","v":""}]
[{"$f":"IF(Benchsheet!N247=0,\"-1\",Benchsheet!N247)","v":"-1"},{"$f":"IF(Benchsheet!B247=\"WL001\",\"MPN\",IF(Benchsheet!B247=FALSE,\"\",IF(Benchsheet!B247=\"WL002\",\"MPN\",IF(Benchsheet!B247=\"WL003\",\"MPN\",IF(Benchsheet!B247=\"DS001\",\"TC\")))))","v":""},{"$f":"IF(Benchsheet!A247>1,3014,\"\")","v":""}]
[{"$f":"IF(Benchsheet!N248=0,\"-1\",Benchsheet!N248)","v":"-1"},{"$f":"IF(Benchsheet!B248=\"WL001\",\"MPN\",IF(Benchsheet!B248=FALSE,\"\",IF(Benchsheet!B248=\"WL002\",\"MPN\",IF(Benchsheet!B248=\"WL003\",\"MPN\",IF(Benchsheet!B248=\"DS001\",\"TC\")))))","v":""},{"$f":"IF(Benchsheet!A248>1,3014,\"\")","v":""}]
[{"$f":"IF(Benchsheet!N249=0,\"-1\",Benchsheet!N249)","v":"-1"},{"$f":"IF(Benchsheet!B249=\"WL001\",\"MPN\",IF(Benchsheet!B249=FALSE,\"\",IF(Benchsheet!B249=\"WL002\",\"MPN\",IF(Benchsheet!B249=\"WL003\",\"MPN\",IF(Benchsheet!B249=\"DS001\",\"TC\")))))","v":""},{"$f":"IF(Benchsheet!A249>1,3014,\"\")","v":""}]
[{"$f":"IF(Benchsheet!N250=0,\"-1\",Benchsheet!N250)","v":"-1"},{"$f":"IF(Benchsheet!B250=\"WL001\",\"MPN\",IF(Benchsheet!B250=FALSE,\"\",IF(Benchsheet!B250=\"WL002\",\"MPN\",IF(Benchsheet!B250=\"WL003\",\"MPN\",IF(Benchsheet!B250=\"DS001\",\"TC\")))))","v":""},{"$f":"IF(Benchsheet!A250>1,3014,\"\")","v":""}]
[{"$f":"IF(Benchsheet!N251=0,\"-1\",Benchsheet!N251)","v":"-1"},{"$f":"IF(Benchsheet!B251=\"WL001\",\"MPN\",IF(Benchsheet!B251=FALSE,\"\",IF(Benchsheet!B251=\"WL002\",\"MPN\",IF(Benchsheet!B251=\"WL003\",\"MPN\",IF(Benchsheet!B251=\"DS001\",\"TC\")))))","v":""},{"$f":"IF(Benchsheet!A251>1,3014,\"\")","v":""}]
[{"$f":"IF(Benchsheet!N252=0,\"-1\",Benchsheet!N252)","v":"-1"},{"$f":"IF(Benchsheet!B252=\"WL001\",\"MPN\",IF(Benchsheet!B252=FALSE,\"\",IF(Benchsheet!B252=\"WL002\",\"MPN\",IF(Benchsheet!B252=\"WL003\",\"MPN\",IF(Benchsheet!B252=\"DS001\",\"TC\")))))","v":""},{"$f":"IF(Benchsheet!A252>1,3014,\"\")","v":""}]
[{"$f":"IF(Benchsheet!N253=0,\"-1\",Benchsheet!N253)","v":"-1"},{"$f":"IF(Benchsheet!B253=\"WL001\",\"MPN\",IF(Benchsheet!B253=FALSE,\"\",IF(Benchsheet!B253=\"WL002\",\"MPN\",IF(Benchsheet!B253=\"WL003\",\"MPN\",IF(Benchsheet!B253=\"DS001\",\"TC\")))))","v":""},{"$f":"IF(Benchsheet!A253>1,3014,\"\")","v":""}]
[{"$f":"IF(Benchsheet!N254=0,\"-1\",Benchsheet!N254)","v":"-1"},{"$f":"IF(Benchsheet!B254=\"WL001\",\"MPN\",IF(Benchsheet!B254=FALSE,\"\",IF(Benchsheet!B254=\"WL002\",\"MPN\",IF(Benchsheet!B254=\"WL003\",\"MPN\",IF(Benchsheet!B254=\"DS001\",\"TC\")))))","v":""},{"$f":"IF(Benchsheet!A254>1,3014,\"\")","v":""}]
[{"$f":"IF(Benchsheet!N255=0,\"-1\",Benchsheet!N255)","v":"-1"},{"$f":"IF(Benchsheet!B255=\"WL001\",\"MPN\",IF(Benchsheet!B255=FALSE,\"\",IF(Benchsheet!B255=\"WL002\",\"MPN\",IF(Benchsheet!B255=\"WL003\",\"MPN\",IF(Benchsheet!B255=\"DS001\",\"TC\")))))","v":""},{"$f":"IF(Benchsheet!A255>1,3014,\"\")","v":""}]
[{"$f":"IF(Benchsheet!N256=0,\"-1\",Benchsheet!N256)","v":"-1"},{"$f":"IF(Benchsheet!B256=\"WL001\",\"MPN\",IF(Benchsheet!B256=FALSE,\"\",IF(Benchsheet!B256=\"WL002\",\"MPN\",IF(Benchsheet!B256=\"WL003\",\"MPN\",IF(Benchsheet!B256=\"DS001\",\"TC\")))))","v":""},{"$f":"IF(Benchsheet!A256>1,3014,\"\")","v":""}]
[{"$f":"IF(Benchsheet!N257=0,\"-1\",Benchsheet!N257)","v":"-1"},{"$f":"IF(Benchsheet!B257=\"WL001\",\"MPN\",IF(Benchsheet!B257=FALSE,\"\",IF(Benchsheet!B257=\"WL002\",\"MPN\",IF(Benchsheet!B257=\"WL003\",\"MPN\",IF(Benchsheet!B257=\"DS001\",\"TC\")))))","v":""},{"$f":"IF(Benchsheet!A257>1,3014,\"\")","v":""}]
[{"$f":"IF(Benchsheet!N258=0,\"-1\",Benchsheet!N258)","v":"-1"},{"$f":"IF(Benchsheet!B258=\"WL001\",\"MPN\",IF(Benchsheet!B258=FALSE,\"\",IF(Benchsheet!B258=\"WL002\",\"MPN\",IF(Benchsheet!B258=\"WL003\",\"MPN\",IF(Benchsheet!B258=\"DS001\",\"TC\")))))","v":""},{"$f":"IF(Benchsheet!A258>1,3014,\"\")","v":""}]
[{"$f":"IF(Benchsheet!N259=0,\"-1\",Benchsheet!N259)","v":"-1"},{"$f":"IF(Benchsheet!B259=\"WL001\",\"MPN\",IF(Benchsheet!B259=FALSE,\"\",IF(Benchsheet!B259=\"WL002\",\"MPN\",IF(Benchsheet!B259=\"WL003\",\"MPN\",IF(Benchsheet!B259=\"DS001\",\"TC\")))))","v":""},{"$f":"IF(Benchsheet!A259>1,3014,\"\")","v":""}]
[{"$f":"IF(Benchsheet!N260=0,\"-1\",Benchsheet!N260)","v":"-1"},{"$f":"IF(Benchsheet!B260=\"WL001\",\"MPN\",IF(Benchsheet!B260=FALSE,\"\",IF(Benchsheet!B260=\"WL002\",\"MPN\",IF(Benchsheet!B260=\"WL003\",\"MPN\",IF(Benchsheet!B260=\"DS001\",\"TC\")))))","v":""},{"$f":"IF(Benchsheet!A260>1,3014,\"\")","v":""}]
[{"$f":"IF(Benchsheet!N261=0,\"-1\",Benchsheet!N261)","v":"-1"},{"$f":"IF(Benchsheet!B261=\"WL001\",\"MPN\",IF(Benchsheet!B261=FALSE,\"\",IF(Benchsheet!B261=\"WL002\",\"MPN\",IF(Benchsheet!B261=\"WL003\",\"MPN\",IF(Benchsheet!B261=\"DS001\",\"TC\")))))","v":""},{"$f":"IF(Benchsheet!A261>1,3014,\"\")","v":""}]
[{"$f":"IF(Benchsheet!N262=0,\"-1\",Benchsheet!N262)","v":"-1"},{"$f":"IF(Benchsheet!B262=\"WL001\",\"MPN\",IF(Benchsheet!B262=FALSE,\"\",IF(Benchsheet!B262=\"WL002\",\"MPN\",IF(Benchsheet!B262=\"WL003\",\"MPN\",IF(Benchsheet!B262=\"DS001\",\"TC\")))))","v":""},{"$f":"IF(Benchsheet!A262>1,3014,\"\")","v":""}]
[{"$f":"IF(Benchsheet!N263=0,\"-1\",Benchsheet!N263)","v":"-1"},{"$f":"IF(Benchsheet!B263=\"WL001\",\"MPN\",IF(Benchsheet!B263=FALSE,\"\",IF(Benchsheet!B263=\"WL002\",\"MPN\",IF(Benchsheet!B263=\"WL003\",\"MPN\",IF(Benchsheet!B263=\"DS001\",\"TC\")))))","v":""},{"$f":"IF(Benchsheet!A263>1,3014,\"\")","v":""}]
[{"$f":"IF(Benchsheet!N264=0,\"-1\",Benchsheet!N264)","v":"-1"},{"$f":"IF(Benchsheet!B264=\"WL001\",\"MPN\",IF(Benchsheet!B264=FALSE,\"\",IF(Benchsheet!B264=\"WL002\",\"MPN\",IF(Benchsheet!B264=\"WL003\",\"MPN\",IF(Benchsheet!B264=\"DS001\",\"TC\")))))","v":""},{"$f":"IF(Benchsheet!A264>1,3014,\"\")","v":""}]
[{"$f":"IF(Benchsheet!N265=0,\"-1\",Benchsheet!N265)","v":"-1"},{"$f":"IF(Benchsheet!B265=\"WL001\",\"MPN\",IF(Benchsheet!B265=FALSE,\"\",IF(Benchsheet!B265=\"WL002\",\"MPN\",IF(Benchsheet!B265=\"WL003\",\"MPN\",IF(Benchsheet!B265=\"DS001\",\"TC\")))))","v":""},{"$f":"IF(Benchsheet!A265>1,3014,\"\")","v":""}]
[{"$f":"IF(Benchsheet!N266=0,\"-1\",Benchsheet!N266)","v":"-1"},{"$f":"IF(Benchsheet!B266=\"WL001\",\"MPN\",IF(Benchsheet!B266=FALSE,\"\",IF(Benchsheet!B266=\"WL002\",\"MPN\",IF(Benchsheet!B266=\"WL003\",\"MPN\",IF(Benchsheet!B266=\"DS001\",\"TC\")))))","v":""},{"$f":"IF(Benchsheet!A266>1,3014,\"\")","v":""}]
[{"$f":"IF(Benchsheet!N267=0,\"-1\",Benchsheet!N267)","v":"-1"},{"$f":"IF(Benchsheet!B267=\"WL001\",\"MPN\",IF(Benchsheet!B267=FALSE,\"\",IF(Benchsheet!B267=\"WL002\",\"MPN\",IF(Benchsheet!B267=\"WL003\",\"MPN\",IF(Benchsheet!B267=\"DS001\",\"TC\")))))","v":""},{"$f":"IF(Benchsheet!A267>1,3014,\"\")","v":""}]
[{"$f":"IF(Benchsheet!N268=0,\"-1\",Benchsheet!N268)","v":"-1"},{"$f":"IF(Benchsheet!B268=\"WL001\",\"MPN\",IF(Benchsheet!B268=FALSE,\"\",IF(Benchsheet!B268=\"WL002\",\"MPN\",IF(Benchsheet!B268=\"WL003\",\"MPN\",IF(Benchsheet!B268=\"DS001\",\"TC\")))))","v":""},{"$f":"IF(Benchsheet!A268>1,3014,\"\")","v":""}]
[{"$f":"IF(Benchsheet!N269=0,\"-1\",Benchsheet!N269)","v":"-1"},{"$f":"IF(Benchsheet!B269=\"WL001\",\"MPN\",IF(Benchsheet!B269=FALSE,\"\",IF(Benchsheet!B269=\"WL002\",\"MPN\",IF(Benchsheet!B269=\"WL003\",\"MPN\",IF(Benchsheet!B269=\"DS001\",\"TC\")))))","v":""},{"$f":"IF(Benchsheet!A269>1,3014,\"\")","v":""}]
[{"$f":"IF(Benchsheet!N270=0,\"-1\",Benchsheet!N270)","v":"-1"},{"$f":"IF(Benchsheet!B270=\"WL001\",\"MPN\",IF(Benchsheet!B270=FALSE,\"\",IF(Benchsheet!B270=\"WL002\",\"MPN\",IF(Benchsheet!B270=\"WL003\",\"MPN\",IF(Benchsheet!B270=\"DS001\",\"TC\")))))","v":""},{"$f":"IF(Benchsheet!A270>1,3014,\"\")","v":""}]
[{"$f":"IF(Benchsheet!N271=0,\"-1\",Benchsheet!N271)","v":"-1"},{"$f":"IF(Benchsheet!B271=\"WL001\",\"MPN\",IF(Benchsheet!B271=FALSE,\"\",IF(Benchsheet!B271=\"WL002\",\"MPN\",IF(Benchsheet!B271=\"WL003\",\"MPN\",IF(Benchsheet!B271=\"DS001\",\"TC\")))))","v":""},{"$f":"IF(Benchsheet!A271>1,3014,\"\")","v":""}]
[{"$f":"IF(Benchsheet!N272=0,\"-1\",Benchsheet!N272)","v":"-1"},{"$f":"IF(Benchsheet!B272=\"WL001\",\"MPN\",IF(Benchsheet!B272=FALSE,\"\",IF(Benchsheet!B272=\"WL002\",\"MPN\",IF(Benchsheet!B272=\"WL003\",\"MPN\",IF(Benchsheet!B272=\"DS001\",\"TC\")))))","v":""},{"$f":"IF(Benchsheet!A272>1,3014,\"\")","v":""}]
[{"$f":"IF(Benchsheet!N273=0,\"-1\",Benchsheet!N273)","v":"-1"},{"$f":"IF(Benchsheet!B273=\"WL001\",\"MPN\",IF(Benchsheet!B273=FALSE,\"\",IF(Benchsheet!B273=\"WL002\",\"MPN\",IF(Benchsheet!B273=\"WL003\",\"MPN\",IF(Benchsheet!B273=\"DS001\",\"TC\")))))","v":""},{"$f":"IF(Benchsheet!A273>1,3014,\"\")","v":""}]
[{"$f":"IF(Benchsheet!N274=0,\"-1\",Benchsheet!N274)","v":"-1"},{"$f":"IF(Benchsheet!B274=\"WL001\",\"MPN\",IF(Benchsheet!B274=FALSE,\"\",IF(Benchsheet!B274=\"WL002\",\"MPN\",IF(Benchsheet!B274=\"WL003\",\"MPN\",IF(Benchsheet!B274=\"DS001\",\"TC\")))))","v":""},{"$f":"IF(Benchsheet!A274>1,3014,\"\")","v":""}]
[{"$f":"IF(Benchsheet!N275=0,\"-1\",Benchsheet!N275)","v":"-1"},{"$f":"IF(Benchsheet!B275=\"WL001\",\"MPN\",IF(Benchsheet!B275=FALSE,\"\",IF(Benchsheet!B275=\"WL002\",\"MPN\",IF(Benchsheet!B275=\"WL003\",\"MPN\",IF(Benchsheet!B275=\"DS001\",\"TC\")))))","v":""},{"$f":"IF(Benchsheet!A275>1,3014,\"\")","v":""}]
[{"$f":"IF(Benchsheet!N276=0,\"-1\",Benchsheet!N276)","v":"-1"},{"$f":"IF(Benchsheet!B276=\"WL001\",\"MPN\",IF(Benchsheet!B276=FALSE,\"\",IF(Benchsheet!B276=\"WL002\",\"MPN\",IF(Benchsheet!B276=\"WL003\",\"MPN\",IF(Benchsheet!B276=\"DS001\",\"TC\")))))","v":""},{"$f":"IF(Benchsheet!A276>1,3014,\"\")","v":""}]
[{"$f":"IF(Benchsheet!N277=0,\"-1\",Benchsheet!N277)","v":"-1"},{"$f":"IF(Benchsheet!B277=\"WL001\",\"MPN\",IF(Benchsheet!B277=FALSE,\"\",IF(Benchsheet!B277=\"WL002\",\"MPN\",IF(Benchsheet!B277=\"WL003\",\"MPN\",IF(Benchsheet!B277=\"DS001\",\"TC\")))))","v":""},{"$f":"IF(Benchsheet!A277>1,3014,\"\")","v":""}]
[{"$f":"IF(Benchsheet!N278=0,\"-1\",Benchsheet!N278)","v":"-1"},{"$f":"IF(Benchsheet!B278=\"WL001\",\"MPN\",IF(Benchsheet!B278=FALSE,\"\",IF(Benchsheet!B278=\"WL002\",\"MPN\",IF(Benchsheet!B278=\"WL003\",\"MPN\",IF(Benchsheet!B278=\"DS001\",\"TC\")))))","v":""},{"$f":"IF(Benchsheet!A278>1,3014,\"\")","v":""}]
[{"$f":"IF(Benchsheet!N279=0,\"-1\",Benchsheet!N279)","v":"-1"},{"$f":"IF(Benchsheet!B279=\"WL001\",\"MPN\",IF(Benchsheet!B279=FALSE,\"\",IF(Benchsheet!B279=\"WL002\",\"MPN\",IF(Benchsheet!B279=\"WL003\",\"MPN\",IF(Benchsheet!B279=\"DS001\",\"TC\")))))","v":""},{"$f":"IF(Benchsheet!A279>1,3014,\"\")","v":""}]
[{"$f":"IF(Benchsheet!N280=0,\"-1\",Benchsheet!N280)","v":"-1"},{"$f":"IF(Benchsheet!B280=\"WL001\",\"MPN\",IF(Benchsheet!B280=FALSE,\"\",IF(Benchsheet!B280=\"WL002\",\"MPN\",IF(Benchsheet!B280=\"WL003\",\"MPN\",IF(Benchsheet!B280=\"DS001\",\"TC\")))))","v":""},{"$f":"IF(Benchsheet!A280>1,3014,\"\")","v":""}]
[{"$f":"IF(Benchsheet!N281=0,\"-1\",Benchsheet!N281)","v":"-1"},{"$f":"IF(Benchsheet!B281=\"WL001\",\"MPN\",IF(Benchsheet!B281=FALSE,\"\",IF(Benchsheet!B281=\"WL002\",\"MPN\",IF(Benchsheet!B281=\"WL003\",\"MPN\",IF(Benchsheet!B281=\"DS001\",\"TC\")))))","v":""},{"$f":"IF(Benchsheet!A281>1,3014,\"\")","v":""}]
[{"$f":"IF(Benchsheet!N282=0,\"-1\",Benchsheet!N282)","v":"-1"},{"$f":"IF(Benchsheet!B282=\"WL001\",\"MPN\",IF(Benchsheet!B282=FALSE,\"\",IF(Benchsheet!B282=\"WL002\",\"MPN\",IF(Benchsheet!B282=\"WL003\",\"MPN\",IF(Benchsheet!B282=\"DS001\",\"TC\")))))","v":""},{"$f":"IF(Benchsheet!A282>1,3014,\"\")","v":""}]
[{"$f":"IF(Benchsheet!N283=0,\"-1\",Benchsheet!N283)","v":"-1"},{"$f":"IF(Benchsheet!B283=\"WL001\",\"MPN\",IF(Benchsheet!B283=FALSE,\"\",IF(Benchsheet!B283=\"WL002\",\"MPN\",IF(Benchsheet!B283=\"WL003\",\"MPN\",IF(Benchsheet!B283=\"DS001\",\"TC\")))))","v":""},{"$f":"IF(Benchsheet!A283>1,3014,\"\")","v":""}]
[{"$f":"IF(Benchsheet!N284=0,\"-1\",Benchsheet!N284)","v":"-1"},{"$f":"IF(Benchsheet!B284=\"WL001\",\"MPN\",IF(Benchsheet!B284=FALSE,\"\",IF(Benchsheet!B284=\"WL002\",\"MPN\",IF(Benchsheet!B284=\"WL003\",\"MPN\",IF(Benchsheet!B284=\"DS001\",\"TC\")))))","v":""},{"$f":"IF(Benchsheet!A284>1,3014,\"\")","v":""}]
[{"$f":"IF(Benchsheet!N285=0,\"-1\",Benchsheet!N285)","v":"-1"},{"$f":"IF(Benchsheet!B285=\"WL001\",\"MPN\",IF(Benchsheet!B285=FALSE,\"\",IF(Benchsheet!B285=\"WL002\",\"MPN\",IF(Benchsheet!B285=\"WL003\",\"MPN\",IF(Benchsheet!B285=\"DS001\",\"TC\")))))","v":""},{"$f":"IF(Benchsheet!A285>1,3014,\"\")","v":""}]
[{"$f":"IF(Benchsheet!N286=0,\"-1\",Benchsheet!N286)","v":"-1"},{"$f":"IF(Benchsheet!B286=\"WL001\",\"MPN\",IF(Benchsheet!B286=FALSE,\"\",IF(Benchsheet!B286=\"WL002\",\"MPN\",IF(Benchsheet!B286=\"WL003\",\"MPN\",IF(Benchsheet!B286=\"DS001\",\"TC\")))))","v":""},{"$f":"IF(Benchsheet!A286>1,3014,\"\")","v":""}]
[{"$f":"IF(Benchsheet!N287=0,\"-1\",Benchsheet!N287)","v":"-1"},{"$f":"IF(Benchsheet!B287=\"WL001\",\"MPN\",IF(Benchsheet!B287=FALSE,\"\",IF(Benchsheet!B287=\"WL002\",\"MPN\",IF(Benchsheet!B287=\"WL003\",\"MPN\",IF(Benchsheet!B287=\"DS001\",\"TC\")))))","v":""},{"$f":"IF(Benchsheet!A287>1,3014,\"\")","v":""}]
[{"$f":"IF(Benchsheet!N288=0,\"-1\",Benchsheet!N288)","v":"-1"},{"$f":"IF(Benchsheet!B288=\"WL001\",\"MPN\",IF(Benchsheet!B288=FALSE,\"\",IF(Benchsheet!B288=\"WL002\",\"MPN\",IF(Benchsheet!B288=\"WL003\",\"MPN\",IF(Benchsheet!B288=\"DS001\",\"TC\")))))","v":""},{"$f":"IF(Benchsheet!A288>1,3014,\"\")","v":""}]
[{"$f":"IF(Benchsheet!N289=0,\"-1\",Benchsheet!N289)","v":"-1"},{"$f":"IF(Benchsheet!B289=\"WL001\",\"MPN\",IF(Benchsheet!B289=FALSE,\"\",IF(Benchsheet!B289=\"WL002\",\"MPN\",IF(Benchsheet!B289=\"WL003\",\"MPN\",IF(Benchsheet!B289=\"DS001\",\"TC\")))))","v":""},{"$f":"IF(Benchsheet!A289>1,3014,\"\")","v":""}]
[{"$f":"IF(Benchsheet!N290=0,\"-1\",Benchsheet!N290)","v":"-1"},{"$f":"IF(Benchsheet!B290=\"WL001\",\"MPN\",IF(Benchsheet!B290=FALSE,\"\",IF(Benchsheet!B290=\"WL002\",\"MPN\",IF(Benchsheet!B290=\"WL003\",\"MPN\",IF(Benchsheet!B290=\"DS001\",\"TC\")))))","v":""},{"$f":"IF(Benchsheet!A290>1,3014,\"\")","v":""}]
[{"$f":"IF(Benchsheet!N291=0,\"-1\",Benchsheet!N291)","v":"-1"},{"$f":"IF(Benchsheet!B291=\"WL001\",\"MPN\",IF(Benchsheet!B291=FALSE,\"\",IF(Benchsheet!B291=\"WL002\",\"MPN\",IF(Benchsheet!B291=\"WL003\",\"MPN\",IF(Benchsheet!B291=\"DS001\",\"TC\")))))","v":""},{"$f":"IF(Benchsheet!A291>1,3014,\"\")","v":""}]
[{"$f":"IF(Benchsheet!N292=0,\"-1\",Benchsheet!N292)","v":"-1"},{"$f":"IF(Benchsheet!B292=\"WL001\",\"MPN\",IF(Benchsheet!B292=FALSE,\"\",IF(Benchsheet!B292=\"WL002\",\"MPN\",IF(Benchsheet!B292=\"WL003\",\"MPN\",IF(Benchsheet!B292=\"DS001\",\"TC\")))))","v":""},{"$f":"IF(Benchsheet!A292>1,3014,\"\")","v":""}]
[{"$f":"IF(Benchsheet!N293=0,\"-1\",Benchsheet!N293)","v":"-1"},{"$f":"IF(Benchsheet!B293=\"WL001\",\"MPN\",IF(Benchsheet!B293=FALSE,\"\",IF(Benchsheet!B293=\"WL002\",\"MPN\",IF(Benchsheet!B293=\"WL003\",\"MPN\",IF(Benchsheet!B293=\"DS001\",\"TC\")))))","v":""},{"$f":"IF(Benchsheet!A293>1,3014,\"\")","v":""}]
[{"$f":"IF(Benchsheet!N294=0,\"-1\",Benchsheet!N294)","v":"-1"},{"$f":"IF(Benchsheet!B294=\"WL001\",\"MPN\",IF(Benchsheet!B294=FALSE,\"\",IF(Benchsheet!B294=\"WL002\",\"MPN\",IF(Benchsheet!B294=\"WL003\",\"MPN\",IF(Benchsheet!B294=\"DS001\",\"TC\")))))","v":""},{"$f":"IF(Benchsheet!A294>1,3014,\"\")","v":3014}]
[{"$f":"IF(Benchsheet!N295=0,\"-1\",Benchsheet!N295)","v":"-1"},{"$f":"IF(Benchsheet!B295=\"WL001\",\"MPN\",IF(Benchsheet!B295=FALSE,\"\",IF(Benchsheet!B295=\"WL002\",\"MPN\",IF(Benchsheet!B295=\"WL003\",\"MPN\",IF(Benchsheet!B295=\"DS001\",\"TC\")))))","v":""},{"$f":"IF(Benchsheet!A295>1,3014,\"\")","v":""}]
[{"$f":"IF(Benchsheet!N296=0,\"-1\",Benchsheet!N296)","v":"-1"},{"$f":"IF(Benchsheet!B296=\"WL001\",\"MPN\",IF(Benchsheet!B296=FALSE,\"\",IF(Benchsheet!B296=\"WL002\",\"MPN\",IF(Benchsheet!B296=\"WL003\",\"MPN\",IF(Benchsheet!B296=\"DS001\",\"TC\")))))","v":""},{"$f":"IF(Benchsheet!A296>1,3014,\"\")","v":""}]
[{"$f":"IF(Benchsheet!N297=0,\"-1\",Benchsheet!N297)","v":"-1"},{"$f":"IF(Benchsheet!B297=\"WL001\",\"MPN\",IF(Benchsheet!B297=FALSE,\"\",IF(Benchsheet!B297=\"WL002\",\"MPN\",IF(Benchsheet!B297=\"WL003\",\"MPN\",IF(Benchsheet!B297=\"DS001\",\"TC\")))))","v":""},{"$f":"IF(Benchsheet!A297>1,3014,\"\")","v":""}]
[{"$f":"IF(Benchsheet!N298=0,\"-1\",Benchsheet!N298)","v":"-1"},{"$f":"IF(Benchsheet!B298=\"WL001\",\"MPN\",IF(Benchsheet!B298=FALSE,\"\",IF(Benchsheet!B298=\"WL002\",\"MPN\",IF(Benchsheet!B298=\"WL003\",\"MPN\",IF(Benchsheet!B298=\"DS001\",\"TC\")))))","v":""},{"$f":"IF(Benchsheet!A298>1,3014,\"\")","v":""}]
[{"$f":"IF(Benchsheet!N299=0,\"-1\",Benchsheet!N299)","v":"-1"},{"$f":"IF(Benchsheet!B299=\"WL001\",\"MPN\",IF(Benchsheet!B299=FALSE,\"\",IF(Benchsheet!B299=\"WL002\",\"MPN\",IF(Benchsheet!B299=\"WL003\",\"MPN\",IF(Benchsheet!B299=\"DS001\",\"TC\")))))","v":""},{"$f":"IF(Benchsheet!A299>1,3014,\"\")","v":""}]
[{"$f":"IF(Benchsheet!N300=0,\"-1\",Benchsheet!N300)","v":"-1"},{"$f":"IF(Benchsheet!B300=\"WL001\",\"MPN\",IF(Benchsheet!B300=FALSE,\"\",IF(Benchsheet!B300=\"WL002\",\"MPN\",IF(Benchsheet!B300=\"WL003\",\"MPN\",IF(Benchsheet!B300=\"DS001\",\"TC\")))))","v":""},{"$f":"IF(Benchsheet!A300>1,3014,\"\")","v":""}]
[{"$f":"IF(Benchsheet!N301=0,\"-1\",Benchsheet!N301)","v":"-1"},{"$f":"IF(Benchsheet!B301=\"WL001\",\"MPN\",IF(Benchsheet!B301=FALSE,\"\",IF(Benchsheet!B301=\"WL002\",\"MPN\",IF(Benchsheet!B301=\"WL003\",\"MPN\",IF(Benchsheet!B301=\"DS001\",\"TC\")))))","v":""},{"$f":"IF(Benchsheet!A301>1,3014,\"\")","v":""}]
[{"$f":"IF(Benchsheet!N302=0,\"-1\",Benchsheet!N302)","v":"-1"},{"$f":"IF(Benchsheet!B302=\"WL001\",\"MPN\",IF(Benchsheet!B302=FALSE,\"\",IF(Benchsheet!B302=\"WL002\",\"MPN\",IF(Benchsheet!B302=\"WL003\",\"MPN\",IF(Benchsheet!B302=\"DS001\",\"TC\")))))","v":""},{"$f":"IF(Benchsheet!A302>1,3014,\"\")","v":""}]
[{"$f":"IF(Benchsheet!N303=0,\"-1\",Benchsheet!N303)","v":"-1"},{"$f":"IF(Benchsheet!B303=\"WL001\",\"MPN\",IF(Benchsheet!B303=FALSE,\"\",IF(Benchsheet!B303=\"WL002\",\"MPN\",IF(Benchsheet!B303=\"WL003\",\"MPN\",IF(Benchsheet!B303=\"DS001\",\"TC\")))))","v":""},{"$f":"IF(Benchsheet!A303>1,3014,\"\")","v":""}]
[{"$f":"IF(Benchsheet!N304=0,\"-1\",Benchsheet!N304)","v":"-1"},{"$f":"IF(Benchsheet!B304=\"WL001\",\"MPN\",IF(Benchsheet!B304=FALSE,\"\",IF(Benchsheet!B304=\"WL002\",\"MPN\",IF(Benchsheet!B304=\"WL003\",\"MPN\",IF(Benchsheet!B304=\"DS001\",\"TC\")))))","v":""},{"$f":"IF(Benchsheet!A304>1,3014,\"\")","v":""}]
[{"$f":"IF(Benchsheet!N305=0,\"-1\",Benchsheet!N305)","v":"-1"},{"$f":"IF(Benchsheet!B305=\"WL001\",\"MPN\",IF(Benchsheet!B305=FALSE,\"\",IF(Benchsheet!B305=\"WL002\",\"MPN\",IF(Benchsheet!B305=\"WL003\",\"MPN\",IF(Benchsheet!B305=\"DS001\",\"TC\")))))","v":""},{"$f":"IF(Benchsheet!A305>1,3014,\"\")","v":""}]
[{"$f":"IF(Benchsheet!N306=0,\"-1\",Benchsheet!N306)","v":"-1"},{"$f":"IF(Benchsheet!B306=\"WL001\",\"MPN\",IF(Benchsheet!B306=FALSE,\"\",IF(Benchsheet!B306=\"WL002\",\"MPN\",IF(Benchsheet!B306=\"WL003\",\"MPN\",IF(Benchsheet!B306=\"DS001\",\"TC\")))))","v":""},{"$f":"IF(Benchsheet!A306>1,3014,\"\")","v":""}]
[{"$f":"IF(Benchsheet!N307=0,\"-1\",Benchsheet!N307)","v":"-1"},{"$f":"IF(Benchsheet!B307=\"WL001\",\"MPN\",IF(Benchsheet!B307=FALSE,\"\",IF(Benchsheet!B307=\"WL002\",\"MPN\",IF(Benchsheet!B307=\"WL003\",\"MPN\",IF(Benchsheet!B307=\"DS001\",\"TC\")))))","v":""},{"$f":"IF(Benchsheet!A307>1,3014,\"\")","v":""}]
[{"$f":"IF(Benchsheet!N308=0,\"-1\",Benchsheet!N308)","v":"-1"},{"$f":"IF(Benchsheet!B308=\"WL001\",\"MPN\",IF(Benchsheet!B308=FALSE,\"\",IF(Benchsheet!B308=\"WL002\",\"MPN\",IF(Benchsheet!B308=\"WL003\",\"MPN\",IF(Benchsheet!B308=\"DS001\",\"TC\")))))","v":""},{"$f":"IF(Benchsheet!A308>1,3014,\"\")","v":""}]
[{"$f":"IF(Benchsheet!N309=0,\"-1\",Benchsheet!N309)","v":"-1"},{"$f":"IF(Benchsheet!B309=\"WL001\",\"MPN\",IF(Benchsheet!B309=FALSE,\"\",IF(Benchsheet!B309=\"WL002\",\"MPN\",IF(Benchsheet!B309=\"WL003\",\"MPN\",IF(Benchsheet!B309=\"DS001\",\"TC\")))))","v":""},{"$f":"IF(Benchsheet!A309>1,3014,\"\")","v":""}]
[{"$f":"IF(Benchsheet!N310=0,\"-1\",Benchsheet!N310)","v":"-1"},{"$f":"IF(Benchsheet!B310=\"WL001\",\"MPN\",IF(Benchsheet!B310=FALSE,\"\",IF(Benchsheet!B310=\"WL002\",\"MPN\",IF(Benchsheet!B310=\"WL003\",\"MPN\",IF(Benchsheet!B310=\"DS001\",\"TC\")))))","v":""},{"$f":"IF(Benchsheet!A310>1,3014,\"\")","v":""}]
[{"$f":"IF(Benchsheet!N311=0,\"-1\",Benchsheet!N311)","v":"-1"},{"$f":"IF(Benchsheet!B311=\"WL001\",\"MPN\",IF(Benchsheet!B311=FALSE,\"\",IF(Benchsheet!B311=\"WL002\",\"MPN\",IF(Benchsheet!B311=\"WL003\",\"MPN\",IF(Benchsheet!B311=\"DS001\",\"TC\")))))","v":""},{"$f":"IF(Benchsheet!A311>1,3014,\"\")","v":""}]
[{"$f":"IF(Benchsheet!N312=0,\"-1\",Benchsheet!N312)","v":"-1"},{"$f":"IF(Benchsheet!B312=\"WL001\",\"MPN\",IF(Benchsheet!B312=FALSE,\"\",IF(Benchsheet!B312=\"WL002\",\"MPN\",IF(Benchsheet!B312=\"WL003\",\"MPN\",IF(Benchsheet!B312=\"DS001\",\"TC\")))))","v":""},{"$f":"IF(Benchsheet!A312>1,3014,\"\")","v":""}]
[{"$f":"IF(Benchsheet!N313=0,\"-1\",Benchsheet!N313)","v":"-1"},{"$f":"IF(Benchsheet!B313=\"WL001\",\"MPN\",IF(Benchsheet!B313=FALSE,\"\",IF(Benchsheet!B313=\"WL002\",\"MPN\",IF(Benchsheet!B313=\"WL003\",\"MPN\",IF(Benchsheet!B313=\"DS001\",\"TC\")))))","v":""},{"$f":"IF(Benchsheet!A313>1,3014,\"\")","v":""}]
[{"$f":"IF(Benchsheet!N314=0,\"-1\",Benchsheet!N314)","v":"-1"},{"$f":"IF(Benchsheet!B314=\"WL001\",\"MPN\",IF(Benchsheet!B314=FALSE,\"\",IF(Benchsheet!B314=\"WL002\",\"MPN\",IF(Benchsheet!B314=\"WL003\",\"MPN\",IF(Benchsheet!B314=\"DS001\",\"TC\")))))","v":""},{"$f":"IF(Benchsheet!A314>1,3014,\"\")","v":""}]
[{"$f":"IF(Benchsheet!N315=0,\"-1\",Benchsheet!N315)","v":"-1"},{"$f":"IF(Benchsheet!B315=\"WL001\",\"MPN\",IF(Benchsheet!B315=FALSE,\"\",IF(Benchsheet!B315=\"WL002\",\"MPN\",IF(Benchsheet!B315=\"WL003\",\"MPN\",IF(Benchsheet!B315=\"DS001\",\"TC\")))))","v":""},{"$f":"IF(Benchsheet!A315>1,3014,\"\")","v":""}]
[{"$f":"IF(Benchsheet!N316=0,\"-1\",Benchsheet!N316)","v":"-1"},{"$f":"IF(Benchsheet!B316=\"WL001\",\"MPN\",IF(Benchsheet!B316=FALSE,\"\",IF(Benchsheet!B316=\"WL002\",\"MPN\",IF(Benchsheet!B316=\"WL003\",\"MPN\",IF(Benchsheet!B316=\"DS001\",\"TC\")))))","v":""},{"$f":"IF(Benchsheet!A316>1,3014,\"\")","v":""}]
[{"$f":"IF(Benchsheet!N317=0,\"-1\",Benchsheet!N317)","v":"-1"},{"$f":"IF(Benchsheet!B317=\"WL001\",\"MPN\",IF(Benchsheet!B317=FALSE,\"\",IF(Benchsheet!B317=\"WL002\",\"MPN\",IF(Benchsheet!B317=\"WL003\",\"MPN\",IF(Benchsheet!B317=\"DS001\",\"TC\")))))","v":""},{"$f":"IF(Benchsheet!A317>1,3014,\"\")","v":""}]
[{"$f":"IF(Benchsheet!N318=0,\"-1\",Benchsheet!N318)","v":"-1"},{"$f":"IF(Benchsheet!B318=\"WL001\",\"MPN\",IF(Benchsheet!B318=FALSE,\"\",IF(Benchsheet!B318=\"WL002\",\"MPN\",IF(Benchsheet!B318=\"WL003\",\"MPN\",IF(Benchsheet!B318=\"DS001\",\"TC\")))))","v":""},{"$f":"IF(Benchsheet!A318>1,3014,\"\")","v":""}]
[{"$f":"IF(Benchsheet!N319=0,\"-1\",Benchsheet!N319)","v":"-1"},{"$f":"IF(Benchsheet!B319=\"WL001\",\"MPN\",IF(Benchsheet!B319=FALSE,\"\",IF(Benchsheet!B319=\"WL002\",\"MPN\",IF(Benchsheet!B319=\"WL003\",\"MPN\",IF(Benchsheet!B319=\"DS001\",\"TC\")))))","v":""},{"$f":"IF(Benchsheet!A319>1,3014,\"\")","v":""}]
[{"$f":"IF(Benchsheet!N320=0,\"-1\",Benchsheet!N320)","v":"-1"},{"$f":"IF(Benchsheet!B320=\"WL001\",\"MPN\",IF(Benchsheet!B320=FALSE,\"\",IF(Benchsheet!B320=\"WL002\",\"MPN\",IF(Benchsheet!B320=\"WL003\",\"MPN\",IF(Benchsheet!B320=\"DS001\",\"TC\")))))","v":""},{"$f":"IF(Benchsheet!A320>1,3014,\"\")","v":""}]
[{"$f":"IF(Benchsheet!N321=0,\"-1\",Benchsheet!N321)","v":"-1"},{"$f":"IF(Benchsheet!B321=\"WL001\",\"MPN\",IF(Benchsheet!B321=FALSE,\"\",IF(Benchsheet!B321=\"WL002\",\"MPN\",IF(Benchsheet!B321=\"WL003\",\"MPN\",IF(Benchsheet!B321=\"DS001\",\"TC\")))))","v":""},{"$f":"IF(Benchsheet!A321>1,3014,\"\")","v":""}]
[{"$f":"IF(Benchsheet!N322=0,\"-1\",Benchsheet!N322)","v":"-1"},{"$f":"IF(Benchsheet!B322=\"WL001\",\"MPN\",IF(Benchsheet!B322=FALSE,\"\",IF(Benchsheet!B322=\"WL002\",\"MPN\",IF(Benchsheet!B322=\"WL003\",\"MPN\",IF(Benchsheet!B322=\"DS001\",\"TC\")))))","v":""},{"$f":"IF(Benchsheet!A322>1,3014,\"\")","v":""}]
[{"$f":"IF(Benchsheet!N323=0,\"-1\",Benchsheet!N323)","v":"-1"},{"$f":"IF(Benchsheet!B323=\"WL001\",\"MPN\",IF(Benchsheet!B323=FALSE,\"\",IF(Benchsheet!B323=\"WL002\",\"MPN\",IF(Benchsheet!B323=\"WL003\",\"MPN\",IF(Benchsheet!B323=\"DS001\",\"TC\")))))","v":""},{"$f":"IF(Benchsheet!A323>1,3014,\"\")","v":""}]
[{"$f":"IF(Benchsheet!N324=0,\"-1\",Benchsheet!N324)","v":"-1"},{"$f":"IF(Benchsheet!B324=\"WL001\",\"MPN\",IF(Benchsheet!B324=FALSE,\"\",IF(Benchsheet!B324=\"WL002\",\"MPN\",IF(Benchsheet!B324=\"WL003\",\"MPN\",IF(Benchsheet!B324=\"DS001\",\"TC\")))))","v":""},{"$f":"IF(Benchsheet!A324>1,3014,\"\")","v":""}]
[{"$f":"IF(Benchsheet!N325=0,\"-1\",Benchsheet!N325)","v":"-1"},{"$f":"IF(Benchsheet!B325=\"WL001\",\"MPN\",IF(Benchsheet!B325=FALSE,\"\",IF(Benchsheet!B325=\"WL002\",\"MPN\",IF(Benchsheet!B325=\"WL003\",\"MPN\",IF(Benchsheet!B325=\"DS001\",\"TC\")))))","v":""},{"$f":"IF(Benchsheet!A325>1,3014,\"\")","v":""}]
[{"$f":"IF(Benchsheet!N326=0,\"-1\",Benchsheet!N326)","v":"-1"},{"$f":"IF(Benchsheet!B326=\"WL001\",\"MPN\",IF(Benchsheet!B326=FALSE,\"\",IF(Benchsheet!B326=\"WL002\",\"MPN\",IF(Benchsheet!B326=\"WL003\",\"MPN\",IF(Benchsheet!B326=\"DS001\",\"TC\")))))","v":""},{"$f":"IF(Benchsheet!A326>1,3014,\"\")","v":""}]
[{"$f":"IF(Benchsheet!N327=0,\"-1\",Benchsheet!N327)","v":"-1"},{"$f":"IF(Benchsheet!B327=\"WL001\",\"MPN\",IF(Benchsheet!B327=FALSE,\"\",IF(Benchsheet!B327=\"WL002\",\"MPN\",IF(Benchsheet!B327=\"WL003\",\"MPN\",IF(Benchsheet!B327=\"DS001\",\"TC\")))))","v":""},{"$f":"IF(Benchsheet!A327>1,3014,\"\")","v":""}]
[{"$f":"IF(Benchsheet!N328=0,\"-1\",Benchsheet!N328)","v":"-1"},{"$f":"IF(Benchsheet!B328=\"WL001\",\"MPN\",IF(Benchsheet!B328=FALSE,\"\",IF(Benchsheet!B328=\"WL002\",\"MPN\",IF(Benchsheet!B328=\"WL003\",\"MPN\",IF(Benchsheet!B328=\"DS001\",\"TC\")))))","v":""},{"$f":"IF(Benchsheet!A328>1,3014,\"\")","v":""}]
[{"$f":"IF(Benchsheet!N329=0,\"-1\",Benchsheet!N329)","v":"-1"},{"$f":"IF(Benchsheet!B329=\"WL001\",\"MPN\",IF(Benchsheet!B329=FALSE,\"\",IF(Benchsheet!B329=\"WL002\",\"MPN\",IF(Benchsheet!B329=\"WL003\",\"MPN\",IF(Benchsheet!B329=\"DS001\",\"TC\")))))","v":""},{"$f":"IF(Benchsheet!A329>1,3014,\"\")","v":""}]
[{"$f":"IF(Benchsheet!N330=0,\"-1\",Benchsheet!N330)","v":"-1"},{"$f":"IF(Benchsheet!B330=\"WL001\",\"MPN\",IF(Benchsheet!B330=FALSE,\"\",IF(Benchsheet!B330=\"WL002\",\"MPN\",IF(Benchsheet!B330=\"WL003\",\"MPN\",IF(Benchsheet!B330=\"DS001\",\"TC\")))))","v":""},{"$f":"IF(Benchsheet!A330>1,3014,\"\")","v":""}]
[{"$f":"IF(Benchsheet!N331=0,\"-1\",Benchsheet!N331)","v":"-1"},{"$f":"IF(Benchsheet!B331=\"WL001\",\"MPN\",IF(Benchsheet!B331=FALSE,\"\",IF(Benchsheet!B331=\"WL002\",\"MPN\",IF(Benchsheet!B331=\"WL003\",\"MPN\",IF(Benchsheet!B331=\"DS001\",\"TC\")))))","v":""},{"$f":"IF(Benchsheet!A331>1,3014,\"\")","v":""}]
[{"$f":"IF(Benchsheet!N332=0,\"-1\",Benchsheet!N332)","v":"-1"},{"$f":"IF(Benchsheet!B332=\"WL001\",\"MPN\",IF(Benchsheet!B332=FALSE,\"\",IF(Benchsheet!B332=\"WL002\",\"MPN\",IF(Benchsheet!B332=\"WL003\",\"MPN\",IF(Benchsheet!B332=\"DS001\",\"TC\")))))","v":""},{"$f":"IF(Benchsheet!A332>1,3014,\"\")","v":""}]
[{"$f":"IF(Benchsheet!N333=0,\"-1\",Benchsheet!N333)","v":"-1"},{"$f":"IF(Benchsheet!B333=\"WL001\",\"MPN\",IF(Benchsheet!B333=FALSE,\"\",IF(Benchsheet!B333=\"WL002\",\"MPN\",IF(Benchsheet!B333=\"WL003\",\"MPN\",IF(Benchsheet!B333=\"DS001\",\"TC\")))))","v":""},{"$f":"IF(Benchsheet!A333>1,3014,\"\")","v":""}]
[{"$f":"IF(Benchsheet!N334=0,\"-1\",Benchsheet!N334)","v":"-1"},{"$f":"IF(Benchsheet!B334=\"WL001\",\"MPN\",IF(Benchsheet!B334=FALSE,\"\",IF(Benchsheet!B334=\"WL002\",\"MPN\",IF(Benchsheet!B334=\"WL003\",\"MPN\",IF(Benchsheet!B334=\"DS001\",\"TC\")))))","v":""},{"$f":"IF(Benchsheet!A334>1,3014,\"\")","v":""}]
[{"$f":"IF(Benchsheet!N335=0,\"-1\",Benchsheet!N335)","v":"-1"},{"$f":"IF(Benchsheet!B335=\"WL001\",\"MPN\",IF(Benchsheet!B335=FALSE,\"\",IF(Benchsheet!B335=\"WL002\",\"MPN\",IF(Benchsheet!B335=\"WL003\",\"MPN\",IF(Benchsheet!B335=\"DS001\",\"TC\")))))","v":""},{"$f":"IF(Benchsheet!A335>1,3014,\"\")","v":""}]
[{"$f":"IF(Benchsheet!N336=0,\"-1\",Benchsheet!N336)","v":"-1"},{"$f":"IF(Benchsheet!B336=\"WL001\",\"MPN\",IF(Benchsheet!B336=FALSE,\"\",IF(Benchsheet!B336=\"WL002\",\"MPN\",IF(Benchsheet!B336=\"WL003\",\"MPN\",IF(Benchsheet!B336=\"DS001\",\"TC\")))))","v":""},{"$f":"IF(Benchsheet!A336>1,3014,\"\")","v":""}]
[{"$f":"IF(Benchsheet!N337=0,\"-1\",Benchsheet!N337)","v":"-1"},{"$f":"IF(Benchsheet!B337=\"WL001\",\"MPN\",IF(Benchsheet!B337=FALSE,\"\",IF(Benchsheet!B337=\"WL002\",\"MPN\",IF(Benchsheet!B337=\"WL003\",\"MPN\",IF(Benchsheet!B337=\"DS001\",\"TC\")))))","v":""},{"$f":"IF(Benchsheet!A337>1,3014,\"\")","v":""}]
[{"$f":"IF(Benchsheet!N338=0,\"-1\",Benchsheet!N338)","v":"-1"},{"$f":"IF(Benchsheet!B338=\"WL001\",\"MPN\",IF(Benchsheet!B338=FALSE,\"\",IF(Benchsheet!B338=\"WL002\",\"MPN\",IF(Benchsheet!B338=\"WL003\",\"MPN\",IF(Benchsheet!B338=\"DS001\",\"TC\")))))","v":""},{"$f":"IF(Benchsheet!A338>1,3014,\"\")","v":""}]
[{"$f":"IF(Benchsheet!N339=0,\"-1\",Benchsheet!N339)","v":"-1"},{"$f":"IF(Benchsheet!B339=\"WL001\",\"MPN\",IF(Benchsheet!B339=FALSE,\"\",IF(Benchsheet!B339=\"WL002\",\"MPN\",IF(Benchsheet!B339=\"WL003\",\"MPN\",IF(Benchsheet!B339=\"DS001\",\"TC\")))))","v":""},{"$f":"IF(Benchsheet!A339>1,3014,\"\")","v":""}]
[{"$f":"IF(Benchsheet!N340=0,\"-1\",Benchsheet!N340)","v":"-1"},{"$f":"IF(Benchsheet!B340=\"WL001\",\"MPN\",IF(Benchsheet!B340=FALSE,\"\",IF(Benchsheet!B340=\"WL002\",\"MPN\",IF(Benchsheet!B340=\"WL003\",\"MPN\",IF(Benchsheet!B340=\"DS001\",\"TC\")))))","v":""},{"$f":"IF(Benchsheet!A340>1,3014,\"\")","v":""}]
[{"$f":"IF(Benchsheet!N341=0,\"-1\",Benchsheet!N341)","v":"-1"},{"$f":"IF(Benchsheet!B341=\"WL001\",\"MPN\",IF(Benchsheet!B341=FALSE,\"\",IF(Benchsheet!B341=\"WL002\",\"MPN\",IF(Benchsheet!B341=\"WL003\",\"MPN\",IF(Benchsheet!B341=\"DS001\",\"TC\")))))","v":""},{"$f":"IF(Benchsheet!A341>1,3014,\"\")","v":""}]
[{"$f":"IF(Benchsheet!N342=0,\"-1\",Benchsheet!N342)","v":"-1"},{"$f":"IF(Benchsheet!B342=\"WL001\",\"MPN\",IF(Benchsheet!B342=FALSE,\"\",IF(Benchsheet!B342=\"WL002\",\"MPN\",IF(Benchsheet!B342=\"WL003\",\"MPN\",IF(Benchsheet!B342=\"DS001\",\"TC\")))))","v":""},{"$f":"IF(Benchsheet!A342>1,3014,\"\")","v":""}]
[{"$f":"IF(Benchsheet!N343=0,\"-1\",Benchsheet!N343)","v":"-1"},{"$f":"IF(Benchsheet!B343=\"WL001\",\"MPN\",IF(Benchsheet!B343=FALSE,\"\",IF(Benchsheet!B343=\"WL002\",\"MPN\",IF(Benchsheet!B343=\"WL003\",\"MPN\",IF(Benchsheet!B343=\"DS001\",\"TC\")))))","v":""},{"$f":"IF(Benchsheet!A343>1,3014,\"\")","v":""}]
[{"$f":"IF(Benchsheet!N344=0,\"-1\",Benchsheet!N344)","v":"-1"},{"$f":"IF(Benchsheet!B344=\"WL001\",\"MPN\",IF(Benchsheet!B344=FALSE,\"\",IF(Benchsheet!B344=\"WL002\",\"MPN\",IF(Benchsheet!B344=\"WL003\",\"MPN\",IF(Benchsheet!B344=\"DS001\",\"TC\")))))","v":""},{"$f":"IF(Benchsheet!A344>1,3014,\"\")","v":""}]
[{"$f":"IF(Benchsheet!N345=0,\"-1\",Benchsheet!N345)","v":"-1"},{"$f":"IF(Benchsheet!B345=\"WL001\",\"MPN\",IF(Benchsheet!B345=FALSE,\"\",IF(Benchsheet!B345=\"WL002\",\"MPN\",IF(Benchsheet!B345=\"WL003\",\"MPN\",IF(Benchsheet!B345=\"DS001\",\"TC\")))))","v":""},{"$f":"IF(Benchsheet!A345>1,3014,\"\")","v":""}]
[{"$f":"IF(Benchsheet!N346=0,\"-1\",Benchsheet!N346)","v":"-1"},{"$f":"IF(Benchsheet!B346=\"WL001\",\"MPN\",IF(Benchsheet!B346=FALSE,\"\",IF(Benchsheet!B346=\"WL002\",\"MPN\",IF(Benchsheet!B346=\"WL003\",\"MPN\",IF(Benchsheet!B346=\"DS001\",\"TC\")))))","v":""},{"$f":"IF(Benchsheet!A346>1,3014,\"\")","v":""}]
[{"$f":"IF(Benchsheet!N347=0,\"-1\",Benchsheet!N347)","v":"-1"},{"$f":"IF(Benchsheet!B347=\"WL001\",\"MPN\",IF(Benchsheet!B347=FALSE,\"\",IF(Benchsheet!B347=\"WL002\",\"MPN\",IF(Benchsheet!B347=\"WL003\",\"MPN\",IF(Benchsheet!B347=\"DS001\",\"TC\")))))","v":""},{"$f":"IF(Benchsheet!A347>1,3014,\"\")","v":""}]
[{"$f":"IF(Benchsheet!N348=0,\"-1\",Benchsheet!N348)","v":"-1"},{"$f":"IF(Benchsheet!B348=\"WL001\",\"MPN\",IF(Benchsheet!B348=FALSE,\"\",IF(Benchsheet!B348=\"WL002\",\"MPN\",IF(Benchsheet!B348=\"WL003\",\"MPN\",IF(Benchsheet!B348=\"DS001\",\"TC\")))))","v":""},{"$f":"IF(Benchsheet!A348>1,3014,\"\")","v":""}]
[{"$f":"IF(Benchsheet!N349=0,\"-1\",Benchsheet!N349)","v":"-1"},{"$f":"IF(Benchsheet!B349=\"WL001\",\"MPN\",IF(Benchsheet!B349=FALSE,\"\",IF(Benchsheet!B349=\"WL002\",\"MPN\",IF(Benchsheet!B349=\"WL003\",\"MPN\",IF(Benchsheet!B349=\"DS001\",\"TC\")))))","v":""},{"$f":"IF(Benchsheet!A349>1,3014,\"\")","v":""}]
[{"$f":"IF(Benchsheet!N350=0,\"-1\",Benchsheet!N350)","v":"-1"},{"$f":"IF(Benchsheet!B350=\"WL001\",\"MPN\",IF(Benchsheet!B350=FALSE,\"\",IF(Benchsheet!B350=\"WL002\",\"MPN\",IF(Benchsheet!B350=\"WL003\",\"MPN\",IF(Benchsheet!B350=\"DS001\",\"TC\")))))","v":""},{"$f":"IF(Benchsheet!A350>1,3014,\"\")","v":""}]
[{"$f":"IF(Benchsheet!N351=0,\"-1\",Benchsheet!N351)","v":"-1"},{"$f":"IF(Benchsheet!B351=\"WL001\",\"MPN\",IF(Benchsheet!B351=FALSE,\"\",IF(Benchsheet!B351=\"WL002\",\"MPN\",IF(Benchsheet!B351=\"WL003\",\"MPN\",IF(Benchsheet!B351=\"DS001\",\"TC\")))))","v":""},{"$f":"IF(Benchsheet!A351>1,3014,\"\")","v":""}]
[{"$f":"IF(Benchsheet!N352=0,\"-1\",Benchsheet!N352)","v":"-1"},{"$f":"IF(Benchsheet!B352=\"WL001\",\"MPN\",IF(Benchsheet!B352=FALSE,\"\",IF(Benchsheet!B352=\"WL002\",\"MPN\",IF(Benchsheet!B352=\"WL003\",\"MPN\",IF(Benchsheet!B352=\"DS001\",\"TC\")))))","v":""},{"$f":"IF(Benchsheet!A352>1,3014,\"\")","v":""}]
[{"$f":"IF(Benchsheet!N353=0,\"-1\",Benchsheet!N353)","v":"-1"},{"$f":"IF(Benchsheet!B353=\"WL001\",\"MPN\",IF(Benchsheet!B353=FALSE,\"\",IF(Benchsheet!B353=\"WL002\",\"MPN\",IF(Benchsheet!B353=\"WL003\",\"MPN\",IF(Benchsheet!B353=\"DS001\",\"TC\")))))","v":""},{"$f":"IF(Benchsheet!A353>1,3014,\"\")","v":""}]
[{"$f":"IF(Benchsheet!N354=0,\"-1\",Benchsheet!N354)","v":"-1"},{"$f":"IF(Benchsheet!B354=\"WL001\",\"MPN\",IF(Benchsheet!B354=FALSE,\"\",IF(Benchsheet!B354=\"WL002\",\"MPN\",IF(Benchsheet!B354=\"WL003\",\"MPN\",IF(Benchsheet!B354=\"DS001\",\"TC\")))))","v":""},{"$f":"IF(Benchsheet!A354>1,3014,\"\")","v":""}]
[{"$f":"IF(Benchsheet!N355=0,\"-1\",Benchsheet!N355)","v":"-1"},{"$f":"IF(Benchsheet!B355=\"WL001\",\"MPN\",IF(Benchsheet!B355=FALSE,\"\",IF(Benchsheet!B355=\"WL002\",\"MPN\",IF(Benchsheet!B355=\"WL003\",\"MPN\",IF(Benchsheet!B355=\"DS001\",\"TC\")))))","v":""},{"$f":"IF(Benchsheet!A355>1,3014,\"\")","v":""}]
[{"$f":"IF(Benchsheet!N356=0,\"-1\",Benchsheet!N356)","v":"-1"},{"$f":"IF(Benchsheet!B356=\"WL001\",\"MPN\",IF(Benchsheet!B356=FALSE,\"\",IF(Benchsheet!B356=\"WL002\",\"MPN\",IF(Benchsheet!B356=\"WL003\",\"MPN\",IF(Benchsheet!B356=\"DS001\",\"TC\")))))","v":""},{"$f":"IF(Benchsheet!A356>1,3014,\"\")","v":""}]
[{"$f":"IF(Benchsheet!N357=0,\"-1\",Benchsheet!N357)","v":"-1"},{"$f":"IF(Benchsheet!B357=\"WL001\",\"MPN\",IF(Benchsheet!B357=FALSE,\"\",IF(Benchsheet!B357=\"WL002\",\"MPN\",IF(Benchsheet!B357=\"WL003\",\"MPN\",IF(Benchsheet!B357=\"DS001\",\"TC\")))))","v":""},{"$f":"IF(Benchsheet!A357>1,3014,\"\")","v":""}]
[{"$f":"IF(Benchsheet!N358=0,\"-1\",Benchsheet!N358)","v":"-1"},{"$f":"IF(Benchsheet!B358=\"WL001\",\"MPN\",IF(Benchsheet!B358=FALSE,\"\",IF(Benchsheet!B358=\"WL002\",\"MPN\",IF(Benchsheet!B358=\"WL003\",\"MPN\",IF(Benchsheet!B358=\"DS001\",\"TC\")))))","v":""},{"$f":"IF(Benchsheet!A358>1,3014,\"\")","v":""}]
[{"$f":"IF(Benchsheet!N359=0,\"-1\",Benchsheet!N359)","v":"-1"},{"$f":"IF(Benchsheet!B359=\"WL001\",\"MPN\",IF(Benchsheet!B359=FALSE,\"\",IF(Benchsheet!B359=\"WL002\",\"MPN\",IF(Benchsheet!B359=\"WL003\",\"MPN\",IF(Benchsheet!B359=\"DS001\",\"TC\")))))","v":""},{"$f":"IF(Benchsheet!A359>1,3014,\"\")","v":""}]
[{"$f":"IF(Benchsheet!N360=0,\"-1\",Benchsheet!N360)","v":"-1"},{"$f":"IF(Benchsheet!B360=\"WL001\",\"MPN\",IF(Benchsheet!B360=FALSE,\"\",IF(Benchsheet!B360=\"WL002\",\"MPN\",IF(Benchsheet!B360=\"WL003\",\"MPN\",IF(Benchsheet!B360=\"DS001\",\"TC\")))))","v":""},{"$f":"IF(Benchsheet!A360>1,3014,\"\")","v":""}]
[{"$f":"IF(Benchsheet!N361=0,\"-1\",Benchsheet!N361)","v":"-1"},{"$f":"IF(Benchsheet!B361=\"WL001\",\"MPN\",IF(Benchsheet!B361=FALSE,\"\",IF(Benchsheet!B361=\"WL002\",\"MPN\",IF(Benchsheet!B361=\"WL003\",\"MPN\",IF(Benchsheet!B361=\"DS001\",\"TC\")))))","v":""},{"$f":"IF(Benchsheet!A361>1,3014,\"\")","v":""}]
[{"$f":"IF(Benchsheet!N362=0,\"-1\",Benchsheet!N362)","v":"-1"},{"$f":"IF(Benchsheet!B362=\"WL001\",\"MPN\",IF(Benchsheet!B362=FALSE,\"\",IF(Benchsheet!B362=\"WL002\",\"MPN\",IF(Benchsheet!B362=\"WL003\",\"MPN\",IF(Benchsheet!B362=\"DS001\",\"TC\")))))","v":""},{"$f":"IF(Benchsheet!A362>1,3014,\"\")","v":""}]
[{"$f":"IF(Benchsheet!N363=0,\"-1\",Benchsheet!N363)","v":"-1"},{"$f":"IF(Benchsheet!B363=\"WL001\",\"MPN\",IF(Benchsheet!B363=FALSE,\"\",IF(Benchsheet!B363=\"WL002\",\"MPN\",IF(Benchsheet!B363=\"WL003\",\"MPN\",IF(Benchsheet!B363=\"DS001\",\"TC\")))))","v":""},{"$f":"IF(Benchsheet!A363>1,3014,\"\")","v":""}]
[{"$f":"IF(Benchsheet!N364=0,\"-1\",Benchsheet!N364)","v":"-1"},{"$f":"IF(Benchsheet!B364=\"WL001\",\"MPN\",IF(Benchsheet!B364=FALSE,\"\",IF(Benchsheet!B364=\"WL002\",\"MPN\",IF(Benchsheet!B364=\"WL003\",\"MPN\",IF(Benchsheet!B364=\"DS001\",\"TC\")))))","v":""},{"$f":"IF(Benchsheet!A364>1,3014,\"\")","v":""}]
[{"$f":"IF(Benchsheet!N365=0,\"-1\",Benchsheet!N365)","v":"-1"},{"$f":"IF(Benchsheet!B365=\"WL001\",\"MPN\",IF(Benchsheet!B365=FALSE,\"\",IF(Benchsheet!B365=\"WL002\",\"MPN\",IF(Benchsheet!B365=\"WL003\",\"MPN\",IF(Benchsheet!B365=\"DS001\",\"TC\")))))","v":""},{"$f":"IF(Benchsheet!A365>1,3014,\"\")","v":""}]
[{"$f":"IF(Benchsheet!N366=0,\"-1\",Benchsheet!N366)","v":"-1"},{"$f":"IF(Benchsheet!B366=\"WL001\",\"MPN\",IF(Benchsheet!B366=FALSE,\"\",IF(Benchsheet!B366=\"WL002\",\"MPN\",IF(Benchsheet!B366=\"WL003\",\"MPN\",IF(Benchsheet!B366=\"DS001\",\"TC\")))))","v":""},{"$f":"IF(Benchsheet!A366>1,3014,\"\")","v":""}]
[{"$f":"IF(Benchsheet!N367=0,\"-1\",Benchsheet!N367)","v":"-1"},{"$f":"IF(Benchsheet!B367=\"WL001\",\"MPN\",IF(Benchsheet!B367=FALSE,\"\",IF(Benchsheet!B367=\"WL002\",\"MPN\",IF(Benchsheet!B367=\"WL003\",\"MPN\",IF(Benchsheet!B367=\"DS001\",\"TC\")))))","v":""},{"$f":"IF(Benchsheet!A367>1,3014,\"\")","v":""}]
[{"$f":"IF(Benchsheet!N368=0,\"-1\",Benchsheet!N368)","v":"-1"},{"$f":"IF(Benchsheet!B368=\"WL001\",\"MPN\",IF(Benchsheet!B368=FALSE,\"\",IF(Benchsheet!B368=\"WL002\",\"MPN\",IF(Benchsheet!B368=\"WL003\",\"MPN\",IF(Benchsheet!B368=\"DS001\",\"TC\")))))","v":""},{"$f":"IF(Benchsheet!A368>1,3014,\"\")","v":""}]
[{"$f":"IF(Benchsheet!N369=0,\"-1\",Benchsheet!N369)","v":"-1"},{"$f":"IF(Benchsheet!B369=\"WL001\",\"MPN\",IF(Benchsheet!B369=FALSE,\"\",IF(Benchsheet!B369=\"WL002\",\"MPN\",IF(Benchsheet!B369=\"WL003\",\"MPN\",IF(Benchsheet!B369=\"DS001\",\"TC\")))))","v":""},{"$f":"IF(Benchsheet!A369>1,3014,\"\")","v":""}]
[{"$f":"IF(Benchsheet!N370=0,\"-1\",Benchsheet!N370)","v":"-1"},{"$f":"IF(Benchsheet!B370=\"WL001\",\"MPN\",IF(Benchsheet!B370=FALSE,\"\",IF(Benchsheet!B370=\"WL002\",\"MPN\",IF(Benchsheet!B370=\"WL003\",\"MPN\",IF(Benchsheet!B370=\"DS001\",\"TC\")))))","v":""},{"$f":"IF(Benchsheet!A370>1,3014,\"\")","v":""}]
[{"$f":"IF(Benchsheet!N371=0,\"-1\",Benchsheet!N371)","v":"-1"},{"$f":"IF(Benchsheet!B371=\"WL001\",\"MPN\",IF(Benchsheet!B371=FALSE,\"\",IF(Benchsheet!B371=\"WL002\",\"MPN\",IF(Benchsheet!B371=\"WL003\",\"MPN\",IF(Benchsheet!B371=\"DS001\",\"TC\")))))","v":""},{"$f":"IF(Benchsheet!A371>1,3014,\"\")","v":""}]
[{"$f":"IF(Benchsheet!N372=0,\"-1\",Benchsheet!N372)","v":"-1"},{"$f":"IF(Benchsheet!B372=\"WL001\",\"MPN\",IF(Benchsheet!B372=FALSE,\"\",IF(Benchsheet!B372=\"WL002\",\"MPN\",IF(Benchsheet!B372=\"WL003\",\"MPN\",IF(Benchsheet!B372=\"DS001\",\"TC\")))))","v":""},{"$f":"IF(Benchsheet!A372>1,3014,\"\")","v":""}]
[{"$f":"IF(Benchsheet!N373=0,\"-1\",Benchsheet!N373)","v":"-1"},{"$f":"IF(Benchsheet!B373=\"WL001\",\"MPN\",IF(Benchsheet!B373=FALSE,\"\",IF(Benchsheet!B373=\"WL002\",\"MPN\",IF(Benchsheet!B373=\"WL003\",\"MPN\",IF(Benchsheet!B373=\"DS001\",\"TC\")))))","v":""},{"$f":"IF(Benchsheet!A373>1,3014,\"\")","v":""}]
[{"$f":"IF(Benchsheet!N374=0,\"-1\",Benchsheet!N374)","v":"-1"},{"$f":"IF(Benchsheet!B374=\"WL001\",\"MPN\",IF(Benchsheet!B374=FALSE,\"\",IF(Benchsheet!B374=\"WL002\",\"MPN\",IF(Benchsheet!B374=\"WL003\",\"MPN\",IF(Benchsheet!B374=\"DS001\",\"TC\")))))","v":""},{"$f":"IF(Benchsheet!A374>1,3014,\"\")","v":""}]
[{"$f":"IF(Benchsheet!N375=0,\"-1\",Benchsheet!N375)","v":"-1"},{"$f":"IF(Benchsheet!B375=\"WL001\",\"MPN\",IF(Benchsheet!B375=FALSE,\"\",IF(Benchsheet!B375=\"WL002\",\"MPN\",IF(Benchsheet!B375=\"WL003\",\"MPN\",IF(Benchsheet!B375=\"DS001\",\"TC\")))))","v":""},{"$f":"IF(Benchsheet!A375>1,3014,\"\")","v":""}]
[{"$f":"IF(Benchsheet!N376=0,\"-1\",Benchsheet!N376)","v":"-1"},{"$f":"IF(Benchsheet!B376=\"WL001\",\"MPN\",IF(Benchsheet!B376=FALSE,\"\",IF(Benchsheet!B376=\"WL002\",\"MPN\",IF(Benchsheet!B376=\"WL003\",\"MPN\",IF(Benchsheet!B376=\"DS001\",\"TC\")))))","v":""},{"$f":"IF(Benchsheet!A376>1,3014,\"\")","v":""}]
[{"$f":"IF(Benchsheet!N377=0,\"-1\",Benchsheet!N377)","v":"-1"},{"$f":"IF(Benchsheet!B377=\"WL001\",\"MPN\",IF(Benchsheet!B377=FALSE,\"\",IF(Benchsheet!B377=\"WL002\",\"MPN\",IF(Benchsheet!B377=\"WL003\",\"MPN\",IF(Benchsheet!B377=\"DS001\",\"TC\")))))","v":""},{"$f":"IF(Benchsheet!A377>1,3014,\"\")","v":""}]
[{"$f":"IF(Benchsheet!N378=0,\"-1\",Benchsheet!N378)","v":"-1"},{"$f":"IF(Benchsheet!B378=\"WL001\",\"MPN\",IF(Benchsheet!B378=FALSE,\"\",IF(Benchsheet!B378=\"WL002\",\"MPN\",IF(Benchsheet!B378=\"WL003\",\"MPN\",IF(Benchsheet!B378=\"DS001\",\"TC\")))))","v":""},{"$f":"IF(Benchsheet!A378>1,3014,\"\")","v":""}]
[{"$f":"IF(Benchsheet!N379=0,\"-1\",Benchsheet!N379)","v":"-1"},{"$f":"IF(Benchsheet!B379=\"WL001\",\"MPN\",IF(Benchsheet!B379=FALSE,\"\",IF(Benchsheet!B379=\"WL002\",\"MPN\",IF(Benchsheet!B379=\"WL003\",\"MPN\",IF(Benchsheet!B379=\"DS001\",\"TC\")))))","v":""},{"$f":"IF(Benchsheet!A379>1,3014,\"\")","v":""}]
[{"$f":"IF(Benchsheet!N380=0,\"-1\",Benchsheet!N380)","v":"-1"},{"$f":"IF(Benchsheet!B380=\"WL001\",\"MPN\",IF(Benchsheet!B380=FALSE,\"\",IF(Benchsheet!B380=\"WL002\",\"MPN\",IF(Benchsheet!B380=\"WL003\",\"MPN\",IF(Benchsheet!B380=\"DS001\",\"TC\")))))","v":""},{"$f":"IF(Benchsheet!A380>1,3014,\"\")","v":""}]
[{"$f":"IF(Benchsheet!N381=0,\"-1\",Benchsheet!N381)","v":"-1"},{"$f":"IF(Benchsheet!B381=\"WL001\",\"MPN\",IF(Benchsheet!B381=FALSE,\"\",IF(Benchsheet!B381=\"WL002\",\"MPN\",IF(Benchsheet!B381=\"WL003\",\"MPN\",IF(Benchsheet!B381=\"DS001\",\"TC\")))))","v":""},{"$f":"IF(Benchsheet!A381>1,3014,\"\")","v":""}]
[{"$f":"IF(Benchsheet!N382=0,\"-1\",Benchsheet!N382)","v":"-1"},{"$f":"IF(Benchsheet!B382=\"WL001\",\"MPN\",IF(Benchsheet!B382=FALSE,\"\",IF(Benchsheet!B382=\"WL002\",\"MPN\",IF(Benchsheet!B382=\"WL003\",\"MPN\",IF(Benchsheet!B382=\"DS001\",\"TC\")))))","v":""},{"$f":"IF(Benchsheet!A382>1,3014,\"\")","v":""}]
[{"$f":"IF(Benchsheet!N383=0,\"-1\",Benchsheet!N383)","v":"-1"},{"$f":"IF(Benchsheet!B383=\"WL001\",\"MPN\",IF(Benchsheet!B383=FALSE,\"\",IF(Benchsheet!B383=\"WL002\",\"MPN\",IF(Benchsheet!B383=\"WL003\",\"MPN\",IF(Benchsheet!B383=\"DS001\",\"TC\")))))","v":""},{"$f":"IF(Benchsheet!A383>1,3014,\"\")","v":""}]
[{"$f":"IF(Benchsheet!N384=0,\"-1\",Benchsheet!N384)","v":"-1"},{"$f":"IF(Benchsheet!B384=\"WL001\",\"MPN\",IF(Benchsheet!B384=FALSE,\"\",IF(Benchsheet!B384=\"WL002\",\"MPN\",IF(Benchsheet!B384=\"WL003\",\"MPN\",IF(Benchsheet!B384=\"DS001\",\"TC\")))))","v":""},{"$f":"IF(Benchsheet!A384>1,3014,\"\")","v":""}]
[{"$f":"IF(Benchsheet!N385=0,\"-1\",Benchsheet!N385)","v":"-1"},{"$f":"IF(Benchsheet!B385=\"WL001\",\"MPN\",IF(Benchsheet!B385=FALSE,\"\",IF(Benchsheet!B385=\"WL002\",\"MPN\",IF(Benchsheet!B385=\"WL003\",\"MPN\",IF(Benchsheet!B385=\"DS001\",\"TC\")))))","v":""},{"$f":"IF(Benchsheet!A385>1,3014,\"\")","v":""}]
[{"$f":"IF(Benchsheet!N386=0,\"-1\",Benchsheet!N386)","v":"-1"},{"$f":"IF(Benchsheet!B386=\"WL001\",\"MPN\",IF(Benchsheet!B386=FALSE,\"\",IF(Benchsheet!B386=\"WL002\",\"MPN\",IF(Benchsheet!B386=\"WL003\",\"MPN\",IF(Benchsheet!B386=\"DS001\",\"TC\")))))","v":""},{"$f":"IF(Benchsheet!A386>1,3014,\"\")","v":""}]
[{"$f":"IF(Benchsheet!N387=0,\"-1\",Benchsheet!N387)","v":"-1"},{"$f":"IF(Benchsheet!B387=\"WL001\",\"MPN\",IF(Benchsheet!B387=FALSE,\"\",IF(Benchsheet!B387=\"WL002\",\"MPN\",IF(Benchsheet!B387=\"WL003\",\"MPN\",IF(Benchsheet!B387=\"DS001\",\"TC\")))))","v":""},{"$f":"IF(Benchsheet!A387>1,3014,\"\")","v":""}]
[{"$f":"IF(Benchsheet!N388=0,\"-1\",Benchsheet!N388)","v":"-1"},{"$f":"IF(Benchsheet!B388=\"WL001\",\"MPN\",IF(Benchsheet!B388=FALSE,\"\",IF(Benchsheet!B388=\"WL002\",\"MPN\",IF(Benchsheet!B388=\"WL003\",\"MPN\",IF(Benchsheet!B388=\"DS001\",\"TC\")))))","v":""},{"$f":"IF(Benchsheet!A388>1,3014,\"\")","v":""}]
[{"$f":"IF(Benchsheet!N389=0,\"-1\",Benchsheet!N389)","v":"-1"},{"$f":"IF(Benchsheet!B389=\"WL001\",\"MPN\",IF(Benchsheet!B389=FALSE,\"\",IF(Benchsheet!B389=\"WL002\",\"MPN\",IF(Benchsheet!B389=\"WL003\",\"MPN\",IF(Benchsheet!B389=\"DS001\",\"TC\")))))","v":""},{"$f":"IF(Benchsheet!A389>1,3014,\"\")","v":""}]
[{"$f":"IF(Benchsheet!N390=0,\"-1\",Benchsheet!N390)","v":"-1"},{"$f":"IF(Benchsheet!B390=\"WL001\",\"MPN\",IF(Benchsheet!B390=FALSE,\"\",IF(Benchsheet!B390=\"WL002\",\"MPN\",IF(Benchsheet!B390=\"WL003\",\"MPN\",IF(Benchsheet!B390=\"DS001\",\"TC\")))))","v":""},{"$f":"IF(Benchsheet!A390>1,3014,\"\")","v":""}]
[{"$f":"IF(Benchsheet!N391=0,\"-1\",Benchsheet!N391)","v":"-1"},{"$f":"IF(Benchsheet!B391=\"WL001\",\"MPN\",IF(Benchsheet!B391=FALSE,\"\",IF(Benchsheet!B391=\"WL002\",\"MPN\",IF(Benchsheet!B391=\"WL003\",\"MPN\",IF(Benchsheet!B391=\"DS001\",\"TC\")))))","v":""},{"$f":"IF(Benchsheet!A391>1,3014,\"\")","v":""}]
[{"$f":"IF(Benchsheet!N392=0,\"-1\",Benchsheet!N392)","v":"-1"},{"$f":"IF(Benchsheet!B392=\"WL001\",\"MPN\",IF(Benchsheet!B392=FALSE,\"\",IF(Benchsheet!B392=\"WL002\",\"MPN\",IF(Benchsheet!B392=\"WL003\",\"MPN\",IF(Benchsheet!B392=\"DS001\",\"TC\")))))","v":""},{"$f":"IF(Benchsheet!A392>1,3014,\"\")","v":""}]
[{"$f":"IF(Benchsheet!N393=0,\"-1\",Benchsheet!N393)","v":"-1"},{"$f":"IF(Benchsheet!B393=\"WL001\",\"MPN\",IF(Benchsheet!B393=FALSE,\"\",IF(Benchsheet!B393=\"WL002\",\"MPN\",IF(Benchsheet!B393=\"WL003\",\"MPN\",IF(Benchsheet!B393=\"DS001\",\"TC\")))))","v":""},{"$f":"IF(Benchsheet!A393>1,3014,\"\")","v":""}]
[{"$f":"IF(Benchsheet!N394=0,\"-1\",Benchsheet!N394)","v":"-1"},{"$f":"IF(Benchsheet!B394=\"WL001\",\"MPN\",IF(Benchsheet!B394=FALSE,\"\",IF(Benchsheet!B394=\"WL002\",\"MPN\",IF(Benchsheet!B394=\"WL003\",\"MPN\",IF(Benchsheet!B394=\"DS001\",\"TC\")))))","v":""},{"$f":"IF(Benchsheet!A394>1,3014,\"\")","v":""}]
[{"$f":"IF(Benchsheet!N395=0,\"-1\",Benchsheet!N395)","v":"-1"},{"$f":"IF(Benchsheet!B395=\"WL001\",\"MPN\",IF(Benchsheet!B395=FALSE,\"\",IF(Benchsheet!B395=\"WL002\",\"MPN\",IF(Benchsheet!B395=\"WL003\",\"MPN\",IF(Benchsheet!B395=\"DS001\",\"TC\")))))","v":""},{"$f":"IF(Benchsheet!A395>1,3014,\"\")","v":""}]
[{"$f":"IF(Benchsheet!N396=0,\"-1\",Benchsheet!N396)","v":"-1"},{"$f":"IF(Benchsheet!B396=\"WL001\",\"MPN\",IF(Benchsheet!B396=FALSE,\"\",IF(Benchsheet!B396=\"WL002\",\"MPN\",IF(Benchsheet!B396=\"WL003\",\"MPN\",IF(Benchsheet!B396=\"DS001\",\"TC\")))))","v":""},{"$f":"IF(Benchsheet!A396>1,3014,\"\")","v":""}]
[{"$f":"IF(Benchsheet!N397=0,\"-1\",Benchsheet!N397)","v":"-1"},{"$f":"IF(Benchsheet!B397=\"WL001\",\"MPN\",IF(Benchsheet!B397=FALSE,\"\",IF(Benchsheet!B397=\"WL002\",\"MPN\",IF(Benchsheet!B397=\"WL003\",\"MPN\",IF(Benchsheet!B397=\"DS001\",\"TC\")))))","v":""},{"$f":"IF(Benchsheet!A397>1,3014,\"\")","v":""}]
[{"$f":"IF(Benchsheet!N398=0,\"-1\",Benchsheet!N398)","v":"-1"},{"$f":"IF(Benchsheet!B398=\"WL001\",\"MPN\",IF(Benchsheet!B398=FALSE,\"\",IF(Benchsheet!B398=\"WL002\",\"MPN\",IF(Benchsheet!B398=\"WL003\",\"MPN\",IF(Benchsheet!B398=\"DS001\",\"TC\")))))","v":""},{"$f":"IF(Benchsheet!A398>1,3014,\"\")","v":""}]
[{"$f":"IF(Benchsheet!N399=0,\"-1\",Benchsheet!N399)","v":"-1"},{"$f":"IF(Benchsheet!B399=\"WL001\",\"MPN\",IF(Benchsheet!B399=FALSE,\"\",IF(Benchsheet!B399=\"WL002\",\"MPN\",IF(Benchsheet!B399=\"WL003\",\"MPN\",IF(Benchsheet!B399=\"DS001\",\"TC\")))))","v":""},{"$f":"IF(Benchsheet!A399>1,3014,\"\")","v":""}]
[{"$f":"IF(Benchsheet!N400=0,\"-1\",Benchsheet!N400)","v":"-1"},{"$f":"IF(Benchsheet!B400=\"WL001\",\"MPN\",IF(Benchsheet!B400=FALSE,\"\",IF(Benchsheet!B400=\"WL002\",\"MPN\",IF(Benchsheet!B400=\"WL003\",\"MPN\",IF(Benchsheet!B400=\"DS001\",\"TC\")))))","v":""},{"$f":"IF(Benchsheet!A400>1,3014,\"\")","v":""}]
[{"$f":"IF(Benchsheet!N401=0,\"-1\",Benchsheet!N401)","v":"-1"},{"$f":"IF(Benchsheet!B401=\"WL001\",\"MPN\",IF(Benchsheet!B401=FALSE,\"\",IF(Benchsheet!B401=\"WL002\",\"MPN\",IF(Benchsheet!B401=\"WL003\",\"MPN\",IF(Benchsheet!B401=\"DS001\",\"TC\")))))","v":""},{"$f":"IF(Benchsheet!A401>1,3014,\"\")","v":""}]
[{"$f":"IF(Benchsheet!N402=0,\"-1\",Benchsheet!N402)","v":"-1"},{"$f":"IF(Benchsheet!B402=\"WL001\",\"MPN\",IF(Benchsheet!B402=FALSE,\"\",IF(Benchsheet!B402=\"WL002\",\"MPN\",IF(Benchsheet!B402=\"WL003\",\"MPN\",IF(Benchsheet!B402=\"DS001\",\"TC\")))))","v":""},{"$f":"IF(Benchsheet!A402>1,3014,\"\")","v":""}]
[{"$f":"IF(Benchsheet!N403=0,\"-1\",Benchsheet!N403)","v":"-1"},{"$f":"IF(Benchsheet!B403=\"WL001\",\"MPN\",IF(Benchsheet!B403=FALSE,\"\",IF(Benchsheet!B403=\"WL002\",\"MPN\",IF(Benchsheet!B403=\"WL003\",\"MPN\",IF(Benchsheet!B403=\"DS001\",\"TC\")))))","v":""},{"$f":"IF(Benchsheet!A403>1,3014,\"\")","v":""}]
[{"$f":"IF(Benchsheet!N404=0,\"-1\",Benchsheet!N404)","v":"-1"},{"$f":"IF(Benchsheet!B404=\"WL001\",\"MPN\",IF(Benchsheet!B404=FALSE,\"\",IF(Benchsheet!B404=\"WL002\",\"MPN\",IF(Benchsheet!B404=\"WL003\",\"MPN\",IF(Benchsheet!B404=\"DS001\",\"TC\")))))","v":""},{"$f":"IF(Benchsheet!A404>1,3014,\"\")","v":""}]
[{"$f":"IF(Benchsheet!N405=0,\"-1\",Benchsheet!N405)","v":"-1"},{"$f":"IF(Benchsheet!B405=\"WL001\",\"MPN\",IF(Benchsheet!B405=FALSE,\"\",IF(Benchsheet!B405=\"WL002\",\"MPN\",IF(Benchsheet!B405=\"WL003\",\"MPN\",IF(Benchsheet!B405=\"DS001\",\"TC\")))))","v":""},{"$f":"IF(Benchsheet!A405>1,3014,\"\")","v":""}]
[{"$f":"IF(Benchsheet!N406=0,\"-1\",Benchsheet!N406)","v":"-1"},{"$f":"IF(Benchsheet!B406=\"WL001\",\"MPN\",IF(Benchsheet!B406=FALSE,\"\",IF(Benchsheet!B406=\"WL002\",\"MPN\",IF(Benchsheet!B406=\"WL003\",\"MPN\",IF(Benchsheet!B406=\"DS001\",\"TC\")))))","v":""},{"$f":"IF(Benchsheet!A406>1,3014,\"\")","v":""}]
[{"$f":"IF(Benchsheet!N407=0,\"-1\",Benchsheet!N407)","v":"-1"},{"$f":"IF(Benchsheet!B407=\"WL001\",\"MPN\",IF(Benchsheet!B407=FALSE,\"\",IF(Benchsheet!B407=\"WL002\",\"MPN\",IF(Benchsheet!B407=\"WL003\",\"MPN\",IF(Benchsheet!B407=\"DS001\",\"TC\")))))","v":""},{"$f":"IF(Benchsheet!A407>1,3014,\"\")","v":""}]
[{"$f":"IF(Benchsheet!N408=0,\"-1\",Benchsheet!N408)","v":"-1"},{"$f":"IF(Benchsheet!B408=\"WL001\",\"MPN\",IF(Benchsheet!B408=FALSE,\"\",IF(Benchsheet!B408=\"WL002\",\"MPN\",IF(Benchsheet!B408=\"WL003\",\"MPN\",IF(Benchsheet!B408=\"DS001\",\"TC\")))))","v":""},{"$f":"IF(Benchsheet!A408>1,3014,\"\")","v":""}]
[{"$f":"IF(Benchsheet!N409=0,\"-1\",Benchsheet!N409)","v":"-1"},{"$f":"IF(Benchsheet!B409=\"WL001\",\"MPN\",IF(Benchsheet!B409=FALSE,\"\",IF(Benchsheet!B409=\"WL002\",\"MPN\",IF(Benchsheet!B409=\"WL003\",\"MPN\",IF(Benchsheet!B409=\"DS001\",\"TC\")))))","v":""},{"$f":"IF(Benchsheet!A409>1,3014,\"\")","v":""}]
[{"$f":"IF(Benchsheet!N410=0,\"-1\",Benchsheet!N410)","v":"-1"},{"$f":"IF(Benchsheet!B410=\"WL001\",\"MPN\",IF(Benchsheet!B410=FALSE,\"\",IF(Benchsheet!B410=\"WL002\",\"MPN\",IF(Benchsheet!B410=\"WL003\",\"MPN\",IF(Benchsheet!B410=\"DS001\",\"TC\")))))","v":""},{"$f":"IF(Benchsheet!A410>1,3014,\"\")","v":""}]
[{"$f":"IF(Benchsheet!N411=0,\"-1\",Benchsheet!N411)","v":"-1"},{"$f":"IF(Benchsheet!B411=\"WL001\",\"MPN\",IF(Benchsheet!B411=FALSE,\"\",IF(Benchsheet!B411=\"WL002\",\"MPN\",IF(Benchsheet!B411=\"WL003\",\"MPN\",IF(Benchsheet!B411=\"DS001\",\"TC\")))))","v":""},{"$f":"IF(Benchsheet!A411>1,3014,\"\")","v":""}]
[{"$f":"IF(Benchsheet!N412=0,\"-1\",Benchsheet!N412)","v":"-1"},{"$f":"IF(Benchsheet!B412=\"WL001\",\"MPN\",IF(Benchsheet!B412=FALSE,\"\",IF(Benchsheet!B412=\"WL002\",\"MPN\",IF(Benchsheet!B412=\"WL003\",\"MPN\",IF(Benchsheet!B412=\"DS001\",\"TC\")))))","v":""},{"$f":"IF(Benchsheet!A412>1,3014,\"\")","v":""}]
[{"$f":"IF(Benchsheet!N413=0,\"-1\",Benchsheet!N413)","v":"-1"},{"$f":"IF(Benchsheet!B413=\"WL001\",\"MPN\",IF(Benchsheet!B413=FALSE,\"\",IF(Benchsheet!B413=\"WL002\",\"MPN\",IF(Benchsheet!B413=\"WL003\",\"MPN\",IF(Benchsheet!B413=\"DS001\",\"TC\")))))","v":""},{"$f":"IF(Benchsheet!A413>1,3014,\"\")","v":""}]
[{"$f":"IF(Benchsheet!N414=0,\"-1\",Benchsheet!N414)","v":"-1"},{"$f":"IF(Benchsheet!B414=\"WL001\",\"MPN\",IF(Benchsheet!B414=FALSE,\"\",IF(Benchsheet!B414=\"WL002\",\"MPN\",IF(Benchsheet!B414=\"WL003\",\"MPN\",IF(Benchsheet!B414=\"DS001\",\"TC\")))))","v":""},{"$f":"IF(Benchsheet!A414>1,3014,\"\")","v":""}]
[{"$f":"IF(Benchsheet!N415=0,\"-1\",Benchsheet!N415)","v":"-1"},{"$f":"IF(Benchsheet!B415=\"WL001\",\"MPN\",IF(Benchsheet!B415=FALSE,\"\",IF(Benchsheet!B415=\"WL002\",\"MPN\",IF(Benchsheet!B415=\"WL003\",\"MPN\",IF(Benchsheet!B415=\"DS001\",\"TC\")))))","v":""},{"$f":"IF(Benchsheet!A415>1,3014,\"\")","v":""}]
[{"$f":"IF(Benchsheet!N416=0,\"-1\",Benchsheet!N416)","v":"-1"},{"$f":"IF(Benchsheet!B416=\"WL001\",\"MPN\",IF(Benchsheet!B416=FALSE,\"\",IF(Benchsheet!B416=\"WL002\",\"MPN\",IF(Benchsheet!B416=\"WL003\",\"MPN\",IF(Benchsheet!B416=\"DS001\",\"TC\")))))","v":""},{"$f":"IF(Benchsheet!A416>1,3014,\"\")","v":""}]
[{"$f":"IF(Benchsheet!N417=0,\"-1\",Benchsheet!N417)","v":"-1"},{"$f":"IF(Benchsheet!B417=\"WL001\",\"MPN\",IF(Benchsheet!B417=FALSE,\"\",IF(Benchsheet!B417=\"WL002\",\"MPN\",IF(Benchsheet!B417=\"WL003\",\"MPN\",IF(Benchsheet!B417=\"DS001\",\"TC\")))))","v":""},{"$f":"IF(Benchsheet!A417>1,3014,\"\")","v":""}]
[{"$f":"IF(Benchsheet!N418=0,\"-1\",Benchsheet!N418)","v":"-1"},{"$f":"IF(Benchsheet!B418=\"WL001\",\"MPN\",IF(Benchsheet!B418=FALSE,\"\",IF(Benchsheet!B418=\"WL002\",\"MPN\",IF(Benchsheet!B418=\"WL003\",\"MPN\",IF(Benchsheet!B418=\"DS001\",\"TC\")))))","v":""},{"$f":"IF(Benchsheet!A418>1,3014,\"\")","v":""}]
[{"$f":"IF(Benchsheet!N419=0,\"-1\",Benchsheet!N419)","v":"-1"},{"$f":"IF(Benchsheet!B419=\"WL001\",\"MPN\",IF(Benchsheet!B419=FALSE,\"\",IF(Benchsheet!B419=\"WL002\",\"MPN\",IF(Benchsheet!B419=\"WL003\",\"MPN\",IF(Benchsheet!B419=\"DS001\",\"TC\")))))","v":""},{"$f":"IF(Benchsheet!A419>1,3014,\"\")","v":""}]
[{"$f":"IF(Benchsheet!N420=0,\"-1\",Benchsheet!N420)","v":"-1"},{"$f":"IF(Benchsheet!B420=\"WL001\",\"MPN\",IF(Benchsheet!B420=FALSE,\"\",IF(Benchsheet!B420=\"WL002\",\"MPN\",IF(Benchsheet!B420=\"WL003\",\"MPN\",IF(Benchsheet!B420=\"DS001\",\"TC\")))))","v":""},{"$f":"IF(Benchsheet!A420>1,3014,\"\")","v":""}]
[{"$f":"IF(Benchsheet!N421=0,\"-1\",Benchsheet!N421)","v":"-1"},{"$f":"IF(Benchsheet!B421=\"WL001\",\"MPN\",IF(Benchsheet!B421=FALSE,\"\",IF(Benchsheet!B421=\"WL002\",\"MPN\",IF(Benchsheet!B421=\"WL003\",\"MPN\",IF(Benchsheet!B421=\"DS001\",\"TC\")))))","v":""},{"$f":"IF(Benchsheet!A421>1,3014,\"\")","v":""}]
[{"$f":"IF(Benchsheet!N422=0,\"-1\",Benchsheet!N422)","v":"-1"},{"$f":"IF(Benchsheet!B422=\"WL001\",\"MPN\",IF(Benchsheet!B422=FALSE,\"\",IF(Benchsheet!B422=\"WL002\",\"MPN\",IF(Benchsheet!B422=\"WL003\",\"MPN\",IF(Benchsheet!B422=\"DS001\",\"TC\")))))","v":""},{"$f":"IF(Benchsheet!A422>1,3014,\"\")","v":""}]
[{"$f":"IF(Benchsheet!N423=0,\"-1\",Benchsheet!N423)","v":"-1"},{"$f":"IF(Benchsheet!B423=\"WL001\",\"MPN\",IF(Benchsheet!B423=FALSE,\"\",IF(Benchsheet!B423=\"WL002\",\"MPN\",IF(Benchsheet!B423=\"WL003\",\"MPN\",IF(Benchsheet!B423=\"DS001\",\"TC\")))))","v":""},{"$f":"IF(Benchsheet!A423>1,3014,\"\")","v":""}]
[{"$f":"IF(Benchsheet!N424=0,\"-1\",Benchsheet!N424)","v":"-1"},{"$f":"IF(Benchsheet!B424=\"WL001\",\"MPN\",IF(Benchsheet!B424=FALSE,\"\",IF(Benchsheet!B424=\"WL002\",\"MPN\",IF(Benchsheet!B424=\"WL003\",\"MPN\",IF(Benchsheet!B424=\"DS001\",\"TC\")))))","v":""},{"$f":"IF(Benchsheet!A424>1,3014,\"\")","v":""}]
[{"$f":"IF(Benchsheet!N425=0,\"-1\",Benchsheet!N425)","v":"-1"},{"$f":"IF(Benchsheet!B425=\"WL001\",\"MPN\",IF(Benchsheet!B425=FALSE,\"\",IF(Benchsheet!B425=\"WL002\",\"MPN\",IF(Benchsheet!B425=\"WL003\",\"MPN\",IF(Benchsheet!B425=\"DS001\",\"TC\")))))","v":""},{"$f":"IF(Benchsheet!A425>1,3014,\"\")","v":""}]
[{"$f":"IF(Benchsheet!N426=0,\"-1\",Benchsheet!N426)","v":"-1"},{"$f":"IF(Benchsheet!B426=\"WL001\",\"MPN\",IF(Benchsheet!B426=FALSE,\"\",IF(Benchsheet!B426=\"WL002\",\"MPN\",IF(Benchsheet!B426=\"WL003\",\"MPN\",IF(Benchsheet!B426=\"DS001\",\"TC\")))))","v":""},{"$f":"IF(Benchsheet!A426>1,3014,\"\")","v":""}]
[{"$f":"IF(Benchsheet!N427=0,\"-1\",Benchsheet!N427)","v":"-1"},{"$f":"IF(Benchsheet!B427=\"WL001\",\"MPN\",IF(Benchsheet!B427=FALSE,\"\",IF(Benchsheet!B427=\"WL002\",\"MPN\",IF(Benchsheet!B427=\"WL003\",\"MPN\",IF(Benchsheet!B427=\"DS001\",\"TC\")))))","v":""},{"$f":"IF(Benchsheet!A427>1,3014,\"\")","v":""}]
[{"$f":"IF(Benchsheet!N428=0,\"-1\",Benchsheet!N428)","v":"-1"},{"$f":"IF(Benchsheet!B428=\"WL001\",\"MPN\",IF(Benchsheet!B428=FALSE,\"\",IF(Benchsheet!B428=\"WL002\",\"MPN\",IF(Benchsheet!B428=\"WL003\",\"MPN\",IF(Benchsheet!B428=\"DS001\",\"TC\")))))","v":""},{"$f":"IF(Benchsheet!A428>1,3014,\"\")","v":""}]
[{"$f":"IF(Benchsheet!N429=0,\"-1\",Benchsheet!N429)","v":"-1"},{"$f":"IF(Benchsheet!B429=\"WL001\",\"MPN\",IF(Benchsheet!B429=FALSE,\"\",IF(Benchsheet!B429=\"WL002\",\"MPN\",IF(Benchsheet!B429=\"WL003\",\"MPN\",IF(Benchsheet!B429=\"DS001\",\"TC\")))))","v":""},{"$f":"IF(Benchsheet!A429>1,3014,\"\")","v":""}]
[{"$f":"IF(Benchsheet!N430=0,\"-1\",Benchsheet!N430)","v":"-1"},{"$f":"IF(Benchsheet!B430=\"WL001\",\"MPN\",IF(Benchsheet!B430=FALSE,\"\",IF(Benchsheet!B430=\"WL002\",\"MPN\",IF(Benchsheet!B430=\"WL003\",\"MPN\",IF(Benchsheet!B430=\"DS001\",\"TC\")))))","v":""},{"$f":"IF(Benchsheet!A430>1,3014,\"\")","v":""}]
[{"$f":"IF(Benchsheet!N431=0,\"-1\",Benchsheet!N431)","v":"-1"},{"$f":"IF(Benchsheet!B431=\"WL001\",\"MPN\",IF(Benchsheet!B431=FALSE,\"\",IF(Benchsheet!B431=\"WL002\",\"MPN\",IF(Benchsheet!B431=\"WL003\",\"MPN\",IF(Benchsheet!B431=\"DS001\",\"TC\")))))","v":""},{"$f":"IF(Benchsheet!A431>1,3014,\"\")","v":""}]
[{"$f":"IF(Benchsheet!N432=0,\"-1\",Benchsheet!N432)","v":"-1"},{"$f":"IF(Benchsheet!B432=\"WL001\",\"MPN\",IF(Benchsheet!B432=FALSE,\"\",IF(Benchsheet!B432=\"WL002\",\"MPN\",IF(Benchsheet!B432=\"WL003\",\"MPN\",IF(Benchsheet!B432=\"DS001\",\"TC\")))))","v":""},{"$f":"IF(Benchsheet!A432>1,3014,\"\")","v":""}]
[{"$f":"IF(Benchsheet!N433=0,\"-1\",Benchsheet!N433)","v":"-1"},{"$f":"IF(Benchsheet!B433=\"WL001\",\"MPN\",IF(Benchsheet!B433=FALSE,\"\",IF(Benchsheet!B433=\"WL002\",\"MPN\",IF(Benchsheet!B433=\"WL003\",\"MPN\",IF(Benchsheet!B433=\"DS001\",\"TC\")))))","v":""},{"$f":"IF(Benchsheet!A433>1,3014,\"\")","v":""}]
[{"$f":"IF(Benchsheet!N434=0,\"-1\",Benchsheet!N434)","v":"-1"},{"$f":"IF(Benchsheet!B434=\"WL001\",\"MPN\",IF(Benchsheet!B434=FALSE,\"\",IF(Benchsheet!B434=\"WL002\",\"MPN\",IF(Benchsheet!B434=\"WL003\",\"MPN\",IF(Benchsheet!B434=\"DS001\",\"TC\")))))","v":""},{"$f":"IF(Benchsheet!A434>1,3014,\"\")","v":""}]
[{"$f":"IF(Benchsheet!N435=0,\"-1\",Benchsheet!N435)","v":"-1"},{"$f":"IF(Benchsheet!B435=\"WL001\",\"MPN\",IF(Benchsheet!B435=FALSE,\"\",IF(Benchsheet!B435=\"WL002\",\"MPN\",IF(Benchsheet!B435=\"WL003\",\"MPN\",IF(Benchsheet!B435=\"DS001\",\"TC\")))))","v":""},{"$f":"IF(Benchsheet!A435>1,3014,\"\")","v":""}]
[{"$f":"IF(Benchsheet!N436=0,\"-1\",Benchsheet!N436)","v":"-1"},{"$f":"IF(Benchsheet!B436=\"WL001\",\"MPN\",IF(Benchsheet!B436=FALSE,\"\",IF(Benchsheet!B436=\"WL002\",\"MPN\",IF(Benchsheet!B436=\"WL003\",\"MPN\",IF(Benchsheet!B436=\"DS001\",\"TC\")))))","v":""},{"$f":"IF(Benchsheet!A436>1,3014,\"\")","v":""}]
[{"$f":"IF(Benchsheet!N437=0,\"-1\",Benchsheet!N437)","v":"-1"},{"$f":"IF(Benchsheet!B437=\"WL001\",\"MPN\",IF(Benchsheet!B437=FALSE,\"\",IF(Benchsheet!B437=\"WL002\",\"MPN\",IF(Benchsheet!B437=\"WL003\",\"MPN\",IF(Benchsheet!B437=\"DS001\",\"TC\")))))","v":""},{"$f":"IF(Benchsheet!A437>1,3014,\"\")","v":""}]
[{"$f":"IF(Benchsheet!N438=0,\"-1\",Benchsheet!N438)","v":"-1"},{"$f":"IF(Benchsheet!B438=\"WL001\",\"MPN\",IF(Benchsheet!B438=FALSE,\"\",IF(Benchsheet!B438=\"WL002\",\"MPN\",IF(Benchsheet!B438=\"WL003\",\"MPN\",IF(Benchsheet!B438=\"DS001\",\"TC\")))))","v":""},{"$f":"IF(Benchsheet!A438>1,3014,\"\")","v":""}]
[{"$f":"IF(Benchsheet!N439=0,\"-1\",Benchsheet!N439)","v":"-1"},{"$f":"IF(Benchsheet!B439=\"WL001\",\"MPN\",IF(Benchsheet!B439=FALSE,\"\",IF(Benchsheet!B439=\"WL002\",\"MPN\",IF(Benchsheet!B439=\"WL003\",\"MPN\",IF(Benchsheet!B439=\"DS001\",\"TC\")))))","v":""},{"$f":"IF(Benchsheet!A439>1,3014,\"\")","v":""}]
[{"$f":"IF(Benchsheet!N440=0,\"-1\",Benchsheet!N440)","v":"-1"},{"$f":"IF(Benchsheet!B440=\"WL001\",\"MPN\",IF(Benchsheet!B440=FALSE,\"\",IF(Benchsheet!B440=\"WL002\",\"MPN\",IF(Benchsheet!B440=\"WL003\",\"MPN\",IF(Benchsheet!B440=\"DS001\",\"TC\")))))","v":""},{"$f":"IF(Benchsheet!A440>1,3014,\"\")","v":""}]
[{"$f":"IF(Benchsheet!N441=0,\"-1\",Benchsheet!N441)","v":"-1"},{"$f":"IF(Benchsheet!B441=\"WL001\",\"MPN\",IF(Benchsheet!B441=FALSE,\"\",IF(Benchsheet!B441=\"WL002\",\"MPN\",IF(Benchsheet!B441=\"WL003\",\"MPN\",IF(Benchsheet!B441=\"DS001\",\"TC\")))))","v":""},{"$f":"IF(Benchsheet!A441>1,3014,\"\")","v":""}]
[{"$f":"IF(Benchsheet!N442=0,\"-1\",Benchsheet!N442)","v":"-1"},{"$f":"IF(Benchsheet!B442=\"WL001\",\"MPN\",IF(Benchsheet!B442=FALSE,\"\",IF(Benchsheet!B442=\"WL002\",\"MPN\",IF(Benchsheet!B442=\"WL003\",\"MPN\",IF(Benchsheet!B442=\"DS001\",\"TC\")))))","v":""},{"$f":"IF(Benchsheet!A442>1,3014,\"\")","v":""}]
[{"$f":"IF(Benchsheet!N443=0,\"-1\",Benchsheet!N443)","v":"-1"},{"$f":"IF(Benchsheet!B443=\"WL001\",\"MPN\",IF(Benchsheet!B443=FALSE,\"\",IF(Benchsheet!B443=\"WL002\",\"MPN\",IF(Benchsheet!B443=\"WL003\",\"MPN\",IF(Benchsheet!B443=\"DS001\",\"TC\")))))","v":""},{"$f":"IF(Benchsheet!A443>1,3014,\"\")","v":""}]
[{"$f":"IF(Benchsheet!N444=0,\"-1\",Benchsheet!N444)","v":"-1"},{"$f":"IF(Benchsheet!B444=\"WL001\",\"MPN\",IF(Benchsheet!B444=FALSE,\"\",IF(Benchsheet!B444=\"WL002\",\"MPN\",IF(Benchsheet!B444=\"WL003\",\"MPN\",IF(Benchsheet!B444=\"DS001\",\"TC\")))))","v":""},{"$f":"IF(Benchsheet!A444>1,3014,\"\")","v":""}]
[{"$f":"IF(Benchsheet!N445=0,\"-1\",Benchsheet!N445)","v":"-1"},{"$f":"IF(Benchsheet!B445=\"WL001\",\"MPN\",IF(Benchsheet!B445=FALSE,\"\",IF(Benchsheet!B445=\"WL002\",\"MPN\",IF(Benchsheet!B445=\"WL003\",\"MPN\",IF(Benchsheet!B445=\"DS001\",\"TC\")))))","v":""},{"$f":"IF(Benchsheet!A445>1,3014,\"\")","v":""}]
[{"$f":"IF(Benchsheet!N446=0,\"-1\",Benchsheet!N446)","v":"-1"},{"$f":"IF(Benchsheet!B446=\"WL001\",\"MPN\",IF(Benchsheet!B446=FALSE,\"\",IF(Benchsheet!B446=\"WL002\",\"MPN\",IF(Benchsheet!B446=\"WL003\",\"MPN\",IF(Benchsheet!B446=\"DS001\",\"TC\")))))","v":""},{"$f":"IF(Benchsheet!A446>1,3014,\"\")","v":""}]
[{"$f":"IF(Benchsheet!N447=0,\"-1\",Benchsheet!N447)","v":"-1"},{"$f":"IF(Benchsheet!B447=\"WL001\",\"MPN\",IF(Benchsheet!B447=FALSE,\"\",IF(Benchsheet!B447=\"WL002\",\"MPN\",IF(Benchsheet!B447=\"WL003\",\"MPN\",IF(Benchsheet!B447=\"DS001\",\"TC\")))))","v":""},{"$f":"IF(Benchsheet!A447>1,3014,\"\")","v":""}]
[{"$f":"IF(Benchsheet!N448=0,\"-1\",Benchsheet!N448)","v":"-1"},{"$f":"IF(Benchsheet!B448=\"WL001\",\"MPN\",IF(Benchsheet!B448=FALSE,\"\",IF(Benchsheet!B448=\"WL002\",\"MPN\",IF(Benchsheet!B448=\"WL003\",\"MPN\",IF(Benchsheet!B448=\"DS001\",\"TC\")))))","v":""},{"$f":"IF(Benchsheet!A448>1,3014,\"\")","v":""}]
[{"$f":"IF(Benchsheet!N449=0,\"-1\",Benchsheet!N449)","v":"-1"},{"$f":"IF(Benchsheet!B449=\"WL001\",\"MPN\",IF(Benchsheet!B449=FALSE,\"\",IF(Benchsheet!B449=\"WL002\",\"MPN\",IF(Benchsheet!B449=\"WL003\",\"MPN\",IF(Benchsheet!B449=\"DS001\",\"TC\")))))","v":""},{"$f":"IF(Benchsheet!A449>1,3014,\"\")","v":""}]
[{"$f":"IF(Benchsheet!N450=0,\"-1\",Benchsheet!N450)","v":"-1"},{"$f":"IF(Benchsheet!B450=\"WL001\",\"MPN\",IF(Benchsheet!B450=FALSE,\"\",IF(Benchsheet!B450=\"WL002\",\"MPN\",IF(Benchsheet!B450=\"WL003\",\"MPN\",IF(Benchsheet!B450=\"DS001\",\"TC\")))))","v":""},{"$f":"IF(Benchsheet!A450>1,3014,\"\")","v":""}]
[{"$f":"IF(Benchsheet!N451=0,\"-1\",Benchsheet!N451)","v":"-1"},{"$f":"IF(Benchsheet!B451=\"WL001\",\"MPN\",IF(Benchsheet!B451=FALSE,\"\",IF(Benchsheet!B451=\"WL002\",\"MPN\",IF(Benchsheet!B451=\"WL003\",\"MPN\",IF(Benchsheet!B451=\"DS001\",\"TC\")))))","v":""},{"$f":"IF(Benchsheet!A451>1,3014,\"\")","v":""}]
[{"$f":"IF(Benchsheet!N452=0,\"-1\",Benchsheet!N452)","v":"-1"},{"$f":"IF(Benchsheet!B452=\"WL001\",\"MPN\",IF(Benchsheet!B452=FALSE,\"\",IF(Benchsheet!B452=\"WL002\",\"MPN\",IF(Benchsheet!B452=\"WL003\",\"MPN\",IF(Benchsheet!B452=\"DS001\",\"TC\")))))","v":""},{"$f":"IF(Benchsheet!A452>1,3014,\"\")","v":""}]
[{"$f":"IF(Benchsheet!N453=0,\"-1\",Benchsheet!N453)","v":"-1"},{"$f":"IF(Benchsheet!B453=\"WL001\",\"MPN\",IF(Benchsheet!B453=FALSE,\"\",IF(Benchsheet!B453=\"WL002\",\"MPN\",IF(Benchsheet!B453=\"WL003\",\"MPN\",IF(Benchsheet!B453=\"DS001\",\"TC\")))))","v":""},{"$f":"IF(Benchsheet!A453>1,3014,\"\")","v":""}]
[{"$f":"IF(Benchsheet!N454=0,\"-1\",Benchsheet!N454)","v":"-1"},{"$f":"IF(Benchsheet!B454=\"WL001\",\"MPN\",IF(Benchsheet!B454=FALSE,\"\",IF(Benchsheet!B454=\"WL002\",\"MPN\",IF(Benchsheet!B454=\"WL003\",\"MPN\",IF(Benchsheet!B454=\"DS001\",\"TC\")))))","v":""},{"$f":"IF(Benchsheet!A454>1,3014,\"\")","v":""}]
[{"$f":"IF(Benchsheet!N455=0,\"-1\",Benchsheet!N455)","v":"-1"},{"$f":"IF(Benchsheet!B455=\"WL001\",\"MPN\",IF(Benchsheet!B455=FALSE,\"\",IF(Benchsheet!B455=\"WL002\",\"MPN\",IF(Benchsheet!B455=\"WL003\",\"MPN\",IF(Benchsheet!B455=\"DS001\",\"TC\")))))","v":""},{"$f":"IF(Benchsheet!A455>1,3014,\"\")","v":""}]
[{"$f":"IF(Benchsheet!N456=0,\"-1\",Benchsheet!N456)","v":"-1"},{"$f":"IF(Benchsheet!B456=\"WL001\",\"MPN\",IF(Benchsheet!B456=FALSE,\"\",IF(Benchsheet!B456=\"WL002\",\"MPN\",IF(Benchsheet!B456=\"WL003\",\"MPN\",IF(Benchsheet!B456=\"DS001\",\"TC\")))))","v":""},{"$f":"IF(Benchsheet!A456>1,3014,\"\")","v":""}]
[{"$f":"IF(Benchsheet!N457=0,\"-1\",Benchsheet!N457)","v":"-1"},{"$f":"IF(Benchsheet!B457=\"WL001\",\"MPN\",IF(Benchsheet!B457=FALSE,\"\",IF(Benchsheet!B457=\"WL002\",\"MPN\",IF(Benchsheet!B457=\"WL003\",\"MPN\",IF(Benchsheet!B457=\"DS001\",\"TC\")))))","v":""},{"$f":"IF(Benchsheet!A457>1,3014,\"\")","v":""}]
[{"$f":"IF(Benchsheet!N458=0,\"-1\",Benchsheet!N458)","v":"-1"},{"$f":"IF(Benchsheet!B458=\"WL001\",\"MPN\",IF(Benchsheet!B458=FALSE,\"\",IF(Benchsheet!B458=\"WL002\",\"MPN\",IF(Benchsheet!B458=\"WL003\",\"MPN\",IF(Benchsheet!B458=\"DS001\",\"TC\")))))","v":""},{"$f":"IF(Benchsheet!A458>1,3014,\"\")","v":""}]
[{"$f":"IF(Benchsheet!N459=0,\"-1\",Benchsheet!N459)","v":"-1"},{"$f":"IF(Benchsheet!B459=\"WL001\",\"MPN\",IF(Benchsheet!B459=FALSE,\"\",IF(Benchsheet!B459=\"WL002\",\"MPN\",IF(Benchsheet!B459=\"WL003\",\"MPN\",IF(Benchsheet!B459=\"DS001\",\"TC\")))))","v":""},{"$f":"IF(Benchsheet!A459>1,3014,\"\")","v":""}]
[{"$f":"IF(Benchsheet!N460=0,\"-1\",Benchsheet!N460)","v":"-1"},{"$f":"IF(Benchsheet!B460=\"WL001\",\"MPN\",IF(Benchsheet!B460=FALSE,\"\",IF(Benchsheet!B460=\"WL002\",\"MPN\",IF(Benchsheet!B460=\"WL003\",\"MPN\",IF(Benchsheet!B460=\"DS001\",\"TC\")))))","v":""},{"$f":"IF(Benchsheet!A460>1,3014,\"\")","v":""}]
[{"$f":"IF(Benchsheet!N461=0,\"-1\",Benchsheet!N461)","v":"-1"},{"$f":"IF(Benchsheet!B461=\"WL001\",\"MPN\",IF(Benchsheet!B461=FALSE,\"\",IF(Benchsheet!B461=\"WL002\",\"MPN\",IF(Benchsheet!B461=\"WL003\",\"MPN\",IF(Benchsheet!B461=\"DS001\",\"TC\")))))","v":""},{"$f":"IF(Benchsheet!A461>1,3014,\"\")","v":""}]
[{"$f":"IF(Benchsheet!N462=0,\"-1\",Benchsheet!N462)","v":"-1"},{"$f":"IF(Benchsheet!B462=\"WL001\",\"MPN\",IF(Benchsheet!B462=FALSE,\"\",IF(Benchsheet!B462=\"WL002\",\"MPN\",IF(Benchsheet!B462=\"WL003\",\"MPN\",IF(Benchsheet!B462=\"DS001\",\"TC\")))))","v":""},{"$f":"IF(Benchsheet!A462>1,3014,\"\")","v":""}]
[{"$f":"IF(Benchsheet!N463=0,\"-1\",Benchsheet!N463)","v":"-1"},{"$f":"IF(Benchsheet!B463=\"WL001\",\"MPN\",IF(Benchsheet!B463=FALSE,\"\",IF(Benchsheet!B463=\"WL002\",\"MPN\",IF(Benchsheet!B463=\"WL003\",\"MPN\",IF(Benchsheet!B463=\"DS001\",\"TC\")))))","v":""},{"$f":"IF(Benchsheet!A463>1,3014,\"\")","v":""}]
[{"$f":"IF(Benchsheet!N464=0,\"-1\",Benchsheet!N464)","v":"-1"},{"$f":"IF(Benchsheet!B464=\"WL001\",\"MPN\",IF(Benchsheet!B464=FALSE,\"\",IF(Benchsheet!B464=\"WL002\",\"MPN\",IF(Benchsheet!B464=\"WL003\",\"MPN\",IF(Benchsheet!B464=\"DS001\",\"TC\")))))","v":""},{"$f":"IF(Benchsheet!A464>1,3014,\"\")","v":""}]
[{"$f":"IF(Benchsheet!N465=0,\"-1\",Benchsheet!N465)","v":"-1"},{"$f":"IF(Benchsheet!B465=\"WL001\",\"MPN\",IF(Benchsheet!B465=FALSE,\"\",IF(Benchsheet!B465=\"WL002\",\"MPN\",IF(Benchsheet!B465=\"WL003\",\"MPN\",IF(Benchsheet!B465=\"DS001\",\"TC\")))))","v":""},{"$f":"IF(Benchsheet!A465>1,3014,\"\")","v":""}]
[{"$f":"IF(Benchsheet!N466=0,\"-1\",Benchsheet!N466)","v":"-1"},{"$f":"IF(Benchsheet!B466=\"WL001\",\"MPN\",IF(Benchsheet!B466=FALSE,\"\",IF(Benchsheet!B466=\"WL002\",\"MPN\",IF(Benchsheet!B466=\"WL003\",\"MPN\",IF(Benchsheet!B466=\"DS001\",\"TC\")))))","v":""},{"$f":"IF(Benchsheet!A466>1,3014,\"\")","v":""}]
[{"$f":"IF(Benchsheet!N467=0,\"-1\",Benchsheet!N467)","v":"-1"},{"$f":"IF(Benchsheet!B467=\"WL001\",\"MPN\",IF(Benchsheet!B467=FALSE,\"\",IF(Benchsheet!B467=\"WL002\",\"MPN\",IF(Benchsheet!B467=\"WL003\",\"MPN\",IF(Benchsheet!B467=\"DS001\",\"TC\")))))","v":""},{"$f":"IF(Benchsheet!A467>1,3014,\"\")","v":""}]
[{"$f":"IF(Benchsheet!N468=0,\"-1\",Benchsheet!N468)","v":"-1"},{"$f":"IF(Benchsheet!B468=\"WL001\",\"MPN\",IF(Benchsheet!B468=FALSE,\"\",IF(Benchsheet!B468=\"WL002\",\"MPN\",IF(Benchsheet!B468=\"WL003\",\"MPN\",IF(Benchsheet!B468=\"DS001\",\"TC\")))))","v":""},{"$f":"IF(Benchsheet!A468>1,3014,\"\")","v":""}]
[{"$f":"IF(Benchsheet!N469=0,\"-1\",Benchsheet!N469)","v":"-1"},{"$f":"IF(Benchsheet!B469=\"WL001\",\"MPN\",IF(Benchsheet!B469=FALSE,\"\",IF(Benchsheet!B469=\"WL002\",\"MPN\",IF(Benchsheet!B469=\"WL003\",\"MPN\",IF(Benchsheet!B469=\"DS001\",\"TC\")))))","v":""},{"$f":"IF(Benchsheet!A469>1,3014,\"\")","v":""}]
[{"$f":"IF(Benchsheet!N470=0,\"-1\",Benchsheet!N470)","v":"-1"},{"$f":"IF(Benchsheet!B470=\"WL001\",\"MPN\",IF(Benchsheet!B470=FALSE,\"\",IF(Benchsheet!B470=\"WL002\",\"MPN\",IF(Benchsheet!B470=\"WL003\",\"MPN\",IF(Benchsheet!B470=\"DS001\",\"TC\")))))","v":""},{"$f":"IF(Benchsheet!A470>1,3014,\"\")","v":""}]
[{"$f":"IF(Benchsheet!N471=0,\"-1\",Benchsheet!N471)","v":"-1"},{"$f":"IF(Benchsheet!B471=\"WL001\",\"MPN\",IF(Benchsheet!B471=FALSE,\"\",IF(Benchsheet!B471=\"WL002\",\"MPN\",IF(Benchsheet!B471=\"WL003\",\"MPN\",IF(Benchsheet!B471=\"DS001\",\"TC\")))))","v":""},{"$f":"IF(Benchsheet!A471>1,3014,\"\")","v":""}]
[{"$f":"IF(Benchsheet!N472=0,\"-1\",Benchsheet!N472)","v":"-1"},{"$f":"IF(Benchsheet!B472=\"WL001\",\"MPN\",IF(Benchsheet!B472=FALSE,\"\",IF(Benchsheet!B472=\"WL002\",\"MPN\",IF(Benchsheet!B472=\"WL003\",\"MPN\",IF(Benchsheet!B472=\"DS001\",\"TC\")))))","v":""},{"$f":"IF(Benchsheet!A472>1,3014,\"\")","v":""}]
[{"$f":"IF(Benchsheet!N473=0,\"-1\",Benchsheet!N473)","v":"-1"},{"$f":"IF(Benchsheet!B473=\"WL001\",\"MPN\",IF(Benchsheet!B473=FALSE,\"\",IF(Benchsheet!B473=\"WL002\",\"MPN\",IF(Benchsheet!B473=\"WL003\",\"MPN\",IF(Benchsheet!B473=\"DS001\",\"TC\")))))","v":""},{"$f":"IF(Benchsheet!A473>1,3014,\"\")","v":""}]
[{"$f":"IF(Benchsheet!N474=0,\"-1\",Benchsheet!N474)","v":"-1"},{"$f":"IF(Benchsheet!B474=\"WL001\",\"MPN\",IF(Benchsheet!B474=FALSE,\"\",IF(Benchsheet!B474=\"WL002\",\"MPN\",IF(Benchsheet!B474=\"WL003\",\"MPN\",IF(Benchsheet!B474=\"DS001\",\"TC\")))))","v":""},{"$f":"IF(Benchsheet!A474>1,3014,\"\")","v":""}]
[{"$f":"IF(Benchsheet!N475=0,\"-1\",Benchsheet!N475)","v":"-1"},{"$f":"IF(Benchsheet!B475=\"WL001\",\"MPN\",IF(Benchsheet!B475=FALSE,\"\",IF(Benchsheet!B475=\"WL002\",\"MPN\",IF(Benchsheet!B475=\"WL003\",\"MPN\",IF(Benchsheet!B475=\"DS001\",\"TC\")))))","v":""},{"$f":"IF(Benchsheet!A475>1,3014,\"\")","v":""}]
[{"$f":"IF(Benchsheet!N476=0,\"-1\",Benchsheet!N476)","v":"-1"},{"$f":"IF(Benchsheet!B476=\"WL001\",\"MPN\",IF(Benchsheet!B476=FALSE,\"\",IF(Benchsheet!B476=\"WL002\",\"MPN\",IF(Benchsheet!B476=\"WL003\",\"MPN\",IF(Benchsheet!B476=\"DS001\",\"TC\")))))","v":""},{"$f":"IF(Benchsheet!A476>1,3014,\"\")","v":""}]
[{"$f":"IF(Benchsheet!N477=0,\"-1\",Benchsheet!N477)","v":"-1"},{"$f":"IF(Benchsheet!B477=\"WL001\",\"MPN\",IF(Benchsheet!B477=FALSE,\"\",IF(Benchsheet!B477=\"WL002\",\"MPN\",IF(Benchsheet!B477=\"WL003\",\"MPN\",IF(Benchsheet!B477=\"DS001\",\"TC\")))))","v":""},{"$f":"IF(Benchsheet!A477>1,3014,\"\")","v":""}]
[{"$f":"IF(Benchsheet!N478=0,\"-1\",Benchsheet!N478)","v":"-1"},{"$f":"IF(Benchsheet!B478=\"WL001\",\"MPN\",IF(Benchsheet!B478=FALSE,\"\",IF(Benchsheet!B478=\"WL002\",\"MPN\",IF(Benchsheet!B478=\"WL003\",\"MPN\",IF(Benchsheet!B478=\"DS001\",\"TC\")))))","v":""},{"$f":"IF(Benchsheet!A478>1,3014,\"\")","v":""}]
[{"$f":"IF(Benchsheet!N479=0,\"-1\",Benchsheet!N479)","v":"-1"},{"$f":"IF(Benchsheet!B479=\"WL001\",\"MPN\",IF(Benchsheet!B479=FALSE,\"\",IF(Benchsheet!B479=\"WL002\",\"MPN\",IF(Benchsheet!B479=\"WL003\",\"MPN\",IF(Benchsheet!B479=\"DS001\",\"TC\")))))","v":""},{"$f":"IF(Benchsheet!A479>1,3014,\"\")","v":""}]
[{"$f":"IF(Benchsheet!N480=0,\"-1\",Benchsheet!N480)","v":"-1"},{"$f":"IF(Benchsheet!B480=\"WL001\",\"MPN\",IF(Benchsheet!B480=FALSE,\"\",IF(Benchsheet!B480=\"WL002\",\"MPN\",IF(Benchsheet!B480=\"WL003\",\"MPN\",IF(Benchsheet!B480=\"DS001\",\"TC\")))))","v":""},{"$f":"IF(Benchsheet!A480>1,3014,\"\")","v":""}]
[{"$f":"IF(Benchsheet!N481=0,\"-1\",Benchsheet!N481)","v":"-1"},{"$f":"IF(Benchsheet!B481=\"WL001\",\"MPN\",IF(Benchsheet!B481=FALSE,\"\",IF(Benchsheet!B481=\"WL002\",\"MPN\",IF(Benchsheet!B481=\"WL003\",\"MPN\",IF(Benchsheet!B481=\"DS001\",\"TC\")))))","v":""},{"$f":"IF(Benchsheet!A481>1,3014,\"\")","v":""}]
[{"$f":"IF(Benchsheet!N482=0,\"-1\",Benchsheet!N482)","v":"-1"},{"$f":"IF(Benchsheet!B482=\"WL001\",\"MPN\",IF(Benchsheet!B482=FALSE,\"\",IF(Benchsheet!B482=\"WL002\",\"MPN\",IF(Benchsheet!B482=\"WL003\",\"MPN\",IF(Benchsheet!B482=\"DS001\",\"TC\")))))","v":""},{"$f":"IF(Benchsheet!A482>1,3014,\"\")","v":""}]
[{"$f":"IF(Benchsheet!N483=0,\"-1\",Benchsheet!N483)","v":"-1"},{"$f":"IF(Benchsheet!B483=\"WL001\",\"MPN\",IF(Benchsheet!B483=FALSE,\"\",IF(Benchsheet!B483=\"WL002\",\"MPN\",IF(Benchsheet!B483=\"WL003\",\"MPN\",IF(Benchsheet!B483=\"DS001\",\"TC\")))))","v":""},{"$f":"IF(Benchsheet!A483>1,3014,\"\")","v":""}]
[{"$f":"IF(Benchsheet!N484=0,\"-1\",Benchsheet!N484)","v":"-1"},{"$f":"IF(Benchsheet!B484=\"WL001\",\"MPN\",IF(Benchsheet!B484=FALSE,\"\",IF(Benchsheet!B484=\"WL002\",\"MPN\",IF(Benchsheet!B484=\"WL003\",\"MPN\",IF(Benchsheet!B484=\"DS001\",\"TC\")))))","v":""},{"$f":"IF(Benchsheet!A484>1,3014,\"\")","v":""}]
[{"$f":"IF(Benchsheet!N485=0,\"-1\",Benchsheet!N485)","v":"-1"},{"$f":"IF(Benchsheet!B485=\"WL001\",\"MPN\",IF(Benchsheet!B485=FALSE,\"\",IF(Benchsheet!B485=\"WL002\",\"MPN\",IF(Benchsheet!B485=\"WL003\",\"MPN\",IF(Benchsheet!B485=\"DS001\",\"TC\")))))","v":""},{"$f":"IF(Benchsheet!A485>1,3014,\"\")","v":""}]
[{"$f":"IF(Benchsheet!N486=0,\"-1\",Benchsheet!N486)","v":"-1"},{"$f":"IF(Benchsheet!B486=\"WL001\",\"MPN\",IF(Benchsheet!B486=FALSE,\"\",IF(Benchsheet!B486=\"WL002\",\"MPN\",IF(Benchsheet!B486=\"WL003\",\"MPN\",IF(Benchsheet!B486=\"DS001\",\"TC\")))))","v":""},{"$f":"IF(Benchsheet!A486>1,3014,\"\")","v":""}]
[{"$f":"IF(Benchsheet!N487=0,\"-1\",Benchsheet!N487)","v":"-1"},{"$f":"IF(Benchsheet!B487=\"WL001\",\"MPN\",IF(Benchsheet!B487=FALSE,\"\",IF(Benchsheet!B487=\"WL002\",\"MPN\",IF(Benchsheet!B487=\"WL003\",\"MPN\",IF(Benchsheet!B487=\"DS001\",\"TC\")))))","v":""},{"$f":"IF(Benchsheet!A487>1,3014,\"\")","v":""}]
[{"$f":"IF(Benchsheet!N488=0,\"-1\",Benchsheet!N488)","v":"-1"},{"$f":"IF(Benchsheet!B488=\"WL001\",\"MPN\",IF(Benchsheet!B488=FALSE,\"\",IF(Benchsheet!B488=\"WL002\",\"MPN\",IF(Benchsheet!B488=\"WL003\",\"MPN\",IF(Benchsheet!B488=\"DS001\",\"TC\")))))","v":""},{"$f":"IF(Benchsheet!A488>1,3014,\"\")","v":""}]
[{"$f":"IF(Benchsheet!N489=0,\"-1\",Benchsheet!N489)","v":"-1"},{"$f":"IF(Benchsheet!B489=\"WL001\",\"MPN\",IF(Benchsheet!B489=FALSE,\"\",IF(Benchsheet!B489=\"WL002\",\"MPN\",IF(Benchsheet!B489=\"WL003\",\"MPN\",IF(Benchsheet!B489=\"DS001\",\"TC\")))))","v":""},{"$f":"IF(Benchsheet!A489>1,3014,\"\")","v":""}]
[{"$f":"IF(Benchsheet!N490=0,\"-1\",Benchsheet!N490)","v":"-1"},{"$f":"IF(Benchsheet!B490=\"WL001\",\"MPN\",IF(Benchsheet!B490=FALSE,\"\",IF(Benchsheet!B490=\"WL002\",\"MPN\",IF(Benchsheet!B490=\"WL003\",\"MPN\",IF(Benchsheet!B490=\"DS001\",\"TC\")))))","v":""},{"$f":"IF(Benchsheet!A490>1,3014,\"\")","v":""}]
[{"$f":"IF(Benchsheet!N491=0,\"-1\",Benchsheet!N491)","v":"-1"},{"$f":"IF(Benchsheet!B491=\"WL001\",\"MPN\",IF(Benchsheet!B491=FALSE,\"\",IF(Benchsheet!B491=\"WL002\",\"MPN\",IF(Benchsheet!B491=\"WL003\",\"MPN\",IF(Benchsheet!B491=\"DS001\",\"TC\")))))","v":""},{"$f":"IF(Benchsheet!A491>1,3014,\"\")","v":""}]
[{"$f":"IF(Benchsheet!N492=0,\"-1\",Benchsheet!N492)","v":"-1"},{"$f":"IF(Benchsheet!B492=\"WL001\",\"MPN\",IF(Benchsheet!B492=FALSE,\"\",IF(Benchsheet!B492=\"WL002\",\"MPN\",IF(Benchsheet!B492=\"WL003\",\"MPN\",IF(Benchsheet!B492=\"DS001\",\"TC\")))))","v":""},{"$f":"IF(Benchsheet!A492>1,3014,\"\")","v":""}]
[{"$f":"IF(Benchsheet!N493=0,\"-1\",Benchsheet!N493)","v":"-1"},{"$f":"IF(Benchsheet!B493=\"WL001\",\"MPN\",IF(Benchsheet!B493=FALSE,\"\",IF(Benchsheet!B493=\"WL002\",\"MPN\",IF(Benchsheet!B493=\"WL003\",\"MPN\",IF(Benchsheet!B493=\"DS001\",\"TC\")))))","v":""},{"$f":"IF(Benchsheet!A493>1,3014,\"\")","v":""}]
[{"$f":"IF(Benchsheet!N494=0,\"-1\",Benchsheet!N494)","v":"-1"},{"$f":"IF(Benchsheet!B494=\"WL001\",\"MPN\",IF(Benchsheet!B494=FALSE,\"\",IF(Benchsheet!B494=\"WL002\",\"MPN\",IF(Benchsheet!B494=\"WL003\",\"MPN\",IF(Benchsheet!B494=\"DS001\",\"TC\")))))","v":""},{"$f":"IF(Benchsheet!A494>1,3014,\"\")","v":""}]
[{"$f":"IF(Benchsheet!N495=0,\"-1\",Benchsheet!N495)","v":"-1"},{"$f":"IF(Benchsheet!B495=\"WL001\",\"MPN\",IF(Benchsheet!B495=FALSE,\"\",IF(Benchsheet!B495=\"WL002\",\"MPN\",IF(Benchsheet!B495=\"WL003\",\"MPN\",IF(Benchsheet!B495=\"DS001\",\"TC\")))))","v":""},{"$f":"IF(Benchsheet!A495>1,3014,\"\")","v":""}]
[{"$f":"IF(Benchsheet!N496=0,\"-1\",Benchsheet!N496)","v":"-1"},{"$f":"IF(Benchsheet!B496=\"WL001\",\"MPN\",IF(Benchsheet!B496=FALSE,\"\",IF(Benchsheet!B496=\"WL002\",\"MPN\",IF(Benchsheet!B496=\"WL003\",\"MPN\",IF(Benchsheet!B496=\"DS001\",\"TC\")))))","v":""},{"$f":"IF(Benchsheet!A496>1,3014,\"\")","v":""}]
[{"$f":"IF(Benchsheet!N497=0,\"-1\",Benchsheet!N497)","v":"-1"},{"$f":"IF(Benchsheet!B497=\"WL001\",\"MPN\",IF(Benchsheet!B497=FALSE,\"\",IF(Benchsheet!B497=\"WL002\",\"MPN\",IF(Benchsheet!B497=\"WL003\",\"MPN\",IF(Benchsheet!B497=\"DS001\",\"TC\")))))","v":""},{"$f":"IF(Benchsheet!A497>1,3014,\"\")","v":""}]
[{"$f":"IF(Benchsheet!N498=0,\"-1\",Benchsheet!N498)","v":"-1"},{"$f":"IF(Benchsheet!B498=\"WL001\",\"MPN\",IF(Benchsheet!B498=FALSE,\"\",IF(Benchsheet!B498=\"WL002\",\"MPN\",IF(Benchsheet!B498=\"WL003\",\"MPN\",IF(Benchsheet!B498=\"DS001\",\"TC\")))))","v":""},{"$f":"IF(Benchsheet!A498>1,3014,\"\")","v":""}]
[{"$f":"IF(Benchsheet!N499=0,\"-1\",Benchsheet!N499)","v":"-1"},{"$f":"IF(Benchsheet!B499=\"WL001\",\"MPN\",IF(Benchsheet!B499=FALSE,\"\",IF(Benchsheet!B499=\"WL002\",\"MPN\",IF(Benchsheet!B499=\"WL003\",\"MPN\",IF(Benchsheet!B499=\"DS001\",\"TC\")))))","v":""},{"$f":"IF(Benchsheet!A499>1,3014,\"\")","v":""}]
[{"$f":"IF(Benchsheet!N500=0,\"-1\",Benchsheet!N500)","v":"-1"},{"$f":"IF(Benchsheet!B500=\"WL001\",\"MPN\",IF(Benchsheet!B500=FALSE,\"\",IF(Benchsheet!B500=\"WL002\",\"MPN\",IF(Benchsheet!B500=\"WL003\",\"MPN\",IF(Benchsheet!B500=\"DS001\",\"TC\")))))","v":""},{"$f":"IF(Benchsheet!A500>1,3014,\"\")","v":""}]
[{"$f":"IF(Benchsheet!N501=0,\"-1\",Benchsheet!N501)","v":"-1"},{"$f":"IF(Benchsheet!B501=\"WL001\",\"MPN\",IF(Benchsheet!B501=FALSE,\"\",IF(Benchsheet!B501=\"WL002\",\"MPN\",IF(Benchsheet!B501=\"WL003\",\"MPN\",IF(Benchsheet!B501=\"DS001\",\"TC\")))))","v":""},{"$f":"IF(Benchsheet!A501>1,3014,\"\")","v":""}]
[{"$f":"IF(Benchsheet!N502=0,\"-1\",Benchsheet!N502)","v":"-1"},{"$f":"IF(Benchsheet!B502=\"WL001\",\"MPN\",IF(Benchsheet!B502=FALSE,\"\",IF(Benchsheet!B502=\"WL002\",\"MPN\",IF(Benchsheet!B502=\"WL003\",\"MPN\",IF(Benchsheet!B502=\"DS001\",\"TC\")))))","v":""},{"$f":"IF(Benchsheet!A502>1,3014,\"\")","v":""}]
[{"$f":"IF(Benchsheet!N503=0,\"-1\",Benchsheet!N503)","v":"-1"},{"$f":"IF(Benchsheet!B503=\"WL001\",\"MPN\",IF(Benchsheet!B503=FALSE,\"\",IF(Benchsheet!B503=\"WL002\",\"MPN\",IF(Benchsheet!B503=\"WL003\",\"MPN\",IF(Benchsheet!B503=\"DS001\",\"TC\")))))","v":""},{"$f":"IF(Benchsheet!A503>1,3014,\"\")","v":""}]
[{"$f":"IF(Benchsheet!N504=0,\"-1\",Benchsheet!N504)","v":"-1"},{"$f":"IF(Benchsheet!B504=\"WL001\",\"MPN\",IF(Benchsheet!B504=FALSE,\"\",IF(Benchsheet!B504=\"WL002\",\"MPN\",IF(Benchsheet!B504=\"WL003\",\"MPN\",IF(Benchsheet!B504=\"DS001\",\"TC\")))))","v":""},{"$f":"IF(Benchsheet!A504>1,3014,\"\")","v":""}]
[{"$f":"IF(Benchsheet!N505=0,\"-1\",Benchsheet!N505)","v":"-1"},{"$f":"IF(Benchsheet!B505=\"WL001\",\"MPN\",IF(Benchsheet!B505=FALSE,\"\",IF(Benchsheet!B505=\"WL002\",\"MPN\",IF(Benchsheet!B505=\"WL003\",\"MPN\",IF(Benchsheet!B505=\"DS001\",\"TC\")))))","v":""},{"$f":"IF(Benchsheet!A505>1,3014,\"\")","v":""}]
[{"$f":"IF(Benchsheet!N506=0,\"-1\",Benchsheet!N506)","v":"-1"},{"$f":"IF(Benchsheet!B506=\"WL001\",\"MPN\",IF(Benchsheet!B506=FALSE,\"\",IF(Benchsheet!B506=\"WL002\",\"MPN\",IF(Benchsheet!B506=\"WL003\",\"MPN\",IF(Benchsheet!B506=\"DS001\",\"TC\")))))","v":""},{"$f":"IF(Benchsheet!A506>1,3014,\"\")","v":""}]
[{"$f":"IF(Benchsheet!N507=0,\"-1\",Benchsheet!N507)","v":"-1"},{"$f":"IF(Benchsheet!B507=\"WL001\",\"MPN\",IF(Benchsheet!B507=FALSE,\"\",IF(Benchsheet!B507=\"WL002\",\"MPN\",IF(Benchsheet!B507=\"WL003\",\"MPN\",IF(Benchsheet!B507=\"DS001\",\"TC\")))))","v":""},{"$f":"IF(Benchsheet!A507>1,3014,\"\")","v":""}]
[{"$f":"IF(Benchsheet!N508=0,\"-1\",Benchsheet!N508)","v":"-1"},{"$f":"IF(Benchsheet!B508=\"WL001\",\"MPN\",IF(Benchsheet!B508=FALSE,\"\",IF(Benchsheet!B508=\"WL002\",\"MPN\",IF(Benchsheet!B508=\"WL003\",\"MPN\",IF(Benchsheet!B508=\"DS001\",\"TC\")))))","v":""},{"$f":"IF(Benchsheet!A508>1,3014,\"\")","v":""}]
[{"$f":"IF(Benchsheet!N509=0,\"-1\",Benchsheet!N509)","v":"-1"},{"$f":"IF(Benchsheet!B509=\"WL001\",\"MPN\",IF(Benchsheet!B509=FALSE,\"\",IF(Benchsheet!B509=\"WL002\",\"MPN\",IF(Benchsheet!B509=\"WL003\",\"MPN\",IF(Benchsheet!B509=\"DS001\",\"TC\")))))","v":""},{"$f":"IF(Benchsheet!A509>1,3014,\"\")","v":""}]
[{"$f":"IF(Benchsheet!N510=0,\"-1\",Benchsheet!N510)","v":"-1"},{"$f":"IF(Benchsheet!B510=\"WL001\",\"MPN\",IF(Benchsheet!B510=FALSE,\"\",IF(Benchsheet!B510=\"WL002\",\"MPN\",IF(Benchsheet!B510=\"WL003\",\"MPN\",IF(Benchsheet!B510=\"DS001\",\"TC\")))))","v":""},{"$f":"IF(Benchsheet!A510>1,3014,\"\")","v":""}]
[{"$f":"IF(Benchsheet!N511=0,\"-1\",Benchsheet!N511)","v":"-1"},{"$f":"IF(Benchsheet!B511=\"WL001\",\"MPN\",IF(Benchsheet!B511=FALSE,\"\",IF(Benchsheet!B511=\"WL002\",\"MPN\",IF(Benchsheet!B511=\"WL003\",\"MPN\",IF(Benchsheet!B511=\"DS001\",\"TC\")))))","v":""},{"$f":"IF(Benchsheet!A511>1,3014,\"\")","v":""}]
[{"$f":"IF(Benchsheet!N512=0,\"-1\",Benchsheet!N512)","v":"-1"},{"$f":"IF(Benchsheet!B512=\"WL001\",\"MPN\",IF(Benchsheet!B512=FALSE,\"\",IF(Benchsheet!B512=\"WL002\",\"MPN\",IF(Benchsheet!B512=\"WL003\",\"MPN\",IF(Benchsheet!B512=\"DS001\",\"TC\")))))","v":""},{"$f":"IF(Benchsheet!A512>1,3014,\"\")","v":""}]
[{"$f":"IF(Benchsheet!N513=0,\"-1\",Benchsheet!N513)","v":"-1"},{"$f":"IF(Benchsheet!B513=\"WL001\",\"MPN\",IF(Benchsheet!B513=FALSE,\"\",IF(Benchsheet!B513=\"WL002\",\"MPN\",IF(Benchsheet!B513=\"WL003\",\"MPN\",IF(Benchsheet!B513=\"DS001\",\"TC\")))))","v":""},{"$f":"IF(Benchsheet!A513>1,3014,\"\")","v":""}]
[{"$f":"IF(Benchsheet!N514=0,\"-1\",Benchsheet!N514)","v":"-1"},{"$f":"IF(Benchsheet!B514=\"WL001\",\"MPN\",IF(Benchsheet!B514=FALSE,\"\",IF(Benchsheet!B514=\"WL002\",\"MPN\",IF(Benchsheet!B514=\"WL003\",\"MPN\",IF(Benchsheet!B514=\"DS001\",\"TC\")))))","v":""},{"$f":"IF(Benchsheet!A514>1,3014,\"\")","v":""}]
[{"$f":"IF(Benchsheet!N515=0,\"-1\",Benchsheet!N515)","v":"-1"},{"$f":"IF(Benchsheet!B515=\"WL001\",\"MPN\",IF(Benchsheet!B515=FALSE,\"\",IF(Benchsheet!B515=\"WL002\",\"MPN\",IF(Benchsheet!B515=\"WL003\",\"MPN\",IF(Benchsheet!B515=\"DS001\",\"TC\")))))","v":""},{"$f":"IF(Benchsheet!A515>1,3014,\"\")","v":""}]
[{"$f":"IF(Benchsheet!N516=0,\"-1\",Benchsheet!N516)","v":"-1"},{"$f":"IF(Benchsheet!B516=\"WL001\",\"MPN\",IF(Benchsheet!B516=FALSE,\"\",IF(Benchsheet!B516=\"WL002\",\"MPN\",IF(Benchsheet!B516=\"WL003\",\"MPN\",IF(Benchsheet!B516=\"DS001\",\"TC\")))))","v":""},{"$f":"IF(Benchsheet!A516>1,3014,\"\")","v":""}]
[{"$f":"IF(Benchsheet!N517=0,\"-1\",Benchsheet!N517)","v":"-1"},{"$f":"IF(Benchsheet!B517=\"WL001\",\"MPN\",IF(Benchsheet!B517=FALSE,\"\",IF(Benchsheet!B517=\"WL002\",\"MPN\",IF(Benchsheet!B517=\"WL003\",\"MPN\",IF(Benchsheet!B517=\"DS001\",\"TC\")))))","v":""},{"$f":"IF(Benchsheet!A517>1,3014,\"\")","v":""}]
[{"$f":"IF(Benchsheet!N518=0,\"-1\",Benchsheet!N518)","v":"-1"},{"$f":"IF(Benchsheet!B518=\"WL001\",\"MPN\",IF(Benchsheet!B518=FALSE,\"\",IF(Benchsheet!B518=\"WL002\",\"MPN\",IF(Benchsheet!B518=\"WL003\",\"MPN\",IF(Benchsheet!B518=\"DS001\",\"TC\")))))","v":""},{"$f":"IF(Benchsheet!A518>1,3014,\"\")","v":""}]
[{"$f":"IF(Benchsheet!N519=0,\"-1\",Benchsheet!N519)","v":"-1"},{"$f":"IF(Benchsheet!B519=\"WL001\",\"MPN\",IF(Benchsheet!B519=FALSE,\"\",IF(Benchsheet!B519=\"WL002\",\"MPN\",IF(Benchsheet!B519=\"WL003\",\"MPN\",IF(Benchsheet!B519=\"DS001\",\"TC\")))))","v":""},{"$f":"IF(Benchsheet!A519>1,3014,\"\")","v":""}]
[{"$f":"IF(Benchsheet!N520=0,\"-1\",Benchsheet!N520)","v":"-1"},{"$f":"IF(Benchsheet!B520=\"WL001\",\"MPN\",IF(Benchsheet!B520=FALSE,\"\",IF(Benchsheet!B520=\"WL002\",\"MPN\",IF(Benchsheet!B520=\"WL003\",\"MPN\",IF(Benchsheet!B520=\"DS001\",\"TC\")))))","v":""},{"$f":"IF(Benchsheet!A520>1,3014,\"\")","v":""}]
[{"$f":"IF(Benchsheet!N521=0,\"-1\",Benchsheet!N521)","v":"-1"},{"$f":"IF(Benchsheet!B521=\"WL001\",\"MPN\",IF(Benchsheet!B521=FALSE,\"\",IF(Benchsheet!B521=\"WL002\",\"MPN\",IF(Benchsheet!B521=\"WL003\",\"MPN\",IF(Benchsheet!B521=\"DS001\",\"TC\")))))","v":""},{"$f":"IF(Benchsheet!A521>1,3014,\"\")","v":""}]
[{"$f":"IF(Benchsheet!N522=0,\"-1\",Benchsheet!N522)","v":"-1"},{"$f":"IF(Benchsheet!B522=\"WL001\",\"MPN\",IF(Benchsheet!B522=FALSE,\"\",IF(Benchsheet!B522=\"WL002\",\"MPN\",IF(Benchsheet!B522=\"WL003\",\"MPN\",IF(Benchsheet!B522=\"DS001\",\"TC\")))))","v":""},{"$f":"IF(Benchsheet!A522>1,3014,\"\")","v":""}]
[{"$f":"IF(Benchsheet!N523=0,\"-1\",Benchsheet!N523)","v":"-1"},{"$f":"IF(Benchsheet!B523=\"WL001\",\"MPN\",IF(Benchsheet!B523=FALSE,\"\",IF(Benchsheet!B523=\"WL002\",\"MPN\",IF(Benchsheet!B523=\"WL003\",\"MPN\",IF(Benchsheet!B523=\"DS001\",\"TC\")))))","v":""},{"$f":"IF(Benchsheet!A523>1,3014,\"\")","v":""}]
[{"$f":"IF(Benchsheet!N524=0,\"-1\",Benchsheet!N524)","v":"-1"},{"$f":"IF(Benchsheet!B524=\"WL001\",\"MPN\",IF(Benchsheet!B524=FALSE,\"\",IF(Benchsheet!B524=\"WL002\",\"MPN\",IF(Benchsheet!B524=\"WL003\",\"MPN\",IF(Benchsheet!B524=\"DS001\",\"TC\")))))","v":""},{"$f":"IF(Benchsheet!A524>1,3014,\"\")","v":""}]
[{"$f":"IF(Benchsheet!N525=0,\"-1\",Benchsheet!N525)","v":"-1"},{"$f":"IF(Benchsheet!B525=\"WL001\",\"MPN\",IF(Benchsheet!B525=FALSE,\"\",IF(Benchsheet!B525=\"WL002\",\"MPN\",IF(Benchsheet!B525=\"WL003\",\"MPN\",IF(Benchsheet!B525=\"DS001\",\"TC\")))))","v":""},{"$f":"IF(Benchsheet!A525>1,3014,\"\")","v":""}]
[{"$f":"IF(Benchsheet!N526=0,\"-1\",Benchsheet!N526)","v":"-1"},{"$f":"IF(Benchsheet!B526=\"WL001\",\"MPN\",IF(Benchsheet!B526=FALSE,\"\",IF(Benchsheet!B526=\"WL002\",\"MPN\",IF(Benchsheet!B526=\"WL003\",\"MPN\",IF(Benchsheet!B526=\"DS001\",\"TC\")))))","v":""},{"$f":"IF(Benchsheet!A526>1,3014,\"\")","v":""}]
[{"$f":"IF(Benchsheet!N527=0,\"-1\",Benchsheet!N527)","v":"-1"},{"$f":"IF(Benchsheet!B527=\"WL001\",\"MPN\",IF(Benchsheet!B527=FALSE,\"\",IF(Benchsheet!B527=\"WL002\",\"MPN\",IF(Benchsheet!B527=\"WL003\",\"MPN\",IF(Benchsheet!B527=\"DS001\",\"TC\")))))","v":""},{"$f":"IF(Benchsheet!A527>1,3014,\"\")","v":""}]
[{"$f":"IF(Benchsheet!N528=0,\"-1\",Benchsheet!N528)","v":"-1"},{"$f":"IF(Benchsheet!B528=\"WL001\",\"MPN\",IF(Benchsheet!B528=FALSE,\"\",IF(Benchsheet!B528=\"WL002\",\"MPN\",IF(Benchsheet!B528=\"WL003\",\"MPN\",IF(Benchsheet!B528=\"DS001\",\"TC\")))))","v":""},{"$f":"IF(Benchsheet!A528>1,3014,\"\")","v":""}]
[{"$f":"IF(Benchsheet!N529=0,\"-1\",Benchsheet!N529)","v":"-1"},{"$f":"IF(Benchsheet!B529=\"WL001\",\"MPN\",IF(Benchsheet!B529=FALSE,\"\",IF(Benchsheet!B529=\"WL002\",\"MPN\",IF(Benchsheet!B529=\"WL003\",\"MPN\",IF(Benchsheet!B529=\"DS001\",\"TC\")))))","v":""},{"$f":"IF(Benchsheet!A529>1,3014,\"\")","v":""}]
[{"$f":"IF(Benchsheet!N530=0,\"-1\",Benchsheet!N530)","v":"-1"},{"$f":"IF(Benchsheet!B530=\"WL001\",\"MPN\",IF(Benchsheet!B530=FALSE,\"\",IF(Benchsheet!B530=\"WL002\",\"MPN\",IF(Benchsheet!B530=\"WL003\",\"MPN\",IF(Benchsheet!B530=\"DS001\",\"TC\")))))","v":""},{"$f":"IF(Benchsheet!A530>1,3014,\"\")","v":""}]
[{"$f":"IF(Benchsheet!N531=0,\"-1\",Benchsheet!N531)","v":"-1"},{"$f":"IF(Benchsheet!B531=\"WL001\",\"MPN\",IF(Benchsheet!B531=FALSE,\"\",IF(Benchsheet!B531=\"WL002\",\"MPN\",IF(Benchsheet!B531=\"WL003\",\"MPN\",IF(Benchsheet!B531=\"DS001\",\"TC\")))))","v":""},{"$f":"IF(Benchsheet!A531>1,3014,\"\")","v":""}]
[{"$f":"IF(Benchsheet!N532=0,\"-1\",Benchsheet!N532)","v":"-1"},{"$f":"IF(Benchsheet!B532=\"WL001\",\"MPN\",IF(Benchsheet!B532=FALSE,\"\",IF(Benchsheet!B532=\"WL002\",\"MPN\",IF(Benchsheet!B532=\"WL003\",\"MPN\",IF(Benchsheet!B532=\"DS001\",\"TC\")))))","v":""},{"$f":"IF(Benchsheet!A532>1,3014,\"\")","v":""}]
[{"$f":"IF(Benchsheet!N533=0,\"-1\",Benchsheet!N533)","v":"-1"},{"$f":"IF(Benchsheet!B533=\"WL001\",\"MPN\",IF(Benchsheet!B533=FALSE,\"\",IF(Benchsheet!B533=\"WL002\",\"MPN\",IF(Benchsheet!B533=\"WL003\",\"MPN\",IF(Benchsheet!B533=\"DS001\",\"TC\")))))","v":""},{"$f":"IF(Benchsheet!A533>1,3014,\"\")","v":""}]
[{"$f":"IF(Benchsheet!N534=0,\"-1\",Benchsheet!N534)","v":"-1"},{"$f":"IF(Benchsheet!B534=\"WL001\",\"MPN\",IF(Benchsheet!B534=FALSE,\"\",IF(Benchsheet!B534=\"WL002\",\"MPN\",IF(Benchsheet!B534=\"WL003\",\"MPN\",IF(Benchsheet!B534=\"DS001\",\"TC\")))))","v":""},{"$f":"IF(Benchsheet!A534>1,3014,\"\")","v":""}]
[{"$f":"IF(Benchsheet!N535=0,\"-1\",Benchsheet!N535)","v":"-1"},{"$f":"IF(Benchsheet!B535=\"WL001\",\"MPN\",IF(Benchsheet!B535=FALSE,\"\",IF(Benchsheet!B535=\"WL002\",\"MPN\",IF(Benchsheet!B535=\"WL003\",\"MPN\",IF(Benchsheet!B535=\"DS001\",\"TC\")))))","v":""},{"$f":"IF(Benchsheet!A535>1,3014,\"\")","v":""}]
[{"$f":"IF(Benchsheet!N536=0,\"-1\",Benchsheet!N536)","v":"-1"},{"$f":"IF(Benchsheet!B536=\"WL001\",\"MPN\",IF(Benchsheet!B536=FALSE,\"\",IF(Benchsheet!B536=\"WL002\",\"MPN\",IF(Benchsheet!B536=\"WL003\",\"MPN\",IF(Benchsheet!B536=\"DS001\",\"TC\")))))","v":""},{"$f":"IF(Benchsheet!A536>1,3014,\"\")","v":""}]
[{"$f":"IF(Benchsheet!N537=0,\"-1\",Benchsheet!N537)","v":"-1"},{"$f":"IF(Benchsheet!B537=\"WL001\",\"MPN\",IF(Benchsheet!B537=FALSE,\"\",IF(Benchsheet!B537=\"WL002\",\"MPN\",IF(Benchsheet!B537=\"WL003\",\"MPN\",IF(Benchsheet!B537=\"DS001\",\"TC\")))))","v":""},{"$f":"IF(Benchsheet!A537>1,3014,\"\")","v":""}]
[{"$f":"IF(Benchsheet!N538=0,\"-1\",Benchsheet!N538)","v":"-1"},{"$f":"IF(Benchsheet!B538=\"WL001\",\"MPN\",IF(Benchsheet!B538=FALSE,\"\",IF(Benchsheet!B538=\"WL002\",\"MPN\",IF(Benchsheet!B538=\"WL003\",\"MPN\",IF(Benchsheet!B538=\"DS001\",\"TC\")))))","v":""},{"$f":"IF(Benchsheet!A538>1,3014,\"\")","v":""}]
[{"$f":"IF(Benchsheet!N539=0,\"-1\",Benchsheet!N539)","v":"-1"},{"$f":"IF(Benchsheet!B539=\"WL001\",\"MPN\",IF(Benchsheet!B539=FALSE,\"\",IF(Benchsheet!B539=\"WL002\",\"MPN\",IF(Benchsheet!B539=\"WL003\",\"MPN\",IF(Benchsheet!B539=\"DS001\",\"TC\")))))","v":""},{"$f":"IF(Benchsheet!A539>1,3014,\"\")","v":""}]
[{"$f":"IF(Benchsheet!N540=0,\"-1\",Benchsheet!N540)","v":"-1"},{"$f":"IF(Benchsheet!B540=\"WL001\",\"MPN\",IF(Benchsheet!B540=FALSE,\"\",IF(Benchsheet!B540=\"WL002\",\"MPN\",IF(Benchsheet!B540=\"WL003\",\"MPN\",IF(Benchsheet!B540=\"DS001\",\"TC\")))))","v":""},{"$f":"IF(Benchsheet!A540>1,3014,\"\")","v":""}]
[{"$f":"IF(Benchsheet!N541=0,\"-1\",Benchsheet!N541)","v":"-1"},{"$f":"IF(Benchsheet!B541=\"WL001\",\"MPN\",IF(Benchsheet!B541=FALSE,\"\",IF(Benchsheet!B541=\"WL002\",\"MPN\",IF(Benchsheet!B541=\"WL003\",\"MPN\",IF(Benchsheet!B541=\"DS001\",\"TC\")))))","v":""},{"$f":"IF(Benchsheet!A541>1,3014,\"\")","v":""}]
[{"$f":"IF(Benchsheet!N542=0,\"-1\",Benchsheet!N542)","v":"-1"},{"$f":"IF(Benchsheet!B542=\"WL001\",\"MPN\",IF(Benchsheet!B542=FALSE,\"\",IF(Benchsheet!B542=\"WL002\",\"MPN\",IF(Benchsheet!B542=\"WL003\",\"MPN\",IF(Benchsheet!B542=\"DS001\",\"TC\")))))","v":""},{"$f":"IF(Benchsheet!A542>1,3014,\"\")","v":""}]
[{"$f":"IF(Benchsheet!N543=0,\"-1\",Benchsheet!N543)","v":"-1"},{"$f":"IF(Benchsheet!B543=\"WL001\",\"MPN\",IF(Benchsheet!B543=FALSE,\"\",IF(Benchsheet!B543=\"WL002\",\"MPN\",IF(Benchsheet!B543=\"WL003\",\"MPN\",IF(Benchsheet!B543=\"DS001\",\"TC\")))))","v":""},{"$f":"IF(Benchsheet!A543>1,3014,\"\")","v":""}]
[{"$f":"IF(Benchsheet!N544=0,\"-1\",Benchsheet!N544)","v":"-1"},{"$f":"IF(Benchsheet!B544=\"WL001\",\"MPN\",IF(Benchsheet!B544=FALSE,\"\",IF(Benchsheet!B544=\"WL002\",\"MPN\",IF(Benchsheet!B544=\"WL003\",\"MPN\",IF(Benchsheet!B544=\"DS001\",\"TC\")))))","v":""},{"$f":"IF(Benchsheet!A544>1,3014,\"\")","v":""}]
[{"$f":"IF(Benchsheet!N545=0,\"-1\",Benchsheet!N545)","v":"-1"},{"$f":"IF(Benchsheet!B545=\"WL001\",\"MPN\",IF(Benchsheet!B545=FALSE,\"\",IF(Benchsheet!B545=\"WL002\",\"MPN\",IF(Benchsheet!B545=\"WL003\",\"MPN\",IF(Benchsheet!B545=\"DS001\",\"TC\")))))","v":""},{"$f":"IF(Benchsheet!A545>1,3014,\"\")","v":""}]
[{"$f":"IF(Benchsheet!N546=0,\"-1\",Benchsheet!N546)","v":"-1"},{"$f":"IF(Benchsheet!B546=\"WL001\",\"MPN\",IF(Benchsheet!B546=FALSE,\"\",IF(Benchsheet!B546=\"WL002\",\"MPN\",IF(Benchsheet!B546=\"WL003\",\"MPN\",IF(Benchsheet!B546=\"DS001\",\"TC\")))))","v":""},{"$f":"IF(Benchsheet!A546>1,3014,\"\")","v":""}]
[{"$f":"IF(Benchsheet!N547=0,\"-1\",Benchsheet!N547)","v":"-1"},{"$f":"IF(Benchsheet!B547=\"WL001\",\"MPN\",IF(Benchsheet!B547=FALSE,\"\",IF(Benchsheet!B547=\"WL002\",\"MPN\",IF(Benchsheet!B547=\"WL003\",\"MPN\",IF(Benchsheet!B547=\"DS001\",\"TC\")))))","v":""},{"$f":"IF(Benchsheet!A547>1,3014,\"\")","v":""}]
[{"$f":"IF(Benchsheet!N548=0,\"-1\",Benchsheet!N548)","v":"-1"},{"$f":"IF(Benchsheet!B548=\"WL001\",\"MPN\",IF(Benchsheet!B548=FALSE,\"\",IF(Benchsheet!B548=\"WL002\",\"MPN\",IF(Benchsheet!B548=\"WL003\",\"MPN\",IF(Benchsheet!B548=\"DS001\",\"TC\")))))","v":""},{"$f":"IF(Benchsheet!A548>1,3014,\"\")","v":""}]
[{"$f":"IF(Benchsheet!N549=0,\"-1\",Benchsheet!N549)","v":"-1"},{"$f":"IF(Benchsheet!B549=\"WL001\",\"MPN\",IF(Benchsheet!B549=FALSE,\"\",IF(Benchsheet!B549=\"WL002\",\"MPN\",IF(Benchsheet!B549=\"WL003\",\"MPN\",IF(Benchsheet!B549=\"DS001\",\"TC\")))))","v":""},{"$f":"IF(Benchsheet!A549>1,3014,\"\")","v":""}]
[{"$f":"IF(Benchsheet!N550=0,\"-1\",Benchsheet!N550)","v":"-1"},{"$f":"IF(Benchsheet!B550=\"WL001\",\"MPN\",IF(Benchsheet!B550=FALSE,\"\",IF(Benchsheet!B550=\"WL002\",\"MPN\",IF(Benchsheet!B550=\"WL003\",\"MPN\",IF(Benchsheet!B550=\"DS001\",\"TC\")))))","v":""},{"$f":"IF(Benchsheet!A550>1,3014,\"\")","v":""}]
[{"$f":"IF(Benchsheet!N551=0,\"-1\",Benchsheet!N551)","v":"-1"},{"$f":"IF(Benchsheet!B551=\"WL001\",\"MPN\",IF(Benchsheet!B551=FALSE,\"\",IF(Benchsheet!B551=\"WL002\",\"MPN\",IF(Benchsheet!B551=\"WL003\",\"MPN\",IF(Benchsheet!B551=\"DS001\",\"TC\")))))","v":""},{"$f":"IF(Benchsheet!A551>1,3014,\"\")","v":""}]
[{"$f":"IF(Benchsheet!N552=0,\"-1\",Benchsheet!N552)","v":"-1"},{"$f":"IF(Benchsheet!B552=\"WL001\",\"MPN\",IF(Benchsheet!B552=FALSE,\"\",IF(Benchsheet!B552=\"WL002\",\"MPN\",IF(Benchsheet!B552=\"WL003\",\"MPN\",IF(Benchsheet!B552=\"DS001\",\"TC\")))))","v":""},{"$f":"IF(Benchsheet!A552>1,3014,\"\")","v":""}]
[{"$f":"IF(Benchsheet!N553=0,\"-1\",Benchsheet!N553)","v":"-1"},{"$f":"IF(Benchsheet!B553=\"WL001\",\"MPN\",IF(Benchsheet!B553=FALSE,\"\",IF(Benchsheet!B553=\"WL002\",\"MPN\",IF(Benchsheet!B553=\"WL003\",\"MPN\",IF(Benchsheet!B553=\"DS001\",\"TC\")))))","v":""},{"$f":"IF(Benchsheet!A553>1,3014,\"\")","v":""}]
[{"$f":"IF(Benchsheet!N554=0,\"-1\",Benchsheet!N554)","v":"-1"},{"$f":"IF(Benchsheet!B554=\"WL001\",\"MPN\",IF(Benchsheet!B554=FALSE,\"\",IF(Benchsheet!B554=\"WL002\",\"MPN\",IF(Benchsheet!B554=\"WL003\",\"MPN\",IF(Benchsheet!B554=\"DS001\",\"TC\")))))","v":""},{"$f":"IF(Benchsheet!A554>1,3014,\"\")","v":""}]
[{"$f":"IF(Benchsheet!N555=0,\"-1\",Benchsheet!N555)","v":"-1"},{"$f":"IF(Benchsheet!B555=\"WL001\",\"MPN\",IF(Benchsheet!B555=FALSE,\"\",IF(Benchsheet!B555=\"WL002\",\"MPN\",IF(Benchsheet!B555=\"WL003\",\"MPN\",IF(Benchsheet!B555=\"DS001\",\"TC\")))))","v":""},{"$f":"IF(Benchsheet!A555>1,3014,\"\")","v":""}]
[{"$f":"IF(Benchsheet!N556=0,\"-1\",Benchsheet!N556)","v":"-1"},{"$f":"IF(Benchsheet!B556=\"WL001\",\"MPN\",IF(Benchsheet!B556=FALSE,\"\",IF(Benchsheet!B556=\"WL002\",\"MPN\",IF(Benchsheet!B556=\"WL003\",\"MPN\",IF(Benchsheet!B556=\"DS001\",\"TC\")))))","v":""},{"$f":"IF(Benchsheet!A556>1,3014,\"\")","v":""}]
[{"$f":"IF(Benchsheet!N557=0,\"-1\",Benchsheet!N557)","v":"-1"},{"$f":"IF(Benchsheet!B557=\"WL001\",\"MPN\",IF(Benchsheet!B557=FALSE,\"\",IF(Benchsheet!B557=\"WL002\",\"MPN\",IF(Benchsheet!B557=\"WL003\",\"MPN\",IF(Benchsheet!B557=\"DS001\",\"TC\")))))","v":""},{"$f":"IF(Benchsheet!A557>1,3014,\"\")","v":""}]
[{"$f":"IF(Benchsheet!N558=0,\"-1\",Benchsheet!N558)","v":"-1"},{"$f":"IF(Benchsheet!B558=\"WL001\",\"MPN\",IF(Benchsheet!B558=FALSE,\"\",IF(Benchsheet!B558=\"WL002\",\"MPN\",IF(Benchsheet!B558=\"WL003\",\"MPN\",IF(Benchsheet!B558=\"DS001\",\"TC\")))))","v":""},{"$f":"IF(Benchsheet!A558>1,3014,\"\")","v":""}]
[{"$f":"IF(Benchsheet!N559=0,\"-1\",Benchsheet!N559)","v":"-1"},{"$f":"IF(Benchsheet!B559=\"WL001\",\"MPN\",IF(Benchsheet!B559=FALSE,\"\",IF(Benchsheet!B559=\"WL002\",\"MPN\",IF(Benchsheet!B559=\"WL003\",\"MPN\",IF(Benchsheet!B559=\"DS001\",\"TC\")))))","v":""},{"$f":"IF(Benchsheet!A559>1,3014,\"\")","v":""}]
[{"$f":"IF(Benchsheet!N560=0,\"-1\",Benchsheet!N560)","v":"-1"},{"$f":"IF(Benchsheet!B560=\"WL001\",\"MPN\",IF(Benchsheet!B560=FALSE,\"\",IF(Benchsheet!B560=\"WL002\",\"MPN\",IF(Benchsheet!B560=\"WL003\",\"MPN\",IF(Benchsheet!B560=\"DS001\",\"TC\")))))","v":""},{"$f":"IF(Benchsheet!A560>1,3014,\"\")","v":""}]
[{"$f":"IF(Benchsheet!N561=0,\"-1\",Benchsheet!N561)","v":"-1"},{"$f":"IF(Benchsheet!B561=\"WL001\",\"MPN\",IF(Benchsheet!B561=FALSE,\"\",IF(Benchsheet!B561=\"WL002\",\"MPN\",IF(Benchsheet!B561=\"WL003\",\"MPN\",IF(Benchsheet!B561=\"DS001\",\"TC\")))))","v":""},{"$f":"IF(Benchsheet!A561>1,3014,\"\")","v":""}]
[{"$f":"IF(Benchsheet!N562=0,\"-1\",Benchsheet!N562)","v":"-1"},{"$f":"IF(Benchsheet!B562=\"WL001\",\"MPN\",IF(Benchsheet!B562=FALSE,\"\",IF(Benchsheet!B562=\"WL002\",\"MPN\",IF(Benchsheet!B562=\"WL003\",\"MPN\",IF(Benchsheet!B562=\"DS001\",\"TC\")))))","v":""},{"$f":"IF(Benchsheet!A562>1,3014,\"\")","v":""}]
[{"$f":"IF(Benchsheet!N563=0,\"-1\",Benchsheet!N563)","v":"-1"},{"$f":"IF(Benchsheet!B563=\"WL001\",\"MPN\",IF(Benchsheet!B563=FALSE,\"\",IF(Benchsheet!B563=\"WL002\",\"MPN\",IF(Benchsheet!B563=\"WL003\",\"MPN\",IF(Benchsheet!B563=\"DS001\",\"TC\")))))","v":""},{"$f":"IF(Benchsheet!A563>1,3014,\"\")","v":""}]
[{"$f":"IF(Benchsheet!N564=0,\"-1\",Benchsheet!N564)","v":"-1"},{"$f":"IF(Benchsheet!B564=\"WL001\",\"MPN\",IF(Benchsheet!B564=FALSE,\"\",IF(Benchsheet!B564=\"WL002\",\"MPN\",IF(Benchsheet!B564=\"WL003\",\"MPN\",IF(Benchsheet!B564=\"DS001\",\"TC\")))))","v":""},{"$f":"IF(Benchsheet!A564>1,3014,\"\")","v":""}]
[{"$f":"IF(Benchsheet!N565=0,\"-1\",Benchsheet!N565)","v":"-1"},{"$f":"IF(Benchsheet!B565=\"WL001\",\"MPN\",IF(Benchsheet!B565=FALSE,\"\",IF(Benchsheet!B565=\"WL002\",\"MPN\",IF(Benchsheet!B565=\"WL003\",\"MPN\",IF(Benchsheet!B565=\"DS001\",\"TC\")))))","v":""},{"$f":"IF(Benchsheet!A565>1,3014,\"\")","v":""}]
[{"$f":"IF(Benchsheet!N566=0,\"-1\",Benchsheet!N566)","v":"-1"},{"$f":"IF(Benchsheet!B566=\"WL001\",\"MPN\",IF(Benchsheet!B566=FALSE,\"\",IF(Benchsheet!B566=\"WL002\",\"MPN\",IF(Benchsheet!B566=\"WL003\",\"MPN\",IF(Benchsheet!B566=\"DS001\",\"TC\")))))","v":""},{"$f":"IF(Benchsheet!A566>1,3014,\"\")","v":""}]
[{"$f":"IF(Benchsheet!N567=0,\"-1\",Benchsheet!N567)","v":"-1"},{"$f":"IF(Benchsheet!B567=\"WL001\",\"MPN\",IF(Benchsheet!B567=FALSE,\"\",IF(Benchsheet!B567=\"WL002\",\"MPN\",IF(Benchsheet!B567=\"WL003\",\"MPN\",IF(Benchsheet!B567=\"DS001\",\"TC\")))))","v":""},{"$f":"IF(Benchsheet!A567>1,3014,\"\")","v":""}]
[{"$f":"IF(Benchsheet!N568=0,\"-1\",Benchsheet!N568)","v":"-1"},{"$f":"IF(Benchsheet!B568=\"WL001\",\"MPN\",IF(Benchsheet!B568=FALSE,\"\",IF(Benchsheet!B568=\"WL002\",\"MPN\",IF(Benchsheet!B568=\"WL003\",\"MPN\",IF(Benchsheet!B568=\"DS001\",\"TC\")))))","v":""},{"$f":"IF(Benchsheet!A568>1,3014,\"\")","v":""}]
[{"$f":"IF(Benchsheet!N569=0,\"-1\",Benchsheet!N569)","v":"-1"},{"$f":"IF(Benchsheet!B569=\"WL001\",\"MPN\",IF(Benchsheet!B569=FALSE,\"\",IF(Benchsheet!B569=\"WL002\",\"MPN\",IF(Benchsheet!B569=\"WL003\",\"MPN\",IF(Benchsheet!B569=\"DS001\",\"TC\")))))","v":""},{"$f":"IF(Benchsheet!A569>1,3014,\"\")","v":""}]
[{"$f":"IF(Benchsheet!N570=0,\"-1\",Benchsheet!N570)","v":"-1"},{"$f":"IF(Benchsheet!B570=\"WL001\",\"MPN\",IF(Benchsheet!B570=FALSE,\"\",IF(Benchsheet!B570=\"WL002\",\"MPN\",IF(Benchsheet!B570=\"WL003\",\"MPN\",IF(Benchsheet!B570=\"DS001\",\"TC\")))))","v":""},{"$f":"IF(Benchsheet!A570>1,3014,\"\")","v":""}]
[{"$f":"IF(Benchsheet!N571=0,\"-1\",Benchsheet!N571)","v":"-1"},{"$f":"IF(Benchsheet!B571=\"WL001\",\"MPN\",IF(Benchsheet!B571=FALSE,\"\",IF(Benchsheet!B571=\"WL002\",\"MPN\",IF(Benchsheet!B571=\"WL003\",\"MPN\",IF(Benchsheet!B571=\"DS001\",\"TC\")))))","v":""},{"$f":"IF(Benchsheet!A571>1,3014,\"\")","v":""}]
[{"$f":"IF(Benchsheet!N572=0,\"-1\",Benchsheet!N572)","v":"-1"},{"$f":"IF(Benchsheet!B572=\"WL001\",\"MPN\",IF(Benchsheet!B572=FALSE,\"\",IF(Benchsheet!B572=\"WL002\",\"MPN\",IF(Benchsheet!B572=\"WL003\",\"MPN\",IF(Benchsheet!B572=\"DS001\",\"TC\")))))","v":""},{"$f":"IF(Benchsheet!A572>1,3014,\"\")","v":""}]
[{"$f":"IF(Benchsheet!N573=0,\"-1\",Benchsheet!N573)","v":"-1"},{"$f":"IF(Benchsheet!B573=\"WL001\",\"MPN\",IF(Benchsheet!B573=FALSE,\"\",IF(Benchsheet!B573=\"WL002\",\"MPN\",IF(Benchsheet!B573=\"WL003\",\"MPN\",IF(Benchsheet!B573=\"DS001\",\"TC\")))))","v":""},{"$f":"IF(Benchsheet!A573>1,3014,\"\")","v":""}]
[{"$f":"IF(Benchsheet!N574=0,\"-1\",Benchsheet!N574)","v":"-1"},{"$f":"IF(Benchsheet!B574=\"WL001\",\"MPN\",IF(Benchsheet!B574=FALSE,\"\",IF(Benchsheet!B574=\"WL002\",\"MPN\",IF(Benchsheet!B574=\"WL003\",\"MPN\",IF(Benchsheet!B574=\"DS001\",\"TC\")))))","v":""},{"$f":"IF(Benchsheet!A574>1,3014,\"\")","v":""}]
[{"$f":"IF(Benchsheet!N575=0,\"-1\",Benchsheet!N575)","v":"-1"},{"$f":"IF(Benchsheet!B575=\"WL001\",\"MPN\",IF(Benchsheet!B575=FALSE,\"\",IF(Benchsheet!B575=\"WL002\",\"MPN\",IF(Benchsheet!B575=\"WL003\",\"MPN\",IF(Benchsheet!B575=\"DS001\",\"TC\")))))","v":""},{"$f":"IF(Benchsheet!A575>1,3014,\"\")","v":""}]
[{"$f":"IF(Benchsheet!N576=0,\"-1\",Benchsheet!N576)","v":"-1"},{"$f":"IF(Benchsheet!B576=\"WL001\",\"MPN\",IF(Benchsheet!B576=FALSE,\"\",IF(Benchsheet!B576=\"WL002\",\"MPN\",IF(Benchsheet!B576=\"WL003\",\"MPN\",IF(Benchsheet!B576=\"DS001\",\"TC\")))))","v":""},{"$f":"IF(Benchsheet!A576>1,3014,\"\")","v":""}]
[{"$f":"IF(Benchsheet!N577=0,\"-1\",Benchsheet!N577)","v":"-1"},{"$f":"IF(Benchsheet!B577=\"WL001\",\"MPN\",IF(Benchsheet!B577=FALSE,\"\",IF(Benchsheet!B577=\"WL002\",\"MPN\",IF(Benchsheet!B577=\"WL003\",\"MPN\",IF(Benchsheet!B577=\"DS001\",\"TC\")))))","v":""},{"$f":"IF(Benchsheet!A577>1,3014,\"\")","v":""}]
[{"$f":"IF(Benchsheet!N578=0,\"-1\",Benchsheet!N578)","v":"-1"},{"$f":"IF(Benchsheet!B578=\"WL001\",\"MPN\",IF(Benchsheet!B578=FALSE,\"\",IF(Benchsheet!B578=\"WL002\",\"MPN\",IF(Benchsheet!B578=\"WL003\",\"MPN\",IF(Benchsheet!B578=\"DS001\",\"TC\")))))","v":""},{"$f":"IF(Benchsheet!A578>1,3014,\"\")","v":""}]
[{"$f":"IF(Benchsheet!N579=0,\"-1\",Benchsheet!N579)","v":"-1"},{"$f":"IF(Benchsheet!B579=\"WL001\",\"MPN\",IF(Benchsheet!B579=FALSE,\"\",IF(Benchsheet!B579=\"WL002\",\"MPN\",IF(Benchsheet!B579=\"WL003\",\"MPN\",IF(Benchsheet!B579=\"DS001\",\"TC\")))))","v":""},{"$f":"IF(Benchsheet!A579>1,3014,\"\")","v":""}]
[{"$f":"IF(Benchsheet!N580=0,\"-1\",Benchsheet!N580)","v":"-1"},{"$f":"IF(Benchsheet!B580=\"WL001\",\"MPN\",IF(Benchsheet!B580=FALSE,\"\",IF(Benchsheet!B580=\"WL002\",\"MPN\",IF(Benchsheet!B580=\"WL003\",\"MPN\",IF(Benchsheet!B580=\"DS001\",\"TC\")))))","v":""},{"$f":"IF(Benchsheet!A580>1,3014,\"\")","v":""}]